{"text_format":"1","workbook":"xlsx","n_sheets":69,"sheets":["Instructions","Navigation","Free Fatty Acids","MG","DG","TG","BMP","CL","Cer","CerP","CerOH","HexCer","Hex2Cer","Hex3Cer","LacCer","GM1Cer","GM2Cer","GM3Cer","CE","LPC","PC","LPA","PA","LPE","PE","LPG","PG","LPI","PI","LPS","PS","SM","LSM","dMePE","LdMePE","cPA","PEt","PIP","PMe","MGDG","OAHFA","So","ZyE","Extra","Bile Acids","Eicosanoids","MG_ether","DG_ether","TG_ether","CL_ether","LPA_ether","PA_ether","LPC_ether","PC_ether","LPE_ether","PE_ether","LPG_ether","PG_ether","LPI_ether","PI_ether","PIP_ether","LPS_ether","PS_ether","dMePE_ether","LdMePE_ether","PEt_ether","PMe_ether","MGDG_ether","Summary"],"not_rendered":{"charts":0,"images":3,"macros":1,"external_links":0,"defined_names":1,"comments":0,"pivot_tables":0},"unopened":[],"bounds":{"document_bytes":16777216,"sheet_cells":100000,"rows_first":2000,"rows_last":500,"rows_between":2000,"halvings":0,"cell_chars":16384,"cell_head_chars":4096},"cells_cut":0,"cells_raw":0,"read":"whole","date_system":"1900"}

{"sheet":"Instructions","index":0,"n_rows":78,"n_cols":12,"rows_kept":78,"cut":false,"hidden":false,"merged":[[66,11,66,18],[67,11,67,18],[68,11,68,18],[59,11,59,18],[61,11,61,18],[62,11,62,18],[63,11,63,18],[64,11,64,18],[76,5,76,8],[66,2,66,9],[44,2,44,9],[47,11,47,18],[48,11,48,18],[49,11,49,18],[50,11,50,18],[53,11,53,18],[52,11,52,18],[51,11,51,18],[51,2,51,9],[55,11,55,18],[56,11,56,18],[57,11,57,18],[58,11,58,18],[65,11,65,18],[41,11,41,18],[42,11,42,18],[43,11,43,18],[44,11,44,18],[45,11,45,18],[39,2,40,9],[73,5,73,8],[74,5,74,8],[77,5,77,8],[72,2,72,9],[64,2,64,9],[63,2,63,9],[62,2,62,9],[61,2,61,9],[60,2,60,9],[59,2,59,9],[58,2,58,9],[57,2,57,9],[55,2,55,9],[52,2,52,9],[75,5,75,8],[29,4,30,9],[26,4,26,9],[27,4,28,9],[21,4,22,9],[23,4,24,9],[25,4,25,9],[13,3,13,9],[9,2,9,9],[19,2,19,9],[20,4,20,9],[14,3,16,9],[2,2,2,5],[4,3,6,9],[10,3,10,9],[11,3,12,9],[71,2,71,9],[45,2,45,9],[43,2,43,9],[42,2,42,9],[70,2,70,9],[56,2,56,9],[53,2,53,9],[50,2,50,9],[49,2,49,9],[48,2,48,9],[47,2,47,9],[41,2,41,9]]}
[]
[]
[null,null,"LipidPioneer"]
[]
[null,null,null,"A community data tool to support lipidomics data workflows, used to generate exact masses for common adducts resulting from MS and MS/MS analysis of targeted lipids."]
[]
[]
[]
[]
[null,null,"Introduction"]
[null,null,"-","Lipid classes are separated into worksheets for convenience."]
[null,null,"-","Use the \"Navigation\" worksheet to quickly skip back and forth between lipid classes and to identify lipid class abbreviations."]
[]
[null,null,"-","Please enable macros and content if necessary."]
[null,null,"-","As lipids are added to the list on each worksheet, the exact mass of common adducts (listed in each column) are automatically filled using Visual Basic for Applications (VBA) scripting."]
[]
[]
[]
[]
[null,null,"Instructions"]
[null,null,"-","Step 1","Identify which lipids will be targeted."]
[null,null,"-","Step 2","Save a copy of this workbook with a meaningful name.  Overwriting the original file may have unintended side effects."]
[]
[null,null,"-","Step 3","Fill each lipid name sequentially in column A of the appropriate lipid class worksheet.  Use the input guidelines listed below (scroll down)."]
[]
[null,null,null,null,"See the example(s) already populated in each worksheet."]
[null,null,null,null,"A single column of names can be pasted without loss of function."]
[null,null,"-","Step 4","Exact masses are automatically calculated for several common adducts during data entry."]
[]
[null,null,null,null,"Additional columns should not be added; users doing so assume the responsibility of modifying formulae appropriately."]
[]
[null,null,"-","Step 5"]
[]
[]
[null,"To delete an entry, select the lipid species and delete the SHEET ROW using the home tab (Excel ribbon)"]
[]
[]
[]
[]
[null,null,"Supplemental Information"]
[]
[null,null,"Inputs: Compound Name, By total carbons and double bonds",null,null,null,null,null,null,null,null,"Inputs: Ether-Linked Lipids (Compound Name,By total carbons and double bonds)"]
[null,null,"Start with the acronym found in the worksheet for that lipid type ",null,null,null,null,null,null,null,null,"Start with the the acronym found in the worksheet for that lipid type "]
[null,null,"Then add a space, the total carbons and double bonds separated by a colon \":\"",null,null,null,null,null,null,null,null,"Then add a space and a \"P-\" for plasmenyl ethers and \"O-\" for plasmanyl ethers"]
[null,null,"For example: MG 18:0, PC 34:1, PE 34:2, TG 62:4, etc.",null,null,null,null,null,null,null,null,"Follow with the total carbons and double bonds separated by a colon \":\""]
[null,null,null,null,null,null,null,null,null,null,null,"For example: MG P-18:0, PC O-34:1, PE P-34:2, TG P-62:4, etc."]
[]
[null,null,"Inputs: Compound Name, By acyl constituents",null,null,null,null,null,null,null,null,"Inputs: Ether-Linked Lipids (Compound Name, By acyl constituents)"]
[null,null,"Start with the acronym found in the current worksheet (eg. TG, PC, PMe…)",null,null,null,null,null,null,null,null,"Start with the acronym found in the current worksheet (eg. TG, PC, PMe…)"]
[null,null,"Follow with \"(\", and acyl chains, each denoted by total carbons and unsaturations",null,null,null,null,null,null,null,null,"Follow with \"(\", and acyl chains, each denoted by total carbons and unsaturations"]
[null,null,"Each acyl chain can be seperated by an \"/\" (known fatty acyl chain position)",null,null,null,null,null,null,null,null,"The first acyl chain should start with a \"P-\" for plasmenyl ethers and \"O-\" for plasmanyl ethers"]
[null,null,"Each acyl chain can be seperated by an \"_\" (unknown fatty acyl chain position)",null,null,null,null,null,null,null,null,"Each acyl chain can be seperated by an \"/\" or \"_\" for known or unknown fatty acyl chain positions"]
[null,null,"For example: PC(18:0/16:0), PE(20:0_22:6), TG(16:0_18:1_20:1)",null,null,null,null,null,null,null,null,"Note that di- or tri-vinyl ether and ether linked lipids are not supported"]
[null,null,null,null,null,null,null,null,null,null,null,"For example: PC(P-16:0_18:0), PE(O-16:1/18:2), TG(O-16:0_18:1_18:3)"]
[]
[null,null,"Inputs: Oxidized Lipids",null,null,null,null,null,null,null,null,"Disclaimer: "]
[null,null,"You can make ANY lipid a long chain or short chain oxidation product",null,null,null,null,null,null,null,null,"LipidPioneer templates are fluid and user-modifiable to account for multiple sample matrices. "]
[null,null,"add __O__ for ketone / epoxy addition",null,null,null,null,null,null,null,null,"It is possible to generate exact masses for lipids that are not biologically possible."]
[null,null,"add __OH__ for hydroxide addition",null,null,null,null,null,null,null,null,"A detailed review of the biology is critical to ensure that the lipid identified is possible."]
[null,null,"add __OOH__ for hydrogen peroxide addition",null,null,null,null,null,null,null,null,"Mammalian lipid fatty acyl chains generally contain 0-6 degrees of unsaturation and 12-22 carbons."]
[null,null,"add __CHO__ for a short chain product ending in aldehyde"]
[null,null,"Just add __COOH__  for a short chain product ending in carboxylic acid",null,null,null,null,null,null,null,null,"See the following references for biologically-relevant lipid restraints:"]
[null,null,"Note that there are two underscores \"_\" on either side",null,null,null,null,null,null,null,null,"Shevchenko, A. et. al. Nat. Rev. Mol. Cell Biol. 11, 593-598 (2010)"]
[null,null,"Note that there should be NO space after the lipid and the oxidization notation",null,null,null,null,null,null,null,null,"Domingues, M.R.M. et. al. Chem. Phys. Lipids. 156, 1-12 (2008)"]
[null,null,"For example: PC(18:0/18:0)__OH__, PE(16:0/18:0)__COH, DG 34:1__OOH__O__",null,null,null,null,null,null,null,null,"Sparvero, L.J. et. al.  J. Neurochem. 115, 1322-1336 (2010)"]
[null,null,null,null,null,null,null,null,null,null,null,"Spickett, C.M. et. al. Antioxid. Redox Signal. 22, 1646-1666 (2015)"]
[null,null,"Note: Sheets without inputs",null,null,null,null,null,null,null,null,"Stutts, W.L. et. al. Anal. Chem. 85, 11410-11419 (2013)"]
[null,null,"The worksheet titled extra, bile acids, and eicosanoids are static libraries"]
[null,null,"This means you cannot put in new names and get new masses and formulas"]
[]
[null,null,"For public beta release under the NIST Software Disclaimer."]
[null,null,"Associated with [publication DOI: XXXXXXXXXXXX]"]
[null,null,"Please refer questions, bug reports, or suggestions to authors at:"]
[null,null,"  Candice Ulmer, PhD*",null,null,"candice.ulmer@nist.gov"]
[null,null,"  Jeremy Koelmel",null,null,"jeremykoelmel@gmail.com"]
[null,null,"  Jared M. Ragland",null,null,"jared.ragland@nist.gov"]
[null,null,"  Timothy Garrett, PhD",null,null,"tgarrett@ufl.edu",null,null,null,"Version 1.0"]
[null,null,"  John Bowden, PhD",null,null,"john.bowden@nist.gov",null,null,null,"1 August 2017"]

{"sheet":"Navigation","index":1,"n_rows":48,"n_cols":3,"rows_kept":48,"cut":false,"hidden":false,"merged":[]}
[]
[null,"Sheet Name","Sheet Definition or Purpose"]
[null,"Instructions","The landing page to begin use of LipidPioneer with instructions for use."]
[null,"Free Fatty Acids"]
[null,"MG","MG_ether"]
[null,"DG","DG_ether"]
[null,"TG","TG_ether"]
[null,"BMP"]
[null,"CL","CL_ether"]
[null,"Cer"]
[null,"CerP"]
[null,"CerOH"]
[null,"HexCer"]
[null,"Hex2Cer"]
[null,"Hex3Cer"]
[null,"LacCer"]
[null,"GM1Cer"]
[null,"GM2Cer"]
[null,"GM3Cer"]
[null,"CE"]
[null,"LPC","LPC_ether"]
[null,"PC","PC_ether"]
[null,"LPA","LPA_ether"]
[null,"PA","PA_ether"]
[null,"LPE","LPE_ether"]
[null,"PE","PE_ether"]
[null,"LPG","LPG_ether"]
[null,"PG","PG_ether"]
[null,"LPI","LPI_ether"]
[null,"PI","PI_ether"]
[null,"LPS","LPS_ether"]
[null,"PS","PS_ether"]
[null,"SM"]
[null,"LSM"]
[null,"dMePE","dMePE_ether"]
[null,"LdMePE","LdMePE_ether"]
[null,"cPA"]
[null,"PEt","PEt_ether"]
[null,"PIP","PIP_ether"]
[null,"PMe","PMe_ether"]
[null,"MGDG","MGDG_ether"]
[null,"OAHFA"]
[null,"So"]
[null,"ZyE"]
[null,"Extra"]
[null,"Bile Acids"]
[null,"Eicosanoids"]
[null,"Summary","A convenience summary sheet with exact masses for all requested adducts."]

{"sheet":"Free Fatty Acids","index":2,"n_rows":7,"n_cols":23,"rows_kept":7,"cut":false,"hidden":false,"merged":[]}
["Lipid","Sum Composition",null,null,null,null,"#C","#H","#O",null,null,"Formula","Molecular Weight","Neutral Mass","[M+H]+","[M+H-H2O]+","[M+NH4]+","[M+Na]+","[M+K]+","[M+Li]+","[M-H]-","[M+HCOO]-","[M+CH3COO]-"]
["FA 12:1",{"$f":"IF(ISNUMBER(SEARCH(\"(\",A2)),IF(ISNUMBER(SEARCH(\"/\",A2)),CONCATENATE(MID(A2,1,2),\" \",(SUM(MID(A2,FIND(\"(\",A2)+1,FIND(\":\",A2)-FIND(\"(\",A2)-1),MID(A2,FIND(\"/\",A2)+1,FIND(\":\",A2,FIND(\"/\",A2))-FIND(\"/\",A2)-1))),\":\",SUM(MID(A2,FIND(\":\",A2)+1,FIND(\"/\",A2)-FIND(\":\",A2)-1),MID(A2,FIND(\":\",A2,FIND(\"/\",A2))+1,FIND(\")\",A2)-FIND(\":\",A2,FIND(\"/\",A2))-1)),MID(A2,(FIND(\")\",A2)+1),100)),CONCATENATE(MID(A2,1,2),\" \",(SUM(MID(A2,FIND(\"(\",A2)+1,FIND(\":\",A2)-FIND(\"(\",A2)-1),MID(A2,FIND(\"_\",A2)+1,FIND(\":\",A2,FIND(\"_\",A2))-FIND(\"_\",A2)-1))),\":\",SUM(MID(A2,FIND(\":\",A2)+1,FIND(\"_\",A2)-FIND(\":\",A2)-1),MID(A2,FIND(\":\",A2,FIND(\"_\",A2))+1,FIND(\")\",A2)-FIND(\":\",A2,FIND(\"_\",A2))-1)),MID(A2,(FIND(\")\",A2)+1),100))),A2)","v":"FA 12:1"},{"$f":"MID(B2,4,FIND(\":\",B2)-FIND(\" \",B2)-1)","v":"12"},{"$f":"IF(ISNUMBER(SEARCH(\"__\",B2)),MID(B2,FIND(\":\",B2)+1,FIND(\"__\",B2)-FIND(\":\",B2)-1),MID(B2,FIND(\":\",B2)+1,7))","v":"1"},null,null,{"$f":"C2","v":"12"},{"$f":"2*G2-(2*D2)-((LEN(A2)-LEN(SUBSTITUTE(A2,\"_O_\",\"\")))/LEN(\"_O_\"))*2-((LEN(A2)-LEN(SUBSTITUTE(A2,\"_CHO_\",\"\")))/LEN(\"_CHO_\"))*2-((LEN(A2)-LEN(SUBSTITUTE(A2,\"_COOH_\",\"\")))/LEN(\"_COOH_\"))*2","v":22},{"$f":"2+((LEN(A2)-LEN(SUBSTITUTE(A2,\"_OH_\",\"\")))/LEN(\"_OH_\"))*1+((LEN(A2)-LEN(SUBSTITUTE(A2,\"_OOH_\",\"\")))/LEN(\"_OOH_\"))*2+((LEN(A2)-LEN(SUBSTITUTE(A2,\"_O_\",\"\")))/LEN(\"_O_\"))*1+((LEN(A2)-LEN(SUBSTITUTE(A2,\"_CHO_\",\"\")))/LEN(\"_CHO_\"))*1+((LEN(A2)-LEN(SUBSTITUTE(A2,\"_COOH_\",\"\")))/LEN(\"_COOH_\"))*2","v":2},null,null,{"$f":"CONCATENATE(\"C\",G2,\"H\",H2,\"O\",I2)","v":"C12H22O2"},{"$f":"(G2*12.0107)+(H2*1.00794)+(I2*15.9994)","v":198.30187999999998},{"$f":"(G2*12)+(H2*1.0078246)+(I2*15.994915)","v":198.16197120000001},{"$f":"N2+1.0078246-0.00055","v":199.1692458},{"$f":"O2-18.01057-0.00055","v":181.15812579999999},{"$f":"N2+18.03437-0.00055","v":216.1957912},{"$f":"N2+22.98977-0.00055","v":221.1511912},{"$f":"N2+38.96371-0.00055","v":237.1251312},{"$f":"N2+7.01601-0.00055","v":205.1774312},{"$f":"N2-1.0078246+0.00055","v":197.15469660000002},{"$f":"N2+44.99767+0.00055","v":243.16019120000001},{"$f":"N2+59.01332+0.00055","v":257.17584119999998}]
["FA 12:0__O__",{"$f":"IF(ISNUMBER(SEARCH(\"(\",A3)),IF(ISNUMBER(SEARCH(\"/\",A3)),CONCATENATE(MID(A3,1,2),\" \",(SUM(MID(A3,FIND(\"(\",A3)+1,FIND(\":\",A3)-FIND(\"(\",A3)-1),MID(A3,FIND(\"/\",A3)+1,FIND(\":\",A3,FIND(\"/\",A3))-FIND(\"/\",A3)-1))),\":\",SUM(MID(A3,FIND(\":\",A3)+1,FIND(\"/\",A3)-FIND(\":\",A3)-1),MID(A3,FIND(\":\",A3,FIND(\"/\",A3))+1,FIND(\")\",A3)-FIND(\":\",A3,FIND(\"/\",A3))-1)),MID(A3,(FIND(\")\",A3)+1),100)),CONCATENATE(MID(A3,1,2),\" \",(SUM(MID(A3,FIND(\"(\",A3)+1,FIND(\":\",A3)-FIND(\"(\",A3)-1),MID(A3,FIND(\"_\",A3)+1,FIND(\":\",A3,FIND(\"_\",A3))-FIND(\"_\",A3)-1))),\":\",SUM(MID(A3,FIND(\":\",A3)+1,FIND(\"_\",A3)-FIND(\":\",A3)-1),MID(A3,FIND(\":\",A3,FIND(\"_\",A3))+1,FIND(\")\",A3)-FIND(\":\",A3,FIND(\"_\",A3))-1)),MID(A3,(FIND(\")\",A3)+1),100))),A3)","v":"FA 12:0__O__"},"12","0",null,null,"12",22,3,null,null,"C12H22O3",214.30127999999999,214.1568862,215.16416079999999,197.15304079999999,232.19070619999999,237.14610619999999,253.12004619999999,221.17234619999999,213.14961160000001,259.15510619999998,273.17075619999997]
["FA 20:0",{"$f":"IF(ISNUMBER(SEARCH(\"(\",A4)),IF(ISNUMBER(SEARCH(\"/\",A4)),CONCATENATE(MID(A4,1,2),\" \",(SUM(MID(A4,FIND(\"(\",A4)+1,FIND(\":\",A4)-FIND(\"(\",A4)-1),MID(A4,FIND(\"/\",A4)+1,FIND(\":\",A4,FIND(\"/\",A4))-FIND(\"/\",A4)-1))),\":\",SUM(MID(A4,FIND(\":\",A4)+1,FIND(\"/\",A4)-FIND(\":\",A4)-1),MID(A4,FIND(\":\",A4,FIND(\"/\",A4))+1,FIND(\")\",A4)-FIND(\":\",A4,FIND(\"/\",A4))-1)),MID(A4,(FIND(\")\",A4)+1),100)),CONCATENATE(MID(A4,1,2),\" \",(SUM(MID(A4,FIND(\"(\",A4)+1,FIND(\":\",A4)-FIND(\"(\",A4)-1),MID(A4,FIND(\"_\",A4)+1,FIND(\":\",A4,FIND(\"_\",A4))-FIND(\"_\",A4)-1))),\":\",SUM(MID(A4,FIND(\":\",A4)+1,FIND(\"_\",A4)-FIND(\":\",A4)-1),MID(A4,FIND(\":\",A4,FIND(\"_\",A4))+1,FIND(\")\",A4)-FIND(\":\",A4,FIND(\"_\",A4))-1)),MID(A4,(FIND(\")\",A4)+1),100))),A4)","v":"FA 20:0"},"20","0",null,null,"20",40,2,null,null,"C20H40O2",312.53040000000004,312.30281400000001,313.31008860000003,295.29896860000008,330.33663400000006,335.29203400000006,351.26597400000003,319.31827400000003,311.2955394,357.30103399999996,371.31668400000001]
["FA 18:3",{"$f":"IF(ISNUMBER(SEARCH(\"(\",A5)),IF(ISNUMBER(SEARCH(\"/\",A5)),CONCATENATE(MID(A5,1,2),\" \",(SUM(MID(A5,FIND(\"(\",A5)+1,FIND(\":\",A5)-FIND(\"(\",A5)-1),MID(A5,FIND(\"/\",A5)+1,FIND(\":\",A5,FIND(\"/\",A5))-FIND(\"/\",A5)-1))),\":\",SUM(MID(A5,FIND(\":\",A5)+1,FIND(\"/\",A5)-FIND(\":\",A5)-1),MID(A5,FIND(\":\",A5,FIND(\"/\",A5))+1,FIND(\")\",A5)-FIND(\":\",A5,FIND(\"/\",A5))-1)),MID(A5,(FIND(\")\",A5)+1),100)),CONCATENATE(MID(A5,1,2),\" \",(SUM(MID(A5,FIND(\"(\",A5)+1,FIND(\":\",A5)-FIND(\"(\",A5)-1),MID(A5,FIND(\"_\",A5)+1,FIND(\":\",A5,FIND(\"_\",A5))-FIND(\"_\",A5)-1))),\":\",SUM(MID(A5,FIND(\":\",A5)+1,FIND(\"_\",A5)-FIND(\":\",A5)-1),MID(A5,FIND(\":\",A5,FIND(\"_\",A5))+1,FIND(\")\",A5)-FIND(\":\",A5,FIND(\"_\",A5))-1)),MID(A5,(FIND(\")\",A5)+1),100))),A5)","v":"FA 18:3"},{"$f":"MID(B5,4,FIND(\":\",B5)-FIND(\" \",B5)-1)","v":"18"},"3",null,null,{"$f":"C5","v":"18"},{"$f":"2*G5-(2*D5)-((LEN(A5)-LEN(SUBSTITUTE(A5,\"_O_\",\"\")))/LEN(\"_O_\"))*2-((LEN(A5)-LEN(SUBSTITUTE(A5,\"_CHO_\",\"\")))/LEN(\"_CHO_\"))*2-((LEN(A5)-LEN(SUBSTITUTE(A5,\"_COOH_\",\"\")))/LEN(\"_COOH_\"))*2","v":30},{"$f":"2+((LEN(A5)-LEN(SUBSTITUTE(A5,\"_OH_\",\"\")))/LEN(\"_OH_\"))*1+((LEN(A5)-LEN(SUBSTITUTE(A5,\"_OOH_\",\"\")))/LEN(\"_OOH_\"))*2+((LEN(A5)-LEN(SUBSTITUTE(A5,\"_O_\",\"\")))/LEN(\"_O_\"))*1+((LEN(A5)-LEN(SUBSTITUTE(A5,\"_CHO_\",\"\")))/LEN(\"_CHO_\"))*1+((LEN(A5)-LEN(SUBSTITUTE(A5,\"_COOH_\",\"\")))/LEN(\"_COOH_\"))*2","v":2},null,null,{"$f":"CONCATENATE(\"C\",G5,\"H\",H5,\"O\",I5)","v":"C18H30O2"},278.42959999999999,{"$f":"(G5*12)+(H5*1.0078246)+(I5*15.994915)","v":278.22456799999998},{"$f":"N5+1.0078246-0.00055","v":279.23184259999999},{"$f":"O5-18.01057-0.00055","v":261.22072260000004},{"$f":"N5+18.03437-0.00055","v":296.25838800000002},{"$f":"N5+22.98977-0.00055","v":301.21378800000002},{"$f":"N5+38.96371-0.00055","v":317.18772799999999},{"$f":"N5+7.01601-0.00055","v":285.240028},{"$f":"N5-1.0078246+0.00055","v":277.21729339999996},{"$f":"N5+44.99767+0.00055","v":323.22278799999992},{"$f":"N5+59.01332+0.00055","v":337.23843799999997}]
["FA 16:0",{"$f":"IF(ISNUMBER(SEARCH(\"(\",A6)),IF(ISNUMBER(SEARCH(\"/\",A6)),CONCATENATE(MID(A6,1,2),\" \",(SUM(MID(A6,FIND(\"(\",A6)+1,FIND(\":\",A6)-FIND(\"(\",A6)-1),MID(A6,FIND(\"/\",A6)+1,FIND(\":\",A6,FIND(\"/\",A6))-FIND(\"/\",A6)-1))),\":\",SUM(MID(A6,FIND(\":\",A6)+1,FIND(\"/\",A6)-FIND(\":\",A6)-1),MID(A6,FIND(\":\",A6,FIND(\"/\",A6))+1,FIND(\")\",A6)-FIND(\":\",A6,FIND(\"/\",A6))-1)),MID(A6,(FIND(\")\",A6)+1),100)),CONCATENATE(MID(A6,1,2),\" \",(SUM(MID(A6,FIND(\"(\",A6)+1,FIND(\":\",A6)-FIND(\"(\",A6)-1),MID(A6,FIND(\"_\",A6)+1,FIND(\":\",A6,FIND(\"_\",A6))-FIND(\"_\",A6)-1))),\":\",SUM(MID(A6,FIND(\":\",A6)+1,FIND(\"_\",A6)-FIND(\":\",A6)-1),MID(A6,FIND(\":\",A6,FIND(\"_\",A6))+1,FIND(\")\",A6)-FIND(\":\",A6,FIND(\"_\",A6))-1)),MID(A6,(FIND(\")\",A6)+1),100))),A6)","v":"FA 16:0"},"16","0",null,null,"16",32,2,null,null,"C16H32O2",256.42408,256.24021720000002,257.24749180000003,239.23637180000003,274.27403720000007,279.22943720000006,295.20337720000003,263.25567720000004,255.23294260000003,301.23843720000002,315.25408720000001]
["FA 18:4",{"$f":"IF(ISNUMBER(SEARCH(\"(\",A7)),IF(ISNUMBER(SEARCH(\"/\",A7)),CONCATENATE(MID(A7,1,2),\" \",(SUM(MID(A7,FIND(\"(\",A7)+1,FIND(\":\",A7)-FIND(\"(\",A7)-1),MID(A7,FIND(\"/\",A7)+1,FIND(\":\",A7,FIND(\"/\",A7))-FIND(\"/\",A7)-1))),\":\",SUM(MID(A7,FIND(\":\",A7)+1,FIND(\"/\",A7)-FIND(\":\",A7)-1),MID(A7,FIND(\":\",A7,FIND(\"/\",A7))+1,FIND(\")\",A7)-FIND(\":\",A7,FIND(\"/\",A7))-1)),MID(A7,(FIND(\")\",A7)+1),100)),CONCATENATE(MID(A7,1,2),\" \",(SUM(MID(A7,FIND(\"(\",A7)+1,FIND(\":\",A7)-FIND(\"(\",A7)-1),MID(A7,FIND(\"_\",A7)+1,FIND(\":\",A7,FIND(\"_\",A7))-FIND(\"_\",A7)-1))),\":\",SUM(MID(A7,FIND(\":\",A7)+1,FIND(\"_\",A7)-FIND(\":\",A7)-1),MID(A7,FIND(\":\",A7,FIND(\"_\",A7))+1,FIND(\")\",A7)-FIND(\":\",A7,FIND(\"_\",A7))-1)),MID(A7,(FIND(\")\",A7)+1),100))),A7)","v":"FA 18:4"},"18","4",null,null,"18",28,2,null,null,"C18H28O2",276.41372000000001,276.20891879999999,277.21619340000001,259.20507340000006,294.24273880000004,299.19813880000004,315.17207880000001,283.22437880000001,275.20164419999998,321.20713879999994,335.22278879999999]

{"sheet":"MG","index":3,"n_rows":5,"n_cols":23,"rows_kept":5,"cut":false,"hidden":false,"merged":[]}
["Lipid","Sum Composition",null,null,null,"#C","#H","#O",null,null,null,"Formula","Molecular Weight","Neutral Mass","[M+H]+","[M+H-H2O]+","[M+NH4]+","[M+Na]+","[M+K]+","[M+Li]+","[M-H]-","[M+HCOO]-","[M+CH3COO]-"]
["MG 12:0__O__",{"$f":"IF(ISNUMBER(SEARCH(\"(\",A2)),IF(ISNUMBER(SEARCH(\"/\",A2)),CONCATENATE(MID(A2,1,2),\" \",(SUM(MID(A2,FIND(\"(\",A2)+1,FIND(\":\",A2)-FIND(\"(\",A2)-1),MID(A2,FIND(\"/\",A2)+1,FIND(\":\",A2,FIND(\"/\",A2))-FIND(\"/\",A2)-1))),\":\",SUM(MID(A2,FIND(\":\",A2)+1,FIND(\"/\",A2)-FIND(\":\",A2)-1),MID(A2,FIND(\":\",A2,FIND(\"/\",A2))+1,FIND(\")\",A2)-FIND(\":\",A2,FIND(\"/\",A2))-1)),MID(A2,(FIND(\")\",A2)+1),100)),CONCATENATE(MID(A2,1,2),\" \",(SUM(MID(A2,FIND(\"(\",A2)+1,FIND(\":\",A2)-FIND(\"(\",A2)-1),MID(A2,FIND(\"_\",A2)+1,FIND(\":\",A2,FIND(\"_\",A2))-FIND(\"_\",A2)-1))),\":\",SUM(MID(A2,FIND(\":\",A2)+1,FIND(\"_\",A2)-FIND(\":\",A2)-1),MID(A2,FIND(\":\",A2,FIND(\"_\",A2))+1,FIND(\")\",A2)-FIND(\":\",A2,FIND(\"_\",A2))-1)),MID(A2,(FIND(\")\",A2)+1),100))),A2)","v":"MG 12:0__O__"},{"$f":"MID(B2,4,FIND(\":\",B2)-FIND(\" \",B2)-1)","v":"12"},{"$f":"IF(ISNUMBER(SEARCH(\"__\",B2)),MID(B2,FIND(\":\",B2)+1,FIND(\"__\",B2)-FIND(\":\",B2)-1),MID(B2,FIND(\":\",B2)+1,7))","v":"0"},null,{"$f":"C2+3","v":15},{"$f":"2*F2-(2*D2)-((LEN(A2)-LEN(SUBSTITUTE(A2,\"_O_\",\"\")))/LEN(\"_O_\"))*2-((LEN(A2)-LEN(SUBSTITUTE(A2,\"_CHO_\",\"\")))/LEN(\"_CHO_\"))*2-((LEN(A2)-LEN(SUBSTITUTE(A2,\"_COOH_\",\"\")))/LEN(\"_COOH_\"))*2","v":28},{"$f":"4+((LEN(A2)-LEN(SUBSTITUTE(A2,\"_OH_\",\"\")))/LEN(\"_OH_\"))*1+((LEN(A2)-LEN(SUBSTITUTE(A2,\"_OOH_\",\"\")))/LEN(\"_OOH_\"))*2+((LEN(A2)-LEN(SUBSTITUTE(A2,\"_O_\",\"\")))/LEN(\"_O_\"))*1+((LEN(A2)-LEN(SUBSTITUTE(A2,\"_CHO_\",\"\")))/LEN(\"_CHO_\"))*1+((LEN(A2)-LEN(SUBSTITUTE(A2,\"_COOH_\",\"\")))/LEN(\"_COOH_\"))*2","v":5},null,null,null,{"$f":"CONCATENATE(\"C\",F2,\"H\",G2,\"O\",H2)","v":"C15H28O5"},{"$f":"(F2*12.0107)+(G2*1.00794)+(H2*15.9994)","v":288.37982},{"$f":"(F2*12)+(G2*1.0078246)+(H2*15.994915)","v":288.19366380000002},{"$f":"N2+1.0078246-0.00055","v":289.20093840000004},{"$f":"O2-18.01057-0.00055","v":271.18981840000004},{"$f":"N2+18.03437-0.00055","v":306.22748380000007},{"$f":"N2+22.98977-0.00055","v":311.18288380000007},{"$f":"N2+38.96371-0.00055","v":327.15682380000004},{"$f":"N2+7.01601-0.00055","v":295.20912380000004},{"$f":"N2-1.0078246+0.00055","v":287.18638920000001},{"$f":"N2+44.99767+0.00055","v":333.19188380000003},{"$f":"N2+59.01332+0.00055","v":347.20753380000002}]
["MG 16:0__CHO__",{"$f":"IF(ISNUMBER(SEARCH(\"(\",A3)),IF(ISNUMBER(SEARCH(\"/\",A3)),CONCATENATE(MID(A3,1,2),\" \",(SUM(MID(A3,FIND(\"(\",A3)+1,FIND(\":\",A3)-FIND(\"(\",A3)-1),MID(A3,FIND(\"/\",A3)+1,FIND(\":\",A3,FIND(\"/\",A3))-FIND(\"/\",A3)-1))),\":\",SUM(MID(A3,FIND(\":\",A3)+1,FIND(\"/\",A3)-FIND(\":\",A3)-1),MID(A3,FIND(\":\",A3,FIND(\"/\",A3))+1,FIND(\")\",A3)-FIND(\":\",A3,FIND(\"/\",A3))-1)),MID(A3,(FIND(\")\",A3)+1),100)),CONCATENATE(MID(A3,1,2),\" \",(SUM(MID(A3,FIND(\"(\",A3)+1,FIND(\":\",A3)-FIND(\"(\",A3)-1),MID(A3,FIND(\"_\",A3)+1,FIND(\":\",A3,FIND(\"_\",A3))-FIND(\"_\",A3)-1))),\":\",SUM(MID(A3,FIND(\":\",A3)+1,FIND(\"_\",A3)-FIND(\":\",A3)-1),MID(A3,FIND(\":\",A3,FIND(\"_\",A3))+1,FIND(\")\",A3)-FIND(\":\",A3,FIND(\"_\",A3))-1)),MID(A3,(FIND(\")\",A3)+1),100))),A3)","v":"MG 16:0__CHO__"},{"$f":"MID(B3,4,FIND(\":\",B3)-FIND(\" \",B3)-1)","v":"16"},{"$f":"IF(ISNUMBER(SEARCH(\"__\",B3)),MID(B3,FIND(\":\",B3)+1,FIND(\"__\",B3)-FIND(\":\",B3)-1),MID(B3,FIND(\":\",B3)+1,7))","v":"0"},null,{"$f":"C3+3","v":19},{"$f":"2*F3-(2*D3)-((LEN(A3)-LEN(SUBSTITUTE(A3,\"_O_\",\"\")))/LEN(\"_O_\"))*2-((LEN(A3)-LEN(SUBSTITUTE(A3,\"_CHO_\",\"\")))/LEN(\"_CHO_\"))*2-((LEN(A3)-LEN(SUBSTITUTE(A3,\"_COOH_\",\"\")))/LEN(\"_COOH_\"))*2","v":36},{"$f":"4+((LEN(A3)-LEN(SUBSTITUTE(A3,\"_OH_\",\"\")))/LEN(\"_OH_\"))*1+((LEN(A3)-LEN(SUBSTITUTE(A3,\"_OOH_\",\"\")))/LEN(\"_OOH_\"))*2+((LEN(A3)-LEN(SUBSTITUTE(A3,\"_O_\",\"\")))/LEN(\"_O_\"))*1+((LEN(A3)-LEN(SUBSTITUTE(A3,\"_CHO_\",\"\")))/LEN(\"_CHO_\"))*1+((LEN(A3)-LEN(SUBSTITUTE(A3,\"_COOH_\",\"\")))/LEN(\"_COOH_\"))*2","v":5},null,null,null,{"$f":"CONCATENATE(\"C\",F3,\"H\",G3,\"O\",H3)","v":"C19H36O5"},{"$f":"(F3*12.0107)+(G3*1.00794)+(H3*15.9994)","v":344.48614000000003},{"$f":"(F3*12)+(G3*1.0078246)+(H3*15.994915)","v":344.25626060000002},{"$f":"N3+1.0078246-0.00055","v":345.26353520000004},{"$f":"O3-18.01057-0.00055","v":327.25241520000009},{"$f":"N3+18.03437-0.00055","v":362.29008060000007},{"$f":"N3+22.98977-0.00055","v":367.24548060000006},{"$f":"N3+38.96371-0.00055","v":383.21942060000003},{"$f":"N3+7.01601-0.00055","v":351.27172060000004},{"$f":"N3-1.0078246+0.00055","v":343.248986},{"$f":"N3+44.99767+0.00055","v":389.25448059999997},{"$f":"N3+59.01332+0.00055","v":403.27013060000002}]
["MG 12:0__O__","MG 12:0__O__","12","0",null,15,{"$f":"2*F4-(2*D4)-((LEN(A4)-LEN(SUBSTITUTE(A4,\"_O_\",\"\")))/LEN(\"_O_\"))*2-((LEN(A4)-LEN(SUBSTITUTE(A4,\"_CHO_\",\"\")))/LEN(\"_CHO_\"))*2-((LEN(A4)-LEN(SUBSTITUTE(A4,\"_COOH_\",\"\")))/LEN(\"_COOH_\"))*2","v":28},{"$f":"4+((LEN(A4)-LEN(SUBSTITUTE(A4,\"_OH_\",\"\")))/LEN(\"_OH_\"))*1+((LEN(A4)-LEN(SUBSTITUTE(A4,\"_OOH_\",\"\")))/LEN(\"_OOH_\"))*2+((LEN(A4)-LEN(SUBSTITUTE(A4,\"_O_\",\"\")))/LEN(\"_O_\"))*1+((LEN(A4)-LEN(SUBSTITUTE(A4,\"_CHO_\",\"\")))/LEN(\"_CHO_\"))*1+((LEN(A4)-LEN(SUBSTITUTE(A4,\"_COOH_\",\"\")))/LEN(\"_COOH_\"))*2","v":5},null,null,null,{"$f":"CONCATENATE(\"C\",F4,\"H\",G4,\"O\",H4)","v":"C15H28O5"},{"$f":"(F4*12.0107)+(G4*1.00794)+(H4*15.9994)","v":288.37982},{"$f":"(F4*12)+(G4*1.0078246)+(H4*15.994915)","v":288.19366380000002},{"$f":"N4+1.0078246-0.00055","v":289.20093840000004},{"$f":"O4-18.01057-0.00055","v":271.18981840000004},{"$f":"N4+18.03437-0.00055","v":306.22748380000007},{"$f":"N4+22.98977-0.00055","v":311.18288380000007},{"$f":"N4+38.96371-0.00055","v":327.15682380000004},{"$f":"N4+7.01601-0.00055","v":295.20912380000004},{"$f":"N4-1.0078246+0.00055","v":287.18638920000001},{"$f":"N4+44.99767+0.00055","v":333.19188380000003},{"$f":"N4+59.01332+0.00055","v":347.20753380000002}]
["MG 18:1",{"$f":"IF(ISNUMBER(SEARCH(\"(\",A5)),IF(ISNUMBER(SEARCH(\"/\",A5)),CONCATENATE(MID(A5,1,2),\" \",(SUM(MID(A5,FIND(\"(\",A5)+1,FIND(\":\",A5)-FIND(\"(\",A5)-1),MID(A5,FIND(\"/\",A5)+1,FIND(\":\",A5,FIND(\"/\",A5))-FIND(\"/\",A5)-1))),\":\",SUM(MID(A5,FIND(\":\",A5)+1,FIND(\"/\",A5)-FIND(\":\",A5)-1),MID(A5,FIND(\":\",A5,FIND(\"/\",A5))+1,FIND(\")\",A5)-FIND(\":\",A5,FIND(\"/\",A5))-1)),MID(A5,(FIND(\")\",A5)+1),100)),CONCATENATE(MID(A5,1,2),\" \",(SUM(MID(A5,FIND(\"(\",A5)+1,FIND(\":\",A5)-FIND(\"(\",A5)-1),MID(A5,FIND(\"_\",A5)+1,FIND(\":\",A5,FIND(\"_\",A5))-FIND(\"_\",A5)-1))),\":\",SUM(MID(A5,FIND(\":\",A5)+1,FIND(\"_\",A5)-FIND(\":\",A5)-1),MID(A5,FIND(\":\",A5,FIND(\"_\",A5))+1,FIND(\")\",A5)-FIND(\":\",A5,FIND(\"_\",A5))-1)),MID(A5,(FIND(\")\",A5)+1),100))),A5)","v":"MG 18:1"},{"$f":"MID(B5,4,FIND(\":\",B5)-FIND(\" \",B5)-1)","v":"18"},{"$f":"IF(ISNUMBER(SEARCH(\"__\",B5)),MID(B5,FIND(\":\",B5)+1,FIND(\"__\",B5)-FIND(\":\",B5)-1),MID(B5,FIND(\":\",B5)+1,7))","v":"1"},null,21,{"$f":"2*F5-(2*D5)-((LEN(A5)-LEN(SUBSTITUTE(A5,\"_O_\",\"\")))/LEN(\"_O_\"))*2-((LEN(A5)-LEN(SUBSTITUTE(A5,\"_CHO_\",\"\")))/LEN(\"_CHO_\"))*2-((LEN(A5)-LEN(SUBSTITUTE(A5,\"_COOH_\",\"\")))/LEN(\"_COOH_\"))*2","v":40},{"$f":"4+((LEN(A5)-LEN(SUBSTITUTE(A5,\"_OH_\",\"\")))/LEN(\"_OH_\"))*1+((LEN(A5)-LEN(SUBSTITUTE(A5,\"_OOH_\",\"\")))/LEN(\"_OOH_\"))*2+((LEN(A5)-LEN(SUBSTITUTE(A5,\"_O_\",\"\")))/LEN(\"_O_\"))*1+((LEN(A5)-LEN(SUBSTITUTE(A5,\"_CHO_\",\"\")))/LEN(\"_CHO_\"))*1+((LEN(A5)-LEN(SUBSTITUTE(A5,\"_COOH_\",\"\")))/LEN(\"_COOH_\"))*2","v":4},null,null,null,{"$f":"CONCATENATE(\"C\",F5,\"H\",G5,\"O\",H5)","v":"C21H40O4"},{"$f":"(F5*12.0107)+(G5*1.00794)+(H5*15.9994)","v":356.53989999999993},{"$f":"(F5*12)+(G5*1.0078246)+(H5*15.994915)","v":356.29264400000005},{"$f":"N5+1.0078246-0.00055","v":357.29991860000007},{"$f":"O5-18.01057-0.00055","v":339.28879860000006},{"$f":"N5+18.03437-0.00055","v":374.3264640000001},{"$f":"N5+22.98977-0.00055","v":379.2818640000001},{"$f":"N5+38.96371-0.00055","v":395.25580400000007},{"$f":"N5+7.01601-0.00055","v":363.30810400000007},{"$f":"N5-1.0078246+0.00055","v":355.28536940000004},{"$f":"N5+44.99767+0.00055","v":401.29086400000006},{"$f":"N5+59.01332+0.00055","v":415.30651400000005}]

{"sheet":"DG","index":4,"n_rows":6,"n_cols":23,"rows_kept":6,"cut":false,"hidden":false,"merged":[]}
["Lipid","Sum Composition",null,null,null,"#C","#H","#O",null,null,null,"Formula","Molecular Weight","Neutral Mass","[M+H]+","[M+H-H2O]+","[M+NH4]+","[M+Na]+","[M+K]+","[M+Li]+","[M-H]-","[M+HCOO]-","[M+CH3COO]-"]
["DG(5:15/18:3)",{"$f":"IF(ISNUMBER(SEARCH(\"(\",A2)),IF(ISNUMBER(SEARCH(\"/\",A2)),CONCATENATE(MID(A2,1,2),\" \",(SUM(MID(A2,FIND(\"(\",A2)+1,FIND(\":\",A2)-FIND(\"(\",A2)-1),MID(A2,FIND(\"/\",A2)+1,FIND(\":\",A2,FIND(\"/\",A2))-FIND(\"/\",A2)-1))),\":\",SUM(MID(A2,FIND(\":\",A2)+1,FIND(\"/\",A2)-FIND(\":\",A2)-1),MID(A2,FIND(\":\",A2,FIND(\"/\",A2))+1,FIND(\")\",A2)-FIND(\":\",A2,FIND(\"/\",A2))-1)),MID(A2,(FIND(\")\",A2)+1),100)),CONCATENATE(MID(A2,1,2),\" \",(SUM(MID(A2,FIND(\"(\",A2)+1,FIND(\":\",A2)-FIND(\"(\",A2)-1),MID(A2,FIND(\"_\",A2)+1,FIND(\":\",A2,FIND(\"_\",A2))-FIND(\"_\",A2)-1))),\":\",SUM(MID(A2,FIND(\":\",A2)+1,FIND(\"_\",A2)-FIND(\":\",A2)-1),MID(A2,FIND(\":\",A2,FIND(\"_\",A2))+1,FIND(\")\",A2)-FIND(\":\",A2,FIND(\"_\",A2))-1)),MID(A2,(FIND(\")\",A2)+1),100))),A2)","v":"DG 23:18"},{"$f":"MID(B2,4,FIND(\":\",B2)-FIND(\" \",B2)-1)","v":"23"},{"$f":"IF(ISNUMBER(SEARCH(\"__\",B2)),MID(B2,FIND(\":\",B2)+1,FIND(\"__\",B2)-FIND(\":\",B2)-1),MID(B2,FIND(\":\",B2)+1,7))","v":"18"},null,{"$f":"C2+3","v":26},{"$f":"2*F2-(2*D2)-2-((LEN(A2)-LEN(SUBSTITUTE(A2,\"_O_\",\"\")))/LEN(\"_O_\"))*2-((LEN(A2)-LEN(SUBSTITUTE(A2,\"_CHO_\",\"\")))/LEN(\"_CHO_\"))*2-((LEN(A2)-LEN(SUBSTITUTE(A2,\"_COOH_\",\"\")))/LEN(\"_COOH_\"))*2","v":14},{"$f":"5+((LEN(A2)-LEN(SUBSTITUTE(A2,\"_OH_\",\"\")))/LEN(\"_OH_\"))*1+((LEN(A2)-LEN(SUBSTITUTE(A2,\"_OOH_\",\"\")))/LEN(\"_OOH_\"))*2+((LEN(A2)-LEN(SUBSTITUTE(A2,\"_O_\",\"\")))/LEN(\"_O_\"))*1+((LEN(A2)-LEN(SUBSTITUTE(A2,\"_CHO_\",\"\")))/LEN(\"_CHO_\"))*1+((LEN(A2)-LEN(SUBSTITUTE(A2,\"_COOH_\",\"\")))/LEN(\"_COOH_\"))*2","v":5},null,null,null,{"$f":"CONCATENATE(\"C\",F2,\"H\",G2,\"O\",H2)","v":"C26H14O5"},{"$f":"(F2*12.0107)+(G2*1.00794)+(H2*15.9994)","v":406.38635999999997},{"$f":"(F2*12)+(G2*1.0078246)+(H2*15.994915)","v":406.08411940000002},{"$f":"N2+1.0078246-0.00055","v":407.09139400000004},{"$f":"O2-18.01057-0.00055","v":389.08027400000003},{"$f":"N2+18.03437-0.00055","v":424.11793940000007},{"$f":"N2+22.98977-0.00055","v":429.07333940000007},{"$f":"N2+38.96371-0.00055","v":445.04727940000004},{"$f":"N2+7.01601-0.00055","v":413.09957940000004},{"$f":"N2-1.0078246+0.00055","v":405.0768448},{"$f":"N2+44.99767+0.00055","v":451.08233940000002},{"$f":"N2+59.01332+0.00055","v":465.09798940000002}]
["DG(16:0_18:1)__O__",{"$f":"IF(ISNUMBER(SEARCH(\"(\",A3)),IF(ISNUMBER(SEARCH(\"/\",A3)),CONCATENATE(MID(A3,1,2),\" \",(SUM(MID(A3,FIND(\"(\",A3)+1,FIND(\":\",A3)-FIND(\"(\",A3)-1),MID(A3,FIND(\"/\",A3)+1,FIND(\":\",A3,FIND(\"/\",A3))-FIND(\"/\",A3)-1))),\":\",SUM(MID(A3,FIND(\":\",A3)+1,FIND(\"/\",A3)-FIND(\":\",A3)-1),MID(A3,FIND(\":\",A3,FIND(\"/\",A3))+1,FIND(\")\",A3)-FIND(\":\",A3,FIND(\"/\",A3))-1)),MID(A3,(FIND(\")\",A3)+1),100)),CONCATENATE(MID(A3,1,2),\" \",(SUM(MID(A3,FIND(\"(\",A3)+1,FIND(\":\",A3)-FIND(\"(\",A3)-1),MID(A3,FIND(\"_\",A3)+1,FIND(\":\",A3,FIND(\"_\",A3))-FIND(\"_\",A3)-1))),\":\",SUM(MID(A3,FIND(\":\",A3)+1,FIND(\"_\",A3)-FIND(\":\",A3)-1),MID(A3,FIND(\":\",A3,FIND(\"_\",A3))+1,FIND(\")\",A3)-FIND(\":\",A3,FIND(\"_\",A3))-1)),MID(A3,(FIND(\")\",A3)+1),100))),A3)","v":"DG 34:1__O__"},{"$f":"MID(B3,4,FIND(\":\",B3)-FIND(\" \",B3)-1)","v":"34"},{"$f":"IF(ISNUMBER(SEARCH(\"__\",B3)),MID(B3,FIND(\":\",B3)+1,FIND(\"__\",B3)-FIND(\":\",B3)-1),MID(B3,FIND(\":\",B3)+1,7))","v":"1"},null,{"$f":"C3+3","v":37},{"$f":"2*F3-(2*D3)-2-((LEN(A3)-LEN(SUBSTITUTE(A3,\"_O_\",\"\")))/LEN(\"_O_\"))*2-((LEN(A3)-LEN(SUBSTITUTE(A3,\"_CHO_\",\"\")))/LEN(\"_CHO_\"))*2-((LEN(A3)-LEN(SUBSTITUTE(A3,\"_COOH_\",\"\")))/LEN(\"_COOH_\"))*2","v":68},{"$f":"5+((LEN(A3)-LEN(SUBSTITUTE(A3,\"_OH_\",\"\")))/LEN(\"_OH_\"))*1+((LEN(A3)-LEN(SUBSTITUTE(A3,\"_OOH_\",\"\")))/LEN(\"_OOH_\"))*2+((LEN(A3)-LEN(SUBSTITUTE(A3,\"_O_\",\"\")))/LEN(\"_O_\"))*1+((LEN(A3)-LEN(SUBSTITUTE(A3,\"_CHO_\",\"\")))/LEN(\"_CHO_\"))*1+((LEN(A3)-LEN(SUBSTITUTE(A3,\"_COOH_\",\"\")))/LEN(\"_COOH_\"))*2","v":6},null,null,null,{"$f":"CONCATENATE(\"C\",F3,\"H\",G3,\"O\",H3)","v":"C37H68O6"},{"$f":"(F3*12.0107)+(G3*1.00794)+(H3*15.9994)","v":608.93222000000003},{"$f":"(F3*12)+(G3*1.0078246)+(H3*15.994915)","v":608.5015628000001},{"$f":"N3+1.0078246-0.00055","v":609.50883740000017},{"$f":"O3-18.01057-0.00055","v":591.49771740000017},{"$f":"N3+18.03437-0.00055","v":626.53538280000009},{"$f":"N3+22.98977-0.00055","v":631.49078280000015},{"$f":"N3+38.96371-0.00055","v":647.46472280000012},{"$f":"N3+7.01601-0.00055","v":615.51702280000018},{"$f":"N3-1.0078246+0.00055","v":607.49428820000003},{"$f":"N3+44.99767+0.00055","v":653.49978280000005},{"$f":"N3+59.01332+0.00055","v":667.5154328000001}]
["DG 34:0","DG 34:0","34","0",null,37,72,5,null,null,null,"C37H72O5",{"$f":"(F4*12.0107)+(G4*1.00794)+(H4*15.9994)","v":596.96457999999996},596.53794619999996,597.54522080000004,579.53410080000003,614.57176619999996,619.52716620000001,635.50110619999998,603.55340620000004,595.53067159999989,641.53616619999991,655.55181619999996]
["DG(16:0_20:1)__O__","DG 36:1__O__","36","1",null,39,72,6,null,null,null,"C39H72O6",{"$f":"(F5*12.0107)+(G5*1.00794)+(H5*15.9994)","v":636.98537999999996},636.53286120000007,637.54013580000014,619.52901580000014,654.56668120000006,659.52208120000012,675.49602120000009,643.54832120000015,635.5255866,681.53108120000002,695.54673120000007]
["DG(16:1/18:2)__CHO__","DG 34:3__CHO__","34","3",null,37,64,6,null,null,null,"C37H64O6",{"$f":"(F6*12.0107)+(G6*1.00794)+(H6*15.9994)","v":604.90045999999995},604.47026440000002,605.47753900000009,587.46641900000009,622.50408440000001,627.45948440000006,643.43342440000004,611.48572440000009,603.46298979999995,649.46848439999997,663.48413440000002]

{"sheet":"TG","index":5,"n_rows":5,"n_cols":23,"rows_kept":5,"cut":false,"hidden":false,"merged":[]}
["Lipid","Sum Composition",null,null,":",null,"#C","#H","#O",null,null,"Formula","Molecular Weight","Neutral Mass","[M+H]+","[M+H-H2O]+","[M+NH4]+","[M+Na]+","[M+K]+","[M+Li]+","[M-H]-","[M+HCOO]-","[M+CH3COO]-"]
["TG(11:10/12:13/13:2)__CHO__CHO__",{"$f":"IF(ISNUMBER(SEARCH(\"(\",A2)),IF(ISNUMBER(SEARCH(\"/\",A2)),CONCATENATE(MID(A2,1,2),\" \",(SUM(MID(A2,FIND(\"(\",A2)+1,FIND(\":\",A2)-FIND(\"(\",A2)-1),MID(A2,FIND(\"/\",A2)+1,FIND(\":\",A2,FIND(\"/\",A2))-FIND(\"/\",A2)-1),MID(A2,FIND(\"/\",A2,FIND(\"/\",A2)+1)+1,FIND(\":\",A2,FIND(\"/\",A2,FIND(\"/\",A2)+1))-FIND(\"/\",A2,FIND(\"/\",A2)+1)-1))),\":\",SUM(MID(A2,FIND(\":\",A2)+1,FIND(\"/\",A2)-FIND(\":\",A2)-1),MID(A2,FIND(\":\",A2,FIND(\"/\",A2))+1,(FIND(\"/\",A2,FIND(\"/\",A2)+1)-FIND(\":\",A2,FIND(\"/\",A2))-1)),VALUE(MID(A2,FIND(\":\",A2,FIND(\"/\",A2,FIND(\"/\",A2)+1))+1,FIND(\")\",A2)-FIND(\":\",A2,FIND(\"/\",A2,FIND(\"/\",A2)+1))-1))),\" \",MID(A2,(FIND(\")\",A2)+1),100)),CONCATENATE(MID(A2,1,2),\" \",(SUM(MID(A2,FIND(\"(\",A2)+1,FIND(\":\",A2)-FIND(\"(\",A2)-1),MID(A2,FIND(\"_\",A2)+1,FIND(\":\",A2,FIND(\"_\",A2))-FIND(\"_\",A2)-1),MID(A2,FIND(\"_\",A2,FIND(\"_\",A2)+1)+1,FIND(\":\",A2,FIND(\"_\",A2,FIND(\"_\",A2)+1))-FIND(\"_\",A2,FIND(\"_\",A2)+1)-1))),\":\",SUM(MID(A2,FIND(\":\",A2)+1,FIND(\"_\",A2)-FIND(\":\",A2)-1),MID(A2,FIND(\":\",A2,FIND(\"_\",A2))+1,(FIND(\"_\",A2,FIND(\"_\",A2)+1)-FIND(\":\",A2,FIND(\"_\",A2))-1)),VALUE(MID(A2,FIND(\":\",A2,FIND(\"_\",A2,FIND(\"_\",A2)+1))+1,FIND(\")\",A2)-FIND(\":\",A2,FIND(\"_\",A2,FIND(\"_\",A2)+1))-1))),\" \",MID(A2,(FIND(\")\",A2)+1),100))),A2)","v":"TG 36:25 __CHO__CHO__"},{"$f":"MID(B2,4,FIND(\":\",B2)-FIND(\" \",B2)-1)","v":"36"},{"$f":"IF(ISNUMBER(SEARCH(\"__\",B2)),MID(B2,FIND(\":\",B2)+1,FIND(\"__\",B2)-FIND(\":\",B2)-1),MID(B2,FIND(\":\",B2)+1,7))","v":"25 "},null,null,{"$f":"C2+3","v":39},{"$f":"(G2*2)-(4+D2*2)-((LEN(A2)-LEN(SUBSTITUTE(A2,\"_O_\",\"\")))/LEN(\"_O_\"))*2-((LEN(A2)-LEN(SUBSTITUTE(A2,\"_CHO_\",\"\")))/LEN(\"_CHO_\"))*2-((LEN(A2)-LEN(SUBSTITUTE(A2,\"_COOH_\",\"\")))/LEN(\"_COOH_\"))*2","v":20},{"$f":"6+((LEN(A2)-LEN(SUBSTITUTE(A2,\"_OH_\",\"\")))/LEN(\"_OH_\"))*1+((LEN(A2)-LEN(SUBSTITUTE(A2,\"_OOH_\",\"\")))/LEN(\"_OOH_\"))*2+((LEN(A2)-LEN(SUBSTITUTE(A2,\"_O_\",\"\")))/LEN(\"_O_\"))*1+((LEN(A2)-LEN(SUBSTITUTE(A2,\"_CHO_\",\"\")))/LEN(\"_CHO_\"))*1+((LEN(A2)-LEN(SUBSTITUTE(A2,\"_COOH_\",\"\")))/LEN(\"_COOH_\"))*2","v":8},null,null,{"$f":"CONCATENATE(\"C\",G2,\"H\",H2,\"O\",I2)","v":"C39H20O8"},{"$f":"(G2*12.0107)+(H2*1.00794)+(I2*15.9994)","v":616.57129999999995},{"$f":"(G2*12)+(H2*1.0078246)+(I2*15.994915)","v":616.11581200000001},{"$f":"N2+1.0078246-0.00055","v":617.12308660000008},{"$f":"O2-18.01057-0.00055","v":599.11196660000007},{"$f":"N2+18.03437-0.00055","v":634.149632},{"$f":"N2+22.98977-0.00055","v":639.10503200000005},{"$f":"N2+38.96371-0.00055","v":655.07897200000002},{"$f":"N2+7.01601-0.00055","v":623.13127200000008},{"$f":"N2-1.0078246+0.00055","v":615.10853739999993},{"$f":"N2+44.99767+0.00055","v":661.11403199999995},{"$f":"N2+59.01332+0.00055","v":675.129682}]
["TG 28:0__O__",{"$f":"IF(ISNUMBER(SEARCH(\"(\",A3)),IF(ISNUMBER(SEARCH(\"/\",A3)),CONCATENATE(MID(A3,1,2),\" \",(SUM(MID(A3,FIND(\"(\",A3)+1,FIND(\":\",A3)-FIND(\"(\",A3)-1),MID(A3,FIND(\"/\",A3)+1,FIND(\":\",A3,FIND(\"/\",A3))-FIND(\"/\",A3)-1),MID(A3,FIND(\"/\",A3,FIND(\"/\",A3)+1)+1,FIND(\":\",A3,FIND(\"/\",A3,FIND(\"/\",A3)+1))-FIND(\"/\",A3,FIND(\"/\",A3)+1)-1))),\":\",SUM(MID(A3,FIND(\":\",A3)+1,FIND(\"/\",A3)-FIND(\":\",A3)-1),MID(A3,FIND(\":\",A3,FIND(\"/\",A3))+1,(FIND(\"/\",A3,FIND(\"/\",A3)+1)-FIND(\":\",A3,FIND(\"/\",A3))-1)),VALUE(MID(A3,FIND(\":\",A3,FIND(\"/\",A3,FIND(\"/\",A3)+1))+1,FIND(\")\",A3)-FIND(\":\",A3,FIND(\"/\",A3,FIND(\"/\",A3)+1))-1))),\" \",MID(A3,(FIND(\")\",A3)+1),100)),CONCATENATE(MID(A3,1,2),\" \",(SUM(MID(A3,FIND(\"(\",A3)+1,FIND(\":\",A3)-FIND(\"(\",A3)-1),MID(A3,FIND(\"_\",A3)+1,FIND(\":\",A3,FIND(\"_\",A3))-FIND(\"_\",A3)-1),MID(A3,FIND(\"_\",A3,FIND(\"_\",A3)+1)+1,FIND(\":\",A3,FIND(\"_\",A3,FIND(\"_\",A3)+1))-FIND(\"_\",A3,FIND(\"_\",A3)+1)-1))),\":\",SUM(MID(A3,FIND(\":\",A3)+1,FIND(\"_\",A3)-FIND(\":\",A3)-1),MID(A3,FIND(\":\",A3,FIND(\"_\",A3))+1,(FIND(\"_\",A3,FIND(\"_\",A3)+1)-FIND(\":\",A3,FIND(\"_\",A3))-1)),VALUE(MID(A3,FIND(\":\",A3,FIND(\"_\",A3,FIND(\"_\",A3)+1))+1,FIND(\")\",A3)-FIND(\":\",A3,FIND(\"_\",A3,FIND(\"_\",A3)+1))-1))),\" \",MID(A3,(FIND(\")\",A3)+1),100))),A3)","v":"TG 28:0__O__"},{"$f":"MID(B3,4,FIND(\":\",B3)-FIND(\" \",B3)-1)","v":"28"},{"$f":"IF(ISNUMBER(SEARCH(\"__\",B3)),MID(B3,FIND(\":\",B3)+1,FIND(\"__\",B3)-FIND(\":\",B3)-1),MID(B3,FIND(\":\",B3)+1,7))","v":"0"},null,null,{"$f":"C3+3","v":31},{"$f":"(G3*2)-(4+D3*2)-((LEN(A3)-LEN(SUBSTITUTE(A3,\"_O_\",\"\")))/LEN(\"_O_\"))*2-((LEN(A3)-LEN(SUBSTITUTE(A3,\"_CHO_\",\"\")))/LEN(\"_CHO_\"))*2-((LEN(A3)-LEN(SUBSTITUTE(A3,\"_COOH_\",\"\")))/LEN(\"_COOH_\"))*2","v":56},{"$f":"6+((LEN(A3)-LEN(SUBSTITUTE(A3,\"_OH_\",\"\")))/LEN(\"_OH_\"))*1+((LEN(A3)-LEN(SUBSTITUTE(A3,\"_OOH_\",\"\")))/LEN(\"_OOH_\"))*2+((LEN(A3)-LEN(SUBSTITUTE(A3,\"_O_\",\"\")))/LEN(\"_O_\"))*1+((LEN(A3)-LEN(SUBSTITUTE(A3,\"_CHO_\",\"\")))/LEN(\"_CHO_\"))*1+((LEN(A3)-LEN(SUBSTITUTE(A3,\"_COOH_\",\"\")))/LEN(\"_COOH_\"))*2","v":7},null,null,{"$f":"CONCATENATE(\"C\",G3,\"H\",H3,\"O\",I3)","v":"C31H56O7"},{"$f":"(G3*12.0107)+(H3*1.00794)+(I3*15.9994)","v":540.77214000000004},{"$f":"(G3*12)+(H3*1.0078246)+(I3*15.994915)","v":540.40258259999996},{"$f":"N3+1.0078246-0.00055","v":541.40985720000003},{"$f":"O3-18.01057-0.00055","v":523.39873720000003},{"$f":"N3+18.03437-0.00055","v":558.43640259999995},{"$f":"N3+22.98977-0.00055","v":563.39180260000001},{"$f":"N3+38.96371-0.00055","v":579.36574259999998},{"$f":"N3+7.01601-0.00055","v":547.41804260000004},{"$f":"N3-1.0078246+0.00055","v":539.39530799999989},{"$f":"N3+44.99767+0.00055","v":585.40080259999991},{"$f":"N3+59.01332+0.00055","v":599.41645259999996}]
["TG(12:0/16:0/18:2)",{"$f":"IF(ISNUMBER(SEARCH(\"(\",A4)),IF(ISNUMBER(SEARCH(\"/\",A4)),CONCATENATE(MID(A4,1,2),\" \",(SUM(MID(A4,FIND(\"(\",A4)+1,FIND(\":\",A4)-FIND(\"(\",A4)-1),MID(A4,FIND(\"/\",A4)+1,FIND(\":\",A4,FIND(\"/\",A4))-FIND(\"/\",A4)-1),MID(A4,FIND(\"/\",A4,FIND(\"/\",A4)+1)+1,FIND(\":\",A4,FIND(\"/\",A4,FIND(\"/\",A4)+1))-FIND(\"/\",A4,FIND(\"/\",A4)+1)-1))),\":\",SUM(MID(A4,FIND(\":\",A4)+1,FIND(\"/\",A4)-FIND(\":\",A4)-1),MID(A4,FIND(\":\",A4,FIND(\"/\",A4))+1,(FIND(\"/\",A4,FIND(\"/\",A4)+1)-FIND(\":\",A4,FIND(\"/\",A4))-1)),VALUE(MID(A4,FIND(\":\",A4,FIND(\"/\",A4,FIND(\"/\",A4)+1))+1,FIND(\")\",A4)-FIND(\":\",A4,FIND(\"/\",A4,FIND(\"/\",A4)+1))-1))),\" \",MID(A4,(FIND(\")\",A4)+1),100)),CONCATENATE(MID(A4,1,2),\" \",(SUM(MID(A4,FIND(\"(\",A4)+1,FIND(\":\",A4)-FIND(\"(\",A4)-1),MID(A4,FIND(\"_\",A4)+1,FIND(\":\",A4,FIND(\"_\",A4))-FIND(\"_\",A4)-1),MID(A4,FIND(\"_\",A4,FIND(\"_\",A4)+1)+1,FIND(\":\",A4,FIND(\"_\",A4,FIND(\"_\",A4)+1))-FIND(\"_\",A4,FIND(\"_\",A4)+1)-1))),\":\",SUM(MID(A4,FIND(\":\",A4)+1,FIND(\"_\",A4)-FIND(\":\",A4)-1),MID(A4,FIND(\":\",A4,FIND(\"_\",A4))+1,(FIND(\"_\",A4,FIND(\"_\",A4)+1)-FIND(\":\",A4,FIND(\"_\",A4))-1)),VALUE(MID(A4,FIND(\":\",A4,FIND(\"_\",A4,FIND(\"_\",A4)+1))+1,FIND(\")\",A4)-FIND(\":\",A4,FIND(\"_\",A4,FIND(\"_\",A4)+1))-1))),\" \",MID(A4,(FIND(\")\",A4)+1),100))),A4)","v":"TG 46:2 "},"46","2 ",null,null,{"$f":"C4+3","v":49},{"$f":"(G4*2)-(4+D4*2)-((LEN(A4)-LEN(SUBSTITUTE(A4,\"_O_\",\"\")))/LEN(\"_O_\"))*2-((LEN(A4)-LEN(SUBSTITUTE(A4,\"_CHO_\",\"\")))/LEN(\"_CHO_\"))*2-((LEN(A4)-LEN(SUBSTITUTE(A4,\"_COOH_\",\"\")))/LEN(\"_COOH_\"))*2","v":90},{"$f":"6+((LEN(A4)-LEN(SUBSTITUTE(A4,\"_OH_\",\"\")))/LEN(\"_OH_\"))*1+((LEN(A4)-LEN(SUBSTITUTE(A4,\"_OOH_\",\"\")))/LEN(\"_OOH_\"))*2+((LEN(A4)-LEN(SUBSTITUTE(A4,\"_O_\",\"\")))/LEN(\"_O_\"))*1+((LEN(A4)-LEN(SUBSTITUTE(A4,\"_CHO_\",\"\")))/LEN(\"_CHO_\"))*1+((LEN(A4)-LEN(SUBSTITUTE(A4,\"_COOH_\",\"\")))/LEN(\"_COOH_\"))*2","v":6},null,null,{"$f":"CONCATENATE(\"C\",G4,\"H\",H4,\"O\",I4)","v":"C49H90O6"},{"$f":"(G4*12.0107)+(H4*1.00794)+(I4*15.9994)","v":775.23530000000005},774.67370400000004,{"$f":"N4+1.0078246-0.00055","v":775.68097860000012},{"$f":"O4-18.01057-0.00055","v":757.66985860000011},{"$f":"N4+18.03437-0.00055","v":792.70752400000003},{"$f":"N4+22.98977-0.00055","v":797.66292400000009},{"$f":"N4+38.96371-0.00055","v":813.63686400000006},{"$f":"N4+7.01601-0.00055","v":781.68916400000012},{"$f":"N4-1.0078246+0.00055","v":773.66642939999997},{"$f":"N4+44.99767+0.00055","v":819.67192399999999},{"$f":"N4+59.01332+0.00055","v":833.68757400000004}]
["TG(16:2_18:1_20:1)","TG 54:4 ","54","4 ",null,null,{"$f":"C5+3","v":57},{"$f":"(G5*2)-(4+D5*2)-((LEN(A5)-LEN(SUBSTITUTE(A5,\"_O_\",\"\")))/LEN(\"_O_\"))*2-((LEN(A5)-LEN(SUBSTITUTE(A5,\"_CHO_\",\"\")))/LEN(\"_CHO_\"))*2-((LEN(A5)-LEN(SUBSTITUTE(A5,\"_COOH_\",\"\")))/LEN(\"_COOH_\"))*2","v":102},{"$f":"6+((LEN(A5)-LEN(SUBSTITUTE(A5,\"_OH_\",\"\")))/LEN(\"_OH_\"))*1+((LEN(A5)-LEN(SUBSTITUTE(A5,\"_OOH_\",\"\")))/LEN(\"_OOH_\"))*2+((LEN(A5)-LEN(SUBSTITUTE(A5,\"_O_\",\"\")))/LEN(\"_O_\"))*1+((LEN(A5)-LEN(SUBSTITUTE(A5,\"_CHO_\",\"\")))/LEN(\"_CHO_\"))*1+((LEN(A5)-LEN(SUBSTITUTE(A5,\"_COOH_\",\"\")))/LEN(\"_COOH_\"))*2","v":6},null,null,{"$f":"CONCATENATE(\"C\",G5,\"H\",H5,\"O\",I5)","v":"C57H102O6"},{"$f":"(G5*12.0107)+(H5*1.00794)+(I5*15.9994)","v":883.41618000000005},882.76759919999995,{"$f":"N5+1.0078246-0.00055","v":883.77487380000002},{"$f":"O5-18.01057-0.00055","v":865.76375380000002},{"$f":"N5+18.03437-0.00055","v":900.80141919999994},{"$f":"N5+22.98977-0.00055","v":905.7568192},{"$f":"N5+38.96371-0.00055","v":921.73075919999997},{"$f":"N5+7.01601-0.00055","v":889.78305920000003},{"$f":"N5-1.0078246+0.00055","v":881.76032459999988},{"$f":"N5+44.99767+0.00055","v":927.7658191999999},{"$f":"N5+59.01332+0.00055","v":941.78146919999995}]

{"sheet":"BMP","index":6,"n_rows":6,"n_cols":23,"rows_kept":6,"cut":false,"hidden":false,"merged":[]}
["Lipid","Sum Composition",null,null,null,null,"#C","#H","#N","#O","#P","Formula","Molecular Weight","Neutral Mass","[M+H]+","[M+H-H2O]+","[M+NH4]+","[M+Na]+","[M+K]+","[M+Li]+","[M-H]-","[M+HCOO]-","[M+CH3COO]-"]
["BMP(18:1/18:10)",{"$f":"IF(ISNUMBER(SEARCH(\"(\",A2)),IF(ISNUMBER(SEARCH(\"/\",A2)),CONCATENATE(MID(A2,1,3),\" \",(SUM(MID(A2,FIND(\"(\",A2)+1,FIND(\":\",A2)-FIND(\"(\",A2)-1),MID(A2,FIND(\"/\",A2)+1,FIND(\":\",A2,FIND(\"/\",A2))-FIND(\"/\",A2)-1))),\":\",SUM(MID(A2,FIND(\":\",A2)+1,FIND(\"/\",A2)-FIND(\":\",A2)-1),MID(A2,FIND(\":\",A2,FIND(\"/\",A2))+1,FIND(\")\",A2)-FIND(\":\",A2,FIND(\"/\",A2))-1)),MID(A2,(FIND(\")\",A2)+1),100)),CONCATENATE(MID(A2,1,3),\" \",(SUM(MID(A2,FIND(\"(\",A2)+1,FIND(\":\",A2)-FIND(\"(\",A2)-1),MID(A2,FIND(\"_\",A2)+1,FIND(\":\",A2,FIND(\"_\",A2))-FIND(\"_\",A2)-1))),\":\",SUM(MID(A2,FIND(\":\",A2)+1,FIND(\"_\",A2)-FIND(\":\",A2)-1),MID(A2,FIND(\":\",A2,FIND(\"_\",A2))+1,FIND(\")\",A2)-FIND(\":\",A2,FIND(\"_\",A2))-1)),MID(A2,(FIND(\")\",A2)+1),100))),A2)","v":"BMP 36:11"},{"$f":"MID(B2,5,FIND(\":\",B2)-FIND(\" \",B2)-1)","v":"36"},{"$f":"IF(ISNUMBER(SEARCH(\"__\",B2)),MID(B2,FIND(\":\",B2)+1,FIND(\"__\",B2)-FIND(\":\",B2)-1),MID(B2,FIND(\":\",B2)+1,7))","v":"11"},null,null,{"$f":"C2+6","v":42},{"$f":"2*G2-(2*D2)+2-((LEN(A2)-LEN(SUBSTITUTE(A2,\"_O_\",\"\")))/LEN(\"_O_\"))*2-((LEN(A2)-LEN(SUBSTITUTE(A2,\"_CHO_\",\"\")))/LEN(\"_CHO_\"))*2-((LEN(A2)-LEN(SUBSTITUTE(A2,\"_COOH_\",\"\")))/LEN(\"_COOH_\"))*2","v":64},1,{"$f":"10+((LEN(A2)-LEN(SUBSTITUTE(A2,\"_OH_\",\"\")))/LEN(\"_OH_\"))*1+((LEN(A2)-LEN(SUBSTITUTE(A2,\"_OOH_\",\"\")))/LEN(\"_OOH_\"))*2+((LEN(A2)-LEN(SUBSTITUTE(A2,\"_O_\",\"\")))/LEN(\"_O_\"))*1+((LEN(A2)-LEN(SUBSTITUTE(A2,\"_CHO_\",\"\")))/LEN(\"_CHO_\"))*1+((LEN(A2)-LEN(SUBSTITUTE(A2,\"_COOH_\",\"\")))/LEN(\"_COOH_\"))*2","v":10},1,{"$f":"CONCATENATE(\"C\",G2,\"H\",H2,\"N\",I2,\"O\",J2,\"P\",K2)","v":"C42H64N1O10P1"},{"$f":"(G2*12.0107)+(H2*1.00794)+(I2*14.0067)+(J2*15.9994)+(K2*30.973762)","v":773.93202199999996},{"$f":"(G2*12)+(H2*1.0078246)+(I2*14.003074)+(J2*15.994915)+(K2*30.973763)","v":773.42676139999992},{"$f":"N2+1.0078246-0.00055","v":774.43403599999999},{"$f":"O2-18.01057-0.00055","v":756.42291599999999},{"$f":"N2+18.03437-0.00055","v":791.46058139999991},{"$f":"N2+22.98977-0.00055","v":796.41598139999996},{"$f":"N2+38.96371-0.00055","v":812.38992139999993},{"$f":"N2+7.01601-0.00055","v":780.44222139999999},{"$f":"N2-1.0078246+0.00055","v":772.41948679999985},{"$f":"N2+44.99767+0.00055","v":818.42498139999987},{"$f":"N2+59.01332+0.00055","v":832.44063139999992}]
["BMP(18:1_18:3)__O__",{"$f":"IF(ISNUMBER(SEARCH(\"(\",A3)),IF(ISNUMBER(SEARCH(\"/\",A3)),CONCATENATE(MID(A3,1,3),\" \",(SUM(MID(A3,FIND(\"(\",A3)+1,FIND(\":\",A3)-FIND(\"(\",A3)-1),MID(A3,FIND(\"/\",A3)+1,FIND(\":\",A3,FIND(\"/\",A3))-FIND(\"/\",A3)-1))),\":\",SUM(MID(A3,FIND(\":\",A3)+1,FIND(\"/\",A3)-FIND(\":\",A3)-1),MID(A3,FIND(\":\",A3,FIND(\"/\",A3))+1,FIND(\")\",A3)-FIND(\":\",A3,FIND(\"/\",A3))-1)),MID(A3,(FIND(\")\",A3)+1),100)),CONCATENATE(MID(A3,1,3),\" \",(SUM(MID(A3,FIND(\"(\",A3)+1,FIND(\":\",A3)-FIND(\"(\",A3)-1),MID(A3,FIND(\"_\",A3)+1,FIND(\":\",A3,FIND(\"_\",A3))-FIND(\"_\",A3)-1))),\":\",SUM(MID(A3,FIND(\":\",A3)+1,FIND(\"_\",A3)-FIND(\":\",A3)-1),MID(A3,FIND(\":\",A3,FIND(\"_\",A3))+1,FIND(\")\",A3)-FIND(\":\",A3,FIND(\"_\",A3))-1)),MID(A3,(FIND(\")\",A3)+1),100))),A3)","v":"BMP 36:4__O__"},{"$f":"MID(B3,5,FIND(\":\",B3)-FIND(\" \",B3)-1)","v":"36"},{"$f":"IF(ISNUMBER(SEARCH(\"__\",B3)),MID(B3,FIND(\":\",B3)+1,FIND(\"__\",B3)-FIND(\":\",B3)-1),MID(B3,FIND(\":\",B3)+1,7))","v":"4"},null,null,{"$f":"C3+6","v":42},{"$f":"2*G3-(2*D3)+2-((LEN(A3)-LEN(SUBSTITUTE(A3,\"_O_\",\"\")))/LEN(\"_O_\"))*2-((LEN(A3)-LEN(SUBSTITUTE(A3,\"_CHO_\",\"\")))/LEN(\"_CHO_\"))*2-((LEN(A3)-LEN(SUBSTITUTE(A3,\"_COOH_\",\"\")))/LEN(\"_COOH_\"))*2","v":76},1,{"$f":"10+((LEN(A3)-LEN(SUBSTITUTE(A3,\"_OH_\",\"\")))/LEN(\"_OH_\"))*1+((LEN(A3)-LEN(SUBSTITUTE(A3,\"_OOH_\",\"\")))/LEN(\"_OOH_\"))*2+((LEN(A3)-LEN(SUBSTITUTE(A3,\"_O_\",\"\")))/LEN(\"_O_\"))*1+((LEN(A3)-LEN(SUBSTITUTE(A3,\"_CHO_\",\"\")))/LEN(\"_CHO_\"))*1+((LEN(A3)-LEN(SUBSTITUTE(A3,\"_COOH_\",\"\")))/LEN(\"_COOH_\"))*2","v":11},1,{"$f":"CONCATENATE(\"C\",G3,\"H\",H3,\"N\",I3,\"O\",J3,\"P\",K3)","v":"C42H76N1O11P1"},{"$f":"(G3*12.0107)+(H3*1.00794)+(I3*14.0067)+(J3*15.9994)+(K3*30.973762)","v":802.026702},{"$f":"(G3*12)+(H3*1.0078246)+(I3*14.003074)+(J3*15.994915)+(K3*30.973763)","v":801.51557159999993},{"$f":"N3+1.0078246-0.00055","v":802.5228462},{"$f":"O3-18.01057-0.00055","v":784.5117262},{"$f":"N3+18.03437-0.00055","v":819.54939159999992},{"$f":"N3+22.98977-0.00055","v":824.50479159999998},{"$f":"N3+38.96371-0.00055","v":840.47873159999995},{"$f":"N3+7.01601-0.00055","v":808.53103160000001},{"$f":"N3-1.0078246+0.00055","v":800.50829699999986},{"$f":"N3+44.99767+0.00055","v":846.51379159999988},{"$f":"N3+59.01332+0.00055","v":860.52944159999993}]
["BMP 36:2 __O__",{"$f":"IF(ISNUMBER(SEARCH(\"(\",A4)),IF(ISNUMBER(SEARCH(\"/\",A4)),CONCATENATE(MID(A4,1,3),\" \",(SUM(MID(A4,FIND(\"(\",A4)+1,FIND(\":\",A4)-FIND(\"(\",A4)-1),MID(A4,FIND(\"/\",A4)+1,FIND(\":\",A4,FIND(\"/\",A4))-FIND(\"/\",A4)-1))),\":\",SUM(MID(A4,FIND(\":\",A4)+1,FIND(\"/\",A4)-FIND(\":\",A4)-1),MID(A4,FIND(\":\",A4,FIND(\"/\",A4))+1,FIND(\")\",A4)-FIND(\":\",A4,FIND(\"/\",A4))-1)),MID(A4,(FIND(\")\",A4)+1),100)),CONCATENATE(MID(A4,1,3),\" \",(SUM(MID(A4,FIND(\"(\",A4)+1,FIND(\":\",A4)-FIND(\"(\",A4)-1),MID(A4,FIND(\"_\",A4)+1,FIND(\":\",A4,FIND(\"_\",A4))-FIND(\"_\",A4)-1))),\":\",SUM(MID(A4,FIND(\":\",A4)+1,FIND(\"_\",A4)-FIND(\":\",A4)-1),MID(A4,FIND(\":\",A4,FIND(\"_\",A4))+1,FIND(\")\",A4)-FIND(\":\",A4,FIND(\"_\",A4))-1)),MID(A4,(FIND(\")\",A4)+1),100))),A4)","v":"BMP 36:2 __O__"},"36","2 ",null,null,{"$f":"C4+6","v":42},{"$f":"2*G4-(2*D4)+2-((LEN(A4)-LEN(SUBSTITUTE(A4,\"_O_\",\"\")))/LEN(\"_O_\"))*2-((LEN(A4)-LEN(SUBSTITUTE(A4,\"_CHO_\",\"\")))/LEN(\"_CHO_\"))*2-((LEN(A4)-LEN(SUBSTITUTE(A4,\"_COOH_\",\"\")))/LEN(\"_COOH_\"))*2","v":80},1,{"$f":"10+((LEN(A4)-LEN(SUBSTITUTE(A4,\"_OH_\",\"\")))/LEN(\"_OH_\"))*1+((LEN(A4)-LEN(SUBSTITUTE(A4,\"_OOH_\",\"\")))/LEN(\"_OOH_\"))*2+((LEN(A4)-LEN(SUBSTITUTE(A4,\"_O_\",\"\")))/LEN(\"_O_\"))*1+((LEN(A4)-LEN(SUBSTITUTE(A4,\"_CHO_\",\"\")))/LEN(\"_CHO_\"))*1+((LEN(A4)-LEN(SUBSTITUTE(A4,\"_COOH_\",\"\")))/LEN(\"_COOH_\"))*2","v":11},1,{"$f":"CONCATENATE(\"C\",G4,\"H\",H4,\"N\",I4,\"O\",J4,\"P\",K4)","v":"C42H80N1O11P1"},{"$f":"(G4*12.0107)+(H4*1.00794)+(I4*14.0067)+(J4*15.9994)+(K4*30.973762)","v":806.05846199999985},{"$f":"(G4*12)+(H4*1.0078246)+(I4*14.003074)+(J4*15.994915)+(K4*30.973763)","v":805.54687000000001},{"$f":"N4+1.0078246-0.00055","v":806.55414460000009},{"$f":"O4-18.01057-0.00055","v":788.54302460000008},{"$f":"N4+18.03437-0.00055","v":823.58069},{"$f":"N4+22.98977-0.00055","v":828.53609000000006},{"$f":"N4+38.96371-0.00055","v":844.51003000000003},{"$f":"N4+7.01601-0.00055","v":812.56233000000009},{"$f":"N4-1.0078246+0.00055","v":804.53959539999994},{"$f":"N4+44.99767+0.00055","v":850.54508999999996},{"$f":"N4+59.01332+0.00055","v":864.56074000000001}]
["BMP 32:2","BMP 32:2","32","2",null,null,{"$f":"C5+6","v":38},{"$f":"2*G5-(2*D5)+2-((LEN(A5)-LEN(SUBSTITUTE(A5,\"_O_\",\"\")))/LEN(\"_O_\"))*2-((LEN(A5)-LEN(SUBSTITUTE(A5,\"_CHO_\",\"\")))/LEN(\"_CHO_\"))*2-((LEN(A5)-LEN(SUBSTITUTE(A5,\"_COOH_\",\"\")))/LEN(\"_COOH_\"))*2","v":74},1,{"$f":"10+((LEN(A5)-LEN(SUBSTITUTE(A5,\"_OH_\",\"\")))/LEN(\"_OH_\"))*1+((LEN(A5)-LEN(SUBSTITUTE(A5,\"_OOH_\",\"\")))/LEN(\"_OOH_\"))*2+((LEN(A5)-LEN(SUBSTITUTE(A5,\"_O_\",\"\")))/LEN(\"_O_\"))*1+((LEN(A5)-LEN(SUBSTITUTE(A5,\"_CHO_\",\"\")))/LEN(\"_CHO_\"))*1+((LEN(A5)-LEN(SUBSTITUTE(A5,\"_COOH_\",\"\")))/LEN(\"_COOH_\"))*2","v":10},1,"C38H74N1O10P1",{"$f":"(G5*12.0107)+(H5*1.00794)+(I5*14.0067)+(J5*15.9994)+(K5*30.973762)","v":735.9686220000001},{"$f":"(G5*12)+(H5*1.0078246)+(I5*14.003074)+(J5*15.994915)+(K5*30.973763)","v":735.50500739999995},{"$f":"N5+1.0078246-0.00055","v":736.51228200000003},{"$f":"O5-18.01057-0.00055","v":718.50116200000002},{"$f":"N5+18.03437-0.00055","v":753.53882739999995},{"$f":"N5+22.98977-0.00055","v":758.4942274},{"$f":"N5+38.96371-0.00055","v":774.46816739999997},{"$f":"N5+7.01601-0.00055","v":742.52046740000003},{"$f":"N5-1.0078246+0.00055","v":734.49773279999988},{"$f":"N5+44.99767+0.00055","v":780.5032273999999},{"$f":"N5+59.01332+0.00055","v":794.51887739999995}]
["BMP(18:1/18:2)",{"$f":"IF(ISNUMBER(SEARCH(\"(\",A6)),IF(ISNUMBER(SEARCH(\"/\",A6)),CONCATENATE(MID(A6,1,3),\" \",(SUM(MID(A6,FIND(\"(\",A6)+1,FIND(\":\",A6)-FIND(\"(\",A6)-1),MID(A6,FIND(\"/\",A6)+1,FIND(\":\",A6,FIND(\"/\",A6))-FIND(\"/\",A6)-1))),\":\",SUM(MID(A6,FIND(\":\",A6)+1,FIND(\"/\",A6)-FIND(\":\",A6)-1),MID(A6,FIND(\":\",A6,FIND(\"/\",A6))+1,FIND(\")\",A6)-FIND(\":\",A6,FIND(\"/\",A6))-1)),MID(A6,(FIND(\")\",A6)+1),100)),CONCATENATE(MID(A6,1,3),\" \",(SUM(MID(A6,FIND(\"(\",A6)+1,FIND(\":\",A6)-FIND(\"(\",A6)-1),MID(A6,FIND(\"_\",A6)+1,FIND(\":\",A6,FIND(\"_\",A6))-FIND(\"_\",A6)-1))),\":\",SUM(MID(A6,FIND(\":\",A6)+1,FIND(\"_\",A6)-FIND(\":\",A6)-1),MID(A6,FIND(\":\",A6,FIND(\"_\",A6))+1,FIND(\")\",A6)-FIND(\":\",A6,FIND(\"_\",A6))-1)),MID(A6,(FIND(\")\",A6)+1),100))),A6)","v":"BMP 36:3"},{"$f":"MID(B6,5,FIND(\":\",B6)-FIND(\" \",B6)-1)","v":"36"},{"$f":"IF(ISNUMBER(SEARCH(\"__\",B6)),MID(B6,FIND(\":\",B6)+1,FIND(\"__\",B6)-FIND(\":\",B6)-1),MID(B6,FIND(\":\",B6)+1,7))","v":"3"},null,null,{"$f":"C6+6","v":42},{"$f":"2*G6-(2*D6)+2-((LEN(A6)-LEN(SUBSTITUTE(A6,\"_O_\",\"\")))/LEN(\"_O_\"))*2-((LEN(A6)-LEN(SUBSTITUTE(A6,\"_CHO_\",\"\")))/LEN(\"_CHO_\"))*2-((LEN(A6)-LEN(SUBSTITUTE(A6,\"_COOH_\",\"\")))/LEN(\"_COOH_\"))*2","v":80},1,{"$f":"10+((LEN(A6)-LEN(SUBSTITUTE(A6,\"_OH_\",\"\")))/LEN(\"_OH_\"))*1+((LEN(A6)-LEN(SUBSTITUTE(A6,\"_OOH_\",\"\")))/LEN(\"_OOH_\"))*2+((LEN(A6)-LEN(SUBSTITUTE(A6,\"_O_\",\"\")))/LEN(\"_O_\"))*1+((LEN(A6)-LEN(SUBSTITUTE(A6,\"_CHO_\",\"\")))/LEN(\"_CHO_\"))*1+((LEN(A6)-LEN(SUBSTITUTE(A6,\"_COOH_\",\"\")))/LEN(\"_COOH_\"))*2","v":10},1,"C42H80N1O10P1",{"$f":"(G6*12.0107)+(H6*1.00794)+(I6*14.0067)+(J6*15.9994)+(K6*30.973762)","v":790.05906199999993},{"$f":"(G6*12)+(H6*1.0078246)+(I6*14.003074)+(J6*15.994915)+(K6*30.973763)","v":789.55195500000002},{"$f":"N6+1.0078246-0.00055","v":790.55922960000009},{"$f":"O6-18.01057-0.00055","v":772.54810960000009},{"$f":"N6+18.03437-0.00055","v":807.58577500000001},{"$f":"N6+22.98977-0.00055","v":812.54117500000007},{"$f":"N6+38.96371-0.00055","v":828.51511500000004},{"$f":"N6+7.01601-0.00055","v":796.5674150000001},{"$f":"N6-1.0078246+0.00055","v":788.54468039999995},{"$f":"N6+44.99767+0.00055","v":834.55017499999997},{"$f":"N6+59.01332+0.00055","v":848.56582500000002}]

{"sheet":"CL","index":7,"n_rows":6,"n_cols":23,"rows_kept":6,"cut":false,"hidden":false,"merged":[]}
["Lipid","Sum Composition",null,null,"#C","#H","#N","#O","#P",null,null,"Formula","Molecular Weight","Neutral Mass","[M+H]+","[M+H-H2O]+","[M+NH4]+","[M+Na]+","[M+K]+","[M+Li]+","[M-H]-","[M+HCOO]-","[M+CH3COO]-"]
["CL(1'-[16:1/17:1],3'-[18:2/19:4])__O__",{"$f":"IF(ISNUMBER(SEARCH(\"[\",A2)),IF(ISNUMBER(SEARCH(\"/\",A2)),CONCATENATE(MID(A2,1,2),\" \",(SUM(MID(A2,FIND(\"[\",A2)+1,FIND(\":\",A2)-FIND(\"[\",A2)-1),MID(A2,FIND(\"/\",A2)+1,FIND(\":\",A2,FIND(\"/\",A2))-FIND(\"/\",A2)-1),MID(A2,FIND(\"[\",A2,FIND(\"[\",A2)+1)+1,(FIND(\":\",A2,FIND(\"[\",A2))-FIND(\"[\",A2)-1)),MID(A2,FIND(\"/\",A2,FIND(\"/\",A2)+1)+1,FIND(\":\",A2,FIND(\"/\",A2,FIND(\"[\",A2,FIND(\"[\",A2)+1)+1))-FIND(\"/\",A2,FIND(\"[\",A2,FIND(\"[\",A2)+1)+1)-1))),\":\",SUM(MID(A2,FIND(\":\",A2)+1,FIND(\"/\",A2)-FIND(\":\",A2)-1),MID(A2,FIND(\":\",A2,FIND(\"/\",A2))+1,FIND(\"]\",A2)-FIND(\":\",A2,FIND(\"/\",A2))-1),MID(A2,FIND(\":\",A2,FIND(\"[\",A2,FIND(\"[\",A2)+1))+1,(FIND(\"/\",A2,FIND(\"[\",A2,FIND(\"[\",A2)+1)+1)-FIND(\":\",A2,FIND(\"[\",A2,FIND(\"[\",A2)+1))-1)),MID(A2,FIND(\":\",A2,FIND(\"/\",A2,FIND(\"]\",A2)+1))+1,(FIND(\"]\",A2,FIND(\"[\",A2,FIND(\"[\",A2)+1)+1)-FIND(\":\",A2,FIND(\"/\",A2,FIND(\"]\",A2)+1))-1))),MID(A2,(FIND(\")\",A2)+1),100)),CONCATENATE(MID(A2,1,2),\" \",(SUM(MID(A2,FIND(\"[\",A2)+1,FIND(\":\",A2)-FIND(\"[\",A2)-1),MID(A2,FIND(\"_\",A2)+1,FIND(\":\",A2,FIND(\"_\",A2))-FIND(\"_\",A2)-1),MID(A2,FIND(\"[\",A2,FIND(\"[\",A2)+1)+1,(FIND(\":\",A2,FIND(\"[\",A2))-FIND(\"[\",A2)-1)),MID(A2,FIND(\"_\",A2,FIND(\"_\",A2)+1)+1,FIND(\":\",A2,FIND(\"_\",A2,FIND(\"[\",A2,FIND(\"[\",A2)+1)+1))-FIND(\"_\",A2,FIND(\"[\",A2,FIND(\"[\",A2)+1)+1)-1))),\":\",SUM(MID(A2,FIND(\":\",A2)+1,FIND(\"_\",A2)-FIND(\":\",A2)-1),MID(A2,FIND(\":\",A2,FIND(\"_\",A2))+1,FIND(\"]\",A2)-FIND(\":\",A2,FIND(\"_\",A2))-1),MID(A2,FIND(\":\",A2,FIND(\"[\",A2,FIND(\"[\",A2)+1))+1,(FIND(\"_\",A2,FIND(\"[\",A2,FIND(\"[\",A2)+1)+1)-FIND(\":\",A2,FIND(\"[\",A2,FIND(\"[\",A2)+1))-1)),MID(A2,FIND(\":\",A2,FIND(\"_\",A2,FIND(\"]\",A2)+1))+1,(FIND(\"]\",A2,FIND(\"[\",A2,FIND(\"[\",A2)+1)+1)-FIND(\":\",A2,FIND(\"_\",A2,FIND(\"]\",A2)+1))-1))),MID(A2,(FIND(\")\",A2)+1),100))),A2)","v":"CL 70:8__O__"},{"$f":"MID(B2,4,FIND(\":\",B2)-FIND(\" \",B2)-1)","v":"70"},{"$f":"IF(ISNUMBER(SEARCH(\"__\",B2)),MID(B2,FIND(\":\",B2)+1,FIND(\"__\",B2)-FIND(\":\",B2)-1),MID(B2,FIND(\":\",B2)+1,7))","v":"8"},{"$f":"C2+9","v":79},{"$f":"2*E2-(2*D2)-4-((LEN(A2)-LEN(SUBSTITUTE(A2,\"_O_\",\"\")))/LEN(\"_O_\"))*2-((LEN(A2)-LEN(SUBSTITUTE(A2,\"_CHO_\",\"\")))/LEN(\"_CHO_\"))*2-((LEN(A2)-LEN(SUBSTITUTE(A2,\"_COOH_\",\"\")))/LEN(\"_COOH_\"))*2","v":136},0,{"$f":"17+((LEN(A2)-LEN(SUBSTITUTE(A2,\"_OH_\",\"\")))/LEN(\"_OH_\"))*1+((LEN(A2)-LEN(SUBSTITUTE(A2,\"_OOH_\",\"\")))/LEN(\"_OOH_\"))*2+((LEN(A2)-LEN(SUBSTITUTE(A2,\"_O_\",\"\")))/LEN(\"_O_\"))*1+((LEN(A2)-LEN(SUBSTITUTE(A2,\"_CHO_\",\"\")))/LEN(\"_CHO_\"))*1+((LEN(A2)-LEN(SUBSTITUTE(A2,\"_COOH_\",\"\")))/LEN(\"_COOH_\"))*2","v":18},2,null,null,{"$f":"CONCATENATE(\"C\",E2,\"H\",F2,\"O\",H2,\"P\",I2)","v":"C79H136O18P2"},{"$f":"(E2*12.0107)+(F2*1.00794)+(G2*14.0067)+(H2*15.9994)+(I2*30.973762)","v":1435.861864},{"$f":"(E2*12)+(F2*1.0078246)+(G2*14.003074)+(H2*15.994915)+(I2*30.973763)","v":1434.9201416000001},{"$f":"N2+1.0078246-0.00055","v":1435.9274162000002},{"$f":"O2-18.01057-0.00055","v":1417.9162962000003},{"$f":"N2+18.03437-0.00055","v":1452.9539616000002},{"$f":"N2+22.98977-0.00055","v":1457.9093616},{"$f":"N2+38.96371-0.00055","v":1473.8833016000001},{"$f":"N2+7.01601-0.00055","v":1441.9356016000002},{"$f":"N2-1.0078246+0.00055","v":1433.912867},{"$f":"N2+44.99767+0.00055","v":1479.9183616},{"$f":"N2+59.01332+0.00055","v":1493.9340116000001}]
["CL 68:2",{"$f":"IF(ISNUMBER(SEARCH(\"[\",A3)),IF(ISNUMBER(SEARCH(\"/\",A3)),CONCATENATE(MID(A3,1,2),\" \",(SUM(MID(A3,FIND(\"[\",A3)+1,FIND(\":\",A3)-FIND(\"[\",A3)-1),MID(A3,FIND(\"/\",A3)+1,FIND(\":\",A3,FIND(\"/\",A3))-FIND(\"/\",A3)-1),MID(A3,FIND(\"[\",A3,FIND(\"[\",A3)+1)+1,(FIND(\":\",A3,FIND(\"[\",A3))-FIND(\"[\",A3)-1)),MID(A3,FIND(\"/\",A3,FIND(\"/\",A3)+1)+1,FIND(\":\",A3,FIND(\"/\",A3,FIND(\"[\",A3,FIND(\"[\",A3)+1)+1))-FIND(\"/\",A3,FIND(\"[\",A3,FIND(\"[\",A3)+1)+1)-1))),\":\",SUM(MID(A3,FIND(\":\",A3)+1,FIND(\"/\",A3)-FIND(\":\",A3)-1),MID(A3,FIND(\":\",A3,FIND(\"/\",A3))+1,FIND(\"]\",A3)-FIND(\":\",A3,FIND(\"/\",A3))-1),MID(A3,FIND(\":\",A3,FIND(\"[\",A3,FIND(\"[\",A3)+1))+1,(FIND(\"/\",A3,FIND(\"[\",A3,FIND(\"[\",A3)+1)+1)-FIND(\":\",A3,FIND(\"[\",A3,FIND(\"[\",A3)+1))-1)),MID(A3,FIND(\":\",A3,FIND(\"/\",A3,FIND(\"]\",A3)+1))+1,(FIND(\"]\",A3,FIND(\"[\",A3,FIND(\"[\",A3)+1)+1)-FIND(\":\",A3,FIND(\"/\",A3,FIND(\"]\",A3)+1))-1))),MID(A3,(FIND(\")\",A3)+1),100)),CONCATENATE(MID(A3,1,2),\" \",(SUM(MID(A3,FIND(\"[\",A3)+1,FIND(\":\",A3)-FIND(\"[\",A3)-1),MID(A3,FIND(\"_\",A3)+1,FIND(\":\",A3,FIND(\"_\",A3))-FIND(\"_\",A3)-1),MID(A3,FIND(\"[\",A3,FIND(\"[\",A3)+1)+1,(FIND(\":\",A3,FIND(\"[\",A3))-FIND(\"[\",A3)-1)),MID(A3,FIND(\"_\",A3,FIND(\"_\",A3)+1)+1,FIND(\":\",A3,FIND(\"_\",A3,FIND(\"[\",A3,FIND(\"[\",A3)+1)+1))-FIND(\"_\",A3,FIND(\"[\",A3,FIND(\"[\",A3)+1)+1)-1))),\":\",SUM(MID(A3,FIND(\":\",A3)+1,FIND(\"_\",A3)-FIND(\":\",A3)-1),MID(A3,FIND(\":\",A3,FIND(\"_\",A3))+1,FIND(\"]\",A3)-FIND(\":\",A3,FIND(\"_\",A3))-1),MID(A3,FIND(\":\",A3,FIND(\"[\",A3,FIND(\"[\",A3)+1))+1,(FIND(\"_\",A3,FIND(\"[\",A3,FIND(\"[\",A3)+1)+1)-FIND(\":\",A3,FIND(\"[\",A3,FIND(\"[\",A3)+1))-1)),MID(A3,FIND(\":\",A3,FIND(\"_\",A3,FIND(\"]\",A3)+1))+1,(FIND(\"]\",A3,FIND(\"[\",A3,FIND(\"[\",A3)+1)+1)-FIND(\":\",A3,FIND(\"_\",A3,FIND(\"]\",A3)+1))-1))),MID(A3,(FIND(\")\",A3)+1),100))),A3)","v":"CL 68:2"},{"$f":"MID(B3,4,FIND(\":\",B3)-FIND(\" \",B3)-1)","v":"68"},{"$f":"IF(ISNUMBER(SEARCH(\"__\",B3)),MID(B3,FIND(\":\",B3)+1,FIND(\"__\",B3)-FIND(\":\",B3)-1),MID(B3,FIND(\":\",B3)+1,7))","v":"2"},{"$f":"C3+9","v":77},{"$f":"2*E3-(2*D3)-4-((LEN(A3)-LEN(SUBSTITUTE(A3,\"_O_\",\"\")))/LEN(\"_O_\"))*2-((LEN(A3)-LEN(SUBSTITUTE(A3,\"_CHO_\",\"\")))/LEN(\"_CHO_\"))*2-((LEN(A3)-LEN(SUBSTITUTE(A3,\"_COOH_\",\"\")))/LEN(\"_COOH_\"))*2","v":146},0,{"$f":"17+((LEN(A3)-LEN(SUBSTITUTE(A3,\"_OH_\",\"\")))/LEN(\"_OH_\"))*1+((LEN(A3)-LEN(SUBSTITUTE(A3,\"_OOH_\",\"\")))/LEN(\"_OOH_\"))*2+((LEN(A3)-LEN(SUBSTITUTE(A3,\"_O_\",\"\")))/LEN(\"_O_\"))*1+((LEN(A3)-LEN(SUBSTITUTE(A3,\"_CHO_\",\"\")))/LEN(\"_CHO_\"))*1+((LEN(A3)-LEN(SUBSTITUTE(A3,\"_COOH_\",\"\")))/LEN(\"_COOH_\"))*2","v":17},2,null,null,{"$f":"CONCATENATE(\"C\",E3,\"H\",F3,\"O\",H3,\"P\",I3)","v":"C77H146O17P2"},{"$f":"(E3*12.0107)+(F3*1.00794)+(G3*14.0067)+(H3*15.9994)+(I3*30.973762)","v":1405.920464},{"$f":"(E3*12)+(F3*1.0078246)+(G3*14.003074)+(H3*15.994915)+(I3*30.973763)","v":1405.0034725999999},{"$f":"N3+1.0078246-0.00055","v":1406.0107472},{"$f":"O3-18.01057-0.00055","v":1387.9996272000001},{"$f":"N3+18.03437-0.00055","v":1423.0372926},{"$f":"N3+22.98977-0.00055","v":1427.9926925999998},{"$f":"N3+38.96371-0.00055","v":1443.9666325999999},{"$f":"N3+7.01601-0.00055","v":1412.0189326},{"$f":"N3-1.0078246+0.00055","v":1403.9961979999998},{"$f":"N3+44.99767+0.00055","v":1450.0016925999998},{"$f":"N3+59.01332+0.00055","v":1464.0173425999999}]
["CL 66:2__O__",{"$f":"IF(ISNUMBER(SEARCH(\"[\",A4)),IF(ISNUMBER(SEARCH(\"/\",A4)),CONCATENATE(MID(A4,1,2),\" \",(SUM(MID(A4,FIND(\"[\",A4)+1,FIND(\":\",A4)-FIND(\"[\",A4)-1),MID(A4,FIND(\"/\",A4)+1,FIND(\":\",A4,FIND(\"/\",A4))-FIND(\"/\",A4)-1),MID(A4,FIND(\"[\",A4,FIND(\"[\",A4)+1)+1,(FIND(\":\",A4,FIND(\"[\",A4))-FIND(\"[\",A4)-1)),MID(A4,FIND(\"/\",A4,FIND(\"/\",A4)+1)+1,FIND(\":\",A4,FIND(\"/\",A4,FIND(\"[\",A4,FIND(\"[\",A4)+1)+1))-FIND(\"/\",A4,FIND(\"[\",A4,FIND(\"[\",A4)+1)+1)-1))),\":\",SUM(MID(A4,FIND(\":\",A4)+1,FIND(\"/\",A4)-FIND(\":\",A4)-1),MID(A4,FIND(\":\",A4,FIND(\"/\",A4))+1,FIND(\"]\",A4)-FIND(\":\",A4,FIND(\"/\",A4))-1),MID(A4,FIND(\":\",A4,FIND(\"[\",A4,FIND(\"[\",A4)+1))+1,(FIND(\"/\",A4,FIND(\"[\",A4,FIND(\"[\",A4)+1)+1)-FIND(\":\",A4,FIND(\"[\",A4,FIND(\"[\",A4)+1))-1)),MID(A4,FIND(\":\",A4,FIND(\"/\",A4,FIND(\"]\",A4)+1))+1,(FIND(\"]\",A4,FIND(\"[\",A4,FIND(\"[\",A4)+1)+1)-FIND(\":\",A4,FIND(\"/\",A4,FIND(\"]\",A4)+1))-1))),MID(A4,(FIND(\")\",A4)+1),100)),CONCATENATE(MID(A4,1,2),\" \",(SUM(MID(A4,FIND(\"[\",A4)+1,FIND(\":\",A4)-FIND(\"[\",A4)-1),MID(A4,FIND(\"_\",A4)+1,FIND(\":\",A4,FIND(\"_\",A4))-FIND(\"_\",A4)-1),MID(A4,FIND(\"[\",A4,FIND(\"[\",A4)+1)+1,(FIND(\":\",A4,FIND(\"[\",A4))-FIND(\"[\",A4)-1)),MID(A4,FIND(\"_\",A4,FIND(\"_\",A4)+1)+1,FIND(\":\",A4,FIND(\"_\",A4,FIND(\"[\",A4,FIND(\"[\",A4)+1)+1))-FIND(\"_\",A4,FIND(\"[\",A4,FIND(\"[\",A4)+1)+1)-1))),\":\",SUM(MID(A4,FIND(\":\",A4)+1,FIND(\"_\",A4)-FIND(\":\",A4)-1),MID(A4,FIND(\":\",A4,FIND(\"_\",A4))+1,FIND(\"]\",A4)-FIND(\":\",A4,FIND(\"_\",A4))-1),MID(A4,FIND(\":\",A4,FIND(\"[\",A4,FIND(\"[\",A4)+1))+1,(FIND(\"_\",A4,FIND(\"[\",A4,FIND(\"[\",A4)+1)+1)-FIND(\":\",A4,FIND(\"[\",A4,FIND(\"[\",A4)+1))-1)),MID(A4,FIND(\":\",A4,FIND(\"_\",A4,FIND(\"]\",A4)+1))+1,(FIND(\"]\",A4,FIND(\"[\",A4,FIND(\"[\",A4)+1)+1)-FIND(\":\",A4,FIND(\"_\",A4,FIND(\"]\",A4)+1))-1))),MID(A4,(FIND(\")\",A4)+1),100))),A4)","v":"CL 66:2__O__"},"66","2",75,{"$f":"2*E4-(2*D4)-4-((LEN(A4)-LEN(SUBSTITUTE(A4,\"_O_\",\"\")))/LEN(\"_O_\"))*2-((LEN(A4)-LEN(SUBSTITUTE(A4,\"_CHO_\",\"\")))/LEN(\"_CHO_\"))*2-((LEN(A4)-LEN(SUBSTITUTE(A4,\"_COOH_\",\"\")))/LEN(\"_COOH_\"))*2","v":140},0,{"$f":"17+((LEN(A4)-LEN(SUBSTITUTE(A4,\"_OH_\",\"\")))/LEN(\"_OH_\"))*1+((LEN(A4)-LEN(SUBSTITUTE(A4,\"_OOH_\",\"\")))/LEN(\"_OOH_\"))*2+((LEN(A4)-LEN(SUBSTITUTE(A4,\"_O_\",\"\")))/LEN(\"_O_\"))*1+((LEN(A4)-LEN(SUBSTITUTE(A4,\"_CHO_\",\"\")))/LEN(\"_CHO_\"))*1+((LEN(A4)-LEN(SUBSTITUTE(A4,\"_COOH_\",\"\")))/LEN(\"_COOH_\"))*2","v":18},2,null,null,{"$f":"CONCATENATE(\"C\",E4,\"H\",F4,\"O\",H4,\"P\",I4)","v":"C75H140O18P2"},{"$f":"(E4*12.0107)+(F4*1.00794)+(G4*14.0067)+(H4*15.9994)+(I4*30.973762)","v":1391.8508239999999},1390.95144,{"$f":"N4+1.0078246-0.00055","v":1391.9587146000001},{"$f":"O4-18.01057-0.00055","v":1373.9475946000002},{"$f":"N4+18.03437-0.00055","v":1408.9852600000002},{"$f":"N4+22.98977-0.00055","v":1413.94066},{"$f":"N4+38.96371-0.00055","v":1429.9146000000001},{"$f":"N4+7.01601-0.00055","v":1397.9669000000001},{"$f":"N4-1.0078246+0.00055","v":1389.9441654},{"$f":"N4+44.99767+0.00055","v":1435.94966},{"$f":"N4+59.01332+0.00055","v":1449.96531}]
["CL(1'-[16:1/18:1],3'-[18:1/18:1])__O__",{"$f":"IF(ISNUMBER(SEARCH(\"[\",A5)),IF(ISNUMBER(SEARCH(\"/\",A5)),CONCATENATE(MID(A5,1,2),\" \",(SUM(MID(A5,FIND(\"[\",A5)+1,FIND(\":\",A5)-FIND(\"[\",A5)-1),MID(A5,FIND(\"/\",A5)+1,FIND(\":\",A5,FIND(\"/\",A5))-FIND(\"/\",A5)-1),MID(A5,FIND(\"[\",A5,FIND(\"[\",A5)+1)+1,(FIND(\":\",A5,FIND(\"[\",A5))-FIND(\"[\",A5)-1)),MID(A5,FIND(\"/\",A5,FIND(\"/\",A5)+1)+1,FIND(\":\",A5,FIND(\"/\",A5,FIND(\"[\",A5,FIND(\"[\",A5)+1)+1))-FIND(\"/\",A5,FIND(\"[\",A5,FIND(\"[\",A5)+1)+1)-1))),\":\",SUM(MID(A5,FIND(\":\",A5)+1,FIND(\"/\",A5)-FIND(\":\",A5)-1),MID(A5,FIND(\":\",A5,FIND(\"/\",A5))+1,FIND(\"]\",A5)-FIND(\":\",A5,FIND(\"/\",A5))-1),MID(A5,FIND(\":\",A5,FIND(\"[\",A5,FIND(\"[\",A5)+1))+1,(FIND(\"/\",A5,FIND(\"[\",A5,FIND(\"[\",A5)+1)+1)-FIND(\":\",A5,FIND(\"[\",A5,FIND(\"[\",A5)+1))-1)),MID(A5,FIND(\":\",A5,FIND(\"/\",A5,FIND(\"]\",A5)+1))+1,(FIND(\"]\",A5,FIND(\"[\",A5,FIND(\"[\",A5)+1)+1)-FIND(\":\",A5,FIND(\"/\",A5,FIND(\"]\",A5)+1))-1))),MID(A5,(FIND(\")\",A5)+1),100)),CONCATENATE(MID(A5,1,2),\" \",(SUM(MID(A5,FIND(\"[\",A5)+1,FIND(\":\",A5)-FIND(\"[\",A5)-1),MID(A5,FIND(\"_\",A5)+1,FIND(\":\",A5,FIND(\"_\",A5))-FIND(\"_\",A5)-1),MID(A5,FIND(\"[\",A5,FIND(\"[\",A5)+1)+1,(FIND(\":\",A5,FIND(\"[\",A5))-FIND(\"[\",A5)-1)),MID(A5,FIND(\"_\",A5,FIND(\"_\",A5)+1)+1,FIND(\":\",A5,FIND(\"_\",A5,FIND(\"[\",A5,FIND(\"[\",A5)+1)+1))-FIND(\"_\",A5,FIND(\"[\",A5,FIND(\"[\",A5)+1)+1)-1))),\":\",SUM(MID(A5,FIND(\":\",A5)+1,FIND(\"_\",A5)-FIND(\":\",A5)-1),MID(A5,FIND(\":\",A5,FIND(\"_\",A5))+1,FIND(\"]\",A5)-FIND(\":\",A5,FIND(\"_\",A5))-1),MID(A5,FIND(\":\",A5,FIND(\"[\",A5,FIND(\"[\",A5)+1))+1,(FIND(\"_\",A5,FIND(\"[\",A5,FIND(\"[\",A5)+1)+1)-FIND(\":\",A5,FIND(\"[\",A5,FIND(\"[\",A5)+1))-1)),MID(A5,FIND(\":\",A5,FIND(\"_\",A5,FIND(\"]\",A5)+1))+1,(FIND(\"]\",A5,FIND(\"[\",A5,FIND(\"[\",A5)+1)+1)-FIND(\":\",A5,FIND(\"_\",A5,FIND(\"]\",A5)+1))-1))),MID(A5,(FIND(\")\",A5)+1),100))),A5)","v":"CL 70:4__O__"},{"$f":"MID(B5,4,FIND(\":\",B5)-FIND(\" \",B5)-1)","v":"70"},{"$f":"IF(ISNUMBER(SEARCH(\"__\",B5)),MID(B5,FIND(\":\",B5)+1,FIND(\"__\",B5)-FIND(\":\",B5)-1),MID(B5,FIND(\":\",B5)+1,7))","v":"4"},79,{"$f":"2*E5-(2*D5)-4-((LEN(A5)-LEN(SUBSTITUTE(A5,\"_O_\",\"\")))/LEN(\"_O_\"))*2-((LEN(A5)-LEN(SUBSTITUTE(A5,\"_CHO_\",\"\")))/LEN(\"_CHO_\"))*2-((LEN(A5)-LEN(SUBSTITUTE(A5,\"_COOH_\",\"\")))/LEN(\"_COOH_\"))*2","v":144},0,{"$f":"17+((LEN(A5)-LEN(SUBSTITUTE(A5,\"_OH_\",\"\")))/LEN(\"_OH_\"))*1+((LEN(A5)-LEN(SUBSTITUTE(A5,\"_OOH_\",\"\")))/LEN(\"_OOH_\"))*2+((LEN(A5)-LEN(SUBSTITUTE(A5,\"_O_\",\"\")))/LEN(\"_O_\"))*1+((LEN(A5)-LEN(SUBSTITUTE(A5,\"_CHO_\",\"\")))/LEN(\"_CHO_\"))*1+((LEN(A5)-LEN(SUBSTITUTE(A5,\"_COOH_\",\"\")))/LEN(\"_COOH_\"))*2","v":18},2,null,null,{"$f":"CONCATENATE(\"C\",E5,\"H\",F5,\"O\",H5,\"P\",I5)","v":"C79H144O18P2"},{"$f":"(E5*12.0107)+(F5*1.00794)+(G5*14.0067)+(H5*15.9994)+(I5*30.973762)","v":1443.9253839999999},1442.9827384,{"$f":"N5+1.0078246-0.00055","v":1443.9900130000001},{"$f":"O5-18.01057-0.00055","v":1425.9788930000002},{"$f":"N5+18.03437-0.00055","v":1461.0165584000001},{"$f":"N5+22.98977-0.00055","v":1465.9719583999999},{"$f":"N5+38.96371-0.00055","v":1481.9458984},{"$f":"N5+7.01601-0.00055","v":1449.9981984000001},{"$f":"N5-1.0078246+0.00055","v":1441.9754637999999},{"$f":"N5+44.99767+0.00055","v":1487.9809584},{"$f":"N5+59.01332+0.00055","v":1501.9966084}]
["CL(1'-[18:2_20:1],3'-[18:2_22:4])__O__",{"$f":"IF(ISNUMBER(SEARCH(\"[\",A6)),IF(ISNUMBER(SEARCH(\"/\",A6)),CONCATENATE(MID(A6,1,2),\" \",(SUM(MID(A6,FIND(\"[\",A6)+1,FIND(\":\",A6)-FIND(\"[\",A6)-1),MID(A6,FIND(\"/\",A6)+1,FIND(\":\",A6,FIND(\"/\",A6))-FIND(\"/\",A6)-1),MID(A6,FIND(\"[\",A6,FIND(\"[\",A6)+1)+1,(FIND(\":\",A6,FIND(\"[\",A6))-FIND(\"[\",A6)-1)),MID(A6,FIND(\"/\",A6,FIND(\"/\",A6)+1)+1,FIND(\":\",A6,FIND(\"/\",A6,FIND(\"[\",A6,FIND(\"[\",A6)+1)+1))-FIND(\"/\",A6,FIND(\"[\",A6,FIND(\"[\",A6)+1)+1)-1))),\":\",SUM(MID(A6,FIND(\":\",A6)+1,FIND(\"/\",A6)-FIND(\":\",A6)-1),MID(A6,FIND(\":\",A6,FIND(\"/\",A6))+1,FIND(\"]\",A6)-FIND(\":\",A6,FIND(\"/\",A6))-1),MID(A6,FIND(\":\",A6,FIND(\"[\",A6,FIND(\"[\",A6)+1))+1,(FIND(\"/\",A6,FIND(\"[\",A6,FIND(\"[\",A6)+1)+1)-FIND(\":\",A6,FIND(\"[\",A6,FIND(\"[\",A6)+1))-1)),MID(A6,FIND(\":\",A6,FIND(\"/\",A6,FIND(\"]\",A6)+1))+1,(FIND(\"]\",A6,FIND(\"[\",A6,FIND(\"[\",A6)+1)+1)-FIND(\":\",A6,FIND(\"/\",A6,FIND(\"]\",A6)+1))-1))),MID(A6,(FIND(\")\",A6)+1),100)),CONCATENATE(MID(A6,1,2),\" \",(SUM(MID(A6,FIND(\"[\",A6)+1,FIND(\":\",A6)-FIND(\"[\",A6)-1),MID(A6,FIND(\"_\",A6)+1,FIND(\":\",A6,FIND(\"_\",A6))-FIND(\"_\",A6)-1),MID(A6,FIND(\"[\",A6,FIND(\"[\",A6)+1)+1,(FIND(\":\",A6,FIND(\"[\",A6))-FIND(\"[\",A6)-1)),MID(A6,FIND(\"_\",A6,FIND(\"_\",A6)+1)+1,FIND(\":\",A6,FIND(\"_\",A6,FIND(\"[\",A6,FIND(\"[\",A6)+1)+1))-FIND(\"_\",A6,FIND(\"[\",A6,FIND(\"[\",A6)+1)+1)-1))),\":\",SUM(MID(A6,FIND(\":\",A6)+1,FIND(\"_\",A6)-FIND(\":\",A6)-1),MID(A6,FIND(\":\",A6,FIND(\"_\",A6))+1,FIND(\"]\",A6)-FIND(\":\",A6,FIND(\"_\",A6))-1),MID(A6,FIND(\":\",A6,FIND(\"[\",A6,FIND(\"[\",A6)+1))+1,(FIND(\"_\",A6,FIND(\"[\",A6,FIND(\"[\",A6)+1)+1)-FIND(\":\",A6,FIND(\"[\",A6,FIND(\"[\",A6)+1))-1)),MID(A6,FIND(\":\",A6,FIND(\"_\",A6,FIND(\"]\",A6)+1))+1,(FIND(\"]\",A6,FIND(\"[\",A6,FIND(\"[\",A6)+1)+1)-FIND(\":\",A6,FIND(\"_\",A6,FIND(\"]\",A6)+1))-1))),MID(A6,(FIND(\")\",A6)+1),100))),A6)","v":"CL 78:9__O__"},{"$f":"MID(B6,4,FIND(\":\",B6)-FIND(\" \",B6)-1)","v":"78"},{"$f":"IF(ISNUMBER(SEARCH(\"__\",B6)),MID(B6,FIND(\":\",B6)+1,FIND(\"__\",B6)-FIND(\":\",B6)-1),MID(B6,FIND(\":\",B6)+1,7))","v":"9"},{"$f":"C6+9","v":87},{"$f":"2*E6-(2*D6)-4-((LEN(A6)-LEN(SUBSTITUTE(A6,\"_O_\",\"\")))/LEN(\"_O_\"))*2-((LEN(A6)-LEN(SUBSTITUTE(A6,\"_CHO_\",\"\")))/LEN(\"_CHO_\"))*2-((LEN(A6)-LEN(SUBSTITUTE(A6,\"_COOH_\",\"\")))/LEN(\"_COOH_\"))*2","v":150},0,{"$f":"17+((LEN(A6)-LEN(SUBSTITUTE(A6,\"_OH_\",\"\")))/LEN(\"_OH_\"))*1+((LEN(A6)-LEN(SUBSTITUTE(A6,\"_OOH_\",\"\")))/LEN(\"_OOH_\"))*2+((LEN(A6)-LEN(SUBSTITUTE(A6,\"_O_\",\"\")))/LEN(\"_O_\"))*1+((LEN(A6)-LEN(SUBSTITUTE(A6,\"_CHO_\",\"\")))/LEN(\"_CHO_\"))*1+((LEN(A6)-LEN(SUBSTITUTE(A6,\"_COOH_\",\"\")))/LEN(\"_COOH_\"))*2","v":18},2,null,null,{"$f":"CONCATENATE(\"C\",E6,\"H\",F6,\"O\",H6,\"P\",I6)","v":"C87H150O18P2"},{"$f":"(E6*12.0107)+(F6*1.00794)+(G6*14.0067)+(H6*15.9994)+(I6*30.973762)","v":1546.058624},{"$f":"(E6*12)+(F6*1.0078246)+(G6*14.003074)+(H6*15.994915)+(I6*30.973763)","v":1545.0296860000001},{"$f":"N6+1.0078246-0.00055","v":1546.0369606000002},{"$f":"O6-18.01057-0.00055","v":1528.0258406000003},{"$f":"N6+18.03437-0.00055","v":1563.0635060000002},{"$f":"N6+22.98977-0.00055","v":1568.018906},{"$f":"N6+38.96371-0.00055","v":1583.9928460000001},{"$f":"N6+7.01601-0.00055","v":1552.0451460000002},{"$f":"N6-1.0078246+0.00055","v":1544.0224114},{"$f":"N6+44.99767+0.00055","v":1590.027906},{"$f":"N6+59.01332+0.00055","v":1604.0435560000001}]

{"sheet":"Cer","index":8,"n_rows":7,"n_cols":23,"rows_kept":7,"cut":false,"hidden":false,"merged":[]}
["Lipid","Sum Composition",null,null,null,null,"#C","#H","#N","#O","#P","Formula","Molecular Weight","Neutral Mass","[M+H]+","[M+H-H2O]+","[M+NH4]+","[M+Na]+","[M+K]+","[M+Li]+","[M-H]-","[M+HCOO]-","[M+CH3COO]-"]
["Cer(d18:1/16:0)",{"$f":"IF(ISNUMBER(SEARCH(\"(\",A2)),IF(ISNUMBER(SEARCH(\"/\",A2)),CONCATENATE(MID(A2,1,3),\" \",\"d\",(SUM(MID(A2,FIND(\"(\",A2)+2,FIND(\":\",A2)-FIND(\"(\",A2)-2),MID(A2,FIND(\"/\",A2)+1,FIND(\":\",A2,FIND(\"/\",A2))-FIND(\"/\",A2)-1))),\":\",SUM(MID(A2,FIND(\":\",A2)+1,FIND(\"/\",A2)-FIND(\":\",A2)-1),MID(A2,FIND(\":\",A2,FIND(\"/\",A2))+1,FIND(\")\",A2)-FIND(\":\",A2,FIND(\"/\",A2))-1)),MID(A2,(FIND(\")\",A2)+1),100)),CONCATENATE(MID(A2,1,3),\" \",\"d\",(SUM(MID(A2,FIND(\"(\",A2)+2,FIND(\":\",A2)-FIND(\"(\",A2)-2),MID(A2,FIND(\"_\",A2)+1,FIND(\":\",A2,FIND(\"_\",A2))-FIND(\"_\",A2)-1))),\":\",SUM(MID(A2,FIND(\":\",A2)+1,FIND(\"_\",A2)-FIND(\":\",A2)-1),MID(A2,FIND(\":\",A2,FIND(\"_\",A2))+1,FIND(\")\",A2)-FIND(\":\",A2,FIND(\"_\",A2))-1)),MID(A2,(FIND(\")\",A2)+1),100))),CONCATENATE(MID(A2,1,3),\" \",\"d\",MID(A2,6,100)))","v":"Cer d34:1"},{"$f":"MID(B2,6,FIND(\":\",B2)-FIND(\"d\",B2)-1)","v":"34"},{"$f":"IF(ISNUMBER(SEARCH(\"__\",B2)),MID(B2,FIND(\":\",B2)+1,FIND(\"__\",B2)-FIND(\":\",B2)-1),MID(B2,FIND(\":\",B2)+1,7))","v":"1"},null,null,{"$f":"C2","v":"34"},{"$f":"2*G2-(2*D2)+1-((LEN(A2)-LEN(SUBSTITUTE(A2,\"_O_\",\"\")))/LEN(\"_O_\"))*2-((LEN(A2)-LEN(SUBSTITUTE(A2,\"_CHO_\",\"\")))/LEN(\"_CHO_\"))*2-((LEN(A2)-LEN(SUBSTITUTE(A2,\"_COOH_\",\"\")))/LEN(\"_COOH_\"))*2","v":67},1,{"$f":"3+((LEN(A2)-LEN(SUBSTITUTE(A2,\"_OH_\",\"\")))/LEN(\"_OH_\"))*1+((LEN(A2)-LEN(SUBSTITUTE(A2,\"_OOH_\",\"\")))/LEN(\"_OOH_\"))*2+((LEN(A2)-LEN(SUBSTITUTE(A2,\"_O_\",\"\")))/LEN(\"_O_\"))*1+((LEN(A2)-LEN(SUBSTITUTE(A2,\"_CHO_\",\"\")))/LEN(\"_CHO_\"))*1+((LEN(A2)-LEN(SUBSTITUTE(A2,\"_COOH_\",\"\")))/LEN(\"_COOH_\"))*2","v":3},null,{"$f":"CONCATENATE(\"C\",G2,\"H\",H2,\"N\",I2,\"O\",J2)","v":"C34H67N1O3"},{"$f":"(G2*12.0107)+(H2*1.00794)+(I2*14.0067)+(J2*15.9994)","v":537.90067999999997},{"$f":"(G2*12)+(H2*1.0078246)+(I2*14.003074)+(J2*15.994915)","v":537.51206720000005},{"$f":"N2+1.0078246-0.00055","v":538.51934180000012},{"$f":"O2-18.01057-0.00055","v":520.50822180000011},{"$f":"N2+18.03437-0.00055","v":555.54588720000004},{"$f":"N2+22.98977-0.00055","v":560.50128720000009},{"$f":"N2+38.96371-0.00055","v":576.47522720000006},{"$f":"N2+7.01601-0.00055","v":544.52752720000012},{"$f":"N2-1.0078246+0.00055","v":536.50479259999997},{"$f":"N2+44.99767+0.00055","v":582.51028719999999},{"$f":"N2+59.01332+0.00055","v":596.52593720000004}]
["Cer(d18:1_18:1)",{"$f":"IF(ISNUMBER(SEARCH(\"(\",A3)),IF(ISNUMBER(SEARCH(\"/\",A3)),CONCATENATE(MID(A3,1,3),\" \",\"d\",(SUM(MID(A3,FIND(\"(\",A3)+2,FIND(\":\",A3)-FIND(\"(\",A3)-2),MID(A3,FIND(\"/\",A3)+1,FIND(\":\",A3,FIND(\"/\",A3))-FIND(\"/\",A3)-1))),\":\",SUM(MID(A3,FIND(\":\",A3)+1,FIND(\"/\",A3)-FIND(\":\",A3)-1),MID(A3,FIND(\":\",A3,FIND(\"/\",A3))+1,FIND(\")\",A3)-FIND(\":\",A3,FIND(\"/\",A3))-1)),MID(A3,(FIND(\")\",A3)+1),100)),CONCATENATE(MID(A3,1,3),\" \",\"d\",(SUM(MID(A3,FIND(\"(\",A3)+2,FIND(\":\",A3)-FIND(\"(\",A3)-2),MID(A3,FIND(\"_\",A3)+1,FIND(\":\",A3,FIND(\"_\",A3))-FIND(\"_\",A3)-1))),\":\",SUM(MID(A3,FIND(\":\",A3)+1,FIND(\"_\",A3)-FIND(\":\",A3)-1),MID(A3,FIND(\":\",A3,FIND(\"_\",A3))+1,FIND(\")\",A3)-FIND(\":\",A3,FIND(\"_\",A3))-1)),MID(A3,(FIND(\")\",A3)+1),100))),CONCATENATE(MID(A3,1,3),\" \",\"d\",MID(A3,6,100)))","v":"Cer d36:2"},{"$f":"MID(B3,6,FIND(\":\",B3)-FIND(\"d\",B3)-1)","v":"36"},{"$f":"IF(ISNUMBER(SEARCH(\"__\",B3)),MID(B3,FIND(\":\",B3)+1,FIND(\"__\",B3)-FIND(\":\",B3)-1),MID(B3,FIND(\":\",B3)+1,7))","v":"2"},null,null,{"$f":"C3","v":"36"},{"$f":"2*G3-(2*D3)+1-((LEN(A3)-LEN(SUBSTITUTE(A3,\"_O_\",\"\")))/LEN(\"_O_\"))*2-((LEN(A3)-LEN(SUBSTITUTE(A3,\"_CHO_\",\"\")))/LEN(\"_CHO_\"))*2-((LEN(A3)-LEN(SUBSTITUTE(A3,\"_COOH_\",\"\")))/LEN(\"_COOH_\"))*2","v":69},1,{"$f":"3+((LEN(A3)-LEN(SUBSTITUTE(A3,\"_OH_\",\"\")))/LEN(\"_OH_\"))*1+((LEN(A3)-LEN(SUBSTITUTE(A3,\"_OOH_\",\"\")))/LEN(\"_OOH_\"))*2+((LEN(A3)-LEN(SUBSTITUTE(A3,\"_O_\",\"\")))/LEN(\"_O_\"))*1+((LEN(A3)-LEN(SUBSTITUTE(A3,\"_CHO_\",\"\")))/LEN(\"_CHO_\"))*1+((LEN(A3)-LEN(SUBSTITUTE(A3,\"_COOH_\",\"\")))/LEN(\"_COOH_\"))*2","v":3},null,{"$f":"CONCATENATE(\"C\",G3,\"H\",H3,\"N\",I3,\"O\",J3)","v":"C36H69N1O3"},563.93795999999998,{"$f":"(G3*12)+(H3*1.0078246)+(I3*14.003074)+(J3*15.994915)","v":563.52771639999992},{"$f":"N3+1.0078246-0.00055","v":564.53499099999999},{"$f":"O3-18.01057-0.00055","v":546.52387099999999},{"$f":"N3+18.03437-0.00055","v":581.56153639999991},{"$f":"N3+22.98977-0.00055","v":586.51693639999996},{"$f":"N3+38.96371-0.00055","v":602.49087639999993},{"$f":"N3+7.01601-0.00055","v":570.54317639999999},{"$f":"N3-1.0078246+0.00055","v":562.52044179999984},{"$f":"N3+44.99767+0.00055","v":608.52593639999986},{"$f":"N3+59.01332+0.00055","v":622.54158639999991}]
["Cer(d18:1/18:0)__O__","Cer d36:1__O__","36","1",null,null,"36",69,1,4,null,"C36H69N1O4",579.93736000000001,579.52263139999991,580.52990599999998,562.51878599999998,597.5564513999999,602.51185139999995,618.48579139999993,586.53809139999998,578.51535679999984,624.52085139999986,638.53650139999991]
["Cer(d18:1/20:0)","Cer d38:1","38","1",null,null,"38",75,1,3,null,"C38H75N1O3",594.00700000000006,593.57466399999998,594.58193860000006,576.57081860000005,611.60848399999998,616.56388400000003,632.537824,600.59012400000006,592.56738939999991,638.57288399999993,652.58853399999998]
["Cer d40:1__O__","Cer d40:1__O__","40","1",null,null,"40",77,1,4,null,"C40H77N1O4",636.04368000000011,635.58522819999996,636.59250280000003,618.58138280000003,653.61904819999995,658.57444820000001,674.54838819999998,642.60068820000004,634.57795359999989,680.58344819999991,694.59909819999996]
["Cer(d18:1_24:1)","Cer d42:2","42","2",null,null,"42",81,1,3,null,"C42H81N1O3",648.09744000000001,647.62161159999994,648.62888620000001,630.61776620000001,665.65543159999993,670.61083159999998,686.58477159999995,654.63707160000001,646.61433699999986,692.61983159999988,706.63548159999993]

{"sheet":"CerP","index":9,"n_rows":6,"n_cols":23,"rows_kept":6,"cut":false,"hidden":false,"merged":[]}
["Lipid","Sum Composition",null,null,null,null,"#C","#H","#N","#O","#P","Formula","Molecular Weight","Neutral Mass","[M+H]+","[M+H-H2O]+","[M+NH4]+","[M+Na]+","[M+K]+","[M+Li]+","[M-H]-","[M+HCOO]-","[M+CH3COO]-"]
["CerP(d18:1/16:0)",{"$f":"IF(ISNUMBER(SEARCH(\"(\",A2)),IF(ISNUMBER(SEARCH(\"/\",A2)),CONCATENATE(MID(A2,1,4),\" \",\"d\",(SUM(MID(A2,FIND(\"(\",A2)+2,FIND(\":\",A2)-FIND(\"(\",A2)-2),MID(A2,FIND(\"/\",A2)+1,FIND(\":\",A2,FIND(\"/\",A2))-FIND(\"/\",A2)-1))),\":\",SUM(MID(A2,FIND(\":\",A2)+1,FIND(\"/\",A2)-FIND(\":\",A2)-1),MID(A2,FIND(\":\",A2,FIND(\"/\",A2))+1,FIND(\")\",A2)-FIND(\":\",A2,FIND(\"/\",A2))-1)),MID(A2,(FIND(\")\",A2)+1),100)),CONCATENATE(MID(A2,1,4),\" \",\"d\",(SUM(MID(A2,FIND(\"(\",A2)+2,FIND(\":\",A2)-FIND(\"(\",A2)-2),MID(A2,FIND(\"_\",A2)+1,FIND(\":\",A2,FIND(\"_\",A2))-FIND(\"_\",A2)-1))),\":\",SUM(MID(A2,FIND(\":\",A2)+1,FIND(\"_\",A2)-FIND(\":\",A2)-1),MID(A2,FIND(\":\",A2,FIND(\"_\",A2))+1,FIND(\")\",A2)-FIND(\":\",A2,FIND(\"_\",A2))-1)),MID(A2,(FIND(\")\",A2)+1),100))),CONCATENATE(MID(A2,1,4),\" \",\"d\",MID(A2,7,100)))","v":"CerP d34:1"},{"$f":"MID(B2,7,FIND(\":\",B2)-FIND(\"d\",B2)-1)","v":"34"},{"$f":"IF(ISNUMBER(SEARCH(\"__\",B2)),MID(B2,FIND(\":\",B2)+1,FIND(\"__\",B2)-FIND(\":\",B2)-1),MID(B2,FIND(\":\",B2)+1,7))","v":"1"},null,null,{"$f":"C2","v":"34"},{"$f":"2*G2-(2*D2)+2-((LEN(A2)-LEN(SUBSTITUTE(A2,\"_O_\",\"\")))/LEN(\"_O_\"))*2-((LEN(A2)-LEN(SUBSTITUTE(A2,\"_CHO_\",\"\")))/LEN(\"_CHO_\"))*2-((LEN(A2)-LEN(SUBSTITUTE(A2,\"_COOH_\",\"\")))/LEN(\"_COOH_\"))*2","v":68},1,{"$f":"6+((LEN(A2)-LEN(SUBSTITUTE(A2,\"_OH_\",\"\")))/LEN(\"_OH_\"))*1+((LEN(A2)-LEN(SUBSTITUTE(A2,\"_OOH_\",\"\")))/LEN(\"_OOH_\"))*2+((LEN(A2)-LEN(SUBSTITUTE(A2,\"_O_\",\"\")))/LEN(\"_O_\"))*1+((LEN(A2)-LEN(SUBSTITUTE(A2,\"_CHO_\",\"\")))/LEN(\"_CHO_\"))*1+((LEN(A2)-LEN(SUBSTITUTE(A2,\"_COOH_\",\"\")))/LEN(\"_COOH_\"))*2","v":6},1,{"$f":"CONCATENATE(\"C\",G2,\"H\",H2,\"N\",I2,\"O\",J2,\"P\",K2)","v":"C34H68N1O6P1"},{"$f":"(G2*12.0107)+(H2*1.00794)+(I2*14.0067)+(J2*15.9994)+(K2*30.973762)","v":617.88058199999989},{"$f":"(G2*12)+(H2*1.0078246)+(I2*14.003074)+(J2*15.994915)+(K2*30.973763)","v":617.47839980000003},{"$f":"N2+1.0078246-0.00055","v":618.48567440000011},{"$f":"O2-18.01057-0.00055","v":600.4745544000001},{"$f":"N2+18.03437-0.00055","v":635.51221980000003},{"$f":"N2+22.98977-0.00055","v":640.46761980000008},{"$f":"N2+38.96371-0.00055","v":656.44155980000005},{"$f":"N2+7.01601-0.00055","v":624.49385980000011},{"$f":"N2-1.0078246+0.00055","v":616.47112519999996},{"$f":"N2+44.99767+0.00055","v":662.47661979999998},{"$f":"N2+59.01332+0.00055","v":676.49226980000003}]
["CerP d34:2__O__",{"$f":"IF(ISNUMBER(SEARCH(\"(\",A3)),IF(ISNUMBER(SEARCH(\"/\",A3)),CONCATENATE(MID(A3,1,4),\" \",\"d\",(SUM(MID(A3,FIND(\"(\",A3)+2,FIND(\":\",A3)-FIND(\"(\",A3)-2),MID(A3,FIND(\"/\",A3)+1,FIND(\":\",A3,FIND(\"/\",A3))-FIND(\"/\",A3)-1))),\":\",SUM(MID(A3,FIND(\":\",A3)+1,FIND(\"/\",A3)-FIND(\":\",A3)-1),MID(A3,FIND(\":\",A3,FIND(\"/\",A3))+1,FIND(\")\",A3)-FIND(\":\",A3,FIND(\"/\",A3))-1)),MID(A3,(FIND(\")\",A3)+1),100)),CONCATENATE(MID(A3,1,4),\" \",\"d\",(SUM(MID(A3,FIND(\"(\",A3)+2,FIND(\":\",A3)-FIND(\"(\",A3)-2),MID(A3,FIND(\"_\",A3)+1,FIND(\":\",A3,FIND(\"_\",A3))-FIND(\"_\",A3)-1))),\":\",SUM(MID(A3,FIND(\":\",A3)+1,FIND(\"_\",A3)-FIND(\":\",A3)-1),MID(A3,FIND(\":\",A3,FIND(\"_\",A3))+1,FIND(\")\",A3)-FIND(\":\",A3,FIND(\"_\",A3))-1)),MID(A3,(FIND(\")\",A3)+1),100))),CONCATENATE(MID(A3,1,4),\" \",\"d\",MID(A3,7,100)))","v":"CerP d34:2__O__"},{"$f":"MID(B3,7,FIND(\":\",B3)-FIND(\"d\",B3)-1)","v":"34"},{"$f":"IF(ISNUMBER(SEARCH(\"__\",B3)),MID(B3,FIND(\":\",B3)+1,FIND(\"__\",B3)-FIND(\":\",B3)-1),MID(B3,FIND(\":\",B3)+1,7))","v":"2"},null,null,{"$f":"C3","v":"34"},{"$f":"2*G3-(2*D3)+2-((LEN(A3)-LEN(SUBSTITUTE(A3,\"_O_\",\"\")))/LEN(\"_O_\"))*2-((LEN(A3)-LEN(SUBSTITUTE(A3,\"_CHO_\",\"\")))/LEN(\"_CHO_\"))*2-((LEN(A3)-LEN(SUBSTITUTE(A3,\"_COOH_\",\"\")))/LEN(\"_COOH_\"))*2","v":64},1,{"$f":"6+((LEN(A3)-LEN(SUBSTITUTE(A3,\"_OH_\",\"\")))/LEN(\"_OH_\"))*1+((LEN(A3)-LEN(SUBSTITUTE(A3,\"_OOH_\",\"\")))/LEN(\"_OOH_\"))*2+((LEN(A3)-LEN(SUBSTITUTE(A3,\"_O_\",\"\")))/LEN(\"_O_\"))*1+((LEN(A3)-LEN(SUBSTITUTE(A3,\"_CHO_\",\"\")))/LEN(\"_CHO_\"))*1+((LEN(A3)-LEN(SUBSTITUTE(A3,\"_COOH_\",\"\")))/LEN(\"_COOH_\"))*2","v":7},1,{"$f":"CONCATENATE(\"C\",G3,\"H\",H3,\"N\",I3,\"O\",J3,\"P\",K3)","v":"C34H64N1O7P1"},{"$f":"(G3*12.0107)+(H3*1.00794)+(I3*14.0067)+(J3*15.9994)+(K3*30.973762)","v":629.84822199999996},{"$f":"(G3*12)+(H3*1.0078246)+(I3*14.003074)+(J3*15.994915)+(K3*30.973763)","v":629.44201640000006},{"$f":"N3+1.0078246-0.00055","v":630.44929100000013},{"$f":"O3-18.01057-0.00055","v":612.43817100000012},{"$f":"N3+18.03437-0.00055","v":647.47583640000005},{"$f":"N3+22.98977-0.00055","v":652.4312364000001},{"$f":"N3+38.96371-0.00055","v":668.40517640000007},{"$f":"N3+7.01601-0.00055","v":636.45747640000013},{"$f":"N3-1.0078246+0.00055","v":628.43474179999998},{"$f":"N3+44.99767+0.00055","v":674.4402364},{"$f":"N3+59.01332+0.00055","v":688.45588640000005}]
["CerP d36:1__COOH__","CerP d36:1__COOH__","36","1",null,null,"36",70,1,8,1,"C36H70N1O8P1",{"$f":"(G4*12.0107)+(H4*1.00794)+(I4*14.0067)+(J4*15.9994)+(K4*30.973762)","v":675.91666199999997},675.483879,676.49115360000008,658.48003360000007,693.51769899999999,698.47309900000005,714.44703900000002,682.49933900000008,674.47660439999993,720.48209899999995,734.497749]
["CerP(d18:1/16:0)","CerP d34:1","34","1",null,null,"34",68,1,6,1,"C34H68N1O6P1",{"$f":"(G5*12.0107)+(H5*1.00794)+(I5*14.0067)+(J5*15.9994)+(K5*30.973762)","v":617.88058199999989},617.47839980000003,618.48567440000011,600.4745544000001,635.51221980000003,640.46761980000008,656.44155980000005,624.49385980000011,616.47112519999996,662.47661979999998,676.49226980000003]
["CerP(d18:1/18:1)__CHO__","CerP d36:2__CHO__","36","2",null,null,"36",68,1,7,1,"C36H68N1O7P1",{"$f":"(G6*12.0107)+(H6*1.00794)+(I6*14.0067)+(J6*15.9994)+(K6*30.973762)","v":657.90138200000001},657.47331480000003,658.4805894000001,640.46946940000009,675.50713480000002,680.46253480000007,696.43647480000004,664.4887748000001,656.46604019999995,702.47153479999997,716.48718480000002]

{"sheet":"CerOH","index":10,"n_rows":4,"n_cols":23,"rows_kept":4,"cut":false,"hidden":false,"merged":[]}
["Lipid","Sum Composition",null,null,null,null,"#C","#H","#N","#O","#P","Formula","Molecular Weight","Neutral Mass","[M+H]+","[M+H-H2O]+","[M+NH4]+","[M+Na]+","[M+K]+","[M+Li]+","[M-H]-","[M+HCOO]-","[M+CH3COO]-"]
["Cer(d18:0/16:0)-OH",{"$f":"IF(ISNUMBER(SEARCH(\"(\",A2)),IF(ISNUMBER(SEARCH(\"/\",A2)),CONCATENATE(MID(A2,1,3),\" \",\"d\",(SUM(MID(A2,FIND(\"(\",A2)+2,FIND(\":\",A2)-FIND(\"(\",A2)-2),MID(A2,FIND(\"/\",A2)+1,FIND(\":\",A2,FIND(\"/\",A2))-FIND(\"/\",A2)-1))),\":\",SUM(MID(A2,FIND(\":\",A2)+1,FIND(\"/\",A2)-FIND(\":\",A2)-1),MID(A2,FIND(\":\",A2,FIND(\"/\",A2))+1,FIND(\")\",A2)-FIND(\":\",A2,FIND(\"/\",A2))-1)),MID(A2,(FIND(\")\",A2)+1),100)),CONCATENATE(MID(A2,1,3),\" \",\"d\",(SUM(MID(A2,FIND(\"(\",A2)+2,FIND(\":\",A2)-FIND(\"(\",A2)-2),MID(A2,FIND(\"_\",A2)+1,FIND(\":\",A2,FIND(\"_\",A2))-FIND(\"_\",A2)-1))),\":\",SUM(MID(A2,FIND(\":\",A2)+1,FIND(\"_\",A2)-FIND(\":\",A2)-1),MID(A2,FIND(\":\",A2,FIND(\"_\",A2))+1,FIND(\")\",A2)-FIND(\":\",A2,FIND(\"_\",A2))-1)),MID(A2,(FIND(\")\",A2)+1),100))),CONCATENATE(MID(A2,1,3),\" \",\"d\",MID(A2,6,100)))","v":"Cer d34:0-OH"},{"$f":"MID(B2,6,FIND(\":\",B2)-FIND(\"d\",B2)-1)","v":"34"},{"$f":"MID(B2,FIND(\":\",B2)+1,FIND(\"-\",B2)-FIND(\":\",B2)-1)","v":"0"},null,null,{"$f":"C2","v":"34"},{"$f":"2*G2-(2*D2)+1-((LEN(A2)-LEN(SUBSTITUTE(A2,\"_O_\",\"\")))/LEN(\"_O_\"))*2-((LEN(A2)-LEN(SUBSTITUTE(A2,\"_CHO_\",\"\")))/LEN(\"_CHO_\"))*2-((LEN(A2)-LEN(SUBSTITUTE(A2,\"_COOH_\",\"\")))/LEN(\"_COOH_\"))*2","v":69},1,{"$f":"4+((LEN(A2)-LEN(SUBSTITUTE(A2,\"_OH_\",\"\")))/LEN(\"_OH_\"))*1+((LEN(A2)-LEN(SUBSTITUTE(A2,\"_OOH_\",\"\")))/LEN(\"_OOH_\"))*2+((LEN(A2)-LEN(SUBSTITUTE(A2,\"_O_\",\"\")))/LEN(\"_O_\"))*1+((LEN(A2)-LEN(SUBSTITUTE(A2,\"_CHO_\",\"\")))/LEN(\"_CHO_\"))*1+((LEN(A2)-LEN(SUBSTITUTE(A2,\"_COOH_\",\"\")))/LEN(\"_COOH_\"))*2","v":4},null,{"$f":"CONCATENATE(\"C\",G2,\"H\",H2,\"N\",I2,\"O\",J2)","v":"C34H69N1O4"},{"$f":"(G2*12.0107)+(H2*1.00794)+(I2*14.0067)+(J2*15.9994)","v":555.91596000000004},{"$f":"(G2*12)+(H2*1.0078246)+(I2*14.003074)+(J2*15.994915)","v":555.52263140000002},{"$f":"N2+1.0078246-0.00055","v":556.5299060000001},{"$f":"O2-18.01057-0.00055","v":538.51878600000009},{"$f":"N2+18.03437-0.00055","v":573.55645140000001},{"$f":"N2+22.98977-0.00055","v":578.51185140000007},{"$f":"N2+38.96371-0.00055","v":594.48579140000004},{"$f":"N2+7.01601-0.00055","v":562.5380914000001},{"$f":"N2-1.0078246+0.00055","v":554.51535679999995},{"$f":"N2+44.99767+0.00055","v":600.52085139999997},{"$f":"N2+59.01332+0.00055","v":614.53650140000002}]
["Cer(d18:0/24:1)-OH__O__",{"$f":"IF(ISNUMBER(SEARCH(\"(\",A3)),IF(ISNUMBER(SEARCH(\"/\",A3)),CONCATENATE(MID(A3,1,3),\" \",\"d\",(SUM(MID(A3,FIND(\"(\",A3)+2,FIND(\":\",A3)-FIND(\"(\",A3)-2),MID(A3,FIND(\"/\",A3)+1,FIND(\":\",A3,FIND(\"/\",A3))-FIND(\"/\",A3)-1))),\":\",SUM(MID(A3,FIND(\":\",A3)+1,FIND(\"/\",A3)-FIND(\":\",A3)-1),MID(A3,FIND(\":\",A3,FIND(\"/\",A3))+1,FIND(\")\",A3)-FIND(\":\",A3,FIND(\"/\",A3))-1)),MID(A3,(FIND(\")\",A3)+1),100)),CONCATENATE(MID(A3,1,3),\" \",\"d\",(SUM(MID(A3,FIND(\"(\",A3)+2,FIND(\":\",A3)-FIND(\"(\",A3)-2),MID(A3,FIND(\"_\",A3)+1,FIND(\":\",A3,FIND(\"_\",A3))-FIND(\"_\",A3)-1))),\":\",SUM(MID(A3,FIND(\":\",A3)+1,FIND(\"_\",A3)-FIND(\":\",A3)-1),MID(A3,FIND(\":\",A3,FIND(\"_\",A3))+1,FIND(\")\",A3)-FIND(\":\",A3,FIND(\"_\",A3))-1)),MID(A3,(FIND(\")\",A3)+1),100))),CONCATENATE(MID(A3,1,3),\" \",\"d\",MID(A3,6,100)))","v":"Cer d42:1-OH__O__"},{"$f":"MID(B3,6,FIND(\":\",B3)-FIND(\"d\",B3)-1)","v":"42"},{"$f":"MID(B3,FIND(\":\",B3)+1,FIND(\"-\",B3)-FIND(\":\",B3)-1)","v":"1"},null,null,{"$f":"C3","v":"42"},{"$f":"2*G3-(2*D3)+1-((LEN(A3)-LEN(SUBSTITUTE(A3,\"_O_\",\"\")))/LEN(\"_O_\"))*2-((LEN(A3)-LEN(SUBSTITUTE(A3,\"_CHO_\",\"\")))/LEN(\"_CHO_\"))*2-((LEN(A3)-LEN(SUBSTITUTE(A3,\"_COOH_\",\"\")))/LEN(\"_COOH_\"))*2","v":81},1,{"$f":"4+((LEN(A3)-LEN(SUBSTITUTE(A3,\"_OH_\",\"\")))/LEN(\"_OH_\"))*1+((LEN(A3)-LEN(SUBSTITUTE(A3,\"_OOH_\",\"\")))/LEN(\"_OOH_\"))*2+((LEN(A3)-LEN(SUBSTITUTE(A3,\"_O_\",\"\")))/LEN(\"_O_\"))*1+((LEN(A3)-LEN(SUBSTITUTE(A3,\"_CHO_\",\"\")))/LEN(\"_CHO_\"))*1+((LEN(A3)-LEN(SUBSTITUTE(A3,\"_COOH_\",\"\")))/LEN(\"_COOH_\"))*2","v":5},null,{"$f":"CONCATENATE(\"C\",G3,\"H\",H3,\"N\",I3,\"O\",J3)","v":"C42H81N1O5"},{"$f":"(G3*12.0107)+(H3*1.00794)+(I3*14.0067)+(J3*15.9994)","v":680.09623999999997},{"$f":"(G3*12)+(H3*1.0078246)+(I3*14.003074)+(J3*15.994915)","v":679.61144159999992},{"$f":"N3+1.0078246-0.00055","v":680.61871619999999},{"$f":"O3-18.01057-0.00055","v":662.60759619999999},{"$f":"N3+18.03437-0.00055","v":697.64526159999991},{"$f":"N3+22.98977-0.00055","v":702.60066159999997},{"$f":"N3+38.96371-0.00055","v":718.57460159999994},{"$f":"N3+7.01601-0.00055","v":686.6269016},{"$f":"N3-1.0078246+0.00055","v":678.60416699999985},{"$f":"N3+44.99767+0.00055","v":724.60966159999987},{"$f":"N3+59.01332+0.00055","v":738.62531159999992}]
["Cer d36:1-OH","Cer d36:1-OH","36","1",null,null,"36",71,1,4,null,"C36H71N1O4",{"$f":"(G4*12.0107)+(H4*1.00794)+(I4*14.0067)+(J4*15.9994)","v":581.95324000000005},581.53828060000001,582.54555520000008,564.53443520000008,599.5721006,604.52750060000005,620.50144060000002,588.55374060000008,580.53100599999993,626.53650059999995,640.5521506]

{"sheet":"HexCer","index":11,"n_rows":5,"n_cols":23,"rows_kept":5,"cut":false,"hidden":false,"merged":[]}
["Lipid","Sum Composition",null,null,null,null,"#C","#H","#N","#O","#P","Formula","Molecular Weight","Neutral Mass","[M+H]+","[M+H-H2O]+","[M+NH4]+","[M+Na]+","[M+K]+","[M+Li]+","[M-H]-","[M+HCOO]-","[M+CH3COO]-"]
["HexCer(d18:0/26:10)",{"$f":"IF(ISNUMBER(SEARCH(\"(\",A2)),IF(ISNUMBER(SEARCH(\"/\",A2)),CONCATENATE(MID(A2,1,6),\" \",\"d\",(SUM(MID(A2,FIND(\"(\",A2)+2,FIND(\":\",A2)-FIND(\"(\",A2)-2),MID(A2,FIND(\"/\",A2)+1,FIND(\":\",A2,FIND(\"/\",A2))-FIND(\"/\",A2)-1))),\":\",SUM(MID(A2,FIND(\":\",A2)+1,FIND(\"/\",A2)-FIND(\":\",A2)-1),MID(A2,FIND(\":\",A2,FIND(\"/\",A2))+1,FIND(\")\",A2)-FIND(\":\",A2,FIND(\"/\",A2))-1)),MID(A2,(FIND(\")\",A2)+1),100)),CONCATENATE(MID(A2,1,6),\" \",\"d\",(SUM(MID(A2,FIND(\"(\",A2)+2,FIND(\":\",A2)-FIND(\"(\",A2)-2),MID(A2,FIND(\"_\",A2)+1,FIND(\":\",A2,FIND(\"_\",A2))-FIND(\"_\",A2)-1))),\":\",SUM(MID(A2,FIND(\":\",A2)+1,FIND(\"_\",A2)-FIND(\":\",A2)-1),MID(A2,FIND(\":\",A2,FIND(\"_\",A2))+1,FIND(\")\",A2)-FIND(\":\",A2,FIND(\"_\",A2))-1)),MID(A2,(FIND(\")\",A2)+1),100))),CONCATENATE(MID(A2,1,6),\" \",\"d\",MID(A2,9,100)))","v":"HexCer d44:10"},{"$f":"MID(B2,9,FIND(\":\",B2)-FIND(\"d\",B2)-1)","v":"44"},{"$f":"IF(ISNUMBER(SEARCH(\"__\",B2)),MID(B2,FIND(\":\",B2)+1,FIND(\"__\",B2)-FIND(\":\",B2)-1),MID(B2,FIND(\":\",B2)+1,7))","v":"10"},null,null,{"$f":"C2+6","v":50},{"$f":"2*G2-(2*D2)-1-((LEN(A2)-LEN(SUBSTITUTE(A2,\"_O_\",\"\")))/LEN(\"_O_\"))*2-((LEN(A2)-LEN(SUBSTITUTE(A2,\"_CHO_\",\"\")))/LEN(\"_CHO_\"))*2-((LEN(A2)-LEN(SUBSTITUTE(A2,\"_COOH_\",\"\")))/LEN(\"_COOH_\"))*2","v":79},1,{"$f":"8+((LEN(A2)-LEN(SUBSTITUTE(A2,\"_OH_\",\"\")))/LEN(\"_OH_\"))*1+((LEN(A2)-LEN(SUBSTITUTE(A2,\"_OOH_\",\"\")))/LEN(\"_OOH_\"))*2+((LEN(A2)-LEN(SUBSTITUTE(A2,\"_O_\",\"\")))/LEN(\"_O_\"))*1+((LEN(A2)-LEN(SUBSTITUTE(A2,\"_CHO_\",\"\")))/LEN(\"_CHO_\"))*1+((LEN(A2)-LEN(SUBSTITUTE(A2,\"_COOH_\",\"\")))/LEN(\"_COOH_\"))*2","v":8},null,{"$f":"CONCATENATE(\"C\",G2,\"H\",H2,\"N\",I2,\"O\",J2)","v":"C50H79N1O8"},{"$f":"(G2*12.0107)+(H2*1.00794)+(I2*14.0067)+(J2*15.9994)","v":822.16415999999992},{"$f":"(G2*12)+(H2*1.0078246)+(I2*14.003074)+(J2*15.994915)","v":821.58053740000003},{"$f":"N2+1.0078246-0.00055","v":822.5878120000001},{"$f":"O2-18.01057-0.00055","v":804.57669200000009},{"$f":"N2+18.03437-0.00055","v":839.61435740000002},{"$f":"N2+22.98977-0.00055","v":844.56975740000007},{"$f":"N2+38.96371-0.00055","v":860.54369740000004},{"$f":"N2+7.01601-0.00055","v":828.5959974000001},{"$f":"N2-1.0078246+0.00055","v":820.57326279999995},{"$f":"N2+44.99767+0.00055","v":866.57875739999997},{"$f":"N2+59.01332+0.00055","v":880.59440740000002}]
["GlcCer(d18:0/20:1)",{"$f":"IF(ISNUMBER(SEARCH(\"(\",A3)),IF(ISNUMBER(SEARCH(\"/\",A3)),CONCATENATE(MID(A3,1,6),\" \",\"d\",(SUM(MID(A3,FIND(\"(\",A3)+2,FIND(\":\",A3)-FIND(\"(\",A3)-2),MID(A3,FIND(\"/\",A3)+1,FIND(\":\",A3,FIND(\"/\",A3))-FIND(\"/\",A3)-1))),\":\",SUM(MID(A3,FIND(\":\",A3)+1,FIND(\"/\",A3)-FIND(\":\",A3)-1),MID(A3,FIND(\":\",A3,FIND(\"/\",A3))+1,FIND(\")\",A3)-FIND(\":\",A3,FIND(\"/\",A3))-1)),MID(A3,(FIND(\")\",A3)+1),100)),CONCATENATE(MID(A3,1,6),\" \",\"d\",(SUM(MID(A3,FIND(\"(\",A3)+2,FIND(\":\",A3)-FIND(\"(\",A3)-2),MID(A3,FIND(\"_\",A3)+1,FIND(\":\",A3,FIND(\"_\",A3))-FIND(\"_\",A3)-1))),\":\",SUM(MID(A3,FIND(\":\",A3)+1,FIND(\"_\",A3)-FIND(\":\",A3)-1),MID(A3,FIND(\":\",A3,FIND(\"_\",A3))+1,FIND(\")\",A3)-FIND(\":\",A3,FIND(\"_\",A3))-1)),MID(A3,(FIND(\")\",A3)+1),100))),CONCATENATE(MID(A3,1,6),\" \",\"d\",MID(A3,9,100)))","v":"GlcCer d38:1"},{"$f":"MID(B3,9,FIND(\":\",B3)-FIND(\"d\",B3)-1)","v":"38"},{"$f":"IF(ISNUMBER(SEARCH(\"__\",B3)),MID(B3,FIND(\":\",B3)+1,FIND(\"__\",B3)-FIND(\":\",B3)-1),MID(B3,FIND(\":\",B3)+1,7))","v":"1"},null,null,{"$f":"C3+6","v":44},{"$f":"2*G3-(2*D3)-1-((LEN(A3)-LEN(SUBSTITUTE(A3,\"_O_\",\"\")))/LEN(\"_O_\"))*2-((LEN(A3)-LEN(SUBSTITUTE(A3,\"_CHO_\",\"\")))/LEN(\"_CHO_\"))*2-((LEN(A3)-LEN(SUBSTITUTE(A3,\"_COOH_\",\"\")))/LEN(\"_COOH_\"))*2","v":85},1,{"$f":"8+((LEN(A3)-LEN(SUBSTITUTE(A3,\"_OH_\",\"\")))/LEN(\"_OH_\"))*1+((LEN(A3)-LEN(SUBSTITUTE(A3,\"_OOH_\",\"\")))/LEN(\"_OOH_\"))*2+((LEN(A3)-LEN(SUBSTITUTE(A3,\"_O_\",\"\")))/LEN(\"_O_\"))*1+((LEN(A3)-LEN(SUBSTITUTE(A3,\"_CHO_\",\"\")))/LEN(\"_CHO_\"))*1+((LEN(A3)-LEN(SUBSTITUTE(A3,\"_COOH_\",\"\")))/LEN(\"_COOH_\"))*2","v":8},null,{"$f":"CONCATENATE(\"C\",G3,\"H\",H3,\"N\",I3,\"O\",J3)","v":"C44H85N1O8"},{"$f":"(G3*12.0107)+(H3*1.00794)+(I3*14.0067)+(J3*15.9994)","v":756.14760000000001},{"$f":"(G3*12)+(H3*1.0078246)+(I3*14.003074)+(J3*15.994915)","v":755.62748499999998},{"$f":"N3+1.0078246-0.00055","v":756.63475960000005},{"$f":"O3-18.01057-0.00055","v":738.62363960000005},{"$f":"N3+18.03437-0.00055","v":773.66130499999997},{"$f":"N3+22.98977-0.00055","v":778.61670500000002},{"$f":"N3+38.96371-0.00055","v":794.59064499999999},{"$f":"N3+7.01601-0.00055","v":762.64294500000005},{"$f":"N3-1.0078246+0.00055","v":754.62021039999991},{"$f":"N3+44.99767+0.00055","v":800.62570499999993},{"$f":"N3+59.01332+0.00055","v":814.64135499999998}]
["HexCer(d18:1/16:0)__OH__","HexCer d34:1__OH__","34","1",null,null,40,77,1,9,null,"C40H77N1O9",{"$f":"(G4*12.0107)+(H4*1.00794)+(I4*14.0067)+(J4*15.9994)","v":716.04068000000007},715.55980320000003,716.56707780000011,698.5559578000001,733.59362320000002,738.54902320000008,754.52296320000005,722.57526320000011,714.55252859999996,760.55802319999998,774.57367320000003]
["HexCer d42:1","HexCer d42:1","42","1",null,null,48,93,1,8,null,"C48H93N1O8",{"$f":"(G5*12.0107)+(H5*1.00794)+(I5*14.0067)+(J5*15.9994)","v":812.25391999999999},811.69008180000003,812.6973564000001,794.6862364000001,829.72390180000002,834.67930180000008,850.65324180000005,818.70554180000011,810.68280719999996,856.68830179999998,870.70395180000003]

{"sheet":"Hex2Cer","index":12,"n_rows":4,"n_cols":23,"rows_kept":4,"cut":false,"hidden":false,"merged":[]}
["Lipid","Sum Composition",null,null,null,null,"#C","#H","#N","#O","#P","Formula","Molecular Weight","Neutral Mass","[M+H]+","[M+H-H2O]+","[M+NH4]+","[M+Na]+","[M+K]+","[M+Li]+","[M-H]-","[M+HCOO]-","[M+CH3COO]-"]
["Hex2Cer(d18:1/16:0)",{"$f":"IF(ISNUMBER(SEARCH(\"(\",A2)),IF(ISNUMBER(SEARCH(\"/\",A2)),CONCATENATE(MID(A2,1,7),\" \",\"d\",(SUM(MID(A2,FIND(\"(\",A2)+2,FIND(\":\",A2)-FIND(\"(\",A2)-2),MID(A2,FIND(\"/\",A2)+1,FIND(\":\",A2,FIND(\"/\",A2))-FIND(\"/\",A2)-1))),\":\",SUM(MID(A2,FIND(\":\",A2)+1,FIND(\"/\",A2)-FIND(\":\",A2)-1),MID(A2,FIND(\":\",A2,FIND(\"/\",A2))+1,FIND(\")\",A2)-FIND(\":\",A2,FIND(\"/\",A2))-1)),MID(A2,(FIND(\")\",A2)+1),100)),CONCATENATE(MID(A2,1,7),\" \",\"d\",(SUM(MID(A2,FIND(\"(\",A2)+2,FIND(\":\",A2)-FIND(\"(\",A2)-2),MID(A2,FIND(\"_\",A2)+1,FIND(\":\",A2,FIND(\"_\",A2))-FIND(\"_\",A2)-1))),\":\",SUM(MID(A2,FIND(\":\",A2)+1,FIND(\"_\",A2)-FIND(\":\",A2)-1),MID(A2,FIND(\":\",A2,FIND(\"_\",A2))+1,FIND(\")\",A2)-FIND(\":\",A2,FIND(\"_\",A2))-1)),MID(A2,(FIND(\")\",A2)+1),100))),CONCATENATE(MID(A2,1,7),\" \",\"d\",MID(A2,10,100)))","v":"Hex2Cer d34:1"},{"$f":"MID(B2,10,FIND(\":\",B2)-FIND(\"d\",B2)-1)","v":"34"},{"$f":"IF(ISNUMBER(SEARCH(\"__\",B2)),MID(B2,FIND(\":\",B2)+1,FIND(\"__\",B2)-FIND(\":\",B2)-1),MID(B2,FIND(\":\",B2)+1,7))","v":"1"},null,null,{"$f":"C2+12","v":46},{"$f":"2*G2-(2*D2)-3-((LEN(A2)-LEN(SUBSTITUTE(A2,\"_O_\",\"\")))/LEN(\"_O_\"))*2-((LEN(A2)-LEN(SUBSTITUTE(A2,\"_CHO_\",\"\")))/LEN(\"_CHO_\"))*2-((LEN(A2)-LEN(SUBSTITUTE(A2,\"_COOH_\",\"\")))/LEN(\"_COOH_\"))*2","v":87},1,{"$f":"13+((LEN(A2)-LEN(SUBSTITUTE(A2,\"_OH_\",\"\")))/LEN(\"_OH_\"))*1+((LEN(A2)-LEN(SUBSTITUTE(A2,\"_OOH_\",\"\")))/LEN(\"_OOH_\"))*2+((LEN(A2)-LEN(SUBSTITUTE(A2,\"_O_\",\"\")))/LEN(\"_O_\"))*1+((LEN(A2)-LEN(SUBSTITUTE(A2,\"_CHO_\",\"\")))/LEN(\"_CHO_\"))*1+((LEN(A2)-LEN(SUBSTITUTE(A2,\"_COOH_\",\"\")))/LEN(\"_COOH_\"))*2","v":13},null,{"$f":"CONCATENATE(\"C\",G2,\"H\",H2,\"N\",I2,\"O\",J2)","v":"C46H87N1O13"},{"$f":"(G2*12.0107)+(H2*1.00794)+(I2*14.0067)+(J2*15.9994)","v":862.18188000000009},{"$f":"(G2*12)+(H2*1.0078246)+(I2*14.003074)+(J2*15.994915)","v":861.61770919999992},{"$f":"N2+1.0078246-0.00055","v":862.6249838},{"$f":"O2-18.01057-0.00055","v":844.61386379999999},{"$f":"N2+18.03437-0.00055","v":879.65152919999991},{"$f":"N2+22.98977-0.00055","v":884.60692919999997},{"$f":"N2+38.96371-0.00055","v":900.58086919999994},{"$f":"N2+7.01601-0.00055","v":868.6331692},{"$f":"N2-1.0078246+0.00055","v":860.61043459999985},{"$f":"N2+44.99767+0.00055","v":906.61592919999987},{"$f":"N2+59.01332+0.00055","v":920.63157919999992}]
["Hex2Cer(d18:1/18:1)__O__",{"$f":"IF(ISNUMBER(SEARCH(\"(\",A3)),IF(ISNUMBER(SEARCH(\"/\",A3)),CONCATENATE(MID(A3,1,7),\" \",\"d\",(SUM(MID(A3,FIND(\"(\",A3)+2,FIND(\":\",A3)-FIND(\"(\",A3)-2),MID(A3,FIND(\"/\",A3)+1,FIND(\":\",A3,FIND(\"/\",A3))-FIND(\"/\",A3)-1))),\":\",SUM(MID(A3,FIND(\":\",A3)+1,FIND(\"/\",A3)-FIND(\":\",A3)-1),MID(A3,FIND(\":\",A3,FIND(\"/\",A3))+1,FIND(\")\",A3)-FIND(\":\",A3,FIND(\"/\",A3))-1)),MID(A3,(FIND(\")\",A3)+1),100)),CONCATENATE(MID(A3,1,7),\" \",\"d\",(SUM(MID(A3,FIND(\"(\",A3)+2,FIND(\":\",A3)-FIND(\"(\",A3)-2),MID(A3,FIND(\"_\",A3)+1,FIND(\":\",A3,FIND(\"_\",A3))-FIND(\"_\",A3)-1))),\":\",SUM(MID(A3,FIND(\":\",A3)+1,FIND(\"_\",A3)-FIND(\":\",A3)-1),MID(A3,FIND(\":\",A3,FIND(\"_\",A3))+1,FIND(\")\",A3)-FIND(\":\",A3,FIND(\"_\",A3))-1)),MID(A3,(FIND(\")\",A3)+1),100))),CONCATENATE(MID(A3,1,7),\" \",\"d\",MID(A3,10,100)))","v":"Hex2Cer d36:2__O__"},{"$f":"MID(B3,10,FIND(\":\",B3)-FIND(\"d\",B3)-1)","v":"36"},{"$f":"IF(ISNUMBER(SEARCH(\"__\",B3)),MID(B3,FIND(\":\",B3)+1,FIND(\"__\",B3)-FIND(\":\",B3)-1),MID(B3,FIND(\":\",B3)+1,7))","v":"2"},null,null,{"$f":"C3+12","v":48},{"$f":"2*G3-(2*D3)-3-((LEN(A3)-LEN(SUBSTITUTE(A3,\"_O_\",\"\")))/LEN(\"_O_\"))*2-((LEN(A3)-LEN(SUBSTITUTE(A3,\"_CHO_\",\"\")))/LEN(\"_CHO_\"))*2-((LEN(A3)-LEN(SUBSTITUTE(A3,\"_COOH_\",\"\")))/LEN(\"_COOH_\"))*2","v":87},1,{"$f":"13+((LEN(A3)-LEN(SUBSTITUTE(A3,\"_OH_\",\"\")))/LEN(\"_OH_\"))*1+((LEN(A3)-LEN(SUBSTITUTE(A3,\"_OOH_\",\"\")))/LEN(\"_OOH_\"))*2+((LEN(A3)-LEN(SUBSTITUTE(A3,\"_O_\",\"\")))/LEN(\"_O_\"))*1+((LEN(A3)-LEN(SUBSTITUTE(A3,\"_CHO_\",\"\")))/LEN(\"_CHO_\"))*1+((LEN(A3)-LEN(SUBSTITUTE(A3,\"_COOH_\",\"\")))/LEN(\"_COOH_\"))*2","v":14},null,{"$f":"CONCATENATE(\"C\",G3,\"H\",H3,\"N\",I3,\"O\",J3)","v":"C48H87N1O14"},{"$f":"(G3*12.0107)+(H3*1.00794)+(I3*14.0067)+(J3*15.9994)","v":902.2026800000001},{"$f":"(G3*12)+(H3*1.0078246)+(I3*14.003074)+(J3*15.994915)","v":901.61262419999991},{"$f":"N3+1.0078246-0.00055","v":902.61989879999999},{"$f":"O3-18.01057-0.00055","v":884.60877879999998},{"$f":"N3+18.03437-0.00055","v":919.64644419999991},{"$f":"N3+22.98977-0.00055","v":924.60184419999996},{"$f":"N3+38.96371-0.00055","v":940.57578419999993},{"$f":"N3+7.01601-0.00055","v":908.62808419999999},{"$f":"N3-1.0078246+0.00055","v":900.60534959999984},{"$f":"N3+44.99767+0.00055","v":946.61084419999986},{"$f":"N3+59.01332+0.00055","v":960.62649419999991}]
["Hex2Cer d42:2","Hex2Cer d42:2","42","2",null,null,54,101,1,13,null,"C54H101N1O13",{"$f":"(G4*12.0107)+(H4*1.00794)+(I4*14.0067)+(J4*15.9994)","v":972.37864000000013},971.72725359999993,972.7345282,954.72340819999999,989.76107359999992,994.71647359999997,1010.6904135999999,978.7427136,970.71997899999985,1016.7254735999999,1030.7411235999998]

{"sheet":"Hex3Cer","index":13,"n_rows":5,"n_cols":23,"rows_kept":5,"cut":false,"hidden":false,"merged":[]}
["Lipid","Sum Composition",null,null,null,null,"#C","#H","#N","#O","#P","Formula","Molecular Weight","Neutral Mass","[M+H]+","[M+H-H2O]+","[M+NH4]+","[M+Na]+","[M+K]+","[M+Li]+","[M-H]-","[M+HCOO]-","[M+CH3COO]-"]
["Hex3Cer(d18:1/16:0)",{"$f":"IF(ISNUMBER(SEARCH(\"(\",A2)),IF(ISNUMBER(SEARCH(\"/\",A2)),CONCATENATE(MID(A2,1,7),\" \",\"d\",(SUM(MID(A2,FIND(\"(\",A2)+2,FIND(\":\",A2)-FIND(\"(\",A2)-2),MID(A2,FIND(\"/\",A2)+1,FIND(\":\",A2,FIND(\"/\",A2))-FIND(\"/\",A2)-1))),\":\",SUM(MID(A2,FIND(\":\",A2)+1,FIND(\"/\",A2)-FIND(\":\",A2)-1),MID(A2,FIND(\":\",A2,FIND(\"/\",A2))+1,FIND(\")\",A2)-FIND(\":\",A2,FIND(\"/\",A2))-1)),MID(A2,(FIND(\")\",A2)+1),100)),CONCATENATE(MID(A2,1,7),\" \",\"d\",(SUM(MID(A2,FIND(\"(\",A2)+2,FIND(\":\",A2)-FIND(\"(\",A2)-2),MID(A2,FIND(\"_\",A2)+1,FIND(\":\",A2,FIND(\"_\",A2))-FIND(\"_\",A2)-1))),\":\",SUM(MID(A2,FIND(\":\",A2)+1,FIND(\"_\",A2)-FIND(\":\",A2)-1),MID(A2,FIND(\":\",A2,FIND(\"_\",A2))+1,FIND(\")\",A2)-FIND(\":\",A2,FIND(\"_\",A2))-1)),MID(A2,(FIND(\")\",A2)+1),100))),CONCATENATE(MID(A2,1,7),\" \",\"d\",MID(A2,10,100)))","v":"Hex3Cer d34:1"},{"$f":"MID(B2,10,FIND(\":\",B2)-FIND(\"d\",B2)-1)","v":"34"},{"$f":"IF(ISNUMBER(SEARCH(\"__\",B2)),MID(B2,FIND(\":\",B2)+1,FIND(\"__\",B2)-FIND(\":\",B2)-1),MID(B2,FIND(\":\",B2)+1,7))","v":"1"},null,null,{"$f":"C2+18","v":52},{"$f":"2*G2-(2*D2)-5-((LEN(A2)-LEN(SUBSTITUTE(A2,\"_O_\",\"\")))/LEN(\"_O_\"))*2-((LEN(A2)-LEN(SUBSTITUTE(A2,\"_CHO_\",\"\")))/LEN(\"_CHO_\"))*2-((LEN(A2)-LEN(SUBSTITUTE(A2,\"_COOH_\",\"\")))/LEN(\"_COOH_\"))*2","v":97},1,{"$f":"18+((LEN(A2)-LEN(SUBSTITUTE(A2,\"_OH_\",\"\")))/LEN(\"_OH_\"))*1+((LEN(A2)-LEN(SUBSTITUTE(A2,\"_OOH_\",\"\")))/LEN(\"_OOH_\"))*2+((LEN(A2)-LEN(SUBSTITUTE(A2,\"_O_\",\"\")))/LEN(\"_O_\"))*1+((LEN(A2)-LEN(SUBSTITUTE(A2,\"_CHO_\",\"\")))/LEN(\"_CHO_\"))*1+((LEN(A2)-LEN(SUBSTITUTE(A2,\"_COOH_\",\"\")))/LEN(\"_COOH_\"))*2","v":18},null,{"$f":"CONCATENATE(\"C\",G2,\"H\",H2,\"N\",I2,\"O\",J2)","v":"C52H97N1O18"},{"$f":"(G2*12.0107)+(H2*1.00794)+(I2*14.0067)+(J2*15.9994)","v":1024.3224799999998},{"$f":"(G2*12)+(H2*1.0078246)+(I2*14.003074)+(J2*15.994915)","v":1023.6705302},{"$f":"N2+1.0078246-0.00055","v":1024.6778048000001},{"$f":"O2-18.01057-0.00055","v":1006.6666848000001},{"$f":"N2+18.03437-0.00055","v":1041.7043502000001},{"$f":"N2+22.98977-0.00055","v":1046.6597502},{"$f":"N2+38.96371-0.00055","v":1062.6336902},{"$f":"N2+7.01601-0.00055","v":1030.6859902000001},{"$f":"N2-1.0078246+0.00055","v":1022.6632556},{"$f":"N2+44.99767+0.00055","v":1068.6687502},{"$f":"N2+59.01332+0.00055","v":1082.6844002}]
["Hex3Cer(d18:1/22:0)__O__",{"$f":"IF(ISNUMBER(SEARCH(\"(\",A3)),IF(ISNUMBER(SEARCH(\"/\",A3)),CONCATENATE(MID(A3,1,7),\" \",\"d\",(SUM(MID(A3,FIND(\"(\",A3)+2,FIND(\":\",A3)-FIND(\"(\",A3)-2),MID(A3,FIND(\"/\",A3)+1,FIND(\":\",A3,FIND(\"/\",A3))-FIND(\"/\",A3)-1))),\":\",SUM(MID(A3,FIND(\":\",A3)+1,FIND(\"/\",A3)-FIND(\":\",A3)-1),MID(A3,FIND(\":\",A3,FIND(\"/\",A3))+1,FIND(\")\",A3)-FIND(\":\",A3,FIND(\"/\",A3))-1)),MID(A3,(FIND(\")\",A3)+1),100)),CONCATENATE(MID(A3,1,7),\" \",\"d\",(SUM(MID(A3,FIND(\"(\",A3)+2,FIND(\":\",A3)-FIND(\"(\",A3)-2),MID(A3,FIND(\"_\",A3)+1,FIND(\":\",A3,FIND(\"_\",A3))-FIND(\"_\",A3)-1))),\":\",SUM(MID(A3,FIND(\":\",A3)+1,FIND(\"_\",A3)-FIND(\":\",A3)-1),MID(A3,FIND(\":\",A3,FIND(\"_\",A3))+1,FIND(\")\",A3)-FIND(\":\",A3,FIND(\"_\",A3))-1)),MID(A3,(FIND(\")\",A3)+1),100))),CONCATENATE(MID(A3,1,7),\" \",\"d\",MID(A3,10,100)))","v":"Hex3Cer d40:1__O__"},{"$f":"MID(B3,10,FIND(\":\",B3)-FIND(\"d\",B3)-1)","v":"40"},{"$f":"IF(ISNUMBER(SEARCH(\"__\",B3)),MID(B3,FIND(\":\",B3)+1,FIND(\"__\",B3)-FIND(\":\",B3)-1),MID(B3,FIND(\":\",B3)+1,7))","v":"1"},null,null,{"$f":"C3+18","v":58},{"$f":"2*G3-(2*D3)-5-((LEN(A3)-LEN(SUBSTITUTE(A3,\"_O_\",\"\")))/LEN(\"_O_\"))*2-((LEN(A3)-LEN(SUBSTITUTE(A3,\"_CHO_\",\"\")))/LEN(\"_CHO_\"))*2-((LEN(A3)-LEN(SUBSTITUTE(A3,\"_COOH_\",\"\")))/LEN(\"_COOH_\"))*2","v":107},1,{"$f":"18+((LEN(A3)-LEN(SUBSTITUTE(A3,\"_OH_\",\"\")))/LEN(\"_OH_\"))*1+((LEN(A3)-LEN(SUBSTITUTE(A3,\"_OOH_\",\"\")))/LEN(\"_OOH_\"))*2+((LEN(A3)-LEN(SUBSTITUTE(A3,\"_O_\",\"\")))/LEN(\"_O_\"))*1+((LEN(A3)-LEN(SUBSTITUTE(A3,\"_CHO_\",\"\")))/LEN(\"_CHO_\"))*1+((LEN(A3)-LEN(SUBSTITUTE(A3,\"_COOH_\",\"\")))/LEN(\"_COOH_\"))*2","v":19},null,{"$f":"CONCATENATE(\"C\",G3,\"H\",H3,\"N\",I3,\"O\",J3)","v":"C58H107N1O19"},{"$f":"(G3*12.0107)+(H3*1.00794)+(I3*14.0067)+(J3*15.9994)","v":1122.4654800000001},{"$f":"(G3*12)+(H3*1.0078246)+(I3*14.003074)+(J3*15.994915)","v":1121.7436912000001},{"$f":"N3+1.0078246-0.00055","v":1122.7509658000001},{"$f":"O3-18.01057-0.00055","v":1104.7398458000002},{"$f":"N3+18.03437-0.00055","v":1139.7775112000002},{"$f":"N3+22.98977-0.00055","v":1144.7329112},{"$f":"N3+38.96371-0.00055","v":1160.7068512000001},{"$f":"N3+7.01601-0.00055","v":1128.7591512000001},{"$f":"N3-1.0078246+0.00055","v":1120.7364166},{"$f":"N3+44.99767+0.00055","v":1166.7419112},{"$f":"N3+59.01332+0.00055","v":1180.7575612000001}]
["Hex3Cer d42:2","Hex3Cer d42:2","42","2",null,null,60,111,1,18,null,"C60H111N1O18",{"$f":"(G4*12.0107)+(H4*1.00794)+(I4*14.0067)+(J4*15.9994)","v":1134.5192400000001},1133.7800746,1134.7873492000001,1116.7762292000002,1151.8138946000001,1156.7692946,1172.7432346000001,1140.7955346000001,1132.7728,1178.7782946,1192.7939446]
["Hex3Cer(d16:0/18:0)","Hex3Cer d34:0","34","0",null,null,52,99,1,18,null,"C52H99N1O18",{"$f":"(G5*12.0107)+(H5*1.00794)+(I5*14.0067)+(J5*15.9994)","v":1026.33836},1025.6861793999999,1026.693454,1008.682334,1043.7199994,1048.6753993999998,1064.6493393999999,1032.7016394,1024.6789047999998,1070.6843993999998,1084.7000493999999]

{"sheet":"LacCer","index":14,"n_rows":4,"n_cols":23,"rows_kept":4,"cut":false,"hidden":false,"merged":[]}
["Lipid","Sum Composition",null,null,null,null,"#C","#H","#N","#O","#P","Formula","Molecular Weight","Neutral Mass","[M+H]+","[M+H-H2O]+","[M+NH4]+","[M+Na]+","[M+K]+","[M+Li]+","[M-H]-","[M+HCOO]-","[M+CH3COO]-"]
["LacCer(d18:1/12:0)",{"$f":"IF(ISNUMBER(SEARCH(\"(\",A2)),IF(ISNUMBER(SEARCH(\"/\",A2)),CONCATENATE(MID(A2,1,6),\" \",\"d\",(SUM(MID(A2,FIND(\"(\",A2)+2,FIND(\":\",A2)-FIND(\"(\",A2)-2),MID(A2,FIND(\"/\",A2)+1,FIND(\":\",A2,FIND(\"/\",A2))-FIND(\"/\",A2)-1))),\":\",SUM(MID(A2,FIND(\":\",A2)+1,FIND(\"/\",A2)-FIND(\":\",A2)-1),MID(A2,FIND(\":\",A2,FIND(\"/\",A2))+1,FIND(\")\",A2)-FIND(\":\",A2,FIND(\"/\",A2))-1)),MID(A2,(FIND(\")\",A2)+1),100)),CONCATENATE(MID(A2,1,6),\" \",\"d\",(SUM(MID(A2,FIND(\"(\",A2)+2,FIND(\":\",A2)-FIND(\"(\",A2)-2),MID(A2,FIND(\"_\",A2)+1,FIND(\":\",A2,FIND(\"_\",A2))-FIND(\"_\",A2)-1))),\":\",SUM(MID(A2,FIND(\":\",A2)+1,FIND(\"_\",A2)-FIND(\":\",A2)-1),MID(A2,FIND(\":\",A2,FIND(\"_\",A2))+1,FIND(\")\",A2)-FIND(\":\",A2,FIND(\"_\",A2))-1)),MID(A2,(FIND(\")\",A2)+1),100))),CONCATENATE(MID(A2,1,6),\" \",\"d\",MID(A2,9,100)))","v":"LacCer d30:1"},{"$f":"MID(B2,9,FIND(\":\",B2)-FIND(\"d\",B2)-1)","v":"30"},{"$f":"IF(ISNUMBER(SEARCH(\"__\",B2)),MID(B2,FIND(\":\",B2)+1,FIND(\"__\",B2)-FIND(\":\",B2)-1),MID(B2,FIND(\":\",B2)+1,7))","v":"1"},null,null,{"$f":"C2+12","v":42},{"$f":"2*G2-(2*D2)-3-((LEN(A2)-LEN(SUBSTITUTE(A2,\"_O_\",\"\")))/LEN(\"_O_\"))*2-((LEN(A2)-LEN(SUBSTITUTE(A2,\"_CHO_\",\"\")))/LEN(\"_CHO_\"))*2-((LEN(A2)-LEN(SUBSTITUTE(A2,\"_COOH_\",\"\")))/LEN(\"_COOH_\"))*2","v":79},1,{"$f":"13+((LEN(A2)-LEN(SUBSTITUTE(A2,\"_OH_\",\"\")))/LEN(\"_OH_\"))*1+((LEN(A2)-LEN(SUBSTITUTE(A2,\"_OOH_\",\"\")))/LEN(\"_OOH_\"))*2+((LEN(A2)-LEN(SUBSTITUTE(A2,\"_O_\",\"\")))/LEN(\"_O_\"))*1+((LEN(A2)-LEN(SUBSTITUTE(A2,\"_CHO_\",\"\")))/LEN(\"_CHO_\"))*1+((LEN(A2)-LEN(SUBSTITUTE(A2,\"_COOH_\",\"\")))/LEN(\"_COOH_\"))*2","v":13},null,{"$f":"CONCATENATE(\"C\",G2,\"H\",H2,\"N\",I2,\"O\",J2)","v":"C42H79N1O13"},{"$f":"(G2*12.0107)+(H2*1.00794)+(I2*14.0067)+(J2*15.9994)","v":806.07556},{"$f":"(G2*12)+(H2*1.0078246)+(I2*14.003074)+(J2*15.994915)","v":805.55511239999998},{"$f":"N2+1.0078246-0.00055","v":806.56238700000006},{"$f":"O2-18.01057-0.00055","v":788.55126700000005},{"$f":"N2+18.03437-0.00055","v":823.58893239999998},{"$f":"N2+22.98977-0.00055","v":828.54433240000003},{"$f":"N2+38.96371-0.00055","v":844.5182724},{"$f":"N2+7.01601-0.00055","v":812.57057240000006},{"$f":"N2-1.0078246+0.00055","v":804.54783779999991},{"$f":"N2+44.99767+0.00055","v":850.55333239999993},{"$f":"N2+59.01332+0.00055","v":864.56898239999998}]
["LacCer(d18:1/18:0)__O__",{"$f":"IF(ISNUMBER(SEARCH(\"(\",A3)),IF(ISNUMBER(SEARCH(\"/\",A3)),CONCATENATE(MID(A3,1,6),\" \",\"d\",(SUM(MID(A3,FIND(\"(\",A3)+2,FIND(\":\",A3)-FIND(\"(\",A3)-2),MID(A3,FIND(\"/\",A3)+1,FIND(\":\",A3,FIND(\"/\",A3))-FIND(\"/\",A3)-1))),\":\",SUM(MID(A3,FIND(\":\",A3)+1,FIND(\"/\",A3)-FIND(\":\",A3)-1),MID(A3,FIND(\":\",A3,FIND(\"/\",A3))+1,FIND(\")\",A3)-FIND(\":\",A3,FIND(\"/\",A3))-1)),MID(A3,(FIND(\")\",A3)+1),100)),CONCATENATE(MID(A3,1,6),\" \",\"d\",(SUM(MID(A3,FIND(\"(\",A3)+2,FIND(\":\",A3)-FIND(\"(\",A3)-2),MID(A3,FIND(\"_\",A3)+1,FIND(\":\",A3,FIND(\"_\",A3))-FIND(\"_\",A3)-1))),\":\",SUM(MID(A3,FIND(\":\",A3)+1,FIND(\"_\",A3)-FIND(\":\",A3)-1),MID(A3,FIND(\":\",A3,FIND(\"_\",A3))+1,FIND(\")\",A3)-FIND(\":\",A3,FIND(\"_\",A3))-1)),MID(A3,(FIND(\")\",A3)+1),100))),CONCATENATE(MID(A3,1,6),\" \",\"d\",MID(A3,9,100)))","v":"LacCer d36:1__O__"},{"$f":"MID(B3,9,FIND(\":\",B3)-FIND(\"d\",B3)-1)","v":"36"},{"$f":"IF(ISNUMBER(SEARCH(\"__\",B3)),MID(B3,FIND(\":\",B3)+1,FIND(\"__\",B3)-FIND(\":\",B3)-1),MID(B3,FIND(\":\",B3)+1,7))","v":"1"},null,null,{"$f":"C3+12","v":48},{"$f":"2*G3-(2*D3)-3-((LEN(A3)-LEN(SUBSTITUTE(A3,\"_O_\",\"\")))/LEN(\"_O_\"))*2-((LEN(A3)-LEN(SUBSTITUTE(A3,\"_CHO_\",\"\")))/LEN(\"_CHO_\"))*2-((LEN(A3)-LEN(SUBSTITUTE(A3,\"_COOH_\",\"\")))/LEN(\"_COOH_\"))*2","v":89},1,{"$f":"13+((LEN(A3)-LEN(SUBSTITUTE(A3,\"_OH_\",\"\")))/LEN(\"_OH_\"))*1+((LEN(A3)-LEN(SUBSTITUTE(A3,\"_OOH_\",\"\")))/LEN(\"_OOH_\"))*2+((LEN(A3)-LEN(SUBSTITUTE(A3,\"_O_\",\"\")))/LEN(\"_O_\"))*1+((LEN(A3)-LEN(SUBSTITUTE(A3,\"_CHO_\",\"\")))/LEN(\"_CHO_\"))*1+((LEN(A3)-LEN(SUBSTITUTE(A3,\"_COOH_\",\"\")))/LEN(\"_COOH_\"))*2","v":14},null,{"$f":"CONCATENATE(\"C\",G3,\"H\",H3,\"N\",I3,\"O\",J3)","v":"C48H89N1O14"},{"$f":"(G3*12.0107)+(H3*1.00794)+(I3*14.0067)+(J3*15.9994)","v":904.21856000000002},{"$f":"(G3*12)+(H3*1.0078246)+(I3*14.003074)+(J3*15.994915)","v":903.62827340000001},{"$f":"N3+1.0078246-0.00055","v":904.63554800000009},{"$f":"O3-18.01057-0.00055","v":886.62442800000008},{"$f":"N3+18.03437-0.00055","v":921.6620934},{"$f":"N3+22.98977-0.00055","v":926.61749340000006},{"$f":"N3+38.96371-0.00055","v":942.59143340000003},{"$f":"N3+7.01601-0.00055","v":910.64373340000009},{"$f":"N3-1.0078246+0.00055","v":902.62099879999994},{"$f":"N3+44.99767+0.00055","v":948.62649339999996},{"$f":"N3+59.01332+0.00055","v":962.64214340000001}]
["LacCer d44:2","LacCer d44:2","44","2",null,null,56,105,1,13,null,"C56H105N1O13",{"$f":"(G4*12.0107)+(H4*1.00794)+(I4*14.0067)+(J4*15.9994)","v":1000.4318000000001},999.75855200000001,1000.7658266000001,982.75470660000008,1017.792372,1022.7477720000001,1038.721712,1006.7740120000001,998.75127739999994,1044.756772,1058.772422]

{"sheet":"GM1Cer","index":15,"n_rows":5,"n_cols":23,"rows_kept":5,"cut":false,"hidden":false,"merged":[]}
["Lipid","Sum Composition",null,null,null,null,"#C","#H","#N","#O","#P","Formula","Molecular Weight","Neutral Mass","[M+H]+","[M+H-H2O]+","[M+NH4]+","[M+Na]+","[M+K]+","[M+Li]+","[M-H]-","[M+HCOO]-","[M+CH3COO]-"]
["GM1-Cer(d18:1/16:0)",{"$f":"IF(ISNUMBER(SEARCH(\"(\",A2)),IF(ISNUMBER(SEARCH(\"/\",A2)),CONCATENATE(MID(A2,1,7),\" \",\"d\",(SUM(MID(A2,FIND(\"(\",A2)+2,FIND(\":\",A2)-FIND(\"(\",A2)-2),MID(A2,FIND(\"/\",A2)+1,FIND(\":\",A2,FIND(\"/\",A2))-FIND(\"/\",A2)-1))),\":\",SUM(MID(A2,FIND(\":\",A2)+1,FIND(\"/\",A2)-FIND(\":\",A2)-1),MID(A2,FIND(\":\",A2,FIND(\"/\",A2))+1,FIND(\")\",A2)-FIND(\":\",A2,FIND(\"/\",A2))-1)),MID(A2,(FIND(\")\",A2)+1),100)),CONCATENATE(MID(A2,1,7),\" \",\"d\",(SUM(MID(A2,FIND(\"(\",A2)+2,FIND(\":\",A2)-FIND(\"(\",A2)-2),MID(A2,FIND(\"_\",A2)+1,FIND(\":\",A2,FIND(\"_\",A2))-FIND(\"_\",A2)-1))),\":\",SUM(MID(A2,FIND(\":\",A2)+1,FIND(\"_\",A2)-FIND(\":\",A2)-1),MID(A2,FIND(\":\",A2,FIND(\"_\",A2))+1,FIND(\")\",A2)-FIND(\":\",A2,FIND(\"_\",A2))-1)),MID(A2,(FIND(\")\",A2)+1),100))),CONCATENATE(MID(A2,1,7),\" \",\"d\",MID(A2,10,100)))","v":"GM1-Cer d34:1"},{"$f":"MID(B2,10,FIND(\":\",B2)-FIND(\"d\",B2)-1)","v":"34"},{"$f":"IF(ISNUMBER(SEARCH(\"__\",B2)),MID(B2,FIND(\":\",B2)+1,FIND(\"__\",B2)-FIND(\":\",B2)-1),MID(B2,FIND(\":\",B2)+1,7))","v":"1"},null,null,{"$f":"C2+37","v":71},{"$f":"2*G2-(2*D2)-13-((LEN(A2)-LEN(SUBSTITUTE(A2,\"_O_\",\"\")))/LEN(\"_O_\"))*2-((LEN(A2)-LEN(SUBSTITUTE(A2,\"_CHO_\",\"\")))/LEN(\"_CHO_\"))*2-((LEN(A2)-LEN(SUBSTITUTE(A2,\"_COOH_\",\"\")))/LEN(\"_COOH_\"))*2","v":127},3,{"$f":"31+((LEN(A2)-LEN(SUBSTITUTE(A2,\"_OH_\",\"\")))/LEN(\"_OH_\"))*1+((LEN(A2)-LEN(SUBSTITUTE(A2,\"_OOH_\",\"\")))/LEN(\"_OOH_\"))*2+((LEN(A2)-LEN(SUBSTITUTE(A2,\"_O_\",\"\")))/LEN(\"_O_\"))*1+((LEN(A2)-LEN(SUBSTITUTE(A2,\"_CHO_\",\"\")))/LEN(\"_CHO_\"))*1+((LEN(A2)-LEN(SUBSTITUTE(A2,\"_COOH_\",\"\")))/LEN(\"_COOH_\"))*2","v":31},null,{"$f":"CONCATENATE(\"C\",G2,\"H\",H2,\"N\",I2,\"O\",J2)","v":"C71H127N3O31"},{"$f":"(G2*12.0107)+(H2*1.00794)+(I2*14.0067)+(J2*15.9994)+(K2*30.973762)","v":1518.7695799999999},{"$f":"(G2*12)+(H2*1.0078246)+(I2*14.003074)+(J2*15.994915)","v":1517.8453112},{"$f":"N2+1.0078246-0.00055","v":1518.8525858},{"$f":"O2-18.01057-0.00055","v":1500.8414658000002},{"$f":"N2+18.03437-0.00055","v":1535.8791312000001},{"$f":"N2+22.98977-0.00055","v":1540.8345311999999},{"$f":"N2+38.96371-0.00055","v":1556.8084712},{"$f":"N2+7.01601-0.00055","v":1524.8607712},{"$f":"N2-1.0078246+0.00055","v":1516.8380365999999},{"$f":"N2+44.99767+0.00055","v":1562.8435311999999},{"$f":"N2+59.01332+0.00055","v":1576.8591812}]
["GM1-Cer(d18:1/18:1)__O__",{"$f":"IF(ISNUMBER(SEARCH(\"(\",A3)),IF(ISNUMBER(SEARCH(\"/\",A3)),CONCATENATE(MID(A3,1,7),\" \",\"d\",(SUM(MID(A3,FIND(\"(\",A3)+2,FIND(\":\",A3)-FIND(\"(\",A3)-2),MID(A3,FIND(\"/\",A3)+1,FIND(\":\",A3,FIND(\"/\",A3))-FIND(\"/\",A3)-1))),\":\",SUM(MID(A3,FIND(\":\",A3)+1,FIND(\"/\",A3)-FIND(\":\",A3)-1),MID(A3,FIND(\":\",A3,FIND(\"/\",A3))+1,FIND(\")\",A3)-FIND(\":\",A3,FIND(\"/\",A3))-1)),MID(A3,(FIND(\")\",A3)+1),100)),CONCATENATE(MID(A3,1,7),\" \",\"d\",(SUM(MID(A3,FIND(\"(\",A3)+2,FIND(\":\",A3)-FIND(\"(\",A3)-2),MID(A3,FIND(\"_\",A3)+1,FIND(\":\",A3,FIND(\"_\",A3))-FIND(\"_\",A3)-1))),\":\",SUM(MID(A3,FIND(\":\",A3)+1,FIND(\"_\",A3)-FIND(\":\",A3)-1),MID(A3,FIND(\":\",A3,FIND(\"_\",A3))+1,FIND(\")\",A3)-FIND(\":\",A3,FIND(\"_\",A3))-1)),MID(A3,(FIND(\")\",A3)+1),100))),CONCATENATE(MID(A3,1,7),\" \",\"d\",MID(A3,10,100)))","v":"GM1-Cer d36:2__O__"},{"$f":"MID(B3,10,FIND(\":\",B3)-FIND(\"d\",B3)-1)","v":"36"},{"$f":"IF(ISNUMBER(SEARCH(\"__\",B3)),MID(B3,FIND(\":\",B3)+1,FIND(\"__\",B3)-FIND(\":\",B3)-1),MID(B3,FIND(\":\",B3)+1,7))","v":"2"},null,null,{"$f":"C3+37","v":73},{"$f":"2*G3-(2*D3)-13-((LEN(A3)-LEN(SUBSTITUTE(A3,\"_O_\",\"\")))/LEN(\"_O_\"))*2-((LEN(A3)-LEN(SUBSTITUTE(A3,\"_CHO_\",\"\")))/LEN(\"_CHO_\"))*2-((LEN(A3)-LEN(SUBSTITUTE(A3,\"_COOH_\",\"\")))/LEN(\"_COOH_\"))*2","v":127},3,{"$f":"31+((LEN(A3)-LEN(SUBSTITUTE(A3,\"_OH_\",\"\")))/LEN(\"_OH_\"))*1+((LEN(A3)-LEN(SUBSTITUTE(A3,\"_OOH_\",\"\")))/LEN(\"_OOH_\"))*2+((LEN(A3)-LEN(SUBSTITUTE(A3,\"_O_\",\"\")))/LEN(\"_O_\"))*1+((LEN(A3)-LEN(SUBSTITUTE(A3,\"_CHO_\",\"\")))/LEN(\"_CHO_\"))*1+((LEN(A3)-LEN(SUBSTITUTE(A3,\"_COOH_\",\"\")))/LEN(\"_COOH_\"))*2","v":32},null,{"$f":"CONCATENATE(\"C\",G3,\"H\",H3,\"N\",I3,\"O\",J3)","v":"C73H127N3O32"},{"$f":"(G3*12.0107)+(H3*1.00794)+(I3*14.0067)+(J3*15.9994)+(K3*30.973762)","v":1558.7903800000001},{"$f":"(G3*12)+(H3*1.0078246)+(I3*14.003074)+(J3*15.994915)","v":1557.8402262},{"$f":"N3+1.0078246-0.00055","v":1558.8475008},{"$f":"O3-18.01057-0.00055","v":1540.8363808000001},{"$f":"N3+18.03437-0.00055","v":1575.8740462000001},{"$f":"N3+22.98977-0.00055","v":1580.8294461999999},{"$f":"N3+38.96371-0.00055","v":1596.8033862},{"$f":"N3+7.01601-0.00055","v":1564.8556862},{"$f":"N3-1.0078246+0.00055","v":1556.8329515999999},{"$f":"N3+44.99767+0.00055","v":1602.8384461999999},{"$f":"N3+59.01332+0.00055","v":1616.8540962}]
["GM1-Cer d42:2","GM1-Cer d42:2","42","2",null,null,79,141,3,31,null,"C79H141N3O31",{"$f":"(G4*12.0107)+(H4*1.00794)+(I4*14.0067)+(J4*15.9994)+(K4*30.973762)","v":1628.9663399999999},1627.9548556,1628.9621302,1610.9510102000002,1645.9886756000001,1650.9440755999999,1666.9180156,1634.9703156,1626.9475809999999,1672.9530755999999,1686.9687256]
["GM1-Cer(d18:1/20:1)","GM1-Cer d38:2","38","2",null,null,75,133,3,31,null,"C75H133N3O31",{"$f":"(G5*12.0107)+(H5*1.00794)+(I5*14.0067)+(J5*15.9994)+(K5*30.973762)","v":1572.8600200000001},1571.8922587999998,1572.8995333999999,1554.8884134,1589.9260787999999,1594.8814787999997,1610.8554187999998,1578.9077187999999,1570.8849841999997,1616.8904787999998,1630.9061287999998]

{"sheet":"GM2Cer","index":16,"n_rows":5,"n_cols":23,"rows_kept":5,"cut":false,"hidden":false,"merged":[]}
["Lipid","Sum Composition",null,null,null,null,"#C","#H","#N","#O","#P","Formula","Molecular Weight","Neutral Mass","[M+H]+","[M+H-H2O]+","[M+NH4]+","[M+Na]+","[M+K]+","[M+Li]+","[M-H]-","[M+HCOO]-","[M+CH3COO]-"]
["GM2-Cer(d18:1/16:0)",{"$f":"IF(ISNUMBER(SEARCH(\"(\",A2)),IF(ISNUMBER(SEARCH(\"/\",A2)),CONCATENATE(MID(A2,1,7),\" \",\"d\",(SUM(MID(A2,FIND(\"(\",A2)+2,FIND(\":\",A2)-FIND(\"(\",A2)-2),MID(A2,FIND(\"/\",A2)+1,FIND(\":\",A2,FIND(\"/\",A2))-FIND(\"/\",A2)-1))),\":\",SUM(MID(A2,FIND(\":\",A2)+1,FIND(\"/\",A2)-FIND(\":\",A2)-1),MID(A2,FIND(\":\",A2,FIND(\"/\",A2))+1,FIND(\")\",A2)-FIND(\":\",A2,FIND(\"/\",A2))-1)),MID(A2,(FIND(\")\",A2)+1),100)),CONCATENATE(MID(A2,1,7),\" \",\"d\",(SUM(MID(A2,FIND(\"(\",A2)+2,FIND(\":\",A2)-FIND(\"(\",A2)-2),MID(A2,FIND(\"_\",A2)+1,FIND(\":\",A2,FIND(\"_\",A2))-FIND(\"_\",A2)-1))),\":\",SUM(MID(A2,FIND(\":\",A2)+1,FIND(\"_\",A2)-FIND(\":\",A2)-1),MID(A2,FIND(\":\",A2,FIND(\"_\",A2))+1,FIND(\")\",A2)-FIND(\":\",A2,FIND(\"_\",A2))-1)),MID(A2,(FIND(\")\",A2)+1),100))),CONCATENATE(MID(A2,1,7),\" \",\"d\",MID(A2,10,100)))","v":"GM2-Cer d34:1"},{"$f":"MID(B2,10,FIND(\":\",B2)-FIND(\"d\",B2)-1)","v":"34"},{"$f":"IF(ISNUMBER(SEARCH(\"__\",B2)),MID(B2,FIND(\":\",B2)+1,FIND(\"__\",B2)-FIND(\":\",B2)-1),MID(B2,FIND(\":\",B2)+1,7))","v":"1"},null,null,{"$f":"C2+31","v":65},{"$f":"2*G2-(2*D2)-11-((LEN(A2)-LEN(SUBSTITUTE(A2,\"_O_\",\"\")))/LEN(\"_O_\"))*2-((LEN(A2)-LEN(SUBSTITUTE(A2,\"_CHO_\",\"\")))/LEN(\"_CHO_\"))*2-((LEN(A2)-LEN(SUBSTITUTE(A2,\"_COOH_\",\"\")))/LEN(\"_COOH_\"))*2","v":117},3,{"$f":"26+((LEN(A2)-LEN(SUBSTITUTE(A2,\"_OH_\",\"\")))/LEN(\"_OH_\"))*1+((LEN(A2)-LEN(SUBSTITUTE(A2,\"_OOH_\",\"\")))/LEN(\"_OOH_\"))*2+((LEN(A2)-LEN(SUBSTITUTE(A2,\"_O_\",\"\")))/LEN(\"_O_\"))*1+((LEN(A2)-LEN(SUBSTITUTE(A2,\"_CHO_\",\"\")))/LEN(\"_CHO_\"))*1+((LEN(A2)-LEN(SUBSTITUTE(A2,\"_COOH_\",\"\")))/LEN(\"_COOH_\"))*2","v":26},null,{"$f":"CONCATENATE(\"C\",G2,\"H\",H2,\"N\",I2,\"O\",J2)","v":"C65H117N3O26"},{"$f":"(G2*12.0107)+(H2*1.00794)+(I2*14.0067)+(J2*15.9994)+(K2*30.973762)","v":1356.62898},{"$f":"(G2*12)+(H2*1.0078246)+(I2*14.003074)+(J2*15.994915)","v":1355.7924902},{"$f":"N2+1.0078246-0.00055","v":1356.7997648},{"$f":"O2-18.01057-0.00055","v":1338.7886448000002},{"$f":"N2+18.03437-0.00055","v":1373.8263102000001},{"$f":"N2+22.98977-0.00055","v":1378.7817101999999},{"$f":"N2+38.96371-0.00055","v":1394.7556502},{"$f":"N2+7.01601-0.00055","v":1362.8079502000001},{"$f":"N2-1.0078246+0.00055","v":1354.7852155999999},{"$f":"N2+44.99767+0.00055","v":1400.7907101999999},{"$f":"N2+59.01332+0.00055","v":1414.8063602}]
["GM2-Cer(d18:1/24:0)__O__",{"$f":"IF(ISNUMBER(SEARCH(\"(\",A3)),IF(ISNUMBER(SEARCH(\"/\",A3)),CONCATENATE(MID(A3,1,7),\" \",\"d\",(SUM(MID(A3,FIND(\"(\",A3)+2,FIND(\":\",A3)-FIND(\"(\",A3)-2),MID(A3,FIND(\"/\",A3)+1,FIND(\":\",A3,FIND(\"/\",A3))-FIND(\"/\",A3)-1))),\":\",SUM(MID(A3,FIND(\":\",A3)+1,FIND(\"/\",A3)-FIND(\":\",A3)-1),MID(A3,FIND(\":\",A3,FIND(\"/\",A3))+1,FIND(\")\",A3)-FIND(\":\",A3,FIND(\"/\",A3))-1)),MID(A3,(FIND(\")\",A3)+1),100)),CONCATENATE(MID(A3,1,7),\" \",\"d\",(SUM(MID(A3,FIND(\"(\",A3)+2,FIND(\":\",A3)-FIND(\"(\",A3)-2),MID(A3,FIND(\"_\",A3)+1,FIND(\":\",A3,FIND(\"_\",A3))-FIND(\"_\",A3)-1))),\":\",SUM(MID(A3,FIND(\":\",A3)+1,FIND(\"_\",A3)-FIND(\":\",A3)-1),MID(A3,FIND(\":\",A3,FIND(\"_\",A3))+1,FIND(\")\",A3)-FIND(\":\",A3,FIND(\"_\",A3))-1)),MID(A3,(FIND(\")\",A3)+1),100))),CONCATENATE(MID(A3,1,7),\" \",\"d\",MID(A3,10,100)))","v":"GM2-Cer d42:1__O__"},{"$f":"MID(B3,10,FIND(\":\",B3)-FIND(\"d\",B3)-1)","v":"42"},{"$f":"IF(ISNUMBER(SEARCH(\"__\",B3)),MID(B3,FIND(\":\",B3)+1,FIND(\"__\",B3)-FIND(\":\",B3)-1),MID(B3,FIND(\":\",B3)+1,7))","v":"1"},null,null,{"$f":"C3+31","v":73},{"$f":"2*G3-(2*D3)-11-((LEN(A3)-LEN(SUBSTITUTE(A3,\"_O_\",\"\")))/LEN(\"_O_\"))*2-((LEN(A3)-LEN(SUBSTITUTE(A3,\"_CHO_\",\"\")))/LEN(\"_CHO_\"))*2-((LEN(A3)-LEN(SUBSTITUTE(A3,\"_COOH_\",\"\")))/LEN(\"_COOH_\"))*2","v":131},3,{"$f":"26+((LEN(A3)-LEN(SUBSTITUTE(A3,\"_OH_\",\"\")))/LEN(\"_OH_\"))*1+((LEN(A3)-LEN(SUBSTITUTE(A3,\"_OOH_\",\"\")))/LEN(\"_OOH_\"))*2+((LEN(A3)-LEN(SUBSTITUTE(A3,\"_O_\",\"\")))/LEN(\"_O_\"))*1+((LEN(A3)-LEN(SUBSTITUTE(A3,\"_CHO_\",\"\")))/LEN(\"_CHO_\"))*1+((LEN(A3)-LEN(SUBSTITUTE(A3,\"_COOH_\",\"\")))/LEN(\"_COOH_\"))*2","v":27},null,{"$f":"CONCATENATE(\"C\",G3,\"H\",H3,\"N\",I3,\"O\",J3)","v":"C73H131N3O27"},{"$f":"(G3*12.0107)+(H3*1.00794)+(I3*14.0067)+(J3*15.9994)+(K3*30.973762)","v":1482.8251399999999},{"$f":"(G3*12)+(H3*1.0078246)+(I3*14.003074)+(J3*15.994915)","v":1481.8969496},{"$f":"N3+1.0078246-0.00055","v":1482.9042242},{"$f":"O3-18.01057-0.00055","v":1464.8931042000002},{"$f":"N3+18.03437-0.00055","v":1499.9307696000001},{"$f":"N3+22.98977-0.00055","v":1504.8861695999999},{"$f":"N3+38.96371-0.00055","v":1520.8601096},{"$f":"N3+7.01601-0.00055","v":1488.9124096},{"$f":"N3-1.0078246+0.00055","v":1480.8896749999999},{"$f":"N3+44.99767+0.00055","v":1526.8951695999999},{"$f":"N3+59.01332+0.00055","v":1540.9108196}]
["GM2-Cer d34:2","GM2-Cer d34:2","34","2",null,null,65,115,3,26,null,"C65H115N3O26",{"$f":"(G4*12.0107)+(H4*1.00794)+(I4*14.0067)+(J4*15.9994)+(K4*30.973762)","v":1354.6131},1353.7768409999999,1354.7841156,1336.7729956000001,1371.810661,1376.7660609999998,1392.7400009999999,1360.792301,1352.7695663999998,1398.7750609999998,1412.7907109999999]
["GM2-Cer(d18:0/20:0)","GM2-Cer d38:0","38","0",null,null,69,127,3,26,null,"C69H127N3O26",{"$f":"(G5*12.0107)+(H5*1.00794)+(I5*14.0067)+(J5*15.9994)+(K5*30.973762)","v":1414.75118},1413.8707362,1414.8780108000001,1396.8668908000002,1431.9045562000001,1436.8599561999999,1452.8338962,1420.8861962000001,1412.8634615999999,1458.8689562,1472.8846062]

{"sheet":"GM3Cer","index":17,"n_rows":4,"n_cols":23,"rows_kept":4,"cut":false,"hidden":false,"merged":[]}
["Lipid","Sum Composition",null,null,null,null,"#C","#H","#N","#O","#P","Formula","Molecular Weight","Neutral Mass","[M+H]+","[M+H-H2O]+","[M+NH4]+","[M+Na]+","[M+K]+","[M+Li]+","[M-H]-","[M+HCOO]-","[M+CH3COO]-"]
["GM3-Cer(d18:1/16:0)",{"$f":"IF(ISNUMBER(SEARCH(\"(\",A2)),IF(ISNUMBER(SEARCH(\"/\",A2)),CONCATENATE(MID(A2,1,7),\" \",\"d\",(SUM(MID(A2,FIND(\"(\",A2)+2,FIND(\":\",A2)-FIND(\"(\",A2)-2),MID(A2,FIND(\"/\",A2)+1,FIND(\":\",A2,FIND(\"/\",A2))-FIND(\"/\",A2)-1))),\":\",SUM(MID(A2,FIND(\":\",A2)+1,FIND(\"/\",A2)-FIND(\":\",A2)-1),MID(A2,FIND(\":\",A2,FIND(\"/\",A2))+1,FIND(\")\",A2)-FIND(\":\",A2,FIND(\"/\",A2))-1)),MID(A2,(FIND(\")\",A2)+1),100)),CONCATENATE(MID(A2,1,7),\" \",\"d\",(SUM(MID(A2,FIND(\"(\",A2)+2,FIND(\":\",A2)-FIND(\"(\",A2)-2),MID(A2,FIND(\"_\",A2)+1,FIND(\":\",A2,FIND(\"_\",A2))-FIND(\"_\",A2)-1))),\":\",SUM(MID(A2,FIND(\":\",A2)+1,FIND(\"_\",A2)-FIND(\":\",A2)-1),MID(A2,FIND(\":\",A2,FIND(\"_\",A2))+1,FIND(\")\",A2)-FIND(\":\",A2,FIND(\"_\",A2))-1)),MID(A2,(FIND(\")\",A2)+1),100))),CONCATENATE(MID(A2,1,7),\" \",\"d\",MID(A2,10,100)))","v":"GM3-Cer d34:1"},{"$f":"MID(B2,10,FIND(\":\",B2)-FIND(\"d\",B2)-1)","v":"34"},{"$f":"IF(ISNUMBER(SEARCH(\"__\",B2)),MID(B2,FIND(\":\",B2)+1,FIND(\"__\",B2)-FIND(\":\",B2)-1),MID(B2,FIND(\":\",B2)+1,7))","v":"1"},null,null,{"$f":"C2+23","v":57},{"$f":"2*G2-(2*D2)-8-((LEN(A2)-LEN(SUBSTITUTE(A2,\"_O_\",\"\")))/LEN(\"_O_\"))*2-((LEN(A2)-LEN(SUBSTITUTE(A2,\"_CHO_\",\"\")))/LEN(\"_CHO_\"))*2-((LEN(A2)-LEN(SUBSTITUTE(A2,\"_COOH_\",\"\")))/LEN(\"_COOH_\"))*2","v":104},2,{"$f":"21+((LEN(A2)-LEN(SUBSTITUTE(A2,\"_OH_\",\"\")))/LEN(\"_OH_\"))*1+((LEN(A2)-LEN(SUBSTITUTE(A2,\"_OOH_\",\"\")))/LEN(\"_OOH_\"))*2+((LEN(A2)-LEN(SUBSTITUTE(A2,\"_O_\",\"\")))/LEN(\"_O_\"))*1+((LEN(A2)-LEN(SUBSTITUTE(A2,\"_CHO_\",\"\")))/LEN(\"_CHO_\"))*1+((LEN(A2)-LEN(SUBSTITUTE(A2,\"_COOH_\",\"\")))/LEN(\"_COOH_\"))*2","v":21},null,{"$f":"CONCATENATE(\"C\",G2,\"H\",H2,\"N\",I2,\"O\",J2)","v":"C57H104N2O21"},{"$f":"(G2*12.0107)+(H2*1.00794)+(I2*14.0067)+(J2*15.9994)+(K2*30.973762)","v":1153.4364600000001},{"$f":"(G2*12)+(H2*1.0078246)+(I2*14.003074)+(J2*15.994915)","v":1152.7131214000001},{"$f":"N2+1.0078246-0.00055","v":1153.7203960000002},{"$f":"O2-18.01057-0.00055","v":1135.7092760000003},{"$f":"N2+18.03437-0.00055","v":1170.7469414000002},{"$f":"N2+22.98977-0.00055","v":1175.7023414},{"$f":"N2+38.96371-0.00055","v":1191.6762814000001},{"$f":"N2+7.01601-0.00055","v":1159.7285814000002},{"$f":"N2-1.0078246+0.00055","v":1151.7058468},{"$f":"N2+44.99767+0.00055","v":1197.7113414},{"$f":"N2+59.01332+0.00055","v":1211.7269914000001}]
["GM3-Cer(d18:1/20:0)__O__",{"$f":"IF(ISNUMBER(SEARCH(\"(\",A3)),IF(ISNUMBER(SEARCH(\"/\",A3)),CONCATENATE(MID(A3,1,7),\" \",\"d\",(SUM(MID(A3,FIND(\"(\",A3)+2,FIND(\":\",A3)-FIND(\"(\",A3)-2),MID(A3,FIND(\"/\",A3)+1,FIND(\":\",A3,FIND(\"/\",A3))-FIND(\"/\",A3)-1))),\":\",SUM(MID(A3,FIND(\":\",A3)+1,FIND(\"/\",A3)-FIND(\":\",A3)-1),MID(A3,FIND(\":\",A3,FIND(\"/\",A3))+1,FIND(\")\",A3)-FIND(\":\",A3,FIND(\"/\",A3))-1)),MID(A3,(FIND(\")\",A3)+1),100)),CONCATENATE(MID(A3,1,7),\" \",\"d\",(SUM(MID(A3,FIND(\"(\",A3)+2,FIND(\":\",A3)-FIND(\"(\",A3)-2),MID(A3,FIND(\"_\",A3)+1,FIND(\":\",A3,FIND(\"_\",A3))-FIND(\"_\",A3)-1))),\":\",SUM(MID(A3,FIND(\":\",A3)+1,FIND(\"_\",A3)-FIND(\":\",A3)-1),MID(A3,FIND(\":\",A3,FIND(\"_\",A3))+1,FIND(\")\",A3)-FIND(\":\",A3,FIND(\"_\",A3))-1)),MID(A3,(FIND(\")\",A3)+1),100))),CONCATENATE(MID(A3,1,7),\" \",\"d\",MID(A3,10,100)))","v":"GM3-Cer d38:1__O__"},{"$f":"MID(B3,10,FIND(\":\",B3)-FIND(\"d\",B3)-1)","v":"38"},{"$f":"IF(ISNUMBER(SEARCH(\"__\",B3)),MID(B3,FIND(\":\",B3)+1,FIND(\"__\",B3)-FIND(\":\",B3)-1),MID(B3,FIND(\":\",B3)+1,7))","v":"1"},null,null,{"$f":"C3+23","v":61},{"$f":"2*G3-(2*D3)-8-((LEN(A3)-LEN(SUBSTITUTE(A3,\"_O_\",\"\")))/LEN(\"_O_\"))*2-((LEN(A3)-LEN(SUBSTITUTE(A3,\"_CHO_\",\"\")))/LEN(\"_CHO_\"))*2-((LEN(A3)-LEN(SUBSTITUTE(A3,\"_COOH_\",\"\")))/LEN(\"_COOH_\"))*2","v":110},2,{"$f":"21+((LEN(A3)-LEN(SUBSTITUTE(A3,\"_OH_\",\"\")))/LEN(\"_OH_\"))*1+((LEN(A3)-LEN(SUBSTITUTE(A3,\"_OOH_\",\"\")))/LEN(\"_OOH_\"))*2+((LEN(A3)-LEN(SUBSTITUTE(A3,\"_O_\",\"\")))/LEN(\"_O_\"))*1+((LEN(A3)-LEN(SUBSTITUTE(A3,\"_CHO_\",\"\")))/LEN(\"_CHO_\"))*1+((LEN(A3)-LEN(SUBSTITUTE(A3,\"_COOH_\",\"\")))/LEN(\"_COOH_\"))*2","v":22},null,{"$f":"CONCATENATE(\"C\",G3,\"H\",H3,\"N\",I3,\"O\",J3)","v":"C61H110N2O22"},{"$f":"(G3*12.0107)+(H3*1.00794)+(I3*14.0067)+(J3*15.9994)+(K3*30.973762)","v":1223.5263},{"$f":"(G3*12)+(H3*1.0078246)+(I3*14.003074)+(J3*15.994915)","v":1222.7549839999999},{"$f":"N3+1.0078246-0.00055","v":1223.7622586},{"$f":"O3-18.01057-0.00055","v":1205.7511386000001},{"$f":"N3+18.03437-0.00055","v":1240.788804},{"$f":"N3+22.98977-0.00055","v":1245.7442039999999},{"$f":"N3+38.96371-0.00055","v":1261.7181439999999},{"$f":"N3+7.01601-0.00055","v":1229.770444},{"$f":"N3-1.0078246+0.00055","v":1221.7477093999998},{"$f":"N3+44.99767+0.00055","v":1267.7532039999999},{"$f":"N3+59.01332+0.00055","v":1281.7688539999999}]
["GM3-Cer d42:2","GM3-Cer d42:2","42","2",null,null,65,118,2,21,null,"C65H118N2O21",{"$f":"(G4*12.0107)+(H4*1.00794)+(I4*14.0067)+(J4*15.9994)+(K4*30.973762)","v":1263.6332200000002},1262.8226658000001,1263.8299404000002,1245.8188204000003,1280.8564858000002,1285.8118858,1301.7858258000001,1269.8381258000002,1261.8153912,1307.8208858,1321.8365358000001]

{"sheet":"CE","index":18,"n_rows":4,"n_cols":23,"rows_kept":4,"cut":false,"hidden":false,"merged":[]}
["Lipid","Sum Composition","Sum Composition",null,null,"#C","#H","#O",null,null,null,"Formula","Molecular Weight","Neutral Mass","[M+H]+","[M+H-H2O]+","[M+NH4]+","[M+Na]+","[M+K]+","[M+Li]+","[M-H]-","[M+HCOO]-","[M+CH3COO]-"]
["CE 14:0",{"$f":"IF(ISNUMBER(SEARCH(\"(\",A2)),IF(ISNUMBER(SEARCH(\"/\",A2)),CONCATENATE(MID(A2,1,2),\" \",(SUM(MID(A2,FIND(\"(\",A2)+1,FIND(\":\",A2)-FIND(\"(\",A2)-1),MID(A2,FIND(\"/\",A2)+1,FIND(\":\",A2,FIND(\"/\",A2))-FIND(\"/\",A2)-1))),\":\",SUM(MID(A2,FIND(\":\",A2)+1,FIND(\"/\",A2)-FIND(\":\",A2)-1),MID(A2,FIND(\":\",A2,FIND(\"/\",A2))+1,FIND(\")\",A2)-FIND(\":\",A2,FIND(\"/\",A2))-1)),MID(A2,(FIND(\")\",A2)+1),100)),CONCATENATE(MID(A2,1,2),\" \",(SUM(MID(A2,FIND(\"(\",A2)+1,FIND(\":\",A2)-FIND(\"(\",A2)-1),MID(A2,FIND(\"_\",A2)+1,FIND(\":\",A2,FIND(\"_\",A2))-FIND(\"_\",A2)-1))),\":\",SUM(MID(A2,FIND(\":\",A2)+1,FIND(\"_\",A2)-FIND(\":\",A2)-1),MID(A2,FIND(\":\",A2,FIND(\"_\",A2))+1,FIND(\")\",A2)-FIND(\":\",A2,FIND(\"_\",A2))-1)),MID(A2,(FIND(\")\",A2)+1),100))),A2)","v":"CE 14:0"},{"$f":"MID(B2,4,FIND(\":\",B2)-FIND(\" \",B2)-1)","v":"14"},{"$f":"IF(ISNUMBER(SEARCH(\"__\",B2)),MID(B2,FIND(\":\",B2)+1,FIND(\"__\",B2)-FIND(\":\",B2)-1),MID(B2,FIND(\":\",B2)+1,7))","v":"0"},null,{"$f":"C2+27","v":41},{"$f":"2*F2-(10+2*D2)-((LEN(A2)-LEN(SUBSTITUTE(A2,\"_O_\",\"\")))/LEN(\"_O_\"))*2-((LEN(A2)-LEN(SUBSTITUTE(A2,\"_CHO_\",\"\")))/LEN(\"_CHO_\"))*2-((LEN(A2)-LEN(SUBSTITUTE(A2,\"_COOH_\",\"\")))/LEN(\"_COOH_\"))*2","v":72},{"$f":"2+((LEN(A2)-LEN(SUBSTITUTE(A2,\"_OH_\",\"\")))/LEN(\"_OH_\"))*1+((LEN(A2)-LEN(SUBSTITUTE(A2,\"_OOH_\",\"\")))/LEN(\"_OOH_\"))*2+((LEN(A2)-LEN(SUBSTITUTE(A2,\"_O_\",\"\")))/LEN(\"_O_\"))*1+((LEN(A2)-LEN(SUBSTITUTE(A2,\"_CHO_\",\"\")))/LEN(\"_CHO_\"))*1+((LEN(A2)-LEN(SUBSTITUTE(A2,\"_COOH_\",\"\")))/LEN(\"_COOH_\"))*2","v":2},null,null,null,{"$f":"CONCATENATE(\"C\",F2,\"H\",G2,\"O\",H2)","v":"C41H72O2"},{"$f":"(F2*12.0107)+(G2*1.00794)+(H2*15.9994)","v":597.0091799999999},{"$f":"(F2*12)+(G2*1.0078246)+(H2*15.99492)","v":596.55321119999996},{"$f":"N2+1.0078246-0.00055","v":597.56048580000004},{"$f":"O2-18.01057-0.00055","v":579.54936580000003},{"$f":"N2+18.03437-0.00055","v":614.58703119999996},{"$f":"N2+22.98977-0.00055","v":619.54243120000001},{"$f":"N2+38.96371-0.00055","v":635.51637119999998},{"$f":"N2+7.01601-0.00055","v":603.56867120000004},{"$f":"N2-1.0078246+0.00055","v":595.54593659999989},{"$f":"N2+44.99767+0.00055","v":641.55143119999991},{"$f":"N2+59.01332+0.00055","v":655.56708119999996}]
["CE 14:1__O__",{"$f":"IF(ISNUMBER(SEARCH(\"(\",A3)),IF(ISNUMBER(SEARCH(\"/\",A3)),CONCATENATE(MID(A3,1,2),\" \",(SUM(MID(A3,FIND(\"(\",A3)+1,FIND(\":\",A3)-FIND(\"(\",A3)-1),MID(A3,FIND(\"/\",A3)+1,FIND(\":\",A3,FIND(\"/\",A3))-FIND(\"/\",A3)-1))),\":\",SUM(MID(A3,FIND(\":\",A3)+1,FIND(\"/\",A3)-FIND(\":\",A3)-1),MID(A3,FIND(\":\",A3,FIND(\"/\",A3))+1,FIND(\")\",A3)-FIND(\":\",A3,FIND(\"/\",A3))-1)),MID(A3,(FIND(\")\",A3)+1),100)),CONCATENATE(MID(A3,1,2),\" \",(SUM(MID(A3,FIND(\"(\",A3)+1,FIND(\":\",A3)-FIND(\"(\",A3)-1),MID(A3,FIND(\"_\",A3)+1,FIND(\":\",A3,FIND(\"_\",A3))-FIND(\"_\",A3)-1))),\":\",SUM(MID(A3,FIND(\":\",A3)+1,FIND(\"_\",A3)-FIND(\":\",A3)-1),MID(A3,FIND(\":\",A3,FIND(\"_\",A3))+1,FIND(\")\",A3)-FIND(\":\",A3,FIND(\"_\",A3))-1)),MID(A3,(FIND(\")\",A3)+1),100))),A3)","v":"CE 14:1__O__"},{"$f":"MID(B3,4,FIND(\":\",B3)-FIND(\" \",B3)-1)","v":"14"},{"$f":"IF(ISNUMBER(SEARCH(\"__\",B3)),MID(B3,FIND(\":\",B3)+1,FIND(\"__\",B3)-FIND(\":\",B3)-1),MID(B3,FIND(\":\",B3)+1,7))","v":"1"},null,{"$f":"C3+27","v":41},{"$f":"2*F3-(10+2*D3)-((LEN(A3)-LEN(SUBSTITUTE(A3,\"_O_\",\"\")))/LEN(\"_O_\"))*2-((LEN(A3)-LEN(SUBSTITUTE(A3,\"_CHO_\",\"\")))/LEN(\"_CHO_\"))*2-((LEN(A3)-LEN(SUBSTITUTE(A3,\"_COOH_\",\"\")))/LEN(\"_COOH_\"))*2","v":68},{"$f":"2+((LEN(A3)-LEN(SUBSTITUTE(A3,\"_OH_\",\"\")))/LEN(\"_OH_\"))*1+((LEN(A3)-LEN(SUBSTITUTE(A3,\"_OOH_\",\"\")))/LEN(\"_OOH_\"))*2+((LEN(A3)-LEN(SUBSTITUTE(A3,\"_O_\",\"\")))/LEN(\"_O_\"))*1+((LEN(A3)-LEN(SUBSTITUTE(A3,\"_CHO_\",\"\")))/LEN(\"_CHO_\"))*1+((LEN(A3)-LEN(SUBSTITUTE(A3,\"_COOH_\",\"\")))/LEN(\"_COOH_\"))*2","v":3},null,null,null,{"$f":"CONCATENATE(\"C\",F3,\"H\",G3,\"O\",H3)","v":"C41H68O3"},{"$f":"(F3*12.0107)+(G3*1.00794)+(H3*15.9994)","v":608.97681999999998},{"$f":"(F3*12)+(G3*1.0078246)+(H3*15.99492)","v":608.51683280000009},{"$f":"N3+1.0078246-0.00055","v":609.52410740000016},{"$f":"O3-18.01057-0.00055","v":591.51298740000016},{"$f":"N3+18.03437-0.00055","v":626.55065280000008},{"$f":"N3+22.98977-0.00055","v":631.50605280000013},{"$f":"N3+38.96371-0.00055","v":647.4799928000001},{"$f":"N3+7.01601-0.00055","v":615.53229280000016},{"$f":"N3-1.0078246+0.00055","v":607.50955820000001},{"$f":"N3+44.99767+0.00055","v":653.51505280000003},{"$f":"N3+59.01332+0.00055","v":667.53070280000009}]
["CE 19:0",{"$f":"IF(ISNUMBER(SEARCH(\"(\",A4)),IF(ISNUMBER(SEARCH(\"/\",A4)),CONCATENATE(MID(A4,1,2),\" \",(SUM(MID(A4,FIND(\"(\",A4)+1,FIND(\":\",A4)-FIND(\"(\",A4)-1),MID(A4,FIND(\"/\",A4)+1,FIND(\":\",A4,FIND(\"/\",A4))-FIND(\"/\",A4)-1))),\":\",SUM(MID(A4,FIND(\":\",A4)+1,FIND(\"/\",A4)-FIND(\":\",A4)-1),MID(A4,FIND(\":\",A4,FIND(\"/\",A4))+1,FIND(\")\",A4)-FIND(\":\",A4,FIND(\"/\",A4))-1)),MID(A4,(FIND(\")\",A4)+1),100)),CONCATENATE(MID(A4,1,2),\" \",(SUM(MID(A4,FIND(\"(\",A4)+1,FIND(\":\",A4)-FIND(\"(\",A4)-1),MID(A4,FIND(\"_\",A4)+1,FIND(\":\",A4,FIND(\"_\",A4))-FIND(\"_\",A4)-1))),\":\",SUM(MID(A4,FIND(\":\",A4)+1,FIND(\"_\",A4)-FIND(\":\",A4)-1),MID(A4,FIND(\":\",A4,FIND(\"_\",A4))+1,FIND(\")\",A4)-FIND(\":\",A4,FIND(\"_\",A4))-1)),MID(A4,(FIND(\")\",A4)+1),100))),A4)","v":"CE 19:0"},{"$f":"MID(B4,4,FIND(\":\",B4)-FIND(\" \",B4)-1)","v":"19"},{"$f":"IF(ISNUMBER(SEARCH(\"__\",B4)),MID(B4,FIND(\":\",B4)+1,FIND(\"__\",B4)-FIND(\":\",B4)-1),MID(B4,FIND(\":\",B4)+1,7))","v":"0"},null,{"$f":"C4+27","v":46},{"$f":"2*F4-(10+2*D4)-((LEN(A4)-LEN(SUBSTITUTE(A4,\"_O_\",\"\")))/LEN(\"_O_\"))*2-((LEN(A4)-LEN(SUBSTITUTE(A4,\"_CHO_\",\"\")))/LEN(\"_CHO_\"))*2-((LEN(A4)-LEN(SUBSTITUTE(A4,\"_COOH_\",\"\")))/LEN(\"_COOH_\"))*2","v":82},{"$f":"2+((LEN(A4)-LEN(SUBSTITUTE(A4,\"_OH_\",\"\")))/LEN(\"_OH_\"))*1+((LEN(A4)-LEN(SUBSTITUTE(A4,\"_OOH_\",\"\")))/LEN(\"_OOH_\"))*2+((LEN(A4)-LEN(SUBSTITUTE(A4,\"_O_\",\"\")))/LEN(\"_O_\"))*1+((LEN(A4)-LEN(SUBSTITUTE(A4,\"_CHO_\",\"\")))/LEN(\"_CHO_\"))*1+((LEN(A4)-LEN(SUBSTITUTE(A4,\"_COOH_\",\"\")))/LEN(\"_COOH_\"))*2","v":2},null,null,null,{"$f":"CONCATENATE(\"C\",F4,\"H\",G4,\"O\",H4)","v":"C46H82O2"},{"$f":"(F4*12.0107)+(G4*1.00794)+(H4*15.9994)","v":667.14207999999996},{"$f":"(F4*12)+(G4*1.0078246)+(H4*15.99492)","v":666.6314572},{"$f":"N4+1.0078246-0.00055","v":667.63873180000007},{"$f":"O4-18.01057-0.00055","v":649.62761180000007},{"$f":"N4+18.03437-0.00055","v":684.66527719999999},{"$f":"N4+22.98977-0.00055","v":689.62067720000005},{"$f":"N4+38.96371-0.00055","v":705.59461720000002},{"$f":"N4+7.01601-0.00055","v":673.64691720000008},{"$f":"N4-1.0078246+0.00055","v":665.62418259999993},{"$f":"N4+44.99767+0.00055","v":711.62967719999995},{"$f":"N4+59.01332+0.00055","v":725.6453272}]

{"sheet":"LPC","index":19,"n_rows":4,"n_cols":23,"rows_kept":4,"cut":false,"hidden":false,"merged":[]}
["Lipid","Sum Composition",null,null,null,null,"#C","#H","#N","#O","#P","Formula","Molecular Weight","Neutral Mass","[M+H]+","[M+H-H2O]+","[M+NH4]+","[M+Na]+","[M+K]+","[M+Li]+","[M-H]-","[M+HCOO]-","[M+CH3COO]-"]
["LPC 12:0__O__",{"$f":"IF(ISNUMBER(SEARCH(\"(\",A2)),IF(ISNUMBER(SEARCH(\"/\",A2)),CONCATENATE(MID(A2,1,2),\" \",(SUM(MID(A2,FIND(\"(\",A2)+1,FIND(\":\",A2)-FIND(\"(\",A2)-1),MID(A2,FIND(\"/\",A2)+1,FIND(\":\",A2,FIND(\"/\",A2))-FIND(\"/\",A2)-1))),\":\",SUM(MID(A2,FIND(\":\",A2)+1,FIND(\"/\",A2)-FIND(\":\",A2)-1),MID(A2,FIND(\":\",A2,FIND(\"/\",A2))+1,FIND(\")\",A2)-FIND(\":\",A2,FIND(\"/\",A2))-1)),MID(A2,(FIND(\")\",A2)+1),100)),CONCATENATE(MID(A2,1,2),\" \",(SUM(MID(A2,FIND(\"(\",A2)+1,FIND(\":\",A2)-FIND(\"(\",A2)-1),MID(A2,FIND(\"_\",A2)+1,FIND(\":\",A2,FIND(\"_\",A2))-FIND(\"_\",A2)-1))),\":\",SUM(MID(A2,FIND(\":\",A2)+1,FIND(\"_\",A2)-FIND(\":\",A2)-1),MID(A2,FIND(\":\",A2,FIND(\"_\",A2))+1,FIND(\")\",A2)-FIND(\":\",A2,FIND(\"_\",A2))-1)),MID(A2,(FIND(\")\",A2)+1),100))),A2)","v":"LPC 12:0__O__"},{"$f":"MID(B2,5,FIND(\":\",B2)-FIND(\" \",B2)-1)","v":"12"},{"$f":"IF(ISNUMBER(SEARCH(\"__\",B2)),MID(B2,FIND(\":\",B2)+1,FIND(\"__\",B2)-FIND(\":\",B2)-1),MID(B2,FIND(\":\",B2)+1,7))","v":"0"},null,null,{"$f":"C2+8","v":20},{"$f":"2*G2-(2*D2)+2-((LEN(A2)-LEN(SUBSTITUTE(A2,\"_O_\",\"\")))/LEN(\"_O_\"))*2-((LEN(A2)-LEN(SUBSTITUTE(A2,\"_CHO_\",\"\")))/LEN(\"_CHO_\"))*2-((LEN(A2)-LEN(SUBSTITUTE(A2,\"_COOH_\",\"\")))/LEN(\"_COOH_\"))*2","v":40},1,{"$f":"7+((LEN(A2)-LEN(SUBSTITUTE(A2,\"_OH_\",\"\")))/LEN(\"_OH_\"))*1+((LEN(A2)-LEN(SUBSTITUTE(A2,\"_OOH_\",\"\")))/LEN(\"_OOH_\"))*2+((LEN(A2)-LEN(SUBSTITUTE(A2,\"_O_\",\"\")))/LEN(\"_O_\"))*1+((LEN(A2)-LEN(SUBSTITUTE(A2,\"_CHO_\",\"\")))/LEN(\"_CHO_\"))*1+((LEN(A2)-LEN(SUBSTITUTE(A2,\"_COOH_\",\"\")))/LEN(\"_COOH_\"))*2","v":8},1,{"$f":"CONCATENATE(\"C\",G2,\"H\",H2,\"N\",I2,\"O\",J2,\"P\",K2)","v":"C20H40N1O8P1"},{"$f":"(G2*12.0107)+(H2*1.00794)+(I2*14.0067)+(J2*15.9994)+(K2*30.973762)","v":453.50726200000008},{"$f":"(G2*12)+(H2*1.0078246)+(I2*14.003074)+(J2*15.994915)+(K2*30.973763)","v":453.24914100000007},{"$f":"N2+1.0078246-0.00055","v":454.25641560000008},{"$f":"O2-18.01057-0.00055","v":436.24529560000008},{"$f":"N2+18.03437-0.00055","v":471.28296100000011},{"$f":"N2+22.98977-0.00055","v":476.23836100000011},{"$f":"N2+38.96371-0.00055","v":492.21230100000008},{"$f":"N2+7.01601-0.00055","v":460.26460100000008},{"$f":"N2-1.0078246+0.00055","v":452.24186640000005},{"$f":"N2+44.99767+0.00055","v":498.24736100000007},{"$f":"N2+59.01332+0.00055","v":512.26301100000001}]
["LPC 16:0",{"$f":"IF(ISNUMBER(SEARCH(\"(\",A3)),IF(ISNUMBER(SEARCH(\"/\",A3)),CONCATENATE(MID(A3,1,2),\" \",(SUM(MID(A3,FIND(\"(\",A3)+1,FIND(\":\",A3)-FIND(\"(\",A3)-1),MID(A3,FIND(\"/\",A3)+1,FIND(\":\",A3,FIND(\"/\",A3))-FIND(\"/\",A3)-1))),\":\",SUM(MID(A3,FIND(\":\",A3)+1,FIND(\"/\",A3)-FIND(\":\",A3)-1),MID(A3,FIND(\":\",A3,FIND(\"/\",A3))+1,FIND(\")\",A3)-FIND(\":\",A3,FIND(\"/\",A3))-1)),MID(A3,(FIND(\")\",A3)+1),100)),CONCATENATE(MID(A3,1,2),\" \",(SUM(MID(A3,FIND(\"(\",A3)+1,FIND(\":\",A3)-FIND(\"(\",A3)-1),MID(A3,FIND(\"_\",A3)+1,FIND(\":\",A3,FIND(\"_\",A3))-FIND(\"_\",A3)-1))),\":\",SUM(MID(A3,FIND(\":\",A3)+1,FIND(\"_\",A3)-FIND(\":\",A3)-1),MID(A3,FIND(\":\",A3,FIND(\"_\",A3))+1,FIND(\")\",A3)-FIND(\":\",A3,FIND(\"_\",A3))-1)),MID(A3,(FIND(\")\",A3)+1),100))),A3)","v":"LPC 16:0"},{"$f":"MID(B3,5,FIND(\":\",B3)-FIND(\" \",B3)-1)","v":"16"},{"$f":"IF(ISNUMBER(SEARCH(\"__\",B3)),MID(B3,FIND(\":\",B3)+1,FIND(\"__\",B3)-FIND(\":\",B3)-1),MID(B3,FIND(\":\",B3)+1,7))","v":"0"},null,null,{"$f":"C3+8","v":24},{"$f":"2*G3-(2*D3)+2-((LEN(A3)-LEN(SUBSTITUTE(A3,\"_O_\",\"\")))/LEN(\"_O_\"))*2-((LEN(A3)-LEN(SUBSTITUTE(A3,\"_CHO_\",\"\")))/LEN(\"_CHO_\"))*2-((LEN(A3)-LEN(SUBSTITUTE(A3,\"_COOH_\",\"\")))/LEN(\"_COOH_\"))*2","v":50},1,{"$f":"7+((LEN(A3)-LEN(SUBSTITUTE(A3,\"_OH_\",\"\")))/LEN(\"_OH_\"))*1+((LEN(A3)-LEN(SUBSTITUTE(A3,\"_OOH_\",\"\")))/LEN(\"_OOH_\"))*2+((LEN(A3)-LEN(SUBSTITUTE(A3,\"_O_\",\"\")))/LEN(\"_O_\"))*1+((LEN(A3)-LEN(SUBSTITUTE(A3,\"_CHO_\",\"\")))/LEN(\"_CHO_\"))*1+((LEN(A3)-LEN(SUBSTITUTE(A3,\"_COOH_\",\"\")))/LEN(\"_COOH_\"))*2","v":7},1,{"$f":"CONCATENATE(\"C\",G3,\"H\",H3,\"N\",I3,\"O\",J3,\"P\",K3)","v":"C24H50N1O7P1"},{"$f":"(G3*12.0107)+(H3*1.00794)+(I3*14.0067)+(J3*15.9994)+(K3*30.973762)","v":495.63006200000001},{"$f":"(G3*12)+(H3*1.0078246)+(I3*14.003074)+(J3*15.994915)+(K3*30.973763)","v":495.33247200000005},{"$f":"N3+1.0078246-0.00055","v":496.33974660000007},{"$f":"O3-18.01057-0.00055","v":478.32862660000012},{"$f":"N3+18.03437-0.00055","v":513.36629200000004},{"$f":"N3+22.98977-0.00055","v":518.3216920000001},{"$f":"N3+38.96371-0.00055","v":534.29563200000007},{"$f":"N3+7.01601-0.00055","v":502.34793200000007},{"$f":"N3-1.0078246+0.00055","v":494.32519740000004},{"$f":"N3+44.99767+0.00055","v":540.330692},{"$f":"N3+59.01332+0.00055","v":554.34634200000005}]
["LPC 18:1",{"$f":"IF(ISNUMBER(SEARCH(\"(\",A4)),IF(ISNUMBER(SEARCH(\"/\",A4)),CONCATENATE(MID(A4,1,2),\" \",(SUM(MID(A4,FIND(\"(\",A4)+1,FIND(\":\",A4)-FIND(\"(\",A4)-1),MID(A4,FIND(\"/\",A4)+1,FIND(\":\",A4,FIND(\"/\",A4))-FIND(\"/\",A4)-1))),\":\",SUM(MID(A4,FIND(\":\",A4)+1,FIND(\"/\",A4)-FIND(\":\",A4)-1),MID(A4,FIND(\":\",A4,FIND(\"/\",A4))+1,FIND(\")\",A4)-FIND(\":\",A4,FIND(\"/\",A4))-1)),MID(A4,(FIND(\")\",A4)+1),100)),CONCATENATE(MID(A4,1,2),\" \",(SUM(MID(A4,FIND(\"(\",A4)+1,FIND(\":\",A4)-FIND(\"(\",A4)-1),MID(A4,FIND(\"_\",A4)+1,FIND(\":\",A4,FIND(\"_\",A4))-FIND(\"_\",A4)-1))),\":\",SUM(MID(A4,FIND(\":\",A4)+1,FIND(\"_\",A4)-FIND(\":\",A4)-1),MID(A4,FIND(\":\",A4,FIND(\"_\",A4))+1,FIND(\")\",A4)-FIND(\":\",A4,FIND(\"_\",A4))-1)),MID(A4,(FIND(\")\",A4)+1),100))),A4)","v":"LPC 18:1"},{"$f":"MID(B4,5,FIND(\":\",B4)-FIND(\" \",B4)-1)","v":"18"},{"$f":"IF(ISNUMBER(SEARCH(\"__\",B4)),MID(B4,FIND(\":\",B4)+1,FIND(\"__\",B4)-FIND(\":\",B4)-1),MID(B4,FIND(\":\",B4)+1,7))","v":"1"},null,null,{"$f":"C4+8","v":26},{"$f":"2*G4-(2*D4)+2-((LEN(A4)-LEN(SUBSTITUTE(A4,\"_O_\",\"\")))/LEN(\"_O_\"))*2-((LEN(A4)-LEN(SUBSTITUTE(A4,\"_CHO_\",\"\")))/LEN(\"_CHO_\"))*2-((LEN(A4)-LEN(SUBSTITUTE(A4,\"_COOH_\",\"\")))/LEN(\"_COOH_\"))*2","v":52},1,{"$f":"7+((LEN(A4)-LEN(SUBSTITUTE(A4,\"_OH_\",\"\")))/LEN(\"_OH_\"))*1+((LEN(A4)-LEN(SUBSTITUTE(A4,\"_OOH_\",\"\")))/LEN(\"_OOH_\"))*2+((LEN(A4)-LEN(SUBSTITUTE(A4,\"_O_\",\"\")))/LEN(\"_O_\"))*1+((LEN(A4)-LEN(SUBSTITUTE(A4,\"_CHO_\",\"\")))/LEN(\"_CHO_\"))*1+((LEN(A4)-LEN(SUBSTITUTE(A4,\"_COOH_\",\"\")))/LEN(\"_COOH_\"))*2","v":7},1,{"$f":"CONCATENATE(\"C\",G4,\"H\",H4,\"N\",I4,\"O\",J4,\"P\",K4)","v":"C26H52N1O7P1"},{"$f":"(G4*12.0107)+(H4*1.00794)+(I4*14.0067)+(J4*15.9994)+(K4*30.973762)","v":521.66734199999996},{"$f":"(G4*12)+(H4*1.0078246)+(I4*14.003074)+(J4*15.994915)+(K4*30.973763)","v":521.34812120000004},{"$f":"N4+1.0078246-0.00055","v":522.35539580000011},{"$f":"O4-18.01057-0.00055","v":504.3442758000001},{"$f":"N4+18.03437-0.00055","v":539.38194120000003},{"$f":"N4+22.98977-0.00055","v":544.33734120000008},{"$f":"N4+38.96371-0.00055","v":560.31128120000005},{"$f":"N4+7.01601-0.00055","v":528.36358120000011},{"$f":"N4-1.0078246+0.00055","v":520.34084659999996},{"$f":"N4+44.99767+0.00055","v":566.34634119999998},{"$f":"N4+59.01332+0.00055","v":580.36199120000003}]

{"sheet":"PC","index":20,"n_rows":6,"n_cols":23,"rows_kept":6,"cut":false,"hidden":false,"merged":[]}
["Lipid","Sum Composition",null,null,null,null,"#C","#H","#N","#O","#P","Formula","Molecular Weight","Neutral Mass","[M+H]+","[M+H-H2O]+","[M+NH4]+","[M+Na]+","[M+K]+","[M+Li]+","[M-H]-","[M+HCOO]-","[M+CH3COO]-"]
["PC 16:14__O__",{"$f":"IF(ISNUMBER(SEARCH(\"(\",A2)),IF(ISNUMBER(SEARCH(\"/\",A2)),CONCATENATE(MID(A2,1,2),\" \",(SUM(MID(A2,FIND(\"(\",A2)+1,FIND(\":\",A2)-FIND(\"(\",A2)-1),MID(A2,FIND(\"/\",A2)+1,FIND(\":\",A2,FIND(\"/\",A2))-FIND(\"/\",A2)-1))),\":\",SUM(MID(A2,FIND(\":\",A2)+1,FIND(\"/\",A2)-FIND(\":\",A2)-1),MID(A2,FIND(\":\",A2,FIND(\"/\",A2))+1,FIND(\")\",A2)-FIND(\":\",A2,FIND(\"/\",A2))-1)),MID(A2,(FIND(\")\",A2)+1),100)),CONCATENATE(MID(A2,1,2),\" \",(SUM(MID(A2,FIND(\"(\",A2)+1,FIND(\":\",A2)-FIND(\"(\",A2)-1),MID(A2,FIND(\"_\",A2)+1,FIND(\":\",A2,FIND(\"_\",A2))-FIND(\"_\",A2)-1))),\":\",SUM(MID(A2,FIND(\":\",A2)+1,FIND(\"_\",A2)-FIND(\":\",A2)-1),MID(A2,FIND(\":\",A2,FIND(\"_\",A2))+1,FIND(\")\",A2)-FIND(\":\",A2,FIND(\"_\",A2))-1)),MID(A2,(FIND(\")\",A2)+1),100))),A2)","v":"PC 16:14__O__"},{"$f":"MID(B2,4,FIND(\":\",B2)-FIND(\" \",B2)-1)","v":"16"},{"$f":"IF(ISNUMBER(SEARCH(\"__\",B2)),MID(B2,FIND(\":\",B2)+1,FIND(\"__\",B2)-FIND(\":\",B2)-1),MID(B2,FIND(\":\",B2)+1,7))","v":"14"},{"$f":"MID(A2,5,1)","v":"6"},null,{"$f":"C2+8","v":24},{"$f":"2*G2-(2*D2)-((LEN(A2)-LEN(SUBSTITUTE(A2,\"_O_\",\"\")))/LEN(\"_O_\"))*2-((LEN(A2)-LEN(SUBSTITUTE(A2,\"_CHO_\",\"\")))/LEN(\"_CHO_\"))*2-((LEN(A2)-LEN(SUBSTITUTE(A2,\"_COOH_\",\"\")))/LEN(\"_COOH_\"))*2","v":18},1,{"$f":"8+((LEN(A2)-LEN(SUBSTITUTE(A2,\"_OH_\",\"\")))/LEN(\"_OH_\"))*1+((LEN(A2)-LEN(SUBSTITUTE(A2,\"_OOH_\",\"\")))/LEN(\"_OOH_\"))*2+((LEN(A2)-LEN(SUBSTITUTE(A2,\"_O_\",\"\")))/LEN(\"_O_\"))*1+((LEN(A2)-LEN(SUBSTITUTE(A2,\"_CHO_\",\"\")))/LEN(\"_CHO_\"))*1+((LEN(A2)-LEN(SUBSTITUTE(A2,\"_COOH_\",\"\")))/LEN(\"_COOH_\"))*2","v":9},1,{"$f":"CONCATENATE(\"C\",G2,\"H\",H2,\"N\",I2,\"O\",J2,\"P\",K2)","v":"C24H18N1O9P1"},{"$f":"(G2*12.0107)+(H2*1.00794)+(I2*14.0067)+(J2*15.9994)+(K2*30.973762)","v":495.37478200000004},{"$f":"(G2*12)+(H2*1.0078246)+(I2*14.003074)+(J2*15.994915)+(K2*30.973763)","v":495.0719148},{"$f":"N2+1.0078246-0.00055","v":496.07918940000002},{"$f":"O2-18.01057-0.00055","v":478.06806940000001},{"$f":"N2+18.03437-0.00055","v":513.10573480000005},{"$f":"N2+22.98977-0.00055","v":518.06113479999999},{"$f":"N2+38.96371-0.00055","v":534.03507480000007},{"$f":"N2+7.01601-0.00055","v":502.08737480000002},{"$f":"N2-1.0078246+0.00055","v":494.06464019999999},{"$f":"N2+44.99767+0.00055","v":540.07013480000001},{"$f":"N2+59.01332+0.00055","v":554.08578479999994}]
["PC(16:0_18:1)",{"$f":"IF(ISNUMBER(SEARCH(\"(\",A3)),IF(ISNUMBER(SEARCH(\"/\",A3)),CONCATENATE(MID(A3,1,2),\" \",(SUM(MID(A3,FIND(\"(\",A3)+1,FIND(\":\",A3)-FIND(\"(\",A3)-1),MID(A3,FIND(\"/\",A3)+1,FIND(\":\",A3,FIND(\"/\",A3))-FIND(\"/\",A3)-1))),\":\",SUM(MID(A3,FIND(\":\",A3)+1,FIND(\"/\",A3)-FIND(\":\",A3)-1),MID(A3,FIND(\":\",A3,FIND(\"/\",A3))+1,FIND(\")\",A3)-FIND(\":\",A3,FIND(\"/\",A3))-1)),MID(A3,(FIND(\")\",A3)+1),100)),CONCATENATE(MID(A3,1,2),\" \",(SUM(MID(A3,FIND(\"(\",A3)+1,FIND(\":\",A3)-FIND(\"(\",A3)-1),MID(A3,FIND(\"_\",A3)+1,FIND(\":\",A3,FIND(\"_\",A3))-FIND(\"_\",A3)-1))),\":\",SUM(MID(A3,FIND(\":\",A3)+1,FIND(\"_\",A3)-FIND(\":\",A3)-1),MID(A3,FIND(\":\",A3,FIND(\"_\",A3))+1,FIND(\")\",A3)-FIND(\":\",A3,FIND(\"_\",A3))-1)),MID(A3,(FIND(\")\",A3)+1),100))),A3)","v":"PC 34:1"},{"$f":"MID(B3,4,FIND(\":\",B3)-FIND(\" \",B3)-1)","v":"34"},{"$f":"IF(ISNUMBER(SEARCH(\"__\",B3)),MID(B3,FIND(\":\",B3)+1,FIND(\"__\",B3)-FIND(\":\",B3)-1),MID(B3,FIND(\":\",B3)+1,7))","v":"1"},{"$f":"MID(A3,5,1)","v":"6"},null,{"$f":"C3+8","v":42},{"$f":"2*G3-(2*D3)-((LEN(A3)-LEN(SUBSTITUTE(A3,\"_O_\",\"\")))/LEN(\"_O_\"))*2-((LEN(A3)-LEN(SUBSTITUTE(A3,\"_CHO_\",\"\")))/LEN(\"_CHO_\"))*2-((LEN(A3)-LEN(SUBSTITUTE(A3,\"_COOH_\",\"\")))/LEN(\"_COOH_\"))*2","v":82},1,{"$f":"8+((LEN(A3)-LEN(SUBSTITUTE(A3,\"_OH_\",\"\")))/LEN(\"_OH_\"))*1+((LEN(A3)-LEN(SUBSTITUTE(A3,\"_OOH_\",\"\")))/LEN(\"_OOH_\"))*2+((LEN(A3)-LEN(SUBSTITUTE(A3,\"_O_\",\"\")))/LEN(\"_O_\"))*1+((LEN(A3)-LEN(SUBSTITUTE(A3,\"_CHO_\",\"\")))/LEN(\"_CHO_\"))*1+((LEN(A3)-LEN(SUBSTITUTE(A3,\"_COOH_\",\"\")))/LEN(\"_COOH_\"))*2","v":8},1,{"$f":"CONCATENATE(\"C\",G3,\"H\",H3,\"N\",I3,\"O\",J3,\"P\",K3)","v":"C42H82N1O8P1"},{"$f":"(G3*12.0107)+(H3*1.00794)+(I3*14.0067)+(J3*15.9994)+(K3*30.973762)","v":760.07614199999989},{"$f":"(G3*12)+(H3*1.0078246)+(I3*14.003074)+(J3*15.994915)+(K3*30.973763)","v":759.57777420000002},{"$f":"N3+1.0078246-0.00055","v":760.5850488000001},{"$f":"O3-18.01057-0.00055","v":742.57392880000009},{"$f":"N3+18.03437-0.00055","v":777.61159420000001},{"$f":"N3+22.98977-0.00055","v":782.56699420000007},{"$f":"N3+38.96371-0.00055","v":798.54093420000004},{"$f":"N3+7.01601-0.00055","v":766.5932342000001},{"$f":"N3-1.0078246+0.00055","v":758.57049959999995},{"$f":"N3+44.99767+0.00055","v":804.57599419999997},{"$f":"N3+59.01332+0.00055","v":818.59164420000002}]
["PC(14:0/14:0)__O__",{"$f":"IF(ISNUMBER(SEARCH(\"(\",A4)),IF(ISNUMBER(SEARCH(\"/\",A4)),CONCATENATE(MID(A4,1,2),\" \",(SUM(MID(A4,FIND(\"(\",A4)+1,FIND(\":\",A4)-FIND(\"(\",A4)-1),MID(A4,FIND(\"/\",A4)+1,FIND(\":\",A4,FIND(\"/\",A4))-FIND(\"/\",A4)-1))),\":\",SUM(MID(A4,FIND(\":\",A4)+1,FIND(\"/\",A4)-FIND(\":\",A4)-1),MID(A4,FIND(\":\",A4,FIND(\"/\",A4))+1,FIND(\")\",A4)-FIND(\":\",A4,FIND(\"/\",A4))-1)),MID(A4,(FIND(\")\",A4)+1),100)),CONCATENATE(MID(A4,1,2),\" \",(SUM(MID(A4,FIND(\"(\",A4)+1,FIND(\":\",A4)-FIND(\"(\",A4)-1),MID(A4,FIND(\"_\",A4)+1,FIND(\":\",A4,FIND(\"_\",A4))-FIND(\"_\",A4)-1))),\":\",SUM(MID(A4,FIND(\":\",A4)+1,FIND(\"_\",A4)-FIND(\":\",A4)-1),MID(A4,FIND(\":\",A4,FIND(\"_\",A4))+1,FIND(\")\",A4)-FIND(\":\",A4,FIND(\"_\",A4))-1)),MID(A4,(FIND(\")\",A4)+1),100))),A4)","v":"PC 28:0__O__"},{"$f":"MID(B4,4,FIND(\":\",B4)-FIND(\" \",B4)-1)","v":"28"},{"$f":"IF(ISNUMBER(SEARCH(\"__\",B4)),MID(B4,FIND(\":\",B4)+1,FIND(\"__\",B4)-FIND(\":\",B4)-1),MID(B4,FIND(\":\",B4)+1,7))","v":"0"},{"$f":"MID(A4,5,1)","v":"4"},null,{"$f":"C4+8","v":36},{"$f":"2*G4-(2*D4)-((LEN(A4)-LEN(SUBSTITUTE(A4,\"_O_\",\"\")))/LEN(\"_O_\"))*2-((LEN(A4)-LEN(SUBSTITUTE(A4,\"_CHO_\",\"\")))/LEN(\"_CHO_\"))*2-((LEN(A4)-LEN(SUBSTITUTE(A4,\"_COOH_\",\"\")))/LEN(\"_COOH_\"))*2","v":70},1,{"$f":"8+((LEN(A4)-LEN(SUBSTITUTE(A4,\"_OH_\",\"\")))/LEN(\"_OH_\"))*1+((LEN(A4)-LEN(SUBSTITUTE(A4,\"_OOH_\",\"\")))/LEN(\"_OOH_\"))*2+((LEN(A4)-LEN(SUBSTITUTE(A4,\"_O_\",\"\")))/LEN(\"_O_\"))*1+((LEN(A4)-LEN(SUBSTITUTE(A4,\"_CHO_\",\"\")))/LEN(\"_CHO_\"))*1+((LEN(A4)-LEN(SUBSTITUTE(A4,\"_COOH_\",\"\")))/LEN(\"_COOH_\"))*2","v":9},1,{"$f":"CONCATENATE(\"C\",G4,\"H\",H4,\"N\",I4,\"O\",J4,\"P\",K4)","v":"C36H70N1O9P1"},{"$f":"(G4*12.0107)+(H4*1.00794)+(I4*14.0067)+(J4*15.9994)+(K4*30.973762)","v":691.91606200000001},{"$f":"(G4*12)+(H4*1.0078246)+(I4*14.003074)+(J4*15.994915)+(K4*30.973763)","v":691.47879399999999},{"$f":"N4+1.0078246-0.00055","v":692.48606860000007},{"$f":"O4-18.01057-0.00055","v":674.47494860000006},{"$f":"N4+18.03437-0.00055","v":709.51261399999999},{"$f":"N4+22.98977-0.00055","v":714.46801400000004},{"$f":"N4+38.96371-0.00055","v":730.44195400000001},{"$f":"N4+7.01601-0.00055","v":698.49425400000007},{"$f":"N4-1.0078246+0.00055","v":690.47151939999992},{"$f":"N4+44.99767+0.00055","v":736.47701399999994},{"$f":"N4+59.01332+0.00055","v":750.49266399999999}]
["PC(18:1/18:1)__O__",{"$f":"IF(ISNUMBER(SEARCH(\"(\",A5)),IF(ISNUMBER(SEARCH(\"/\",A5)),CONCATENATE(MID(A5,1,2),\" \",(SUM(MID(A5,FIND(\"(\",A5)+1,FIND(\":\",A5)-FIND(\"(\",A5)-1),MID(A5,FIND(\"/\",A5)+1,FIND(\":\",A5,FIND(\"/\",A5))-FIND(\"/\",A5)-1))),\":\",SUM(MID(A5,FIND(\":\",A5)+1,FIND(\"/\",A5)-FIND(\":\",A5)-1),MID(A5,FIND(\":\",A5,FIND(\"/\",A5))+1,FIND(\")\",A5)-FIND(\":\",A5,FIND(\"/\",A5))-1)),MID(A5,(FIND(\")\",A5)+1),100)),CONCATENATE(MID(A5,1,2),\" \",(SUM(MID(A5,FIND(\"(\",A5)+1,FIND(\":\",A5)-FIND(\"(\",A5)-1),MID(A5,FIND(\"_\",A5)+1,FIND(\":\",A5,FIND(\"_\",A5))-FIND(\"_\",A5)-1))),\":\",SUM(MID(A5,FIND(\":\",A5)+1,FIND(\"_\",A5)-FIND(\":\",A5)-1),MID(A5,FIND(\":\",A5,FIND(\"_\",A5))+1,FIND(\")\",A5)-FIND(\":\",A5,FIND(\"_\",A5))-1)),MID(A5,(FIND(\")\",A5)+1),100))),A5)","v":"PC 36:2__O__"},{"$f":"MID(B5,4,FIND(\":\",B5)-FIND(\" \",B5)-1)","v":"36"},{"$f":"IF(ISNUMBER(SEARCH(\"__\",B5)),MID(B5,FIND(\":\",B5)+1,FIND(\"__\",B5)-FIND(\":\",B5)-1),MID(B5,FIND(\":\",B5)+1,7))","v":"2"},"8",null,{"$f":"C5+8","v":44},{"$f":"2*G5-(2*D5)-((LEN(A5)-LEN(SUBSTITUTE(A5,\"_O_\",\"\")))/LEN(\"_O_\"))*2-((LEN(A5)-LEN(SUBSTITUTE(A5,\"_CHO_\",\"\")))/LEN(\"_CHO_\"))*2-((LEN(A5)-LEN(SUBSTITUTE(A5,\"_COOH_\",\"\")))/LEN(\"_COOH_\"))*2","v":82},1,{"$f":"8+((LEN(A5)-LEN(SUBSTITUTE(A5,\"_OH_\",\"\")))/LEN(\"_OH_\"))*1+((LEN(A5)-LEN(SUBSTITUTE(A5,\"_OOH_\",\"\")))/LEN(\"_OOH_\"))*2+((LEN(A5)-LEN(SUBSTITUTE(A5,\"_O_\",\"\")))/LEN(\"_O_\"))*1+((LEN(A5)-LEN(SUBSTITUTE(A5,\"_CHO_\",\"\")))/LEN(\"_CHO_\"))*1+((LEN(A5)-LEN(SUBSTITUTE(A5,\"_COOH_\",\"\")))/LEN(\"_COOH_\"))*2","v":9},1,{"$f":"CONCATENATE(\"C\",G5,\"H\",H5,\"N\",I5,\"O\",J5,\"P\",K5)","v":"C44H82N1O9P1"},{"$f":"(G5*12.0107)+(H5*1.00794)+(I5*14.0067)+(J5*15.9994)+(K5*30.973762)","v":800.09694200000001},{"$f":"(G5*12)+(H5*1.0078246)+(I5*14.003074)+(J5*15.994915)+(K5*30.973763)","v":799.57268920000001},{"$f":"N5+1.0078246-0.00055","v":800.57996380000009},{"$f":"O5-18.01057-0.00055","v":782.56884380000008},{"$f":"N5+18.03437-0.00055","v":817.6065092},{"$f":"N5+22.98977-0.00055","v":822.56190920000006},{"$f":"N5+38.96371-0.00055","v":838.53584920000003},{"$f":"N5+7.01601-0.00055","v":806.58814920000009},{"$f":"N5-1.0078246+0.00055","v":798.56541459999994},{"$f":"N5+44.99767+0.00055","v":844.57090919999996},{"$f":"N5+59.01332+0.00055","v":858.58655920000001}]
["PC 34:1",{"$f":"IF(ISNUMBER(SEARCH(\"(\",A6)),IF(ISNUMBER(SEARCH(\"/\",A6)),CONCATENATE(MID(A6,1,2),\" \",(SUM(MID(A6,FIND(\"(\",A6)+1,FIND(\":\",A6)-FIND(\"(\",A6)-1),MID(A6,FIND(\"/\",A6)+1,FIND(\":\",A6,FIND(\"/\",A6))-FIND(\"/\",A6)-1))),\":\",SUM(MID(A6,FIND(\":\",A6)+1,FIND(\"/\",A6)-FIND(\":\",A6)-1),MID(A6,FIND(\":\",A6,FIND(\"/\",A6))+1,FIND(\")\",A6)-FIND(\":\",A6,FIND(\"/\",A6))-1)),MID(A6,(FIND(\")\",A6)+1),100)),CONCATENATE(MID(A6,1,2),\" \",(SUM(MID(A6,FIND(\"(\",A6)+1,FIND(\":\",A6)-FIND(\"(\",A6)-1),MID(A6,FIND(\"_\",A6)+1,FIND(\":\",A6,FIND(\"_\",A6))-FIND(\"_\",A6)-1))),\":\",SUM(MID(A6,FIND(\":\",A6)+1,FIND(\"_\",A6)-FIND(\":\",A6)-1),MID(A6,FIND(\":\",A6,FIND(\"_\",A6))+1,FIND(\")\",A6)-FIND(\":\",A6,FIND(\"_\",A6))-1)),MID(A6,(FIND(\")\",A6)+1),100))),A6)","v":"PC 34:1"},{"$f":"MID(B6,4,FIND(\":\",B6)-FIND(\" \",B6)-1)","v":"34"},{"$f":"IF(ISNUMBER(SEARCH(\"__\",B6)),MID(B6,FIND(\":\",B6)+1,FIND(\"__\",B6)-FIND(\":\",B6)-1),MID(B6,FIND(\":\",B6)+1,7))","v":"1"},"4",null,{"$f":"C6+8","v":42},{"$f":"2*G6-(2*D6)-((LEN(A6)-LEN(SUBSTITUTE(A6,\"_O_\",\"\")))/LEN(\"_O_\"))*2-((LEN(A6)-LEN(SUBSTITUTE(A6,\"_CHO_\",\"\")))/LEN(\"_CHO_\"))*2-((LEN(A6)-LEN(SUBSTITUTE(A6,\"_COOH_\",\"\")))/LEN(\"_COOH_\"))*2","v":82},1,{"$f":"8+((LEN(A6)-LEN(SUBSTITUTE(A6,\"_OH_\",\"\")))/LEN(\"_OH_\"))*1+((LEN(A6)-LEN(SUBSTITUTE(A6,\"_OOH_\",\"\")))/LEN(\"_OOH_\"))*2+((LEN(A6)-LEN(SUBSTITUTE(A6,\"_O_\",\"\")))/LEN(\"_O_\"))*1+((LEN(A6)-LEN(SUBSTITUTE(A6,\"_CHO_\",\"\")))/LEN(\"_CHO_\"))*1+((LEN(A6)-LEN(SUBSTITUTE(A6,\"_COOH_\",\"\")))/LEN(\"_COOH_\"))*2","v":8},1,{"$f":"CONCATENATE(\"C\",G6,\"H\",H6,\"N\",I6,\"O\",J6,\"P\",K6)","v":"C42H82N1O8P1"},{"$f":"(G6*12.0107)+(H6*1.00794)+(I6*14.0067)+(J6*15.9994)+(K6*30.973762)","v":760.07614199999989},{"$f":"(G6*12)+(H6*1.0078246)+(I6*14.003074)+(J6*15.994915)+(K6*30.973763)","v":759.57777420000002},{"$f":"N6+1.0078246-0.00055","v":760.5850488000001},{"$f":"O6-18.01057-0.00055","v":742.57392880000009},{"$f":"N6+18.03437-0.00055","v":777.61159420000001},{"$f":"N6+22.98977-0.00055","v":782.56699420000007},{"$f":"N6+38.96371-0.00055","v":798.54093420000004},{"$f":"N6+7.01601-0.00055","v":766.5932342000001},{"$f":"N6-1.0078246+0.00055","v":758.57049959999995},{"$f":"N6+44.99767+0.00055","v":804.57599419999997},{"$f":"N6+59.01332+0.00055","v":818.59164420000002}]

{"sheet":"LPA","index":21,"n_rows":3,"n_cols":23,"rows_kept":3,"cut":false,"hidden":false,"merged":[]}
["Lipid","Sum Composition",null,null,null,null,"#C","#H","#O","#P",null,"Formula","Molecular Weight","Neutral Mass","[M+H]+","[M+H-H2O]+","[M+NH4]+","[M+Na]+","[M+K]+","[M+Li]+","[M-H]-","[M+HCOO]-","[M+CH3COO]-"]
["LPA 16:0",{"$f":"IF(ISNUMBER(SEARCH(\"(\",A2)),IF(ISNUMBER(SEARCH(\"/\",A2)),CONCATENATE(MID(A2,1,2),\" \",(SUM(MID(A2,FIND(\"(\",A2)+1,FIND(\":\",A2)-FIND(\"(\",A2)-1),MID(A2,FIND(\"/\",A2)+1,FIND(\":\",A2,FIND(\"/\",A2))-FIND(\"/\",A2)-1))),\":\",SUM(MID(A2,FIND(\":\",A2)+1,FIND(\"/\",A2)-FIND(\":\",A2)-1),MID(A2,FIND(\":\",A2,FIND(\"/\",A2))+1,FIND(\")\",A2)-FIND(\":\",A2,FIND(\"/\",A2))-1)),MID(A2,(FIND(\")\",A2)+1),100)),CONCATENATE(MID(A2,1,2),\" \",(SUM(MID(A2,FIND(\"(\",A2)+1,FIND(\":\",A2)-FIND(\"(\",A2)-1),MID(A2,FIND(\"_\",A2)+1,FIND(\":\",A2,FIND(\"_\",A2))-FIND(\"_\",A2)-1))),\":\",SUM(MID(A2,FIND(\":\",A2)+1,FIND(\"_\",A2)-FIND(\":\",A2)-1),MID(A2,FIND(\":\",A2,FIND(\"_\",A2))+1,FIND(\")\",A2)-FIND(\":\",A2,FIND(\"_\",A2))-1)),MID(A2,(FIND(\")\",A2)+1),100))),A2)","v":"LPA 16:0"},{"$f":"MID(B2,5,FIND(\":\",B2)-FIND(\" \",B2)-1)","v":"16"},{"$f":"IF(ISNUMBER(SEARCH(\"__\",B2)),MID(B2,FIND(\":\",B2)+1,FIND(\"__\",B2)-FIND(\":\",B2)-1),MID(B2,FIND(\":\",B2)+1,7))","v":"0"},null,null,{"$f":"C2+3","v":19},{"$f":"2*G2-(2*D2)+1-((LEN(A2)-LEN(SUBSTITUTE(A2,\"_O_\",\"\")))/LEN(\"_O_\"))*2-((LEN(A2)-LEN(SUBSTITUTE(A2,\"_CHO_\",\"\")))/LEN(\"_CHO_\"))*2-((LEN(A2)-LEN(SUBSTITUTE(A2,\"_COOH_\",\"\")))/LEN(\"_COOH_\"))*2","v":39},{"$f":"7+((LEN(A2)-LEN(SUBSTITUTE(A2,\"_OH_\",\"\")))/LEN(\"_OH_\"))*1+((LEN(A2)-LEN(SUBSTITUTE(A2,\"_OOH_\",\"\")))/LEN(\"_OOH_\"))*2+((LEN(A2)-LEN(SUBSTITUTE(A2,\"_O_\",\"\")))/LEN(\"_O_\"))*1+((LEN(A2)-LEN(SUBSTITUTE(A2,\"_CHO_\",\"\")))/LEN(\"_CHO_\"))*1+((LEN(A2)-LEN(SUBSTITUTE(A2,\"_COOH_\",\"\")))/LEN(\"_COOH_\"))*2","v":7},1,null,{"$f":"CONCATENATE(\"C\",G2,\"H\",H2,\"O\",I2,\"P\",J2)","v":"C19H39O7P1"},{"$f":"(G2*12.0107)+(H2*1.00794)+(I2*15.9994)+(J2*30.973762)","v":410.48252200000007},{"$f":"(G2*12)+(H2*1.0078246)+(I2*15.994915)+(J2*30.973763)","v":410.2433274},{"$f":"N2+1.0078246-0.00055","v":411.25060200000001},{"$f":"O2-18.01057-0.00055","v":393.23948200000007},{"$f":"N2+18.03437-0.00055","v":428.27714740000005},{"$f":"N2+22.98977-0.00055","v":433.23254740000004},{"$f":"N2+38.96371-0.00055","v":449.20648740000001},{"$f":"N2+7.01601-0.00055","v":417.25878740000002},{"$f":"N2-1.0078246+0.00055","v":409.23605279999998},{"$f":"N2+44.99767+0.00055","v":455.24154739999994},{"$f":"N2+59.01332+0.00055","v":469.2571974}]
["LPA 18:0 ",{"$f":"IF(ISNUMBER(SEARCH(\"(\",A3)),IF(ISNUMBER(SEARCH(\"/\",A3)),CONCATENATE(MID(A3,1,2),\" \",(SUM(MID(A3,FIND(\"(\",A3)+1,FIND(\":\",A3)-FIND(\"(\",A3)-1),MID(A3,FIND(\"/\",A3)+1,FIND(\":\",A3,FIND(\"/\",A3))-FIND(\"/\",A3)-1))),\":\",SUM(MID(A3,FIND(\":\",A3)+1,FIND(\"/\",A3)-FIND(\":\",A3)-1),MID(A3,FIND(\":\",A3,FIND(\"/\",A3))+1,FIND(\")\",A3)-FIND(\":\",A3,FIND(\"/\",A3))-1)),MID(A3,(FIND(\")\",A3)+1),100)),CONCATENATE(MID(A3,1,2),\" \",(SUM(MID(A3,FIND(\"(\",A3)+1,FIND(\":\",A3)-FIND(\"(\",A3)-1),MID(A3,FIND(\"_\",A3)+1,FIND(\":\",A3,FIND(\"_\",A3))-FIND(\"_\",A3)-1))),\":\",SUM(MID(A3,FIND(\":\",A3)+1,FIND(\"_\",A3)-FIND(\":\",A3)-1),MID(A3,FIND(\":\",A3,FIND(\"_\",A3))+1,FIND(\")\",A3)-FIND(\":\",A3,FIND(\"_\",A3))-1)),MID(A3,(FIND(\")\",A3)+1),100))),A3)","v":"LPA 18:0 "},{"$f":"MID(B3,5,FIND(\":\",B3)-FIND(\" \",B3)-1)","v":"18"},{"$f":"IF(ISNUMBER(SEARCH(\"__\",B3)),MID(B3,FIND(\":\",B3)+1,FIND(\"__\",B3)-FIND(\":\",B3)-1),MID(B3,FIND(\":\",B3)+1,7))","v":"0 "},null,null,{"$f":"C3+3","v":21},{"$f":"2*G3-(2*D3)+1-((LEN(A3)-LEN(SUBSTITUTE(A3,\"_O_\",\"\")))/LEN(\"_O_\"))*2-((LEN(A3)-LEN(SUBSTITUTE(A3,\"_CHO_\",\"\")))/LEN(\"_CHO_\"))*2-((LEN(A3)-LEN(SUBSTITUTE(A3,\"_COOH_\",\"\")))/LEN(\"_COOH_\"))*2","v":43},{"$f":"7+((LEN(A3)-LEN(SUBSTITUTE(A3,\"_OH_\",\"\")))/LEN(\"_OH_\"))*1+((LEN(A3)-LEN(SUBSTITUTE(A3,\"_OOH_\",\"\")))/LEN(\"_OOH_\"))*2+((LEN(A3)-LEN(SUBSTITUTE(A3,\"_O_\",\"\")))/LEN(\"_O_\"))*1+((LEN(A3)-LEN(SUBSTITUTE(A3,\"_CHO_\",\"\")))/LEN(\"_CHO_\"))*1+((LEN(A3)-LEN(SUBSTITUTE(A3,\"_COOH_\",\"\")))/LEN(\"_COOH_\"))*2","v":7},1,null,{"$f":"CONCATENATE(\"C\",G3,\"H\",H3,\"O\",I3,\"P\",J3)","v":"C21H43O7P1"},{"$f":"(G3*12.0107)+(H3*1.00794)+(I3*15.9994)+(J3*30.973762)","v":438.53568200000001},{"$f":"(G3*12)+(H3*1.0078246)+(I3*15.994915)+(J3*30.973763)","v":438.27462580000002},{"$f":"N3+1.0078246-0.00055","v":439.28190040000004},{"$f":"O3-18.01057-0.00055","v":421.27078040000004},{"$f":"N3+18.03437-0.00055","v":456.30844580000007},{"$f":"N3+22.98977-0.00055","v":461.26384580000007},{"$f":"N3+38.96371-0.00055","v":477.23778580000004},{"$f":"N3+7.01601-0.00055","v":445.29008580000004},{"$f":"N3-1.0078246+0.00055","v":437.26735120000001},{"$f":"N3+44.99767+0.00055","v":483.27284580000003},{"$f":"N3+59.01332+0.00055","v":497.28849580000002}]

{"sheet":"PA","index":22,"n_rows":5,"n_cols":23,"rows_kept":5,"cut":false,"hidden":false,"merged":[]}
["Lipid","Sum Composition",null,null,null,null,"#C","#H","#O","#P",null,"Formula","Molecular Weight","Neutral Mass","[M+H]+","[M+H-H2O]+","[M+NH4]+","[M+Na]+","[M+K]+","[M+Li]+","[M-H]-","[M+HCOO]-","[M+CH3COO]-"]
["PA 48:7",{"$f":"IF(ISNUMBER(SEARCH(\"(\",A2)),IF(ISNUMBER(SEARCH(\"/\",A2)),CONCATENATE(MID(A2,1,2),\" \",(SUM(MID(A2,FIND(\"(\",A2)+1,FIND(\":\",A2)-FIND(\"(\",A2)-1),MID(A2,FIND(\"/\",A2)+1,FIND(\":\",A2,FIND(\"/\",A2))-FIND(\"/\",A2)-1))),\":\",SUM(MID(A2,FIND(\":\",A2)+1,FIND(\"/\",A2)-FIND(\":\",A2)-1),MID(A2,FIND(\":\",A2,FIND(\"/\",A2))+1,FIND(\")\",A2)-FIND(\":\",A2,FIND(\"/\",A2))-1)),MID(A2,(FIND(\")\",A2)+1),100)),CONCATENATE(MID(A2,1,2),\" \",(SUM(MID(A2,FIND(\"(\",A2)+1,FIND(\":\",A2)-FIND(\"(\",A2)-1),MID(A2,FIND(\"_\",A2)+1,FIND(\":\",A2,FIND(\"_\",A2))-FIND(\"_\",A2)-1))),\":\",SUM(MID(A2,FIND(\":\",A2)+1,FIND(\"_\",A2)-FIND(\":\",A2)-1),MID(A2,FIND(\":\",A2,FIND(\"_\",A2))+1,FIND(\")\",A2)-FIND(\":\",A2,FIND(\"_\",A2))-1)),MID(A2,(FIND(\")\",A2)+1),100))),A2)","v":"PA 48:7"},{"$f":"MID(B2,4,FIND(\":\",B2)-FIND(\" \",B2)-1)","v":"48"},{"$f":"IF(ISNUMBER(SEARCH(\"__\",B2)),MID(B2,FIND(\":\",B2)+1,FIND(\"__\",B2)-FIND(\":\",B2)-1),MID(B2,FIND(\":\",B2)+1,7))","v":"7"},null,null,{"$f":"C2+3","v":51},{"$f":"2*G2-(2*D2)-1-((LEN(A2)-LEN(SUBSTITUTE(A2,\"_O_\",\"\")))/LEN(\"_O_\"))*2-((LEN(A2)-LEN(SUBSTITUTE(A2,\"_CHO_\",\"\")))/LEN(\"_CHO_\"))*2-((LEN(A2)-LEN(SUBSTITUTE(A2,\"_COOH_\",\"\")))/LEN(\"_COOH_\"))*2","v":87},{"$f":"8+((LEN(A2)-LEN(SUBSTITUTE(A2,\"_OH_\",\"\")))/LEN(\"_OH_\"))*1+((LEN(A2)-LEN(SUBSTITUTE(A2,\"_OOH_\",\"\")))/LEN(\"_OOH_\"))*2+((LEN(A2)-LEN(SUBSTITUTE(A2,\"_O_\",\"\")))/LEN(\"_O_\"))*1+((LEN(A2)-LEN(SUBSTITUTE(A2,\"_CHO_\",\"\")))/LEN(\"_CHO_\"))*1+((LEN(A2)-LEN(SUBSTITUTE(A2,\"_COOH_\",\"\")))/LEN(\"_COOH_\"))*2","v":8},1,null,{"$f":"CONCATENATE(\"C\",G2,\"H\",H2,\"O\",I2,\"P\",J2)","v":"C51H87O8P1"},{"$f":"(G2*12.0107)+(H2*1.00794)+(I2*15.9994)+(J2*30.973762)","v":859.20544199999995},{"$f":"(G2*12)+(H2*1.0078246)+(I2*15.994915)+(J2*30.973763)","v":858.61382319999996},{"$f":"N2+1.0078246-0.00055","v":859.62109780000003},{"$f":"O2-18.01057-0.00055","v":841.60997780000002},{"$f":"N2+18.03437-0.00055","v":876.64764319999995},{"$f":"N2+22.98977-0.00055","v":881.6030432},{"$f":"N2+38.96371-0.00055","v":897.57698319999997},{"$f":"N2+7.01601-0.00055","v":865.62928320000003},{"$f":"N2-1.0078246+0.00055","v":857.60654859999988},{"$f":"N2+44.99767+0.00055","v":903.6120431999999},{"$f":"N2+59.01332+0.00055","v":917.62769319999995}]
["PA 32:0",{"$f":"IF(ISNUMBER(SEARCH(\"(\",A3)),IF(ISNUMBER(SEARCH(\"/\",A3)),CONCATENATE(MID(A3,1,2),\" \",(SUM(MID(A3,FIND(\"(\",A3)+1,FIND(\":\",A3)-FIND(\"(\",A3)-1),MID(A3,FIND(\"/\",A3)+1,FIND(\":\",A3,FIND(\"/\",A3))-FIND(\"/\",A3)-1))),\":\",SUM(MID(A3,FIND(\":\",A3)+1,FIND(\"/\",A3)-FIND(\":\",A3)-1),MID(A3,FIND(\":\",A3,FIND(\"/\",A3))+1,FIND(\")\",A3)-FIND(\":\",A3,FIND(\"/\",A3))-1)),MID(A3,(FIND(\")\",A3)+1),100)),CONCATENATE(MID(A3,1,2),\" \",(SUM(MID(A3,FIND(\"(\",A3)+1,FIND(\":\",A3)-FIND(\"(\",A3)-1),MID(A3,FIND(\"_\",A3)+1,FIND(\":\",A3,FIND(\"_\",A3))-FIND(\"_\",A3)-1))),\":\",SUM(MID(A3,FIND(\":\",A3)+1,FIND(\"_\",A3)-FIND(\":\",A3)-1),MID(A3,FIND(\":\",A3,FIND(\"_\",A3))+1,FIND(\")\",A3)-FIND(\":\",A3,FIND(\"_\",A3))-1)),MID(A3,(FIND(\")\",A3)+1),100))),A3)","v":"PA 32:0"},{"$f":"MID(B3,4,FIND(\":\",B3)-FIND(\" \",B3)-1)","v":"32"},{"$f":"IF(ISNUMBER(SEARCH(\"__\",B3)),MID(B3,FIND(\":\",B3)+1,FIND(\"__\",B3)-FIND(\":\",B3)-1),MID(B3,FIND(\":\",B3)+1,7))","v":"0"},null,null,{"$f":"C3+3","v":35},{"$f":"2*G3-(2*D3)-1-((LEN(A3)-LEN(SUBSTITUTE(A3,\"_O_\",\"\")))/LEN(\"_O_\"))*2-((LEN(A3)-LEN(SUBSTITUTE(A3,\"_CHO_\",\"\")))/LEN(\"_CHO_\"))*2-((LEN(A3)-LEN(SUBSTITUTE(A3,\"_COOH_\",\"\")))/LEN(\"_COOH_\"))*2","v":69},{"$f":"8+((LEN(A3)-LEN(SUBSTITUTE(A3,\"_OH_\",\"\")))/LEN(\"_OH_\"))*1+((LEN(A3)-LEN(SUBSTITUTE(A3,\"_OOH_\",\"\")))/LEN(\"_OOH_\"))*2+((LEN(A3)-LEN(SUBSTITUTE(A3,\"_O_\",\"\")))/LEN(\"_O_\"))*1+((LEN(A3)-LEN(SUBSTITUTE(A3,\"_CHO_\",\"\")))/LEN(\"_CHO_\"))*1+((LEN(A3)-LEN(SUBSTITUTE(A3,\"_COOH_\",\"\")))/LEN(\"_COOH_\"))*2","v":8},1,null,{"$f":"CONCATENATE(\"C\",G3,\"H\",H3,\"O\",I3,\"P\",J3)","v":"C35H69O8P1"},{"$f":"(G3*12.0107)+(H3*1.00794)+(I3*15.9994)+(J3*30.973762)","v":648.89132199999995},{"$f":"(G3*12)+(H3*1.0078246)+(I3*15.994915)+(J3*30.973763)","v":648.47298039999998},{"$f":"N3+1.0078246-0.00055","v":649.48025500000006},{"$f":"O3-18.01057-0.00055","v":631.46913500000005},{"$f":"N3+18.03437-0.00055","v":666.50680039999997},{"$f":"N3+22.98977-0.00055","v":671.46220040000003},{"$f":"N3+38.96371-0.00055","v":687.4361404},{"$f":"N3+7.01601-0.00055","v":655.48844040000006},{"$f":"N3-1.0078246+0.00055","v":647.46570579999991},{"$f":"N3+44.99767+0.00055","v":693.47120039999993},{"$f":"N3+59.01332+0.00055","v":707.48685039999998}]
["PA(16:0/18:1)__O__CHO__",{"$f":"IF(ISNUMBER(SEARCH(\"(\",A4)),IF(ISNUMBER(SEARCH(\"/\",A4)),CONCATENATE(MID(A4,1,2),\" \",(SUM(MID(A4,FIND(\"(\",A4)+1,FIND(\":\",A4)-FIND(\"(\",A4)-1),MID(A4,FIND(\"/\",A4)+1,FIND(\":\",A4,FIND(\"/\",A4))-FIND(\"/\",A4)-1))),\":\",SUM(MID(A4,FIND(\":\",A4)+1,FIND(\"/\",A4)-FIND(\":\",A4)-1),MID(A4,FIND(\":\",A4,FIND(\"/\",A4))+1,FIND(\")\",A4)-FIND(\":\",A4,FIND(\"/\",A4))-1)),MID(A4,(FIND(\")\",A4)+1),100)),CONCATENATE(MID(A4,1,2),\" \",(SUM(MID(A4,FIND(\"(\",A4)+1,FIND(\":\",A4)-FIND(\"(\",A4)-1),MID(A4,FIND(\"_\",A4)+1,FIND(\":\",A4,FIND(\"_\",A4))-FIND(\"_\",A4)-1))),\":\",SUM(MID(A4,FIND(\":\",A4)+1,FIND(\"_\",A4)-FIND(\":\",A4)-1),MID(A4,FIND(\":\",A4,FIND(\"_\",A4))+1,FIND(\")\",A4)-FIND(\":\",A4,FIND(\"_\",A4))-1)),MID(A4,(FIND(\")\",A4)+1),100))),A4)","v":"PA 34:1__O__CHO__"},{"$f":"MID(B4,4,FIND(\":\",B4)-FIND(\" \",B4)-1)","v":"34"},{"$f":"IF(ISNUMBER(SEARCH(\"__\",B4)),MID(B4,FIND(\":\",B4)+1,FIND(\"__\",B4)-FIND(\":\",B4)-1),MID(B4,FIND(\":\",B4)+1,7))","v":"1"},null,null,{"$f":"C4+3","v":37},{"$f":"2*G4-(2*D4)-1-((LEN(A4)-LEN(SUBSTITUTE(A4,\"_O_\",\"\")))/LEN(\"_O_\"))*2-((LEN(A4)-LEN(SUBSTITUTE(A4,\"_CHO_\",\"\")))/LEN(\"_CHO_\"))*2-((LEN(A4)-LEN(SUBSTITUTE(A4,\"_COOH_\",\"\")))/LEN(\"_COOH_\"))*2","v":67},{"$f":"8+((LEN(A4)-LEN(SUBSTITUTE(A4,\"_OH_\",\"\")))/LEN(\"_OH_\"))*1+((LEN(A4)-LEN(SUBSTITUTE(A4,\"_OOH_\",\"\")))/LEN(\"_OOH_\"))*2+((LEN(A4)-LEN(SUBSTITUTE(A4,\"_O_\",\"\")))/LEN(\"_O_\"))*1+((LEN(A4)-LEN(SUBSTITUTE(A4,\"_CHO_\",\"\")))/LEN(\"_CHO_\"))*1+((LEN(A4)-LEN(SUBSTITUTE(A4,\"_COOH_\",\"\")))/LEN(\"_COOH_\"))*2","v":10},1,null,{"$f":"CONCATENATE(\"C\",G4,\"H\",H4,\"O\",I4,\"P\",J4)","v":"C37H67O10P1"},{"$f":"(G4*12.0107)+(H4*1.00794)+(I4*15.9994)+(J4*30.973762)","v":702.89564199999995},702.44716119999998,{"$f":"N4+1.0078246-0.00055","v":703.45443580000006},{"$f":"O4-18.01057-0.00055","v":685.44331580000005},{"$f":"N4+18.03437-0.00055","v":720.48098119999997},{"$f":"N4+22.98977-0.00055","v":725.43638120000003},{"$f":"N4+38.96371-0.00055","v":741.4103212},{"$f":"N4+7.01601-0.00055","v":709.46262120000006},{"$f":"N4-1.0078246+0.00055","v":701.43988659999991},{"$f":"N4+44.99767+0.00055","v":747.44538119999993},{"$f":"N4+59.01332+0.00055","v":761.46103119999998}]
["PA(18:1_18:1)",{"$f":"IF(ISNUMBER(SEARCH(\"(\",A5)),IF(ISNUMBER(SEARCH(\"/\",A5)),CONCATENATE(MID(A5,1,2),\" \",(SUM(MID(A5,FIND(\"(\",A5)+1,FIND(\":\",A5)-FIND(\"(\",A5)-1),MID(A5,FIND(\"/\",A5)+1,FIND(\":\",A5,FIND(\"/\",A5))-FIND(\"/\",A5)-1))),\":\",SUM(MID(A5,FIND(\":\",A5)+1,FIND(\"/\",A5)-FIND(\":\",A5)-1),MID(A5,FIND(\":\",A5,FIND(\"/\",A5))+1,FIND(\")\",A5)-FIND(\":\",A5,FIND(\"/\",A5))-1)),MID(A5,(FIND(\")\",A5)+1),100)),CONCATENATE(MID(A5,1,2),\" \",(SUM(MID(A5,FIND(\"(\",A5)+1,FIND(\":\",A5)-FIND(\"(\",A5)-1),MID(A5,FIND(\"_\",A5)+1,FIND(\":\",A5,FIND(\"_\",A5))-FIND(\"_\",A5)-1))),\":\",SUM(MID(A5,FIND(\":\",A5)+1,FIND(\"_\",A5)-FIND(\":\",A5)-1),MID(A5,FIND(\":\",A5,FIND(\"_\",A5))+1,FIND(\")\",A5)-FIND(\":\",A5,FIND(\"_\",A5))-1)),MID(A5,(FIND(\")\",A5)+1),100))),A5)","v":"PA 36:2"},{"$f":"MID(B5,4,FIND(\":\",B5)-FIND(\" \",B5)-1)","v":"36"},{"$f":"IF(ISNUMBER(SEARCH(\"__\",B5)),MID(B5,FIND(\":\",B5)+1,FIND(\"__\",B5)-FIND(\":\",B5)-1),MID(B5,FIND(\":\",B5)+1,7))","v":"2"},null,null,{"$f":"C5+3","v":39},{"$f":"2*G5-(2*D5)-1-((LEN(A5)-LEN(SUBSTITUTE(A5,\"_O_\",\"\")))/LEN(\"_O_\"))*2-((LEN(A5)-LEN(SUBSTITUTE(A5,\"_CHO_\",\"\")))/LEN(\"_CHO_\"))*2-((LEN(A5)-LEN(SUBSTITUTE(A5,\"_COOH_\",\"\")))/LEN(\"_COOH_\"))*2","v":73},{"$f":"8+((LEN(A5)-LEN(SUBSTITUTE(A5,\"_OH_\",\"\")))/LEN(\"_OH_\"))*1+((LEN(A5)-LEN(SUBSTITUTE(A5,\"_OOH_\",\"\")))/LEN(\"_OOH_\"))*2+((LEN(A5)-LEN(SUBSTITUTE(A5,\"_O_\",\"\")))/LEN(\"_O_\"))*1+((LEN(A5)-LEN(SUBSTITUTE(A5,\"_CHO_\",\"\")))/LEN(\"_CHO_\"))*1+((LEN(A5)-LEN(SUBSTITUTE(A5,\"_COOH_\",\"\")))/LEN(\"_COOH_\"))*2","v":8},1,null,{"$f":"CONCATENATE(\"C\",G5,\"H\",H5,\"O\",I5,\"P\",J5)","v":"C39H73O8P1"},{"$f":"(G5*12.0107)+(H5*1.00794)+(I5*15.9994)+(J5*30.973762)","v":700.96588199999997},700.50427879999995,{"$f":"N5+1.0078246-0.00055","v":701.51155340000003},{"$f":"O5-18.01057-0.00055","v":683.50043340000002},{"$f":"N5+18.03437-0.00055","v":718.53809879999994},{"$f":"N5+22.98977-0.00055","v":723.4934988},{"$f":"N5+38.96371-0.00055","v":739.46743879999997},{"$f":"N5+7.01601-0.00055","v":707.51973880000003},{"$f":"N5-1.0078246+0.00055","v":699.49700419999988},{"$f":"N5+44.99767+0.00055","v":745.5024987999999},{"$f":"N5+59.01332+0.00055","v":759.51814879999995}]

{"sheet":"LPE","index":23,"n_rows":4,"n_cols":23,"rows_kept":4,"cut":false,"hidden":false,"merged":[]}
["Lipid","Sum Composition",null,null,null,null,"#C","#H","#N","#O","#P","Formula","Molecular Weight","Neutral Mass","[M+H]+","[M+H-H2O]+","[M+NH4]+","[M+Na]+","[M+K]+","[M+Li]+","[M-H]-","[M+HCOO]-","[M+CH3COO]-"]
["LPE 12:0",{"$f":"IF(ISNUMBER(SEARCH(\"(\",A2)),IF(ISNUMBER(SEARCH(\"/\",A2)),CONCATENATE(MID(A2,1,2),\" \",(SUM(MID(A2,FIND(\"(\",A2)+1,FIND(\":\",A2)-FIND(\"(\",A2)-1),MID(A2,FIND(\"/\",A2)+1,FIND(\":\",A2,FIND(\"/\",A2))-FIND(\"/\",A2)-1))),\":\",SUM(MID(A2,FIND(\":\",A2)+1,FIND(\"/\",A2)-FIND(\":\",A2)-1),MID(A2,FIND(\":\",A2,FIND(\"/\",A2))+1,FIND(\")\",A2)-FIND(\":\",A2,FIND(\"/\",A2))-1)),MID(A2,(FIND(\")\",A2)+1),100)),CONCATENATE(MID(A2,1,2),\" \",(SUM(MID(A2,FIND(\"(\",A2)+1,FIND(\":\",A2)-FIND(\"(\",A2)-1),MID(A2,FIND(\"_\",A2)+1,FIND(\":\",A2,FIND(\"_\",A2))-FIND(\"_\",A2)-1))),\":\",SUM(MID(A2,FIND(\":\",A2)+1,FIND(\"_\",A2)-FIND(\":\",A2)-1),MID(A2,FIND(\":\",A2,FIND(\"_\",A2))+1,FIND(\")\",A2)-FIND(\":\",A2,FIND(\"_\",A2))-1)),MID(A2,(FIND(\")\",A2)+1),100))),A2)","v":"LPE 12:0"},{"$f":"MID(B2,5,FIND(\":\",B2)-FIND(\" \",B2)-1)","v":"12"},{"$f":"IF(ISNUMBER(SEARCH(\"__\",B2)),MID(B2,FIND(\":\",B2)+1,FIND(\"__\",B2)-FIND(\":\",B2)-1),MID(B2,FIND(\":\",B2)+1,7))","v":"0"},null,null,{"$f":"C2+5","v":17},{"$f":"2*G2-(2*D2)+2-((LEN(A2)-LEN(SUBSTITUTE(A2,\"_O_\",\"\")))/LEN(\"_O_\"))*2-((LEN(A2)-LEN(SUBSTITUTE(A2,\"_CHO_\",\"\")))/LEN(\"_CHO_\"))*2-((LEN(A2)-LEN(SUBSTITUTE(A2,\"_COOH_\",\"\")))/LEN(\"_COOH_\"))*2","v":36},1,{"$f":"7+((LEN(A2)-LEN(SUBSTITUTE(A2,\"_OH_\",\"\")))/LEN(\"_OH_\"))*1+((LEN(A2)-LEN(SUBSTITUTE(A2,\"_OOH_\",\"\")))/LEN(\"_OOH_\"))*2+((LEN(A2)-LEN(SUBSTITUTE(A2,\"_O_\",\"\")))/LEN(\"_O_\"))*1+((LEN(A2)-LEN(SUBSTITUTE(A2,\"_CHO_\",\"\")))/LEN(\"_CHO_\"))*1+((LEN(A2)-LEN(SUBSTITUTE(A2,\"_COOH_\",\"\")))/LEN(\"_COOH_\"))*2","v":7},1,{"$f":"CONCATENATE(\"C\",G2,\"H\",H2,\"N\",I2,\"O\",J2,\"P\",K2)","v":"C17H36N1O7P1"},{"$f":"(G2*12.0107)+(H2*1.00794)+(I2*14.0067)+(J2*15.9994)+(K2*30.973762)","v":397.44400200000001},{"$f":"(G2*12)+(H2*1.0078246)+(I2*14.003074)+(J2*15.994915)+(K2*30.973763)","v":397.22292759999999},{"$f":"N2+1.0078246-0.00055","v":398.23020220000001},{"$f":"O2-18.01057-0.00055","v":380.2190822},{"$f":"N2+18.03437-0.00055","v":415.25674760000004},{"$f":"N2+22.98977-0.00055","v":420.21214760000004},{"$f":"N2+38.96371-0.00055","v":436.18608760000001},{"$f":"N2+7.01601-0.00055","v":404.23838760000001},{"$f":"N2-1.0078246+0.00055","v":396.21565299999997},{"$f":"N2+44.99767+0.00055","v":442.22114759999999},{"$f":"N2+59.01332+0.00055","v":456.23679759999999}]
["LPE 12:0",{"$f":"IF(ISNUMBER(SEARCH(\"(\",A3)),IF(ISNUMBER(SEARCH(\"/\",A3)),CONCATENATE(MID(A3,1,2),\" \",(SUM(MID(A3,FIND(\"(\",A3)+1,FIND(\":\",A3)-FIND(\"(\",A3)-1),MID(A3,FIND(\"/\",A3)+1,FIND(\":\",A3,FIND(\"/\",A3))-FIND(\"/\",A3)-1))),\":\",SUM(MID(A3,FIND(\":\",A3)+1,FIND(\"/\",A3)-FIND(\":\",A3)-1),MID(A3,FIND(\":\",A3,FIND(\"/\",A3))+1,FIND(\")\",A3)-FIND(\":\",A3,FIND(\"/\",A3))-1)),MID(A3,(FIND(\")\",A3)+1),100)),CONCATENATE(MID(A3,1,2),\" \",(SUM(MID(A3,FIND(\"(\",A3)+1,FIND(\":\",A3)-FIND(\"(\",A3)-1),MID(A3,FIND(\"_\",A3)+1,FIND(\":\",A3,FIND(\"_\",A3))-FIND(\"_\",A3)-1))),\":\",SUM(MID(A3,FIND(\":\",A3)+1,FIND(\"_\",A3)-FIND(\":\",A3)-1),MID(A3,FIND(\":\",A3,FIND(\"_\",A3))+1,FIND(\")\",A3)-FIND(\":\",A3,FIND(\"_\",A3))-1)),MID(A3,(FIND(\")\",A3)+1),100))),A3)","v":"LPE 12:0"},{"$f":"MID(B3,5,FIND(\":\",B3)-FIND(\" \",B3)-1)","v":"12"},{"$f":"IF(ISNUMBER(SEARCH(\"__\",B3)),MID(B3,FIND(\":\",B3)+1,FIND(\"__\",B3)-FIND(\":\",B3)-1),MID(B3,FIND(\":\",B3)+1,7))","v":"0"},null,null,{"$f":"C3+5","v":17},{"$f":"2*G3-(2*D3)+2-((LEN(A3)-LEN(SUBSTITUTE(A3,\"_O_\",\"\")))/LEN(\"_O_\"))*2-((LEN(A3)-LEN(SUBSTITUTE(A3,\"_CHO_\",\"\")))/LEN(\"_CHO_\"))*2-((LEN(A3)-LEN(SUBSTITUTE(A3,\"_COOH_\",\"\")))/LEN(\"_COOH_\"))*2","v":36},1,{"$f":"7+((LEN(A3)-LEN(SUBSTITUTE(A3,\"_OH_\",\"\")))/LEN(\"_OH_\"))*1+((LEN(A3)-LEN(SUBSTITUTE(A3,\"_OOH_\",\"\")))/LEN(\"_OOH_\"))*2+((LEN(A3)-LEN(SUBSTITUTE(A3,\"_O_\",\"\")))/LEN(\"_O_\"))*1+((LEN(A3)-LEN(SUBSTITUTE(A3,\"_CHO_\",\"\")))/LEN(\"_CHO_\"))*1+((LEN(A3)-LEN(SUBSTITUTE(A3,\"_COOH_\",\"\")))/LEN(\"_COOH_\"))*2","v":7},1,{"$f":"CONCATENATE(\"C\",G3,\"H\",H3,\"N\",I3,\"O\",J3,\"P\",K3)","v":"C17H36N1O7P1"},{"$f":"(G3*12.0107)+(H3*1.00794)+(I3*14.0067)+(J3*15.9994)+(K3*30.973762)","v":397.44400200000001},{"$f":"(G3*12)+(H3*1.0078246)+(I3*14.003074)+(J3*15.994915)+(K3*30.973763)","v":397.22292759999999},{"$f":"N3+1.0078246-0.00055","v":398.23020220000001},{"$f":"O3-18.01057-0.00055","v":380.2190822},{"$f":"N3+18.03437-0.00055","v":415.25674760000004},{"$f":"N3+22.98977-0.00055","v":420.21214760000004},{"$f":"N3+38.96371-0.00055","v":436.18608760000001},{"$f":"N3+7.01601-0.00055","v":404.23838760000001},{"$f":"N3-1.0078246+0.00055","v":396.21565299999997},{"$f":"N3+44.99767+0.00055","v":442.22114759999999},{"$f":"N3+59.01332+0.00055","v":456.23679759999999}]
["LPE 14:0",{"$f":"IF(ISNUMBER(SEARCH(\"(\",A4)),IF(ISNUMBER(SEARCH(\"/\",A4)),CONCATENATE(MID(A4,1,2),\" \",(SUM(MID(A4,FIND(\"(\",A4)+1,FIND(\":\",A4)-FIND(\"(\",A4)-1),MID(A4,FIND(\"/\",A4)+1,FIND(\":\",A4,FIND(\"/\",A4))-FIND(\"/\",A4)-1))),\":\",SUM(MID(A4,FIND(\":\",A4)+1,FIND(\"/\",A4)-FIND(\":\",A4)-1),MID(A4,FIND(\":\",A4,FIND(\"/\",A4))+1,FIND(\")\",A4)-FIND(\":\",A4,FIND(\"/\",A4))-1)),MID(A4,(FIND(\")\",A4)+1),100)),CONCATENATE(MID(A4,1,2),\" \",(SUM(MID(A4,FIND(\"(\",A4)+1,FIND(\":\",A4)-FIND(\"(\",A4)-1),MID(A4,FIND(\"_\",A4)+1,FIND(\":\",A4,FIND(\"_\",A4))-FIND(\"_\",A4)-1))),\":\",SUM(MID(A4,FIND(\":\",A4)+1,FIND(\"_\",A4)-FIND(\":\",A4)-1),MID(A4,FIND(\":\",A4,FIND(\"_\",A4))+1,FIND(\")\",A4)-FIND(\":\",A4,FIND(\"_\",A4))-1)),MID(A4,(FIND(\")\",A4)+1),100))),A4)","v":"LPE 14:0"},{"$f":"MID(B4,5,FIND(\":\",B4)-FIND(\" \",B4)-1)","v":"14"},{"$f":"IF(ISNUMBER(SEARCH(\"__\",B4)),MID(B4,FIND(\":\",B4)+1,FIND(\"__\",B4)-FIND(\":\",B4)-1),MID(B4,FIND(\":\",B4)+1,7))","v":"0"},null,null,19,{"$f":"2*G4-(2*D4)+2-((LEN(A4)-LEN(SUBSTITUTE(A4,\"_O_\",\"\")))/LEN(\"_O_\"))*2-((LEN(A4)-LEN(SUBSTITUTE(A4,\"_CHO_\",\"\")))/LEN(\"_CHO_\"))*2-((LEN(A4)-LEN(SUBSTITUTE(A4,\"_COOH_\",\"\")))/LEN(\"_COOH_\"))*2","v":40},1,{"$f":"7+((LEN(A4)-LEN(SUBSTITUTE(A4,\"_OH_\",\"\")))/LEN(\"_OH_\"))*1+((LEN(A4)-LEN(SUBSTITUTE(A4,\"_OOH_\",\"\")))/LEN(\"_OOH_\"))*2+((LEN(A4)-LEN(SUBSTITUTE(A4,\"_O_\",\"\")))/LEN(\"_O_\"))*1+((LEN(A4)-LEN(SUBSTITUTE(A4,\"_CHO_\",\"\")))/LEN(\"_CHO_\"))*1+((LEN(A4)-LEN(SUBSTITUTE(A4,\"_COOH_\",\"\")))/LEN(\"_COOH_\"))*2","v":7},1,"C19H40N1O7P1",{"$f":"(G4*12.0107)+(H4*1.00794)+(I4*14.0067)+(J4*15.9994)+(K4*30.973762)","v":425.49716200000006},425.25422600000007,{"$f":"N4+1.0078246-0.00055","v":426.26150060000009},{"$f":"O4-18.01057-0.00055","v":408.25038060000008},{"$f":"N4+18.03437-0.00055","v":443.28804600000012},{"$f":"N4+22.98977-0.00055","v":448.24344600000012},{"$f":"N4+38.96371-0.00055","v":464.21738600000009},{"$f":"N4+7.01601-0.00055","v":432.26968600000009},{"$f":"N4-1.0078246+0.00055","v":424.24695140000006},{"$f":"N4+44.99767+0.00055","v":470.25244600000008},{"$f":"N4+59.01332+0.00055","v":484.26809600000007}]

{"sheet":"PE","index":24,"n_rows":4,"n_cols":23,"rows_kept":4,"cut":false,"hidden":false,"merged":[]}
["Lipid","Sum Composition",null,null,null,null,"#C","#H","#N","#O","#P","Formula","Molecular Weight","Neutral Mass","[M+H]+","[M+H-H2O]+","[M+NH4]+","[M+Na]+","[M+K]+","[M+Li]+","[M-H]-","[M+HCOO]-","[M+CH3COO]-"]
["PE 19:2",{"$f":"IF(ISNUMBER(SEARCH(\"(\",A2)),IF(ISNUMBER(SEARCH(\"/\",A2)),CONCATENATE(MID(A2,1,2),\" \",(SUM(MID(A2,FIND(\"(\",A2)+1,FIND(\":\",A2)-FIND(\"(\",A2)-1),MID(A2,FIND(\"/\",A2)+1,FIND(\":\",A2,FIND(\"/\",A2))-FIND(\"/\",A2)-1))),\":\",SUM(MID(A2,FIND(\":\",A2)+1,FIND(\"/\",A2)-FIND(\":\",A2)-1),MID(A2,FIND(\":\",A2,FIND(\"/\",A2))+1,FIND(\")\",A2)-FIND(\":\",A2,FIND(\"/\",A2))-1)),MID(A2,(FIND(\")\",A2)+1),100)),CONCATENATE(MID(A2,1,2),\" \",(SUM(MID(A2,FIND(\"(\",A2)+1,FIND(\":\",A2)-FIND(\"(\",A2)-1),MID(A2,FIND(\"_\",A2)+1,FIND(\":\",A2,FIND(\"_\",A2))-FIND(\"_\",A2)-1))),\":\",SUM(MID(A2,FIND(\":\",A2)+1,FIND(\"_\",A2)-FIND(\":\",A2)-1),MID(A2,FIND(\":\",A2,FIND(\"_\",A2))+1,FIND(\")\",A2)-FIND(\":\",A2,FIND(\"_\",A2))-1)),MID(A2,(FIND(\")\",A2)+1),100))),A2)","v":"PE 19:2"},{"$f":"MID(B2,4,FIND(\":\",B2)-FIND(\" \",B2)-1)","v":"19"},{"$f":"IF(ISNUMBER(SEARCH(\"__\",B2)),MID(B2,FIND(\":\",B2)+1,FIND(\"__\",B2)-FIND(\":\",B2)-1),MID(B2,FIND(\":\",B2)+1,7))","v":"2"},{"$f":"MID(A2,5,1)","v":"9"},null,{"$f":"C2+5","v":24},{"$f":"2*G2-(2*D2)-((LEN(A2)-LEN(SUBSTITUTE(A2,\"_O_\",\"\")))/LEN(\"_O_\"))*2-((LEN(A2)-LEN(SUBSTITUTE(A2,\"_CHO_\",\"\")))/LEN(\"_CHO_\"))*2-((LEN(A2)-LEN(SUBSTITUTE(A2,\"_COOH_\",\"\")))/LEN(\"_COOH_\"))*2","v":44},1,{"$f":"8+((LEN(A2)-LEN(SUBSTITUTE(A2,\"_OH_\",\"\")))/LEN(\"_OH_\"))*1+((LEN(A2)-LEN(SUBSTITUTE(A2,\"_OOH_\",\"\")))/LEN(\"_OOH_\"))*2+((LEN(A2)-LEN(SUBSTITUTE(A2,\"_O_\",\"\")))/LEN(\"_O_\"))*1+((LEN(A2)-LEN(SUBSTITUTE(A2,\"_CHO_\",\"\")))/LEN(\"_CHO_\"))*1+((LEN(A2)-LEN(SUBSTITUTE(A2,\"_COOH_\",\"\")))/LEN(\"_COOH_\"))*2","v":8},1,{"$f":"CONCATENATE(\"C\",G2,\"H\",H2,\"N\",I2,\"O\",J2,\"P\",K2)","v":"C24H44N1O8P1"},{"$f":"(G2*12.0107)+(H2*1.00794)+(I2*14.0067)+(J2*15.9994)+(K2*30.973762)","v":505.58182200000005},{"$f":"(G2*12)+(H2*1.0078246)+(I2*14.003074)+(J2*15.994915)+(K2*30.973763)","v":505.28043940000003},{"$f":"N2+1.0078246-0.00055","v":506.28771400000005},{"$f":"O2-18.01057-0.00055","v":488.27659400000005},{"$f":"N2+18.03437-0.00055","v":523.31425940000008},{"$f":"N2+22.98977-0.00055","v":528.26965940000002},{"$f":"N2+38.96371-0.00055","v":544.24359940000011},{"$f":"N2+7.01601-0.00055","v":512.29589940000005},{"$f":"N2-1.0078246+0.00055","v":504.27316480000002},{"$f":"N2+44.99767+0.00055","v":550.27865940000004},{"$f":"N2+59.01332+0.00055","v":564.29430939999997}]
["PE(18:0/18:2)__CHO__",{"$f":"IF(ISNUMBER(SEARCH(\"(\",A3)),IF(ISNUMBER(SEARCH(\"/\",A3)),CONCATENATE(MID(A3,1,2),\" \",(SUM(MID(A3,FIND(\"(\",A3)+1,FIND(\":\",A3)-FIND(\"(\",A3)-1),MID(A3,FIND(\"/\",A3)+1,FIND(\":\",A3,FIND(\"/\",A3))-FIND(\"/\",A3)-1))),\":\",SUM(MID(A3,FIND(\":\",A3)+1,FIND(\"/\",A3)-FIND(\":\",A3)-1),MID(A3,FIND(\":\",A3,FIND(\"/\",A3))+1,FIND(\")\",A3)-FIND(\":\",A3,FIND(\"/\",A3))-1)),MID(A3,(FIND(\")\",A3)+1),100)),CONCATENATE(MID(A3,1,2),\" \",(SUM(MID(A3,FIND(\"(\",A3)+1,FIND(\":\",A3)-FIND(\"(\",A3)-1),MID(A3,FIND(\"_\",A3)+1,FIND(\":\",A3,FIND(\"_\",A3))-FIND(\"_\",A3)-1))),\":\",SUM(MID(A3,FIND(\":\",A3)+1,FIND(\"_\",A3)-FIND(\":\",A3)-1),MID(A3,FIND(\":\",A3,FIND(\"_\",A3))+1,FIND(\")\",A3)-FIND(\":\",A3,FIND(\"_\",A3))-1)),MID(A3,(FIND(\")\",A3)+1),100))),A3)","v":"PE 36:2__CHO__"},{"$f":"MID(B3,4,FIND(\":\",B3)-FIND(\" \",B3)-1)","v":"36"},{"$f":"IF(ISNUMBER(SEARCH(\"__\",B3)),MID(B3,FIND(\":\",B3)+1,FIND(\"__\",B3)-FIND(\":\",B3)-1),MID(B3,FIND(\":\",B3)+1,7))","v":"2"},{"$f":"MID(A3,5,1)","v":"8"},null,{"$f":"C3+5","v":41},{"$f":"2*G3-(2*D3)-((LEN(A3)-LEN(SUBSTITUTE(A3,\"_O_\",\"\")))/LEN(\"_O_\"))*2-((LEN(A3)-LEN(SUBSTITUTE(A3,\"_CHO_\",\"\")))/LEN(\"_CHO_\"))*2-((LEN(A3)-LEN(SUBSTITUTE(A3,\"_COOH_\",\"\")))/LEN(\"_COOH_\"))*2","v":76},1,{"$f":"8+((LEN(A3)-LEN(SUBSTITUTE(A3,\"_OH_\",\"\")))/LEN(\"_OH_\"))*1+((LEN(A3)-LEN(SUBSTITUTE(A3,\"_OOH_\",\"\")))/LEN(\"_OOH_\"))*2+((LEN(A3)-LEN(SUBSTITUTE(A3,\"_O_\",\"\")))/LEN(\"_O_\"))*1+((LEN(A3)-LEN(SUBSTITUTE(A3,\"_CHO_\",\"\")))/LEN(\"_CHO_\"))*1+((LEN(A3)-LEN(SUBSTITUTE(A3,\"_COOH_\",\"\")))/LEN(\"_COOH_\"))*2","v":9},1,{"$f":"CONCATENATE(\"C\",G3,\"H\",H3,\"N\",I3,\"O\",J3,\"P\",K3)","v":"C41H76N1O9P1"},{"$f":"(G3*12.0107)+(H3*1.00794)+(I3*14.0067)+(J3*15.9994)+(K3*30.973762)","v":758.017202},{"$f":"(G3*12)+(H3*1.0078246)+(I3*14.003074)+(J3*15.994915)+(K3*30.973763)","v":757.52574159999995},{"$f":"N3+1.0078246-0.00055","v":758.53301620000002},{"$f":"O3-18.01057-0.00055","v":740.52189620000001},{"$f":"N3+18.03437-0.00055","v":775.55956159999994},{"$f":"N3+22.98977-0.00055","v":780.51496159999999},{"$f":"N3+38.96371-0.00055","v":796.48890159999996},{"$f":"N3+7.01601-0.00055","v":764.54120160000002},{"$f":"N3-1.0078246+0.00055","v":756.51846699999987},{"$f":"N3+44.99767+0.00055","v":802.52396159999989},{"$f":"N3+59.01332+0.00055","v":816.53961159999994}]
["PE(16:0_18:1)",{"$f":"IF(ISNUMBER(SEARCH(\"(\",A4)),IF(ISNUMBER(SEARCH(\"/\",A4)),CONCATENATE(MID(A4,1,2),\" \",(SUM(MID(A4,FIND(\"(\",A4)+1,FIND(\":\",A4)-FIND(\"(\",A4)-1),MID(A4,FIND(\"/\",A4)+1,FIND(\":\",A4,FIND(\"/\",A4))-FIND(\"/\",A4)-1))),\":\",SUM(MID(A4,FIND(\":\",A4)+1,FIND(\"/\",A4)-FIND(\":\",A4)-1),MID(A4,FIND(\":\",A4,FIND(\"/\",A4))+1,FIND(\")\",A4)-FIND(\":\",A4,FIND(\"/\",A4))-1)),MID(A4,(FIND(\")\",A4)+1),100)),CONCATENATE(MID(A4,1,2),\" \",(SUM(MID(A4,FIND(\"(\",A4)+1,FIND(\":\",A4)-FIND(\"(\",A4)-1),MID(A4,FIND(\"_\",A4)+1,FIND(\":\",A4,FIND(\"_\",A4))-FIND(\"_\",A4)-1))),\":\",SUM(MID(A4,FIND(\":\",A4)+1,FIND(\"_\",A4)-FIND(\":\",A4)-1),MID(A4,FIND(\":\",A4,FIND(\"_\",A4))+1,FIND(\")\",A4)-FIND(\":\",A4,FIND(\"_\",A4))-1)),MID(A4,(FIND(\")\",A4)+1),100))),A4)","v":"PE 34:1"},{"$f":"MID(B4,4,FIND(\":\",B4)-FIND(\" \",B4)-1)","v":"34"},{"$f":"IF(ISNUMBER(SEARCH(\"__\",B4)),MID(B4,FIND(\":\",B4)+1,FIND(\"__\",B4)-FIND(\":\",B4)-1),MID(B4,FIND(\":\",B4)+1,7))","v":"1"},{"$f":"MID(A4,5,1)","v":"6"},null,{"$f":"C4+5","v":39},{"$f":"2*G4-(2*D4)-((LEN(A4)-LEN(SUBSTITUTE(A4,\"_O_\",\"\")))/LEN(\"_O_\"))*2-((LEN(A4)-LEN(SUBSTITUTE(A4,\"_CHO_\",\"\")))/LEN(\"_CHO_\"))*2-((LEN(A4)-LEN(SUBSTITUTE(A4,\"_COOH_\",\"\")))/LEN(\"_COOH_\"))*2","v":76},1,{"$f":"8+((LEN(A4)-LEN(SUBSTITUTE(A4,\"_OH_\",\"\")))/LEN(\"_OH_\"))*1+((LEN(A4)-LEN(SUBSTITUTE(A4,\"_OOH_\",\"\")))/LEN(\"_OOH_\"))*2+((LEN(A4)-LEN(SUBSTITUTE(A4,\"_O_\",\"\")))/LEN(\"_O_\"))*1+((LEN(A4)-LEN(SUBSTITUTE(A4,\"_CHO_\",\"\")))/LEN(\"_CHO_\"))*1+((LEN(A4)-LEN(SUBSTITUTE(A4,\"_COOH_\",\"\")))/LEN(\"_COOH_\"))*2","v":8},1,{"$f":"CONCATENATE(\"C\",G4,\"H\",H4,\"N\",I4,\"O\",J4,\"P\",K4)","v":"C39H76N1O8P1"},{"$f":"(G4*12.0107)+(H4*1.00794)+(I4*14.0067)+(J4*15.9994)+(K4*30.973762)","v":717.99640199999999},{"$f":"(G4*12)+(H4*1.0078246)+(I4*14.003074)+(J4*15.994915)+(K4*30.973763)","v":717.53082659999995},{"$f":"N4+1.0078246-0.00055","v":718.53810120000003},{"$f":"O4-18.01057-0.00055","v":700.52698120000002},{"$f":"N4+18.03437-0.00055","v":735.56464659999995},{"$f":"N4+22.98977-0.00055","v":740.5200466},{"$f":"N4+38.96371-0.00055","v":756.49398659999997},{"$f":"N4+7.01601-0.00055","v":724.54628660000003},{"$f":"N4-1.0078246+0.00055","v":716.52355199999988},{"$f":"N4+44.99767+0.00055","v":762.5290465999999},{"$f":"N4+59.01332+0.00055","v":776.54469659999995}]

{"sheet":"LPG","index":25,"n_rows":3,"n_cols":23,"rows_kept":3,"cut":false,"hidden":false,"merged":[]}
["Lipid","Sum Composition",null,null,null,null,"#C","#H","#O","#P",null,"Formula","Molecular Weight","Neutral Mass","[M+H]+","[M+H-H2O]+","[M+NH4]+","[M+Na]+","[M+K]+","[M+Li]+","[M-H]-","[M+HCOO]-","[M+CH3COO]-"]
["LPG 16:0__O__",{"$f":"IF(ISNUMBER(SEARCH(\"(\",A2)),IF(ISNUMBER(SEARCH(\"/\",A2)),CONCATENATE(MID(A2,1,2),\" \",(SUM(MID(A2,FIND(\"(\",A2)+1,FIND(\":\",A2)-FIND(\"(\",A2)-1),MID(A2,FIND(\"/\",A2)+1,FIND(\":\",A2,FIND(\"/\",A2))-FIND(\"/\",A2)-1))),\":\",SUM(MID(A2,FIND(\":\",A2)+1,FIND(\"/\",A2)-FIND(\":\",A2)-1),MID(A2,FIND(\":\",A2,FIND(\"/\",A2))+1,FIND(\")\",A2)-FIND(\":\",A2,FIND(\"/\",A2))-1)),MID(A2,(FIND(\")\",A2)+1),100)),CONCATENATE(MID(A2,1,2),\" \",(SUM(MID(A2,FIND(\"(\",A2)+1,FIND(\":\",A2)-FIND(\"(\",A2)-1),MID(A2,FIND(\"_\",A2)+1,FIND(\":\",A2,FIND(\"_\",A2))-FIND(\"_\",A2)-1))),\":\",SUM(MID(A2,FIND(\":\",A2)+1,FIND(\"_\",A2)-FIND(\":\",A2)-1),MID(A2,FIND(\":\",A2,FIND(\"_\",A2))+1,FIND(\")\",A2)-FIND(\":\",A2,FIND(\"_\",A2))-1)),MID(A2,(FIND(\")\",A2)+1),100))),A2)","v":"LPG 16:0__O__"},{"$f":"MID(B2,5,FIND(\":\",B2)-FIND(\" \",B2)-1)","v":"16"},{"$f":"IF(ISNUMBER(SEARCH(\"__\",B2)),MID(B2,FIND(\":\",B2)+1,FIND(\"__\",B2)-FIND(\":\",B2)-1),MID(B2,FIND(\":\",B2)+1,7))","v":"0"},null,null,{"$f":"C2+6","v":22},{"$f":"2*G2-(2*D2)+1-((LEN(A2)-LEN(SUBSTITUTE(A2,\"_O_\",\"\")))/LEN(\"_O_\"))*2-((LEN(A2)-LEN(SUBSTITUTE(A2,\"_CHO_\",\"\")))/LEN(\"_CHO_\"))*2-((LEN(A2)-LEN(SUBSTITUTE(A2,\"_COOH_\",\"\")))/LEN(\"_COOH_\"))*2","v":43},{"$f":"9+((LEN(A2)-LEN(SUBSTITUTE(A2,\"_OH_\",\"\")))/LEN(\"_OH_\"))*1+((LEN(A2)-LEN(SUBSTITUTE(A2,\"_OOH_\",\"\")))/LEN(\"_OOH_\"))*2+((LEN(A2)-LEN(SUBSTITUTE(A2,\"_O_\",\"\")))/LEN(\"_O_\"))*1+((LEN(A2)-LEN(SUBSTITUTE(A2,\"_CHO_\",\"\")))/LEN(\"_CHO_\"))*1+((LEN(A2)-LEN(SUBSTITUTE(A2,\"_COOH_\",\"\")))/LEN(\"_COOH_\"))*2","v":10},1,null,{"$f":"CONCATENATE(\"C\",G2,\"H\",H2,\"O\",I2,\"P\",J2)","v":"C22H43O10P1"},{"$f":"(G2*12.0107)+(H2*1.00794)+(I2*14.0067)+(J2*15.9994)+(K2*30.973762)","v":463.64321999999999},{"$f":"(G2*12)+(H2*1.0078246)+(I2*15.994915)+(J2*30.973763)","v":498.2593708},{"$f":"N2+1.0078246-0.00055","v":499.26664540000002},{"$f":"O2-18.01057-0.00055","v":481.25552540000001},{"$f":"N2+18.03437-0.00055","v":516.29319080000005},{"$f":"N2+22.98977-0.00055","v":521.24859079999999},{"$f":"N2+38.96371-0.00055","v":537.22253080000007},{"$f":"N2+7.01601-0.00055","v":505.27483080000002},{"$f":"N2-1.0078246+0.00055","v":497.25209619999998},{"$f":"N2+44.99767+0.00055","v":543.2575908},{"$f":"N2+59.01332+0.00055","v":557.27324079999994}]
["LPG 18:0",{"$f":"IF(ISNUMBER(SEARCH(\"(\",A3)),IF(ISNUMBER(SEARCH(\"/\",A3)),CONCATENATE(MID(A3,1,2),\" \",(SUM(MID(A3,FIND(\"(\",A3)+1,FIND(\":\",A3)-FIND(\"(\",A3)-1),MID(A3,FIND(\"/\",A3)+1,FIND(\":\",A3,FIND(\"/\",A3))-FIND(\"/\",A3)-1))),\":\",SUM(MID(A3,FIND(\":\",A3)+1,FIND(\"/\",A3)-FIND(\":\",A3)-1),MID(A3,FIND(\":\",A3,FIND(\"/\",A3))+1,FIND(\")\",A3)-FIND(\":\",A3,FIND(\"/\",A3))-1)),MID(A3,(FIND(\")\",A3)+1),100)),CONCATENATE(MID(A3,1,2),\" \",(SUM(MID(A3,FIND(\"(\",A3)+1,FIND(\":\",A3)-FIND(\"(\",A3)-1),MID(A3,FIND(\"_\",A3)+1,FIND(\":\",A3,FIND(\"_\",A3))-FIND(\"_\",A3)-1))),\":\",SUM(MID(A3,FIND(\":\",A3)+1,FIND(\"_\",A3)-FIND(\":\",A3)-1),MID(A3,FIND(\":\",A3,FIND(\"_\",A3))+1,FIND(\")\",A3)-FIND(\":\",A3,FIND(\"_\",A3))-1)),MID(A3,(FIND(\")\",A3)+1),100))),A3)","v":"LPG 18:0"},{"$f":"MID(B3,5,FIND(\":\",B3)-FIND(\" \",B3)-1)","v":"18"},{"$f":"IF(ISNUMBER(SEARCH(\"__\",B3)),MID(B3,FIND(\":\",B3)+1,FIND(\"__\",B3)-FIND(\":\",B3)-1),MID(B3,FIND(\":\",B3)+1,7))","v":"0"},null,null,{"$f":"C3+6","v":24},{"$f":"2*G3-(2*D3)+1-((LEN(A3)-LEN(SUBSTITUTE(A3,\"_O_\",\"\")))/LEN(\"_O_\"))*2-((LEN(A3)-LEN(SUBSTITUTE(A3,\"_CHO_\",\"\")))/LEN(\"_CHO_\"))*2-((LEN(A3)-LEN(SUBSTITUTE(A3,\"_COOH_\",\"\")))/LEN(\"_COOH_\"))*2","v":49},{"$f":"9+((LEN(A3)-LEN(SUBSTITUTE(A3,\"_OH_\",\"\")))/LEN(\"_OH_\"))*1+((LEN(A3)-LEN(SUBSTITUTE(A3,\"_OOH_\",\"\")))/LEN(\"_OOH_\"))*2+((LEN(A3)-LEN(SUBSTITUTE(A3,\"_O_\",\"\")))/LEN(\"_O_\"))*1+((LEN(A3)-LEN(SUBSTITUTE(A3,\"_CHO_\",\"\")))/LEN(\"_CHO_\"))*1+((LEN(A3)-LEN(SUBSTITUTE(A3,\"_COOH_\",\"\")))/LEN(\"_COOH_\"))*2","v":9},1,null,{"$f":"CONCATENATE(\"C\",G3,\"H\",H3,\"O\",I3,\"P\",J3)","v":"C24H49O9P1"},{"$f":"(G3*12.0107)+(H3*1.00794)+(I3*14.0067)+(J3*15.9994)+(K3*30.973762)","v":479.70555999999993},{"$f":"(G3*12)+(H3*1.0078246)+(I3*15.994915)+(J3*30.973763)","v":512.31140340000002},{"$f":"N3+1.0078246-0.00055","v":513.31867800000009},{"$f":"O3-18.01057-0.00055","v":495.30755800000009},{"$f":"N3+18.03437-0.00055","v":530.34522340000001},{"$f":"N3+22.98977-0.00055","v":535.30062340000006},{"$f":"N3+38.96371-0.00055","v":551.27456340000003},{"$f":"N3+7.01601-0.00055","v":519.32686340000009},{"$f":"N3-1.0078246+0.00055","v":511.3041288},{"$f":"N3+44.99767+0.00055","v":557.30962339999996},{"$f":"N3+59.01332+0.00055","v":571.32527340000001}]

{"sheet":"PG","index":26,"n_rows":4,"n_cols":23,"rows_kept":4,"cut":false,"hidden":false,"merged":[]}
["Lipid","Sum Composition",null,null,null,null,"#C","#H","#O","#P",null,"Formula","Molecular Weight","Neutral Mass","[M+H]+","[M+H-H2O]+","[M+NH4]+","[M+Na]+","[M+K]+","[M+Li]+","[M-H]-","[M+HCOO]-","[M+CH3COO]-"]
["PG 32:1",{"$f":"IF(ISNUMBER(SEARCH(\"(\",A2)),IF(ISNUMBER(SEARCH(\"/\",A2)),CONCATENATE(MID(A2,1,2),\" \",(SUM(MID(A2,FIND(\"(\",A2)+1,FIND(\":\",A2)-FIND(\"(\",A2)-1),MID(A2,FIND(\"/\",A2)+1,FIND(\":\",A2,FIND(\"/\",A2))-FIND(\"/\",A2)-1))),\":\",SUM(MID(A2,FIND(\":\",A2)+1,FIND(\"/\",A2)-FIND(\":\",A2)-1),MID(A2,FIND(\":\",A2,FIND(\"/\",A2))+1,FIND(\")\",A2)-FIND(\":\",A2,FIND(\"/\",A2))-1)),MID(A2,(FIND(\")\",A2)+1),100)),CONCATENATE(MID(A2,1,2),\" \",(SUM(MID(A2,FIND(\"(\",A2)+1,FIND(\":\",A2)-FIND(\"(\",A2)-1),MID(A2,FIND(\"_\",A2)+1,FIND(\":\",A2,FIND(\"_\",A2))-FIND(\"_\",A2)-1))),\":\",SUM(MID(A2,FIND(\":\",A2)+1,FIND(\"_\",A2)-FIND(\":\",A2)-1),MID(A2,FIND(\":\",A2,FIND(\"_\",A2))+1,FIND(\")\",A2)-FIND(\":\",A2,FIND(\"_\",A2))-1)),MID(A2,(FIND(\")\",A2)+1),100))),A2)","v":"PG 32:1"},{"$f":"MID(B2,4,FIND(\":\",B2)-FIND(\" \",B2)-1)","v":"32"},{"$f":"IF(ISNUMBER(SEARCH(\"__\",B2)),MID(B2,FIND(\":\",B2)+1,FIND(\"__\",B2)-FIND(\":\",B2)-1),MID(B2,FIND(\":\",B2)+1,7))","v":"1"},null,null,{"$f":"C2+6","v":38},{"$f":"2*G2-(2*D2)-1-((LEN(A2)-LEN(SUBSTITUTE(A2,\"_O_\",\"\")))/LEN(\"_O_\"))*2-((LEN(A2)-LEN(SUBSTITUTE(A2,\"_CHO_\",\"\")))/LEN(\"_CHO_\"))*2-((LEN(A2)-LEN(SUBSTITUTE(A2,\"_COOH_\",\"\")))/LEN(\"_COOH_\"))*2","v":73},{"$f":"10+((LEN(A2)-LEN(SUBSTITUTE(A2,\"_OH_\",\"\")))/LEN(\"_OH_\"))*1+((LEN(A2)-LEN(SUBSTITUTE(A2,\"_OOH_\",\"\")))/LEN(\"_OOH_\"))*2+((LEN(A2)-LEN(SUBSTITUTE(A2,\"_O_\",\"\")))/LEN(\"_O_\"))*1+((LEN(A2)-LEN(SUBSTITUTE(A2,\"_CHO_\",\"\")))/LEN(\"_CHO_\"))*1+((LEN(A2)-LEN(SUBSTITUTE(A2,\"_COOH_\",\"\")))/LEN(\"_COOH_\"))*2","v":10},1,null,{"$f":"CONCATENATE(\"C\",G2,\"H\",H2,\"O\",I2,\"P\",J2)","v":"C38H73O10P1"},{"$f":"(G2*12.0107)+(H2*1.00794)+(I2*15.9994)+(J2*30.973762)","v":720.953982},{"$f":"(G2*12)+(H2*1.0078246)+(I2*15.994915)+(J2*30.973763)","v":720.49410879999994},{"$f":"N2+1.0078246-0.00055","v":721.50138340000001},{"$f":"O2-18.01057-0.00055","v":703.4902634},{"$f":"N2+18.03437-0.00055","v":738.52792879999993},{"$f":"N2+22.98977-0.00055","v":743.48332879999998},{"$f":"N2+38.96371-0.00055","v":759.45726879999995},{"$f":"N2+7.01601-0.00055","v":727.50956880000001},{"$f":"N2-1.0078246+0.00055","v":719.48683419999986},{"$f":"N2+44.99767+0.00055","v":765.49232879999988},{"$f":"N2+59.01332+0.00055","v":779.50797879999993}]
["PG(18:1_18:1)__CHO__",{"$f":"IF(ISNUMBER(SEARCH(\"(\",A3)),IF(ISNUMBER(SEARCH(\"/\",A3)),CONCATENATE(MID(A3,1,2),\" \",(SUM(MID(A3,FIND(\"(\",A3)+1,FIND(\":\",A3)-FIND(\"(\",A3)-1),MID(A3,FIND(\"/\",A3)+1,FIND(\":\",A3,FIND(\"/\",A3))-FIND(\"/\",A3)-1))),\":\",SUM(MID(A3,FIND(\":\",A3)+1,FIND(\"/\",A3)-FIND(\":\",A3)-1),MID(A3,FIND(\":\",A3,FIND(\"/\",A3))+1,FIND(\")\",A3)-FIND(\":\",A3,FIND(\"/\",A3))-1)),MID(A3,(FIND(\")\",A3)+1),100)),CONCATENATE(MID(A3,1,2),\" \",(SUM(MID(A3,FIND(\"(\",A3)+1,FIND(\":\",A3)-FIND(\"(\",A3)-1),MID(A3,FIND(\"_\",A3)+1,FIND(\":\",A3,FIND(\"_\",A3))-FIND(\"_\",A3)-1))),\":\",SUM(MID(A3,FIND(\":\",A3)+1,FIND(\"_\",A3)-FIND(\":\",A3)-1),MID(A3,FIND(\":\",A3,FIND(\"_\",A3))+1,FIND(\")\",A3)-FIND(\":\",A3,FIND(\"_\",A3))-1)),MID(A3,(FIND(\")\",A3)+1),100))),A3)","v":"PG 36:2__CHO__"},{"$f":"MID(B3,4,FIND(\":\",B3)-FIND(\" \",B3)-1)","v":"36"},{"$f":"IF(ISNUMBER(SEARCH(\"__\",B3)),MID(B3,FIND(\":\",B3)+1,FIND(\"__\",B3)-FIND(\":\",B3)-1),MID(B3,FIND(\":\",B3)+1,7))","v":"2"},null,null,{"$f":"C3+6","v":42},{"$f":"2*G3-(2*D3)-1-((LEN(A3)-LEN(SUBSTITUTE(A3,\"_O_\",\"\")))/LEN(\"_O_\"))*2-((LEN(A3)-LEN(SUBSTITUTE(A3,\"_CHO_\",\"\")))/LEN(\"_CHO_\"))*2-((LEN(A3)-LEN(SUBSTITUTE(A3,\"_COOH_\",\"\")))/LEN(\"_COOH_\"))*2","v":77},{"$f":"10+((LEN(A3)-LEN(SUBSTITUTE(A3,\"_OH_\",\"\")))/LEN(\"_OH_\"))*1+((LEN(A3)-LEN(SUBSTITUTE(A3,\"_OOH_\",\"\")))/LEN(\"_OOH_\"))*2+((LEN(A3)-LEN(SUBSTITUTE(A3,\"_O_\",\"\")))/LEN(\"_O_\"))*1+((LEN(A3)-LEN(SUBSTITUTE(A3,\"_CHO_\",\"\")))/LEN(\"_CHO_\"))*1+((LEN(A3)-LEN(SUBSTITUTE(A3,\"_COOH_\",\"\")))/LEN(\"_COOH_\"))*2","v":11},1,null,{"$f":"CONCATENATE(\"C\",G3,\"H\",H3,\"O\",I3,\"P\",J3)","v":"C42H77O11P1"},{"$f":"(G3*12.0107)+(H3*1.00794)+(I3*15.9994)+(J3*30.973762)","v":789.02794200000005},{"$f":"(G3*12)+(H3*1.0078246)+(I3*15.994915)+(J3*30.973763)","v":788.52032220000001},{"$f":"N3+1.0078246-0.00055","v":789.52759680000008},{"$f":"O3-18.01057-0.00055","v":771.51647680000008},{"$f":"N3+18.03437-0.00055","v":806.5541422},{"$f":"N3+22.98977-0.00055","v":811.50954220000006},{"$f":"N3+38.96371-0.00055","v":827.48348220000003},{"$f":"N3+7.01601-0.00055","v":795.53578220000009},{"$f":"N3-1.0078246+0.00055","v":787.51304759999994},{"$f":"N3+44.99767+0.00055","v":833.51854219999996},{"$f":"N3+59.01332+0.00055","v":847.53419220000001}]
["PG(16:1/18:1)",{"$f":"IF(ISNUMBER(SEARCH(\"(\",A4)),IF(ISNUMBER(SEARCH(\"/\",A4)),CONCATENATE(MID(A4,1,2),\" \",(SUM(MID(A4,FIND(\"(\",A4)+1,FIND(\":\",A4)-FIND(\"(\",A4)-1),MID(A4,FIND(\"/\",A4)+1,FIND(\":\",A4,FIND(\"/\",A4))-FIND(\"/\",A4)-1))),\":\",SUM(MID(A4,FIND(\":\",A4)+1,FIND(\"/\",A4)-FIND(\":\",A4)-1),MID(A4,FIND(\":\",A4,FIND(\"/\",A4))+1,FIND(\")\",A4)-FIND(\":\",A4,FIND(\"/\",A4))-1)),MID(A4,(FIND(\")\",A4)+1),100)),CONCATENATE(MID(A4,1,2),\" \",(SUM(MID(A4,FIND(\"(\",A4)+1,FIND(\":\",A4)-FIND(\"(\",A4)-1),MID(A4,FIND(\"_\",A4)+1,FIND(\":\",A4,FIND(\"_\",A4))-FIND(\"_\",A4)-1))),\":\",SUM(MID(A4,FIND(\":\",A4)+1,FIND(\"_\",A4)-FIND(\":\",A4)-1),MID(A4,FIND(\":\",A4,FIND(\"_\",A4))+1,FIND(\")\",A4)-FIND(\":\",A4,FIND(\"_\",A4))-1)),MID(A4,(FIND(\")\",A4)+1),100))),A4)","v":"PG 34:2"},{"$f":"MID(B4,4,FIND(\":\",B4)-FIND(\" \",B4)-1)","v":"34"},{"$f":"IF(ISNUMBER(SEARCH(\"__\",B4)),MID(B4,FIND(\":\",B4)+1,FIND(\"__\",B4)-FIND(\":\",B4)-1),MID(B4,FIND(\":\",B4)+1,7))","v":"2"},null,null,{"$f":"C4+6","v":40},{"$f":"2*G4-(2*D4)-1-((LEN(A4)-LEN(SUBSTITUTE(A4,\"_O_\",\"\")))/LEN(\"_O_\"))*2-((LEN(A4)-LEN(SUBSTITUTE(A4,\"_CHO_\",\"\")))/LEN(\"_CHO_\"))*2-((LEN(A4)-LEN(SUBSTITUTE(A4,\"_COOH_\",\"\")))/LEN(\"_COOH_\"))*2","v":75},{"$f":"10+((LEN(A4)-LEN(SUBSTITUTE(A4,\"_OH_\",\"\")))/LEN(\"_OH_\"))*1+((LEN(A4)-LEN(SUBSTITUTE(A4,\"_OOH_\",\"\")))/LEN(\"_OOH_\"))*2+((LEN(A4)-LEN(SUBSTITUTE(A4,\"_O_\",\"\")))/LEN(\"_O_\"))*1+((LEN(A4)-LEN(SUBSTITUTE(A4,\"_CHO_\",\"\")))/LEN(\"_CHO_\"))*1+((LEN(A4)-LEN(SUBSTITUTE(A4,\"_COOH_\",\"\")))/LEN(\"_COOH_\"))*2","v":10},1,null,{"$f":"CONCATENATE(\"C\",G4,\"H\",H4,\"O\",I4,\"P\",J4)","v":"C40H75O10P1"},{"$f":"(G4*12.0107)+(H4*1.00794)+(I4*15.9994)+(J4*30.973762)","v":746.99126200000001},{"$f":"(G4*12)+(H4*1.0078246)+(I4*15.994915)+(J4*30.973763)","v":746.50975800000003},{"$f":"N4+1.0078246-0.00055","v":747.51703260000011},{"$f":"O4-18.01057-0.00055","v":729.5059126000001},{"$f":"N4+18.03437-0.00055","v":764.54357800000002},{"$f":"N4+22.98977-0.00055","v":769.49897800000008},{"$f":"N4+38.96371-0.00055","v":785.47291800000005},{"$f":"N4+7.01601-0.00055","v":753.52521800000011},{"$f":"N4-1.0078246+0.00055","v":745.50248339999996},{"$f":"N4+44.99767+0.00055","v":791.50797799999998},{"$f":"N4+59.01332+0.00055","v":805.52362800000003}]

{"sheet":"LPI","index":27,"n_rows":3,"n_cols":23,"rows_kept":3,"cut":false,"hidden":false,"merged":[]}
["Lipid","Sum Composition",null,null,"#C","#H","#O","#P",null,null,null,"Formula","Molecular Weight","Neutral Mass","[M+H]+","[M+H-H2O]+","[M+NH4]+","[M+Na]+","[M+K]+","[M+Li]+","[M-H]-","[M+HCOO]-","[M+CH3COO]-"]
["LPI 16:0",{"$f":"IF(ISNUMBER(SEARCH(\"(\",A2)),IF(ISNUMBER(SEARCH(\"/\",A2)),CONCATENATE(MID(A2,1,2),\" \",(SUM(MID(A2,FIND(\"(\",A2)+1,FIND(\":\",A2)-FIND(\"(\",A2)-1),MID(A2,FIND(\"/\",A2)+1,FIND(\":\",A2,FIND(\"/\",A2))-FIND(\"/\",A2)-1))),\":\",SUM(MID(A2,FIND(\":\",A2)+1,FIND(\"/\",A2)-FIND(\":\",A2)-1),MID(A2,FIND(\":\",A2,FIND(\"/\",A2))+1,FIND(\")\",A2)-FIND(\":\",A2,FIND(\"/\",A2))-1)),MID(A2,(FIND(\")\",A2)+1),100)),CONCATENATE(MID(A2,1,2),\" \",(SUM(MID(A2,FIND(\"(\",A2)+1,FIND(\":\",A2)-FIND(\"(\",A2)-1),MID(A2,FIND(\"_\",A2)+1,FIND(\":\",A2,FIND(\"_\",A2))-FIND(\"_\",A2)-1))),\":\",SUM(MID(A2,FIND(\":\",A2)+1,FIND(\"_\",A2)-FIND(\":\",A2)-1),MID(A2,FIND(\":\",A2,FIND(\"_\",A2))+1,FIND(\")\",A2)-FIND(\":\",A2,FIND(\"_\",A2))-1)),MID(A2,(FIND(\")\",A2)+1),100))),A2)","v":"LPI 16:0"},{"$f":"MID(B2,5,FIND(\":\",B2)-FIND(\" \",B2)-1)","v":"16"},{"$f":"IF(ISNUMBER(SEARCH(\"__\",B2)),MID(B2,FIND(\":\",B2)+1,FIND(\"__\",B2)-FIND(\":\",B2)-1),MID(B2,FIND(\":\",B2)+1,7))","v":"0"},{"$f":"C2+9","v":25},{"$f":"2*E2-(2*D2)-1-((LEN(A2)-LEN(SUBSTITUTE(A2,\"_O_\",\"\")))/LEN(\"_O_\"))*2-((LEN(A2)-LEN(SUBSTITUTE(A2,\"_CHO_\",\"\")))/LEN(\"_CHO_\"))*2-((LEN(A2)-LEN(SUBSTITUTE(A2,\"_COOH_\",\"\")))/LEN(\"_COOH_\"))*2","v":49},{"$f":"12+((LEN(A2)-LEN(SUBSTITUTE(A2,\"_OH_\",\"\")))/LEN(\"_OH_\"))*1+((LEN(A2)-LEN(SUBSTITUTE(A2,\"_OOH_\",\"\")))/LEN(\"_OOH_\"))*2+((LEN(A2)-LEN(SUBSTITUTE(A2,\"_O_\",\"\")))/LEN(\"_O_\"))*1+((LEN(A2)-LEN(SUBSTITUTE(A2,\"_CHO_\",\"\")))/LEN(\"_CHO_\"))*1+((LEN(A2)-LEN(SUBSTITUTE(A2,\"_COOH_\",\"\")))/LEN(\"_COOH_\"))*2","v":12},1,null,null,null,{"$f":"CONCATENATE(\"C\",E2,\"H\",F2,\"O\",G2,\"P\",H2)","v":"C25H49O12P1"},{"$f":"(E2*12.0107)+(F2*1.00794)+(G2*15.9994)+(H2*30.973762)","v":572.62312199999997},{"$f":"(E2*12)+(F2*1.0078246)+(G2*15.994915)+(H2*30.973763)","v":572.29614839999999},{"$f":"N2+1.0078246-0.00055","v":573.30342300000007},{"$f":"O2-18.01057-0.00055","v":555.29230300000006},{"$f":"N2+18.03437-0.00055","v":590.32996839999998},{"$f":"N2+22.98977-0.00055","v":595.28536840000004},{"$f":"N2+38.96371-0.00055","v":611.25930840000001},{"$f":"N2+7.01601-0.00055","v":579.31160840000007},{"$f":"N2-1.0078246+0.00055","v":571.28887379999992},{"$f":"N2+44.99767+0.00055","v":617.29436839999994},{"$f":"N2+59.01332+0.00055","v":631.31001839999999}]
["LPI 16:1",{"$f":"IF(ISNUMBER(SEARCH(\"(\",A3)),IF(ISNUMBER(SEARCH(\"/\",A3)),CONCATENATE(MID(A3,1,2),\" \",(SUM(MID(A3,FIND(\"(\",A3)+1,FIND(\":\",A3)-FIND(\"(\",A3)-1),MID(A3,FIND(\"/\",A3)+1,FIND(\":\",A3,FIND(\"/\",A3))-FIND(\"/\",A3)-1))),\":\",SUM(MID(A3,FIND(\":\",A3)+1,FIND(\"/\",A3)-FIND(\":\",A3)-1),MID(A3,FIND(\":\",A3,FIND(\"/\",A3))+1,FIND(\")\",A3)-FIND(\":\",A3,FIND(\"/\",A3))-1)),MID(A3,(FIND(\")\",A3)+1),100)),CONCATENATE(MID(A3,1,2),\" \",(SUM(MID(A3,FIND(\"(\",A3)+1,FIND(\":\",A3)-FIND(\"(\",A3)-1),MID(A3,FIND(\"_\",A3)+1,FIND(\":\",A3,FIND(\"_\",A3))-FIND(\"_\",A3)-1))),\":\",SUM(MID(A3,FIND(\":\",A3)+1,FIND(\"_\",A3)-FIND(\":\",A3)-1),MID(A3,FIND(\":\",A3,FIND(\"_\",A3))+1,FIND(\")\",A3)-FIND(\":\",A3,FIND(\"_\",A3))-1)),MID(A3,(FIND(\")\",A3)+1),100))),A3)","v":"LPI 16:1"},{"$f":"MID(B3,5,FIND(\":\",B3)-FIND(\" \",B3)-1)","v":"16"},{"$f":"IF(ISNUMBER(SEARCH(\"__\",B3)),MID(B3,FIND(\":\",B3)+1,FIND(\"__\",B3)-FIND(\":\",B3)-1),MID(B3,FIND(\":\",B3)+1,7))","v":"1"},{"$f":"C3+9","v":25},{"$f":"2*E3-(2*D3)-1-((LEN(A3)-LEN(SUBSTITUTE(A3,\"_O_\",\"\")))/LEN(\"_O_\"))*2-((LEN(A3)-LEN(SUBSTITUTE(A3,\"_CHO_\",\"\")))/LEN(\"_CHO_\"))*2-((LEN(A3)-LEN(SUBSTITUTE(A3,\"_COOH_\",\"\")))/LEN(\"_COOH_\"))*2","v":47},{"$f":"12+((LEN(A3)-LEN(SUBSTITUTE(A3,\"_OH_\",\"\")))/LEN(\"_OH_\"))*1+((LEN(A3)-LEN(SUBSTITUTE(A3,\"_OOH_\",\"\")))/LEN(\"_OOH_\"))*2+((LEN(A3)-LEN(SUBSTITUTE(A3,\"_O_\",\"\")))/LEN(\"_O_\"))*1+((LEN(A3)-LEN(SUBSTITUTE(A3,\"_CHO_\",\"\")))/LEN(\"_CHO_\"))*1+((LEN(A3)-LEN(SUBSTITUTE(A3,\"_COOH_\",\"\")))/LEN(\"_COOH_\"))*2","v":12},1,null,null,null,{"$f":"CONCATENATE(\"C\",E3,\"H\",F3,\"O\",G3,\"P\",H3)","v":"C25H47O12P1"},{"$f":"(E3*12.0107)+(F3*1.00794)+(G3*15.9994)+(H3*30.973762)","v":570.60724199999993},{"$f":"(E3*12)+(F3*1.0078246)+(G3*15.994915)+(H3*30.973763)","v":570.28049919999989},{"$f":"N3+1.0078246-0.00055","v":571.28777379999997},{"$f":"O3-18.01057-0.00055","v":553.27665379999996},{"$f":"N3+18.03437-0.00055","v":588.31431919999989},{"$f":"N3+22.98977-0.00055","v":593.26971919999994},{"$f":"N3+38.96371-0.00055","v":609.24365919999991},{"$f":"N3+7.01601-0.00055","v":577.29595919999997},{"$f":"N3-1.0078246+0.00055","v":569.27322459999982},{"$f":"N3+44.99767+0.00055","v":615.27871919999984},{"$f":"N3+59.01332+0.00055","v":629.29436919999989}]

{"sheet":"PI","index":28,"n_rows":4,"n_cols":23,"rows_kept":4,"cut":false,"hidden":false,"merged":[]}
["Lipid","Sum Composition",null,null,"#C","#H","#O","#P",null,null,null,"Formula","Molecular Weight","Neutral Mass","[M+H]+","[M+H-H2O]+","[M+NH4]+","[M+Na]+","[M+K]+","[M+Li]+","[M-H]-","[M+HCOO]-","[M+CH3COO]-"]
["PI 32:0",{"$f":"IF(ISNUMBER(SEARCH(\"(\",A2)),IF(ISNUMBER(SEARCH(\"/\",A2)),CONCATENATE(MID(A2,1,2),\" \",(SUM(MID(A2,FIND(\"(\",A2)+1,FIND(\":\",A2)-FIND(\"(\",A2)-1),MID(A2,FIND(\"/\",A2)+1,FIND(\":\",A2,FIND(\"/\",A2))-FIND(\"/\",A2)-1))),\":\",SUM(MID(A2,FIND(\":\",A2)+1,FIND(\"/\",A2)-FIND(\":\",A2)-1),MID(A2,FIND(\":\",A2,FIND(\"/\",A2))+1,FIND(\")\",A2)-FIND(\":\",A2,FIND(\"/\",A2))-1)),MID(A2,(FIND(\")\",A2)+1),100)),CONCATENATE(MID(A2,1,2),\" \",(SUM(MID(A2,FIND(\"(\",A2)+1,FIND(\":\",A2)-FIND(\"(\",A2)-1),MID(A2,FIND(\"_\",A2)+1,FIND(\":\",A2,FIND(\"_\",A2))-FIND(\"_\",A2)-1))),\":\",SUM(MID(A2,FIND(\":\",A2)+1,FIND(\"_\",A2)-FIND(\":\",A2)-1),MID(A2,FIND(\":\",A2,FIND(\"_\",A2))+1,FIND(\")\",A2)-FIND(\":\",A2,FIND(\"_\",A2))-1)),MID(A2,(FIND(\")\",A2)+1),100))),A2)","v":"PI 32:0"},{"$f":"MID(B2,4,FIND(\":\",B2)-FIND(\" \",B2)-1)","v":"32"},{"$f":"IF(ISNUMBER(SEARCH(\"__\",B2)),MID(B2,FIND(\":\",B2)+1,FIND(\"__\",B2)-FIND(\":\",B2)-1),MID(B2,FIND(\":\",B2)+1,7))","v":"0"},{"$f":"C2+9","v":41},{"$f":"2*E2-(2*D2)-3-((LEN(A2)-LEN(SUBSTITUTE(A2,\"_O_\",\"\")))/LEN(\"_O_\"))*2-((LEN(A2)-LEN(SUBSTITUTE(A2,\"_CHO_\",\"\")))/LEN(\"_CHO_\"))*2-((LEN(A2)-LEN(SUBSTITUTE(A2,\"_COOH_\",\"\")))/LEN(\"_COOH_\"))*2","v":79},{"$f":"13+((LEN(A2)-LEN(SUBSTITUTE(A2,\"_OH_\",\"\")))/LEN(\"_OH_\"))*1+((LEN(A2)-LEN(SUBSTITUTE(A2,\"_OOH_\",\"\")))/LEN(\"_OOH_\"))*2+((LEN(A2)-LEN(SUBSTITUTE(A2,\"_O_\",\"\")))/LEN(\"_O_\"))*1+((LEN(A2)-LEN(SUBSTITUTE(A2,\"_CHO_\",\"\")))/LEN(\"_CHO_\"))*1+((LEN(A2)-LEN(SUBSTITUTE(A2,\"_COOH_\",\"\")))/LEN(\"_COOH_\"))*2","v":13},1,null,null,null,{"$f":"CONCATENATE(\"C\",E2,\"H\",F2,\"O\",G2,\"P\",H2)","v":"C41H79O13P1"},{"$f":"(E2*12.0107)+(F2*1.00794)+(G2*15.9994)+(H2*30.973762)","v":811.03192200000001},{"$f":"(E2*12)+(F2*1.0078246)+(G2*15.994915)+(H2*30.973763)","v":810.52580139999998},{"$f":"N2+1.0078246-0.00055","v":811.53307600000005},{"$f":"O2-18.01057-0.00055","v":793.52195600000005},{"$f":"N2+18.03437-0.00055","v":828.55962139999997},{"$f":"N2+22.98977-0.00055","v":833.51502140000002},{"$f":"N2+38.96371-0.00055","v":849.48896139999999},{"$f":"N2+7.01601-0.00055","v":817.54126140000005},{"$f":"N2-1.0078246+0.00055","v":809.5185267999999},{"$f":"N2+44.99767+0.00055","v":855.52402139999992},{"$f":"N2+59.01332+0.00055","v":869.53967139999997}]
["PI 32:1",{"$f":"IF(ISNUMBER(SEARCH(\"(\",A3)),IF(ISNUMBER(SEARCH(\"/\",A3)),CONCATENATE(MID(A3,1,2),\" \",(SUM(MID(A3,FIND(\"(\",A3)+1,FIND(\":\",A3)-FIND(\"(\",A3)-1),MID(A3,FIND(\"/\",A3)+1,FIND(\":\",A3,FIND(\"/\",A3))-FIND(\"/\",A3)-1))),\":\",SUM(MID(A3,FIND(\":\",A3)+1,FIND(\"/\",A3)-FIND(\":\",A3)-1),MID(A3,FIND(\":\",A3,FIND(\"/\",A3))+1,FIND(\")\",A3)-FIND(\":\",A3,FIND(\"/\",A3))-1)),MID(A3,(FIND(\")\",A3)+1),100)),CONCATENATE(MID(A3,1,2),\" \",(SUM(MID(A3,FIND(\"(\",A3)+1,FIND(\":\",A3)-FIND(\"(\",A3)-1),MID(A3,FIND(\"_\",A3)+1,FIND(\":\",A3,FIND(\"_\",A3))-FIND(\"_\",A3)-1))),\":\",SUM(MID(A3,FIND(\":\",A3)+1,FIND(\"_\",A3)-FIND(\":\",A3)-1),MID(A3,FIND(\":\",A3,FIND(\"_\",A3))+1,FIND(\")\",A3)-FIND(\":\",A3,FIND(\"_\",A3))-1)),MID(A3,(FIND(\")\",A3)+1),100))),A3)","v":"PI 32:1"},{"$f":"MID(B3,4,FIND(\":\",B3)-FIND(\" \",B3)-1)","v":"32"},{"$f":"IF(ISNUMBER(SEARCH(\"__\",B3)),MID(B3,FIND(\":\",B3)+1,FIND(\"__\",B3)-FIND(\":\",B3)-1),MID(B3,FIND(\":\",B3)+1,7))","v":"1"},{"$f":"C3+9","v":41},{"$f":"2*E3-(2*D3)-3-((LEN(A3)-LEN(SUBSTITUTE(A3,\"_O_\",\"\")))/LEN(\"_O_\"))*2-((LEN(A3)-LEN(SUBSTITUTE(A3,\"_CHO_\",\"\")))/LEN(\"_CHO_\"))*2-((LEN(A3)-LEN(SUBSTITUTE(A3,\"_COOH_\",\"\")))/LEN(\"_COOH_\"))*2","v":77},{"$f":"13+((LEN(A3)-LEN(SUBSTITUTE(A3,\"_OH_\",\"\")))/LEN(\"_OH_\"))*1+((LEN(A3)-LEN(SUBSTITUTE(A3,\"_OOH_\",\"\")))/LEN(\"_OOH_\"))*2+((LEN(A3)-LEN(SUBSTITUTE(A3,\"_O_\",\"\")))/LEN(\"_O_\"))*1+((LEN(A3)-LEN(SUBSTITUTE(A3,\"_CHO_\",\"\")))/LEN(\"_CHO_\"))*1+((LEN(A3)-LEN(SUBSTITUTE(A3,\"_COOH_\",\"\")))/LEN(\"_COOH_\"))*2","v":13},1,null,null,null,{"$f":"CONCATENATE(\"C\",E3,\"H\",F3,\"O\",G3,\"P\",H3)","v":"C41H77O13P1"},{"$f":"(E3*12.0107)+(F3*1.00794)+(G3*15.9994)+(H3*30.973762)","v":809.01604199999997},{"$f":"(E3*12)+(F3*1.0078246)+(G3*15.994915)+(H3*30.973763)","v":808.51015219999999},{"$f":"N3+1.0078246-0.00055","v":809.51742680000007},{"$f":"O3-18.01057-0.00055","v":791.50630680000006},{"$f":"N3+18.03437-0.00055","v":826.54397219999998},{"$f":"N3+22.98977-0.00055","v":831.49937220000004},{"$f":"N3+38.96371-0.00055","v":847.47331220000001},{"$f":"N3+7.01601-0.00055","v":815.52561220000007},{"$f":"N3-1.0078246+0.00055","v":807.50287759999992},{"$f":"N3+44.99767+0.00055","v":853.50837219999994},{"$f":"N3+59.01332+0.00055","v":867.52402219999999}]
["PI (16:0/18:1)__CHO__",{"$f":"IF(ISNUMBER(SEARCH(\"(\",A4)),IF(ISNUMBER(SEARCH(\"/\",A4)),CONCATENATE(MID(A4,1,2),\" \",(SUM(MID(A4,FIND(\"(\",A4)+1,FIND(\":\",A4)-FIND(\"(\",A4)-1),MID(A4,FIND(\"/\",A4)+1,FIND(\":\",A4,FIND(\"/\",A4))-FIND(\"/\",A4)-1))),\":\",SUM(MID(A4,FIND(\":\",A4)+1,FIND(\"/\",A4)-FIND(\":\",A4)-1),MID(A4,FIND(\":\",A4,FIND(\"/\",A4))+1,FIND(\")\",A4)-FIND(\":\",A4,FIND(\"/\",A4))-1)),MID(A4,(FIND(\")\",A4)+1),100)),CONCATENATE(MID(A4,1,2),\" \",(SUM(MID(A4,FIND(\"(\",A4)+1,FIND(\":\",A4)-FIND(\"(\",A4)-1),MID(A4,FIND(\"_\",A4)+1,FIND(\":\",A4,FIND(\"_\",A4))-FIND(\"_\",A4)-1))),\":\",SUM(MID(A4,FIND(\":\",A4)+1,FIND(\"_\",A4)-FIND(\":\",A4)-1),MID(A4,FIND(\":\",A4,FIND(\"_\",A4))+1,FIND(\")\",A4)-FIND(\":\",A4,FIND(\"_\",A4))-1)),MID(A4,(FIND(\")\",A4)+1),100))),A4)","v":"PI 34:1__CHO__"},{"$f":"MID(B4,4,FIND(\":\",B4)-FIND(\" \",B4)-1)","v":"34"},{"$f":"IF(ISNUMBER(SEARCH(\"__\",B4)),MID(B4,FIND(\":\",B4)+1,FIND(\"__\",B4)-FIND(\":\",B4)-1),MID(B4,FIND(\":\",B4)+1,7))","v":"1"},43,{"$f":"2*E4-(2*D4)-3-((LEN(A4)-LEN(SUBSTITUTE(A4,\"_O_\",\"\")))/LEN(\"_O_\"))*2-((LEN(A4)-LEN(SUBSTITUTE(A4,\"_CHO_\",\"\")))/LEN(\"_CHO_\"))*2-((LEN(A4)-LEN(SUBSTITUTE(A4,\"_COOH_\",\"\")))/LEN(\"_COOH_\"))*2","v":79},{"$f":"13+((LEN(A4)-LEN(SUBSTITUTE(A4,\"_OH_\",\"\")))/LEN(\"_OH_\"))*1+((LEN(A4)-LEN(SUBSTITUTE(A4,\"_OOH_\",\"\")))/LEN(\"_OOH_\"))*2+((LEN(A4)-LEN(SUBSTITUTE(A4,\"_O_\",\"\")))/LEN(\"_O_\"))*1+((LEN(A4)-LEN(SUBSTITUTE(A4,\"_CHO_\",\"\")))/LEN(\"_CHO_\"))*1+((LEN(A4)-LEN(SUBSTITUTE(A4,\"_COOH_\",\"\")))/LEN(\"_COOH_\"))*2","v":14},1,null,null,null,{"$f":"CONCATENATE(\"C\",E4,\"H\",F4,\"O\",G4,\"P\",H4)","v":"C43H79O14P1"},{"$f":"(E4*12.0107)+(F4*1.00794)+(G4*15.9994)+(H4*30.973762)","v":851.05272200000002},{"$f":"(E4*12)+(F4*1.0078246)+(G4*15.994915)+(H4*30.973763)","v":850.52071639999997},{"$f":"N4+1.0078246-0.00055","v":851.52799100000004},{"$f":"O4-18.01057-0.00055","v":833.51687100000004},{"$f":"N4+18.03437-0.00055","v":868.55453639999996},{"$f":"N4+22.98977-0.00055","v":873.50993640000002},{"$f":"N4+38.96371-0.00055","v":889.48387639999999},{"$f":"N4+7.01601-0.00055","v":857.53617640000004},{"$f":"N4-1.0078246+0.00055","v":849.5134417999999},{"$f":"N4+44.99767+0.00055","v":895.51893639999992},{"$f":"N4+59.01332+0.00055","v":909.53458639999997}]

{"sheet":"LPS","index":29,"n_rows":3,"n_cols":23,"rows_kept":3,"cut":false,"hidden":false,"merged":[]}
["Lipid","Sum Composition",null,null,"#C","#H","#N","#O","#P",null,null,"Formula","Molecular Weight","Neutral Mass","[M+H]+","[M+H-H2O]+","[M+NH4]+","[M+Na]+","[M+K]+","[M+Li]+","[M-H]-","[M+HCOO]-","[M+CH3COO]-"]
["LPS 18:0",{"$f":"IF(ISNUMBER(SEARCH(\"(\",A2)),IF(ISNUMBER(SEARCH(\"/\",A2)),CONCATENATE(MID(A2,1,2),\" \",(SUM(MID(A2,FIND(\"(\",A2)+1,FIND(\":\",A2)-FIND(\"(\",A2)-1),MID(A2,FIND(\"/\",A2)+1,FIND(\":\",A2,FIND(\"/\",A2))-FIND(\"/\",A2)-1))),\":\",SUM(MID(A2,FIND(\":\",A2)+1,FIND(\"/\",A2)-FIND(\":\",A2)-1),MID(A2,FIND(\":\",A2,FIND(\"/\",A2))+1,FIND(\")\",A2)-FIND(\":\",A2,FIND(\"/\",A2))-1)),MID(A2,(FIND(\")\",A2)+1),100)),CONCATENATE(MID(A2,1,2),\" \",(SUM(MID(A2,FIND(\"(\",A2)+1,FIND(\":\",A2)-FIND(\"(\",A2)-1),MID(A2,FIND(\"_\",A2)+1,FIND(\":\",A2,FIND(\"_\",A2))-FIND(\"_\",A2)-1))),\":\",SUM(MID(A2,FIND(\":\",A2)+1,FIND(\"_\",A2)-FIND(\":\",A2)-1),MID(A2,FIND(\":\",A2,FIND(\"_\",A2))+1,FIND(\")\",A2)-FIND(\":\",A2,FIND(\"_\",A2))-1)),MID(A2,(FIND(\")\",A2)+1),100))),A2)","v":"LPS 18:0"},{"$f":"MID(B2,5,FIND(\":\",B2)-FIND(\" \",B2)-1)","v":"18"},{"$f":"IF(ISNUMBER(SEARCH(\"__\",B2)),MID(B2,FIND(\":\",B2)+1,FIND(\"__\",B2)-FIND(\":\",B2)-1),MID(B2,FIND(\":\",B2)+1,7))","v":"0"},{"$f":"C2+6","v":24},{"$f":"2*E2-(2*D2)-((LEN(A2)-LEN(SUBSTITUTE(A2,\"_O_\",\"\")))/LEN(\"_O_\"))*2-((LEN(A2)-LEN(SUBSTITUTE(A2,\"_CHO_\",\"\")))/LEN(\"_CHO_\"))*2-((LEN(A2)-LEN(SUBSTITUTE(A2,\"_COOH_\",\"\")))/LEN(\"_COOH_\"))*2","v":48},1,{"$f":"9+((LEN(A2)-LEN(SUBSTITUTE(A2,\"_OH_\",\"\")))/LEN(\"_OH_\"))*1+((LEN(A2)-LEN(SUBSTITUTE(A2,\"_OOH_\",\"\")))/LEN(\"_OOH_\"))*2+((LEN(A2)-LEN(SUBSTITUTE(A2,\"_O_\",\"\")))/LEN(\"_O_\"))*1+((LEN(A2)-LEN(SUBSTITUTE(A2,\"_CHO_\",\"\")))/LEN(\"_CHO_\"))*1+((LEN(A2)-LEN(SUBSTITUTE(A2,\"_COOH_\",\"\")))/LEN(\"_COOH_\"))*2","v":9},1,null,null,{"$f":"CONCATENATE(\"C\",E2,\"H\",F2,\"N\",G2,\"O\",H2,\"P\",I2)","v":"C24H48N1O9P1"},{"$f":"(E2*12.0107)+(F2*1.00794)+(G2*14.0067)+(H2*15.9994)+(I2*30.973762)","v":525.61298199999999},{"$f":"(E2*12)+(F2*1.0078246)+(G2*14.003074)+(H2*15.994915)+(I2*30.973763)","v":525.30665279999994},{"$f":"N2+1.0078246-0.00055","v":526.31392740000001},{"$f":"O2-18.01057-0.00055","v":508.30280740000001},{"$f":"N2+18.03437-0.00055","v":543.34047279999993},{"$f":"N2+22.98977-0.00055","v":548.29587279999998},{"$f":"N2+38.96371-0.00055","v":564.26981279999995},{"$f":"N2+7.01601-0.00055","v":532.32211280000001},{"$f":"N2-1.0078246+0.00055","v":524.29937819999986},{"$f":"N2+44.99767+0.00055","v":570.30487279999988},{"$f":"N2+59.01332+0.00055","v":584.32052279999994}]
["LPS 18:1",{"$f":"IF(ISNUMBER(SEARCH(\"(\",A3)),IF(ISNUMBER(SEARCH(\"/\",A3)),CONCATENATE(MID(A3,1,2),\" \",(SUM(MID(A3,FIND(\"(\",A3)+1,FIND(\":\",A3)-FIND(\"(\",A3)-1),MID(A3,FIND(\"/\",A3)+1,FIND(\":\",A3,FIND(\"/\",A3))-FIND(\"/\",A3)-1))),\":\",SUM(MID(A3,FIND(\":\",A3)+1,FIND(\"/\",A3)-FIND(\":\",A3)-1),MID(A3,FIND(\":\",A3,FIND(\"/\",A3))+1,FIND(\")\",A3)-FIND(\":\",A3,FIND(\"/\",A3))-1)),MID(A3,(FIND(\")\",A3)+1),100)),CONCATENATE(MID(A3,1,2),\" \",(SUM(MID(A3,FIND(\"(\",A3)+1,FIND(\":\",A3)-FIND(\"(\",A3)-1),MID(A3,FIND(\"_\",A3)+1,FIND(\":\",A3,FIND(\"_\",A3))-FIND(\"_\",A3)-1))),\":\",SUM(MID(A3,FIND(\":\",A3)+1,FIND(\"_\",A3)-FIND(\":\",A3)-1),MID(A3,FIND(\":\",A3,FIND(\"_\",A3))+1,FIND(\")\",A3)-FIND(\":\",A3,FIND(\"_\",A3))-1)),MID(A3,(FIND(\")\",A3)+1),100))),A3)","v":"LPS 18:1"},{"$f":"MID(B3,5,FIND(\":\",B3)-FIND(\" \",B3)-1)","v":"18"},{"$f":"IF(ISNUMBER(SEARCH(\"__\",B3)),MID(B3,FIND(\":\",B3)+1,FIND(\"__\",B3)-FIND(\":\",B3)-1),MID(B3,FIND(\":\",B3)+1,7))","v":"1"},{"$f":"C3+6","v":24},{"$f":"2*E3-(2*D3)-((LEN(A3)-LEN(SUBSTITUTE(A3,\"_O_\",\"\")))/LEN(\"_O_\"))*2-((LEN(A3)-LEN(SUBSTITUTE(A3,\"_CHO_\",\"\")))/LEN(\"_CHO_\"))*2-((LEN(A3)-LEN(SUBSTITUTE(A3,\"_COOH_\",\"\")))/LEN(\"_COOH_\"))*2","v":46},1,{"$f":"9+((LEN(A3)-LEN(SUBSTITUTE(A3,\"_OH_\",\"\")))/LEN(\"_OH_\"))*1+((LEN(A3)-LEN(SUBSTITUTE(A3,\"_OOH_\",\"\")))/LEN(\"_OOH_\"))*2+((LEN(A3)-LEN(SUBSTITUTE(A3,\"_O_\",\"\")))/LEN(\"_O_\"))*1+((LEN(A3)-LEN(SUBSTITUTE(A3,\"_CHO_\",\"\")))/LEN(\"_CHO_\"))*1+((LEN(A3)-LEN(SUBSTITUTE(A3,\"_COOH_\",\"\")))/LEN(\"_COOH_\"))*2","v":9},1,null,null,{"$f":"CONCATENATE(\"C\",E3,\"H\",F3,\"N\",G3,\"O\",H3,\"P\",I3)","v":"C24H46N1O9P1"},{"$f":"(E3*12.0107)+(F3*1.00794)+(G3*14.0067)+(H3*15.9994)+(I3*30.973762)","v":523.59710199999995},{"$f":"(E3*12)+(F3*1.0078246)+(G3*14.003074)+(H3*15.994915)+(I3*30.973763)","v":523.29100359999995},{"$f":"N3+1.0078246-0.00055","v":524.29827820000003},{"$f":"O3-18.01057-0.00055","v":506.28715820000002},{"$f":"N3+18.03437-0.00055","v":541.32482359999995},{"$f":"N3+22.98977-0.00055","v":546.2802236},{"$f":"N3+38.96371-0.00055","v":562.25416359999997},{"$f":"N3+7.01601-0.00055","v":530.30646360000003},{"$f":"N3-1.0078246+0.00055","v":522.28372899999988},{"$f":"N3+44.99767+0.00055","v":568.2892235999999},{"$f":"N3+59.01332+0.00055","v":582.30487359999995}]

{"sheet":"PS","index":30,"n_rows":4,"n_cols":23,"rows_kept":4,"cut":false,"hidden":false,"merged":[]}
["Lipid","Sum Composition",null,null,"#C","#H","#N","#O","#P",null,null,"Formula","Molecular Weight","Neutral Mass","[M+H]+","[M+H-H2O]+","[M+NH4]+","[M+Na]+","[M+K]+","[M+Li]+","[M-H]-","[M+HCOO]-","[M+CH3COO]-"]
["PS 32:1",{"$f":"IF(ISNUMBER(SEARCH(\"(\",A2)),IF(ISNUMBER(SEARCH(\"/\",A2)),CONCATENATE(MID(A2,1,2),\" \",(SUM(MID(A2,FIND(\"(\",A2)+1,FIND(\":\",A2)-FIND(\"(\",A2)-1),MID(A2,FIND(\"/\",A2)+1,FIND(\":\",A2,FIND(\"/\",A2))-FIND(\"/\",A2)-1))),\":\",SUM(MID(A2,FIND(\":\",A2)+1,FIND(\"/\",A2)-FIND(\":\",A2)-1),MID(A2,FIND(\":\",A2,FIND(\"/\",A2))+1,FIND(\")\",A2)-FIND(\":\",A2,FIND(\"/\",A2))-1)),MID(A2,(FIND(\")\",A2)+1),100)),CONCATENATE(MID(A2,1,2),\" \",(SUM(MID(A2,FIND(\"(\",A2)+1,FIND(\":\",A2)-FIND(\"(\",A2)-1),MID(A2,FIND(\"_\",A2)+1,FIND(\":\",A2,FIND(\"_\",A2))-FIND(\"_\",A2)-1))),\":\",SUM(MID(A2,FIND(\":\",A2)+1,FIND(\"_\",A2)-FIND(\":\",A2)-1),MID(A2,FIND(\":\",A2,FIND(\"_\",A2))+1,FIND(\")\",A2)-FIND(\":\",A2,FIND(\"_\",A2))-1)),MID(A2,(FIND(\")\",A2)+1),100))),A2)","v":"PS 32:1"},{"$f":"MID(B2,4,FIND(\":\",B2)-FIND(\" \",B2)-1)","v":"32"},{"$f":"IF(ISNUMBER(SEARCH(\"__\",B2)),MID(B2,FIND(\":\",B2)+1,FIND(\"__\",B2)-FIND(\":\",B2)-1),MID(B2,FIND(\":\",B2)+1,7))","v":"1"},{"$f":"C2+6","v":38},{"$f":"2*E2-(2*D2)-2-((LEN(A2)-LEN(SUBSTITUTE(A2,\"_O_\",\"\")))/LEN(\"_O_\"))*2-((LEN(A2)-LEN(SUBSTITUTE(A2,\"_CHO_\",\"\")))/LEN(\"_CHO_\"))*2-((LEN(A2)-LEN(SUBSTITUTE(A2,\"_COOH_\",\"\")))/LEN(\"_COOH_\"))*2","v":72},1,{"$f":"10+((LEN(A2)-LEN(SUBSTITUTE(A2,\"_OH_\",\"\")))/LEN(\"_OH_\"))*1+((LEN(A2)-LEN(SUBSTITUTE(A2,\"_OOH_\",\"\")))/LEN(\"_OOH_\"))*2+((LEN(A2)-LEN(SUBSTITUTE(A2,\"_O_\",\"\")))/LEN(\"_O_\"))*1+((LEN(A2)-LEN(SUBSTITUTE(A2,\"_CHO_\",\"\")))/LEN(\"_CHO_\"))*1+((LEN(A2)-LEN(SUBSTITUTE(A2,\"_COOH_\",\"\")))/LEN(\"_COOH_\"))*2","v":10},1,null,null,{"$f":"CONCATENATE(\"C\",E2,\"H\",F2,\"N\",G2,\"O\",H2,\"P\",I2)","v":"C38H72N1O10P1"},{"$f":"(E2*12.0107)+(F2*1.00794)+(G2*14.0067)+(H2*15.9994)+(I2*30.973762)","v":733.95274200000006},{"$f":"(E2*12)+(F2*1.0078246)+(G2*14.003074)+(H2*15.994915)+(I2*30.973763)","v":733.48935819999997},{"$f":"N2+1.0078246-0.00055","v":734.49663280000004},{"$f":"O2-18.01057-0.00055","v":716.48551280000004},{"$f":"N2+18.03437-0.00055","v":751.52317819999996},{"$f":"N2+22.98977-0.00055","v":756.47857820000002},{"$f":"N2+38.96371-0.00055","v":772.45251819999999},{"$f":"N2+7.01601-0.00055","v":740.50481820000005},{"$f":"N2-1.0078246+0.00055","v":732.4820835999999},{"$f":"N2+44.99767+0.00055","v":778.48757819999992},{"$f":"N2+59.01332+0.00055","v":792.50322819999997}]
["PS(18:1_18:2)",{"$f":"IF(ISNUMBER(SEARCH(\"(\",A3)),IF(ISNUMBER(SEARCH(\"/\",A3)),CONCATENATE(MID(A3,1,2),\" \",(SUM(MID(A3,FIND(\"(\",A3)+1,FIND(\":\",A3)-FIND(\"(\",A3)-1),MID(A3,FIND(\"/\",A3)+1,FIND(\":\",A3,FIND(\"/\",A3))-FIND(\"/\",A3)-1))),\":\",SUM(MID(A3,FIND(\":\",A3)+1,FIND(\"/\",A3)-FIND(\":\",A3)-1),MID(A3,FIND(\":\",A3,FIND(\"/\",A3))+1,FIND(\")\",A3)-FIND(\":\",A3,FIND(\"/\",A3))-1)),MID(A3,(FIND(\")\",A3)+1),100)),CONCATENATE(MID(A3,1,2),\" \",(SUM(MID(A3,FIND(\"(\",A3)+1,FIND(\":\",A3)-FIND(\"(\",A3)-1),MID(A3,FIND(\"_\",A3)+1,FIND(\":\",A3,FIND(\"_\",A3))-FIND(\"_\",A3)-1))),\":\",SUM(MID(A3,FIND(\":\",A3)+1,FIND(\"_\",A3)-FIND(\":\",A3)-1),MID(A3,FIND(\":\",A3,FIND(\"_\",A3))+1,FIND(\")\",A3)-FIND(\":\",A3,FIND(\"_\",A3))-1)),MID(A3,(FIND(\")\",A3)+1),100))),A3)","v":"PS 36:3"},{"$f":"MID(B3,4,FIND(\":\",B3)-FIND(\" \",B3)-1)","v":"36"},{"$f":"IF(ISNUMBER(SEARCH(\"__\",B3)),MID(B3,FIND(\":\",B3)+1,FIND(\"__\",B3)-FIND(\":\",B3)-1),MID(B3,FIND(\":\",B3)+1,7))","v":"3"},{"$f":"C3+6","v":42},{"$f":"2*E3-(2*D3)-2-((LEN(A3)-LEN(SUBSTITUTE(A3,\"_O_\",\"\")))/LEN(\"_O_\"))*2-((LEN(A3)-LEN(SUBSTITUTE(A3,\"_CHO_\",\"\")))/LEN(\"_CHO_\"))*2-((LEN(A3)-LEN(SUBSTITUTE(A3,\"_COOH_\",\"\")))/LEN(\"_COOH_\"))*2","v":76},1,{"$f":"10+((LEN(A3)-LEN(SUBSTITUTE(A3,\"_OH_\",\"\")))/LEN(\"_OH_\"))*1+((LEN(A3)-LEN(SUBSTITUTE(A3,\"_OOH_\",\"\")))/LEN(\"_OOH_\"))*2+((LEN(A3)-LEN(SUBSTITUTE(A3,\"_O_\",\"\")))/LEN(\"_O_\"))*1+((LEN(A3)-LEN(SUBSTITUTE(A3,\"_CHO_\",\"\")))/LEN(\"_CHO_\"))*1+((LEN(A3)-LEN(SUBSTITUTE(A3,\"_COOH_\",\"\")))/LEN(\"_COOH_\"))*2","v":10},1,null,null,{"$f":"CONCATENATE(\"C\",E3,\"H\",F3,\"N\",G3,\"O\",H3,\"P\",I3)","v":"C42H76N1O10P1"},{"$f":"(E3*12.0107)+(F3*1.00794)+(G3*14.0067)+(H3*15.9994)+(I3*30.973762)","v":786.02730199999996},{"$f":"(E3*12)+(F3*1.0078246)+(G3*14.003074)+(H3*15.994915)+(I3*30.973763)","v":785.52065659999994},{"$f":"N3+1.0078246-0.00055","v":786.52793120000001},{"$f":"O3-18.01057-0.00055","v":768.51681120000001},{"$f":"N3+18.03437-0.00055","v":803.55447659999993},{"$f":"N3+22.98977-0.00055","v":808.50987659999998},{"$f":"N3+38.96371-0.00055","v":824.48381659999995},{"$f":"N3+7.01601-0.00055","v":792.53611660000001},{"$f":"N3-1.0078246+0.00055","v":784.51338199999987},{"$f":"N3+44.99767+0.00055","v":830.51887659999989},{"$f":"N3+59.01332+0.00055","v":844.53452659999994}]
["PS(16:1/18:2)",{"$f":"IF(ISNUMBER(SEARCH(\"(\",A4)),IF(ISNUMBER(SEARCH(\"/\",A4)),CONCATENATE(MID(A4,1,2),\" \",(SUM(MID(A4,FIND(\"(\",A4)+1,FIND(\":\",A4)-FIND(\"(\",A4)-1),MID(A4,FIND(\"/\",A4)+1,FIND(\":\",A4,FIND(\"/\",A4))-FIND(\"/\",A4)-1))),\":\",SUM(MID(A4,FIND(\":\",A4)+1,FIND(\"/\",A4)-FIND(\":\",A4)-1),MID(A4,FIND(\":\",A4,FIND(\"/\",A4))+1,FIND(\")\",A4)-FIND(\":\",A4,FIND(\"/\",A4))-1)),MID(A4,(FIND(\")\",A4)+1),100)),CONCATENATE(MID(A4,1,2),\" \",(SUM(MID(A4,FIND(\"(\",A4)+1,FIND(\":\",A4)-FIND(\"(\",A4)-1),MID(A4,FIND(\"_\",A4)+1,FIND(\":\",A4,FIND(\"_\",A4))-FIND(\"_\",A4)-1))),\":\",SUM(MID(A4,FIND(\":\",A4)+1,FIND(\"_\",A4)-FIND(\":\",A4)-1),MID(A4,FIND(\":\",A4,FIND(\"_\",A4))+1,FIND(\")\",A4)-FIND(\":\",A4,FIND(\"_\",A4))-1)),MID(A4,(FIND(\")\",A4)+1),100))),A4)","v":"PS 34:3"},{"$f":"MID(B4,4,FIND(\":\",B4)-FIND(\" \",B4)-1)","v":"34"},{"$f":"IF(ISNUMBER(SEARCH(\"__\",B4)),MID(B4,FIND(\":\",B4)+1,FIND(\"__\",B4)-FIND(\":\",B4)-1),MID(B4,FIND(\":\",B4)+1,7))","v":"3"},{"$f":"C4+6","v":40},{"$f":"2*E4-(2*D4)-2-((LEN(A4)-LEN(SUBSTITUTE(A4,\"_O_\",\"\")))/LEN(\"_O_\"))*2-((LEN(A4)-LEN(SUBSTITUTE(A4,\"_CHO_\",\"\")))/LEN(\"_CHO_\"))*2-((LEN(A4)-LEN(SUBSTITUTE(A4,\"_COOH_\",\"\")))/LEN(\"_COOH_\"))*2","v":72},1,{"$f":"10+((LEN(A4)-LEN(SUBSTITUTE(A4,\"_OH_\",\"\")))/LEN(\"_OH_\"))*1+((LEN(A4)-LEN(SUBSTITUTE(A4,\"_OOH_\",\"\")))/LEN(\"_OOH_\"))*2+((LEN(A4)-LEN(SUBSTITUTE(A4,\"_O_\",\"\")))/LEN(\"_O_\"))*1+((LEN(A4)-LEN(SUBSTITUTE(A4,\"_CHO_\",\"\")))/LEN(\"_CHO_\"))*1+((LEN(A4)-LEN(SUBSTITUTE(A4,\"_COOH_\",\"\")))/LEN(\"_COOH_\"))*2","v":10},1,null,null,{"$f":"CONCATENATE(\"C\",E4,\"H\",F4,\"N\",G4,\"O\",H4,\"P\",I4)","v":"C40H72N1O10P1"},{"$f":"(E4*12.0107)+(F4*1.00794)+(G4*14.0067)+(H4*15.9994)+(I4*30.973762)","v":757.97414200000003},{"$f":"(E4*12)+(F4*1.0078246)+(G4*14.003074)+(H4*15.994915)+(I4*30.973763)","v":757.48935819999997},{"$f":"N4+1.0078246-0.00055","v":758.49663280000004},{"$f":"O4-18.01057-0.00055","v":740.48551280000004},{"$f":"N4+18.03437-0.00055","v":775.52317819999996},{"$f":"N4+22.98977-0.00055","v":780.47857820000002},{"$f":"N4+38.96371-0.00055","v":796.45251819999999},{"$f":"N4+7.01601-0.00055","v":764.50481820000005},{"$f":"N4-1.0078246+0.00055","v":756.4820835999999},{"$f":"N4+44.99767+0.00055","v":802.48757819999992},{"$f":"N4+59.01332+0.00055","v":816.50322819999997}]

{"sheet":"SM","index":31,"n_rows":3,"n_cols":23,"rows_kept":3,"cut":false,"hidden":false,"merged":[]}
["Lipid","Sum Composition",null,null,"#C","#H","#N","#O","#P",null,null,"Formula","Molecular Weight","Neutral Mass","[M+H]+","[M+H-H2O]+","[M+NH4]+","[M+Na]+","[M+K]+","[M+Li]+","[M-H]-","[M+HCOO]-","[M+CH3COO]-"]
["SM d28:0",{"$f":"IF(ISNUMBER(SEARCH(\"(\",A2)),IF(ISNUMBER(SEARCH(\"/\",A2)),CONCATENATE(MID(A2,1,2),\" \",\"d\",(SUM(MID(A2,FIND(\"(\",A2)+2,FIND(\":\",A2)-FIND(\"(\",A2)-2),MID(A2,FIND(\"/\",A2)+1,FIND(\":\",A2,FIND(\"/\",A2))-FIND(\"/\",A2)-1))),\":\",SUM(MID(A2,FIND(\":\",A2)+1,FIND(\"/\",A2)-FIND(\":\",A2)-1),MID(A2,FIND(\":\",A2,FIND(\"/\",A2))+1,FIND(\")\",A2)-FIND(\":\",A2,FIND(\"/\",A2))-1)),MID(A2,(FIND(\")\",A2)+1),100)),CONCATENATE(MID(A2,1,2),\" \",\"d\",(SUM(MID(A2,FIND(\"(\",A2)+2,FIND(\":\",A2)-FIND(\"(\",A2)-2),MID(A2,FIND(\"_\",A2)+1,FIND(\":\",A2,FIND(\"_\",A2))-FIND(\"_\",A2)-1))),\":\",SUM(MID(A2,FIND(\":\",A2)+1,FIND(\"_\",A2)-FIND(\":\",A2)-1),MID(A2,FIND(\":\",A2,FIND(\"_\",A2))+1,FIND(\")\",A2)-FIND(\":\",A2,FIND(\"_\",A2))-1)),MID(A2,(FIND(\")\",A2)+1),100))),CONCATENATE(MID(A2,1,2),\" \",\"d\",MID(A2,5,100)))","v":"SM d28:0"},{"$f":"MID(B2,5,FIND(\":\",B2)-FIND(\"d\",B2)-1)","v":"28"},{"$f":"IF(ISNUMBER(SEARCH(\"__\",B2)),MID(B2,FIND(\":\",B2)+1,FIND(\"__\",B2)-FIND(\":\",B2)-1),MID(B2,FIND(\":\",B2)+1,7))","v":"0"},{"$f":"C2+5","v":33},{"$f":"2*E2-(2*D2)+3-((LEN(A2)-LEN(SUBSTITUTE(A2,\"_O_\",\"\")))/LEN(\"_O_\"))*2-((LEN(A2)-LEN(SUBSTITUTE(A2,\"_CHO_\",\"\")))/LEN(\"_CHO_\"))*2-((LEN(A2)-LEN(SUBSTITUTE(A2,\"_COOH_\",\"\")))/LEN(\"_COOH_\"))*2","v":69},2,{"$f":"6+((LEN(A2)-LEN(SUBSTITUTE(A2,\"_OH_\",\"\")))/LEN(\"_OH_\"))*1+((LEN(A2)-LEN(SUBSTITUTE(A2,\"_OOH_\",\"\")))/LEN(\"_OOH_\"))*2+((LEN(A2)-LEN(SUBSTITUTE(A2,\"_O_\",\"\")))/LEN(\"_O_\"))*1+((LEN(A2)-LEN(SUBSTITUTE(A2,\"_CHO_\",\"\")))/LEN(\"_CHO_\"))*1+((LEN(A2)-LEN(SUBSTITUTE(A2,\"_COOH_\",\"\")))/LEN(\"_COOH_\"))*2","v":6},1,null,null,{"$f":"CONCATENATE(\"C\",E2,\"H\",F2,\"N\",G2,\"O\",H2,\"P\",I2)","v":"C33H69N2O6P1"},{"$f":"(E2*12.0107)+(F2*1.00794)+(G2*14.0067)+(H2*15.9994)+(I2*30.973762)","v":620.88452199999995},{"$f":"(E2*12)+(F2*1.0078246)+(G2*14.003074)+(H2*15.994915)+(I2*30.973763)","v":620.48929839999994},{"$f":"N2+1.0078246-0.00055","v":621.49657300000001},{"$f":"O2-18.01057-0.00055","v":603.48545300000001},{"$f":"N2+18.03437-0.00055","v":638.52311839999993},{"$f":"N2+22.98977-0.00055","v":643.47851839999998},{"$f":"N2+38.96371-0.00055","v":659.45245839999995},{"$f":"N2+7.01601-0.00055","v":627.50475840000001},{"$f":"N2-1.0078246+0.00055","v":619.48202379999987},{"$f":"N2+44.99767+0.00055","v":665.48751839999989},{"$f":"N2+59.01332+0.00055","v":679.50316839999994}]
["SM(d18:1/16:0)",{"$f":"IF(ISNUMBER(SEARCH(\"(\",A3)),IF(ISNUMBER(SEARCH(\"/\",A3)),CONCATENATE(MID(A3,1,2),\" \",\"d\",(SUM(MID(A3,FIND(\"(\",A3)+2,FIND(\":\",A3)-FIND(\"(\",A3)-2),MID(A3,FIND(\"/\",A3)+1,FIND(\":\",A3,FIND(\"/\",A3))-FIND(\"/\",A3)-1))),\":\",SUM(MID(A3,FIND(\":\",A3)+1,FIND(\"/\",A3)-FIND(\":\",A3)-1),MID(A3,FIND(\":\",A3,FIND(\"/\",A3))+1,FIND(\")\",A3)-FIND(\":\",A3,FIND(\"/\",A3))-1)),MID(A3,(FIND(\")\",A3)+1),100)),CONCATENATE(MID(A3,1,2),\" \",\"d\",(SUM(MID(A3,FIND(\"(\",A3)+2,FIND(\":\",A3)-FIND(\"(\",A3)-2),MID(A3,FIND(\"_\",A3)+1,FIND(\":\",A3,FIND(\"_\",A3))-FIND(\"_\",A3)-1))),\":\",SUM(MID(A3,FIND(\":\",A3)+1,FIND(\"_\",A3)-FIND(\":\",A3)-1),MID(A3,FIND(\":\",A3,FIND(\"_\",A3))+1,FIND(\")\",A3)-FIND(\":\",A3,FIND(\"_\",A3))-1)),MID(A3,(FIND(\")\",A3)+1),100))),CONCATENATE(MID(A3,1,2),\" \",\"d\",MID(A3,5,100)))","v":"SM d34:1"},{"$f":"MID(B3,5,FIND(\":\",B3)-FIND(\"d\",B3)-1)","v":"34"},{"$f":"IF(ISNUMBER(SEARCH(\"__\",B3)),MID(B3,FIND(\":\",B3)+1,FIND(\"__\",B3)-FIND(\":\",B3)-1),MID(B3,FIND(\":\",B3)+1,7))","v":"1"},{"$f":"C3+5","v":39},{"$f":"2*E3-(2*D3)+3-((LEN(A3)-LEN(SUBSTITUTE(A3,\"_O_\",\"\")))/LEN(\"_O_\"))*2-((LEN(A3)-LEN(SUBSTITUTE(A3,\"_CHO_\",\"\")))/LEN(\"_CHO_\"))*2-((LEN(A3)-LEN(SUBSTITUTE(A3,\"_COOH_\",\"\")))/LEN(\"_COOH_\"))*2","v":79},2,{"$f":"6+((LEN(A3)-LEN(SUBSTITUTE(A3,\"_OH_\",\"\")))/LEN(\"_OH_\"))*1+((LEN(A3)-LEN(SUBSTITUTE(A3,\"_OOH_\",\"\")))/LEN(\"_OOH_\"))*2+((LEN(A3)-LEN(SUBSTITUTE(A3,\"_O_\",\"\")))/LEN(\"_O_\"))*1+((LEN(A3)-LEN(SUBSTITUTE(A3,\"_CHO_\",\"\")))/LEN(\"_CHO_\"))*1+((LEN(A3)-LEN(SUBSTITUTE(A3,\"_COOH_\",\"\")))/LEN(\"_COOH_\"))*2","v":6},1,null,null,{"$f":"CONCATENATE(\"C\",E3,\"H\",F3,\"N\",G3,\"O\",H3,\"P\",I3)","v":"C39H79N2O6P1"},{"$f":"(E3*12.0107)+(F3*1.00794)+(G3*14.0067)+(H3*15.9994)+(I3*30.973762)","v":703.02812200000005},{"$f":"(E3*12)+(F3*1.0078246)+(G3*14.003074)+(H3*15.994915)+(I3*30.973763)","v":702.56754440000009},{"$f":"N3+1.0078246-0.00055","v":703.57481900000016},{"$f":"O3-18.01057-0.00055","v":685.56369900000016},{"$f":"N3+18.03437-0.00055","v":720.60136440000008},{"$f":"N3+22.98977-0.00055","v":725.55676440000013},{"$f":"N3+38.96371-0.00055","v":741.5307044000001},{"$f":"N3+7.01601-0.00055","v":709.58300440000016},{"$f":"N3-1.0078246+0.00055","v":701.56026980000001},{"$f":"N3+44.99767+0.00055","v":747.56576440000003},{"$f":"N3+59.01332+0.00055","v":761.58141440000009}]

{"sheet":"LSM","index":32,"n_rows":3,"n_cols":23,"rows_kept":3,"cut":false,"hidden":false,"merged":[]}
["Lipid","Sum Composition",null,null,null,null,"#C","#H","#N","#O","#P","Formula","Molecular Weight","Neutral Mass","[M+H]+","[M+H-H2O]+","[M+NH4]+","[M+Na]+","[M+K]+","[M+Li]+","[M-H]-","[M+HCOO]-","[M+CH3COO]-"]
["LSM d18:1",{"$f":"IF(ISNUMBER(SEARCH(\"(\",A2)),IF(ISNUMBER(SEARCH(\"/\",A2)),CONCATENATE(MID(A2,1,3),\" \",\"d\",(SUM(MID(A2,FIND(\"(\",A2)+2,FIND(\":\",A2)-FIND(\"(\",A2)-2),MID(A2,FIND(\"/\",A2)+1,FIND(\":\",A2,FIND(\"/\",A2))-FIND(\"/\",A2)-1))),\":\",SUM(MID(A2,FIND(\":\",A2)+1,FIND(\"/\",A2)-FIND(\":\",A2)-1),MID(A2,FIND(\":\",A2,FIND(\"/\",A2))+1,FIND(\")\",A2)-FIND(\":\",A2,FIND(\"/\",A2))-1)),MID(A2,(FIND(\")\",A2)+1),100)),CONCATENATE(MID(A2,1,3),\" \",\"d\",(SUM(MID(A2,FIND(\"(\",A2)+2,FIND(\":\",A2)-FIND(\"(\",A2)-2),MID(A2,FIND(\"_\",A2)+1,FIND(\":\",A2,FIND(\"_\",A2))-FIND(\"_\",A2)-1))),\":\",SUM(MID(A2,FIND(\":\",A2)+1,FIND(\"_\",A2)-FIND(\":\",A2)-1),MID(A2,FIND(\":\",A2,FIND(\"_\",A2))+1,FIND(\")\",A2)-FIND(\":\",A2,FIND(\"_\",A2))-1)),MID(A2,(FIND(\")\",A2)+1),100))),CONCATENATE(MID(A2,1,3),\" \",\"d\",MID(A2,6,100)))","v":"LSM d18:1"},{"$f":"MID(B2,6,FIND(\":\",B2)-FIND(\"d\",B2)-1)","v":"18"},{"$f":"IF(ISNUMBER(SEARCH(\"__\",B2)),MID(B2,FIND(\":\",B2)+1,FIND(\"__\",B2)-FIND(\":\",B2)-1),MID(B2,FIND(\":\",B2)+1,7))","v":"1"},{"$f":"C2+5","v":23},{"$f":"D2","v":"1"},{"$f":"E2","v":23},{"$f":"2*G2-(2*F2)+5-((LEN(A2)-LEN(SUBSTITUTE(A2,\"_O_\",\"\")))/LEN(\"_O_\"))*2-((LEN(A2)-LEN(SUBSTITUTE(A2,\"_CHO_\",\"\")))/LEN(\"_CHO_\"))*2-((LEN(A2)-LEN(SUBSTITUTE(A2,\"_COOH_\",\"\")))/LEN(\"_COOH_\"))*2","v":49},2,{"$f":"6-1+((LEN(A2)-LEN(SUBSTITUTE(A2,\"_OH_\",\"\")))/LEN(\"_OH_\"))*1+((LEN(A2)-LEN(SUBSTITUTE(A2,\"_OOH_\",\"\")))/LEN(\"_OOH_\"))*2+((LEN(A2)-LEN(SUBSTITUTE(A2,\"_O_\",\"\")))/LEN(\"_O_\"))*1+((LEN(A2)-LEN(SUBSTITUTE(A2,\"_CHO_\",\"\")))/LEN(\"_CHO_\"))*1+((LEN(A2)-LEN(SUBSTITUTE(A2,\"_COOH_\",\"\")))/LEN(\"_COOH_\"))*2","v":5},1,{"$f":"CONCATENATE(\"C\",G2,\"H\",H2,\"N\",I2,\"O\",J2,\"P\",K2)","v":"C23H49N2O5P1"},{"$f":"(G2*12.0107)+(H2*1.00794)+(I2*14.0067)+(J2*15.9994)+(K2*30.973762)","v":464.61932200000007},{"$f":"(G2*12)+(H2*1.0078246)+(I2*14.003074)+(J2*15.994915)+(K2*30.973763)","v":464.33789140000005},{"$f":"N2+1.0078246-0.00055","v":465.34516600000006},{"$f":"O2-18.01057-0.00055","v":447.33404600000006},{"$f":"N2+18.03437-0.00055","v":482.37171140000009},{"$f":"N2+22.98977-0.00055","v":487.32711140000009},{"$f":"N2+38.96371-0.00055","v":503.30105140000006},{"$f":"N2+7.01601-0.00055","v":471.35335140000007},{"$f":"N2-1.0078246+0.00055","v":463.33061680000003},{"$f":"N2+44.99767+0.00055","v":509.33611140000005},{"$f":"N2+59.01332+0.00055","v":523.35176139999999}]
["LSM d18:1",{"$f":"IF(ISNUMBER(SEARCH(\"(\",A3)),IF(ISNUMBER(SEARCH(\"/\",A3)),CONCATENATE(MID(A3,1,3),\" \",(SUM(MID(A3,FIND(\"(\",A3)+2,FIND(\":\",A3)-FIND(\"(\",A3)-2),MID(A3,FIND(\"/\",A3)+1,FIND(\":\",A3,FIND(\"/\",A3))-FIND(\"/\",A3)-1))),\":\",SUM(MID(A3,FIND(\":\",A3)+1,FIND(\"/\",A3)-FIND(\":\",A3)-1),MID(A3,FIND(\":\",A3,FIND(\"/\",A3))+1,FIND(\")\",A3)-FIND(\":\",A3,FIND(\"/\",A3))-1)),MID(A3,(FIND(\")\",A3)+1),100)),CONCATENATE(MID(A3,1,3),\" \",(SUM(MID(A3,FIND(\"(\",A3)+2,FIND(\":\",A3)-FIND(\"(\",A3)-2),MID(A3,FIND(\"_\",A3)+1,FIND(\":\",A3,FIND(\"_\",A3))-FIND(\"_\",A3)-1))),\":\",SUM(MID(A3,FIND(\":\",A3)+1,FIND(\"_\",A3)-FIND(\":\",A3)-1),MID(A3,FIND(\":\",A3,FIND(\"_\",A3))+1,FIND(\")\",A3)-FIND(\":\",A3,FIND(\"_\",A3))-1)),MID(A3,(FIND(\")\",A3)+1),100))),CONCATENATE(MID(A3,1,3),\" \",MID(A3,6,100)))","v":"LSM 18:1"},{"$f":"MID(B3,5,FIND(\":\",B3)-FIND(\" \",B3)-1)","v":"18"},{"$f":"IF(ISNUMBER(SEARCH(\"__\",B3)),MID(B3,FIND(\":\",B3)+1,FIND(\"__\",B3)-FIND(\":\",B3)-1),MID(B3,FIND(\":\",B3)+1,7))","v":"1"},{"$f":"C3+5","v":23},{"$f":"D3","v":"1"},{"$f":"E3","v":23},{"$f":"2*G3-(2*F3)+5-((LEN(A3)-LEN(SUBSTITUTE(A3,\"_O_\",\"\")))/LEN(\"_O_\"))*2-((LEN(A3)-LEN(SUBSTITUTE(A3,\"_CHO_\",\"\")))/LEN(\"_CHO_\"))*2-((LEN(A3)-LEN(SUBSTITUTE(A3,\"_COOH_\",\"\")))/LEN(\"_COOH_\"))*2","v":49},2,{"$f":"6-1+((LEN(A3)-LEN(SUBSTITUTE(A3,\"_OH_\",\"\")))/LEN(\"_OH_\"))*1+((LEN(A3)-LEN(SUBSTITUTE(A3,\"_OOH_\",\"\")))/LEN(\"_OOH_\"))*2+((LEN(A3)-LEN(SUBSTITUTE(A3,\"_O_\",\"\")))/LEN(\"_O_\"))*1+((LEN(A3)-LEN(SUBSTITUTE(A3,\"_CHO_\",\"\")))/LEN(\"_CHO_\"))*1+((LEN(A3)-LEN(SUBSTITUTE(A3,\"_COOH_\",\"\")))/LEN(\"_COOH_\"))*2","v":5},1,{"$f":"CONCATENATE(\"C\",G3,\"H\",H3,\"N\",I3,\"O\",J3,\"P\",K3)","v":"C23H49N2O5P1"},{"$f":"(G3*12.0107)+(H3*1.00794)+(I3*14.0067)+(J3*15.9994)+(K3*30.973762)","v":464.61932200000007},{"$f":"(G3*12)+(H3*1.0078246)+(I3*14.003074)+(J3*15.994915)+(K3*30.973763)","v":464.33789140000005},{"$f":"N3+1.0078246-0.00055","v":465.34516600000006},{"$f":"O3-18.01057-0.00055","v":447.33404600000006},{"$f":"N3+18.03437-0.00055","v":482.37171140000009},{"$f":"N3+22.98977-0.00055","v":487.32711140000009},{"$f":"N3+38.96371-0.00055","v":503.30105140000006},{"$f":"N3+7.01601-0.00055","v":471.35335140000007},{"$f":"N3-1.0078246+0.00055","v":463.33061680000003},{"$f":"N3+44.99767+0.00055","v":509.33611140000005},{"$f":"N3+59.01332+0.00055","v":523.35176139999999}]

{"sheet":"dMePE","index":33,"n_rows":6,"n_cols":23,"rows_kept":6,"cut":false,"hidden":false,"merged":[]}
["Lipid","Sum Composition",null,null,null,null,"#C","#H","#N","#O","#P","Formula","Molecular Weight","Neutral Mass","[M+H]+","[M+H-H2O]+","[M+NH4]+","[M+Na]+","[M+K]+","[M+Li]+","[M-H]-","[M+HCOO]-","[M+CH3COO]-"]
["dMePE 24:0",{"$f":"IF(ISNUMBER(SEARCH(\"(\",A2)),IF(ISNUMBER(SEARCH(\"/\",A2)),CONCATENATE(MID(A2,1,5),\" \",(SUM(MID(A2,FIND(\"(\",A2)+1,FIND(\":\",A2)-FIND(\"(\",A2)-1),MID(A2,FIND(\"/\",A2)+1,FIND(\":\",A2,FIND(\"/\",A2))-FIND(\"/\",A2)-1))),\":\",SUM(MID(A2,FIND(\":\",A2)+1,FIND(\"/\",A2)-FIND(\":\",A2)-1),MID(A2,FIND(\":\",A2,FIND(\"/\",A2))+1,FIND(\")\",A2)-FIND(\":\",A2,FIND(\"/\",A2))-1)),MID(A2,(FIND(\")\",A2)+1),100)),CONCATENATE(MID(A2,1,5),\" \",(SUM(MID(A2,FIND(\"(\",A2)+1,FIND(\":\",A2)-FIND(\"(\",A2)-1),MID(A2,FIND(\"_\",A2)+1,FIND(\":\",A2,FIND(\"_\",A2))-FIND(\"_\",A2)-1))),\":\",SUM(MID(A2,FIND(\":\",A2)+1,FIND(\"_\",A2)-FIND(\":\",A2)-1),MID(A2,FIND(\":\",A2,FIND(\"_\",A2))+1,FIND(\")\",A2)-FIND(\":\",A2,FIND(\"_\",A2))-1)),MID(A2,(FIND(\")\",A2)+1),100))),A2)","v":"dMePE 24:0"},{"$f":"MID(B2,7,FIND(\":\",B2)-FIND(\" \",B2)-1)","v":"24"},{"$f":"IF(ISNUMBER(SEARCH(\"__\",B2)),MID(B2,FIND(\":\",B2)+1,FIND(\"__\",B2)-FIND(\":\",B2)-1),MID(B2,FIND(\":\",B2)+1,7))","v":"0"},null,null,{"$f":"C2+7","v":31},{"$f":"2*G2-(2*D2)-((LEN(A2)-LEN(SUBSTITUTE(A2,\"_O_\",\"\")))/LEN(\"_O_\"))*2-((LEN(A2)-LEN(SUBSTITUTE(A2,\"_CHO_\",\"\")))/LEN(\"_CHO_\"))*2-((LEN(A2)-LEN(SUBSTITUTE(A2,\"_COOH_\",\"\")))/LEN(\"_COOH_\"))*2","v":62},1,{"$f":"8+((LEN(A2)-LEN(SUBSTITUTE(A2,\"_OH_\",\"\")))/LEN(\"_OH_\"))*1+((LEN(A2)-LEN(SUBSTITUTE(A2,\"_OOH_\",\"\")))/LEN(\"_OOH_\"))*2+((LEN(A2)-LEN(SUBSTITUTE(A2,\"_O_\",\"\")))/LEN(\"_O_\"))*1+((LEN(A2)-LEN(SUBSTITUTE(A2,\"_CHO_\",\"\")))/LEN(\"_CHO_\"))*1+((LEN(A2)-LEN(SUBSTITUTE(A2,\"_COOH_\",\"\")))/LEN(\"_COOH_\"))*2","v":8},1,{"$f":"CONCATENATE(\"C\",G2,\"H\",H2,\"N\",I2,\"O\",J2,\"P\",K2)","v":"C31H62N1O8P1"},{"$f":"(G2*12.0107)+(H2*1.00794)+(I2*14.0067)+(J2*15.9994)+(K2*30.973762)","v":607.79964199999995},{"$f":"(G2*12)+(H2*1.0078246)+(I2*14.003074)+(J2*15.994915)+(K2*30.973763)","v":607.42128219999995},{"$f":"N2+1.0078246-0.00055","v":608.42855680000002},{"$f":"O2-18.01057-0.00055","v":590.41743680000002},{"$f":"N2+18.03437-0.00055","v":625.45510219999994},{"$f":"N2+22.98977-0.00055","v":630.4105022},{"$f":"N2+38.96371-0.00055","v":646.38444219999997},{"$f":"N2+7.01601-0.00055","v":614.43674220000003},{"$f":"N2-1.0078246+0.00055","v":606.41400759999988},{"$f":"N2+44.99767+0.00055","v":652.4195021999999},{"$f":"N2+59.01332+0.00055","v":666.43515219999995}]
["dMePE(16:0/16:0)",{"$f":"IF(ISNUMBER(SEARCH(\"(\",A3)),IF(ISNUMBER(SEARCH(\"/\",A3)),CONCATENATE(MID(A3,1,5),\" \",(SUM(MID(A3,FIND(\"(\",A3)+1,FIND(\":\",A3)-FIND(\"(\",A3)-1),MID(A3,FIND(\"/\",A3)+1,FIND(\":\",A3,FIND(\"/\",A3))-FIND(\"/\",A3)-1))),\":\",SUM(MID(A3,FIND(\":\",A3)+1,FIND(\"/\",A3)-FIND(\":\",A3)-1),MID(A3,FIND(\":\",A3,FIND(\"/\",A3))+1,FIND(\")\",A3)-FIND(\":\",A3,FIND(\"/\",A3))-1)),MID(A3,(FIND(\")\",A3)+1),100)),CONCATENATE(MID(A3,1,5),\" \",(SUM(MID(A3,FIND(\"(\",A3)+1,FIND(\":\",A3)-FIND(\"(\",A3)-1),MID(A3,FIND(\"_\",A3)+1,FIND(\":\",A3,FIND(\"_\",A3))-FIND(\"_\",A3)-1))),\":\",SUM(MID(A3,FIND(\":\",A3)+1,FIND(\"_\",A3)-FIND(\":\",A3)-1),MID(A3,FIND(\":\",A3,FIND(\"_\",A3))+1,FIND(\")\",A3)-FIND(\":\",A3,FIND(\"_\",A3))-1)),MID(A3,(FIND(\")\",A3)+1),100))),A3)","v":"dMePE 32:0"},{"$f":"MID(B3,7,FIND(\":\",B3)-FIND(\" \",B3)-1)","v":"32"},{"$f":"IF(ISNUMBER(SEARCH(\"__\",B3)),MID(B3,FIND(\":\",B3)+1,FIND(\"__\",B3)-FIND(\":\",B3)-1),MID(B3,FIND(\":\",B3)+1,7))","v":"0"},null,null,{"$f":"C3+7","v":39},{"$f":"2*G3-(2*D3)-((LEN(A3)-LEN(SUBSTITUTE(A3,\"_O_\",\"\")))/LEN(\"_O_\"))*2-((LEN(A3)-LEN(SUBSTITUTE(A3,\"_CHO_\",\"\")))/LEN(\"_CHO_\"))*2-((LEN(A3)-LEN(SUBSTITUTE(A3,\"_COOH_\",\"\")))/LEN(\"_COOH_\"))*2","v":78},1,{"$f":"8+((LEN(A3)-LEN(SUBSTITUTE(A3,\"_OH_\",\"\")))/LEN(\"_OH_\"))*1+((LEN(A3)-LEN(SUBSTITUTE(A3,\"_OOH_\",\"\")))/LEN(\"_OOH_\"))*2+((LEN(A3)-LEN(SUBSTITUTE(A3,\"_O_\",\"\")))/LEN(\"_O_\"))*1+((LEN(A3)-LEN(SUBSTITUTE(A3,\"_CHO_\",\"\")))/LEN(\"_CHO_\"))*1+((LEN(A3)-LEN(SUBSTITUTE(A3,\"_COOH_\",\"\")))/LEN(\"_COOH_\"))*2","v":8},1,{"$f":"CONCATENATE(\"C\",G3,\"H\",H3,\"N\",I3,\"O\",J3,\"P\",K3)","v":"C39H78N1O8P1"},{"$f":"(G3*12.0107)+(H3*1.00794)+(I3*14.0067)+(J3*15.9994)+(K3*30.973762)","v":720.01228199999991},{"$f":"(G3*12)+(H3*1.0078246)+(I3*14.003074)+(J3*15.994915)+(K3*30.973763)","v":719.54647579999994},{"$f":"N3+1.0078246-0.00055","v":720.55375040000001},{"$f":"O3-18.01057-0.00055","v":702.54263040000001},{"$f":"N3+18.03437-0.00055","v":737.58029579999993},{"$f":"N3+22.98977-0.00055","v":742.53569579999998},{"$f":"N3+38.96371-0.00055","v":758.50963579999996},{"$f":"N3+7.01601-0.00055","v":726.56193580000001},{"$f":"N3-1.0078246+0.00055","v":718.53920119999987},{"$f":"N3+44.99767+0.00055","v":764.54469579999989},{"$f":"N3+59.01332+0.00055","v":778.56034579999994}]
["dMePE 32:2__O__","dMePE 32:2__O__","32","2",null,null,39,72,1,9,1,"C39H72N1O9P1",{"$f":"(G4*12.0107)+(H4*1.00794)+(I4*14.0067)+(J4*15.9994)+(K4*30.973762)","v":729.96404199999995},729.49444319999998,730.50171780000005,712.49059780000005,747.52826319999997,752.48366320000002,768.45760319999999,736.50990320000005,728.4871685999999,774.49266319999992,788.50831319999998]
["dMePE 33:2","dMePE 33:2","33","2",null,null,40,76,1,8,1,"C40H76N1O8P1",{"$f":"(G5*12.0107)+(H5*1.00794)+(I5*14.0067)+(J5*15.9994)+(K5*30.973762)","v":730.00710199999992},729.53082659999995,730.53810120000003,712.52698120000002,747.56464659999995,752.5200466,768.49398659999997,736.54628660000003,728.52355199999988,774.5290465999999,788.54469659999995]
["dMePE(18:1_18:2)",{"$f":"IF(ISNUMBER(SEARCH(\"(\",A6)),IF(ISNUMBER(SEARCH(\"/\",A6)),CONCATENATE(MID(A6,1,5),\" \",(SUM(MID(A6,FIND(\"(\",A6)+1,FIND(\":\",A6)-FIND(\"(\",A6)-1),MID(A6,FIND(\"/\",A6)+1,FIND(\":\",A6,FIND(\"/\",A6))-FIND(\"/\",A6)-1))),\":\",SUM(MID(A6,FIND(\":\",A6)+1,FIND(\"/\",A6)-FIND(\":\",A6)-1),MID(A6,FIND(\":\",A6,FIND(\"/\",A6))+1,FIND(\")\",A6)-FIND(\":\",A6,FIND(\"/\",A6))-1)),MID(A6,(FIND(\")\",A6)+1),100)),CONCATENATE(MID(A6,1,5),\" \",(SUM(MID(A6,FIND(\"(\",A6)+1,FIND(\":\",A6)-FIND(\"(\",A6)-1),MID(A6,FIND(\"_\",A6)+1,FIND(\":\",A6,FIND(\"_\",A6))-FIND(\"_\",A6)-1))),\":\",SUM(MID(A6,FIND(\":\",A6)+1,FIND(\"_\",A6)-FIND(\":\",A6)-1),MID(A6,FIND(\":\",A6,FIND(\"_\",A6))+1,FIND(\")\",A6)-FIND(\":\",A6,FIND(\"_\",A6))-1)),MID(A6,(FIND(\")\",A6)+1),100))),A6)","v":"dMePE 36:3"},{"$f":"MID(B6,7,FIND(\":\",B6)-FIND(\" \",B6)-1)","v":"36"},{"$f":"IF(ISNUMBER(SEARCH(\"__\",B6)),MID(B6,FIND(\":\",B6)+1,FIND(\"__\",B6)-FIND(\":\",B6)-1),MID(B6,FIND(\":\",B6)+1,7))","v":"3"},null,null,{"$f":"C6+7","v":43},{"$f":"2*G6-(2*D6)-((LEN(A6)-LEN(SUBSTITUTE(A6,\"_O_\",\"\")))/LEN(\"_O_\"))*2-((LEN(A6)-LEN(SUBSTITUTE(A6,\"_CHO_\",\"\")))/LEN(\"_CHO_\"))*2-((LEN(A6)-LEN(SUBSTITUTE(A6,\"_COOH_\",\"\")))/LEN(\"_COOH_\"))*2","v":80},1,{"$f":"8+((LEN(A6)-LEN(SUBSTITUTE(A6,\"_OH_\",\"\")))/LEN(\"_OH_\"))*1+((LEN(A6)-LEN(SUBSTITUTE(A6,\"_OOH_\",\"\")))/LEN(\"_OOH_\"))*2+((LEN(A6)-LEN(SUBSTITUTE(A6,\"_O_\",\"\")))/LEN(\"_O_\"))*1+((LEN(A6)-LEN(SUBSTITUTE(A6,\"_CHO_\",\"\")))/LEN(\"_CHO_\"))*1+((LEN(A6)-LEN(SUBSTITUTE(A6,\"_COOH_\",\"\")))/LEN(\"_COOH_\"))*2","v":8},1,"C43H80N1O8P1",{"$f":"(G6*12.0107)+(H6*1.00794)+(I6*14.0067)+(J6*15.9994)+(K6*30.973762)","v":770.07096199999989},769.56212500000004,{"$f":"N6+1.0078246-0.00055","v":770.56939960000011},{"$f":"O6-18.01057-0.00055","v":752.55827960000011},{"$f":"N6+18.03437-0.00055","v":787.59594500000003},{"$f":"N6+22.98977-0.00055","v":792.55134500000008},{"$f":"N6+38.96371-0.00055","v":808.52528500000005},{"$f":"N6+7.01601-0.00055","v":776.57758500000011},{"$f":"N6-1.0078246+0.00055","v":768.55485039999996},{"$f":"N6+44.99767+0.00055","v":814.56034499999998},{"$f":"N6+59.01332+0.00055","v":828.57599500000003}]

{"sheet":"LdMePE","index":34,"n_rows":3,"n_cols":23,"rows_kept":3,"cut":false,"hidden":false,"merged":[]}
["Lipid","Sum Composition",null,null,"#C","#H","#N","#O","#P",null,null,"Formula","Molecular Weight","Neutral Mass","[M+H]+","[M+H-H2O]+","[M+NH4]+","[M+Na]+","[M+K]+","[M+Li]+","[M-H]-","[M+HCOO]-","[M+CH3COO]-"]
["LdMePE 14:0__O__",{"$f":"IF(ISNUMBER(SEARCH(\"(\",A2)),IF(ISNUMBER(SEARCH(\"/\",A2)),CONCATENATE(MID(A2,1,6),\" \",(SUM(MID(A2,FIND(\"(\",A2)+1,FIND(\":\",A2)-FIND(\"(\",A2)-1),MID(A2,FIND(\"/\",A2)+1,FIND(\":\",A2,FIND(\"/\",A2))-FIND(\"/\",A2)-1))),\":\",SUM(MID(A2,FIND(\":\",A2)+1,FIND(\"/\",A2)-FIND(\":\",A2)-1),MID(A2,FIND(\":\",A2,FIND(\"/\",A2))+1,FIND(\")\",A2)-FIND(\":\",A2,FIND(\"/\",A2))-1)),MID(A2,(FIND(\")\",A2)+1),100)),CONCATENATE(MID(A2,1,6),\" \",(SUM(MID(A2,FIND(\"(\",A2)+1,FIND(\":\",A2)-FIND(\"(\",A2)-1),MID(A2,FIND(\"_\",A2)+1,FIND(\":\",A2,FIND(\"_\",A2))-FIND(\"_\",A2)-1))),\":\",SUM(MID(A2,FIND(\":\",A2)+1,FIND(\"_\",A2)-FIND(\":\",A2)-1),MID(A2,FIND(\":\",A2,FIND(\"_\",A2))+1,FIND(\")\",A2)-FIND(\":\",A2,FIND(\"_\",A2))-1)),MID(A2,(FIND(\")\",A2)+1),100))),A2)","v":"LdMePE 14:0__O__"},{"$f":"MID(B2,8,FIND(\":\",B2)-FIND(\" \",B2)-1)","v":"14"},{"$f":"IF(ISNUMBER(SEARCH(\"__\",B2)),MID(B2,FIND(\":\",B2)+1,FIND(\"__\",B2)-FIND(\":\",B2)-1),MID(B2,FIND(\":\",B2)+1,7))","v":"0"},{"$f":"C2+7","v":21},{"$f":"2*E2-(2*D2)+2-((LEN(A2)-LEN(SUBSTITUTE(A2,\"_O_\",\"\")))/LEN(\"_O_\"))*2-((LEN(A2)-LEN(SUBSTITUTE(A2,\"_CHO_\",\"\")))/LEN(\"_CHO_\"))*2-((LEN(A2)-LEN(SUBSTITUTE(A2,\"_COOH_\",\"\")))/LEN(\"_COOH_\"))*2","v":42},1,{"$f":"7+((LEN(A2)-LEN(SUBSTITUTE(A2,\"_OH_\",\"\")))/LEN(\"_OH_\"))*1+((LEN(A2)-LEN(SUBSTITUTE(A2,\"_OOH_\",\"\")))/LEN(\"_OOH_\"))*2+((LEN(A2)-LEN(SUBSTITUTE(A2,\"_O_\",\"\")))/LEN(\"_O_\"))*1+((LEN(A2)-LEN(SUBSTITUTE(A2,\"_CHO_\",\"\")))/LEN(\"_CHO_\"))*1+((LEN(A2)-LEN(SUBSTITUTE(A2,\"_COOH_\",\"\")))/LEN(\"_COOH_\"))*2","v":8},1,null,null,{"$f":"CONCATENATE(\"C\",E2,\"H\",F2,\"N\",G2,\"O\",H2,\"P\",I2)","v":"C21H42N1O8P1"},{"$f":"(E2*12.0107)+(F2*1.00794)+(G2*14.0067)+(H2*15.9994)+(I2*30.973762)","v":467.53384200000005},{"$f":"(E2*12)+(F2*1.0078246)+(G2*14.003074)+(H2*15.994915)+(I2*30.973763)","v":467.26479020000005},{"$f":"N2+1.0078246-0.00055","v":468.27206480000007},{"$f":"O2-18.01057-0.00055","v":450.26094480000006},{"$f":"N2+18.03437-0.00055","v":485.2986102000001},{"$f":"N2+22.98977-0.00055","v":490.2540102000001},{"$f":"N2+38.96371-0.00055","v":506.22795020000007},{"$f":"N2+7.01601-0.00055","v":474.28025020000007},{"$f":"N2-1.0078246+0.00055","v":466.25751560000003},{"$f":"N2+44.99767+0.00055","v":512.26301020000005},{"$f":"N2+59.01332+0.00055","v":526.27866019999999}]
["LdMePE 16:0",{"$f":"IF(ISNUMBER(SEARCH(\"(\",A3)),IF(ISNUMBER(SEARCH(\"/\",A3)),CONCATENATE(MID(A3,1,6),\" \",(SUM(MID(A3,FIND(\"(\",A3)+1,FIND(\":\",A3)-FIND(\"(\",A3)-1),MID(A3,FIND(\"/\",A3)+1,FIND(\":\",A3,FIND(\"/\",A3))-FIND(\"/\",A3)-1))),\":\",SUM(MID(A3,FIND(\":\",A3)+1,FIND(\"/\",A3)-FIND(\":\",A3)-1),MID(A3,FIND(\":\",A3,FIND(\"/\",A3))+1,FIND(\")\",A3)-FIND(\":\",A3,FIND(\"/\",A3))-1)),MID(A3,(FIND(\")\",A3)+1),100)),CONCATENATE(MID(A3,1,6),\" \",(SUM(MID(A3,FIND(\"(\",A3)+1,FIND(\":\",A3)-FIND(\"(\",A3)-1),MID(A3,FIND(\"_\",A3)+1,FIND(\":\",A3,FIND(\"_\",A3))-FIND(\"_\",A3)-1))),\":\",SUM(MID(A3,FIND(\":\",A3)+1,FIND(\"_\",A3)-FIND(\":\",A3)-1),MID(A3,FIND(\":\",A3,FIND(\"_\",A3))+1,FIND(\")\",A3)-FIND(\":\",A3,FIND(\"_\",A3))-1)),MID(A3,(FIND(\")\",A3)+1),100))),A3)","v":"LdMePE 16:0"},{"$f":"MID(B3,8,FIND(\":\",B3)-FIND(\" \",B3)-1)","v":"16"},{"$f":"IF(ISNUMBER(SEARCH(\"__\",B3)),MID(B3,FIND(\":\",B3)+1,FIND(\"__\",B3)-FIND(\":\",B3)-1),MID(B3,FIND(\":\",B3)+1,7))","v":"0"},{"$f":"C3+7","v":23},{"$f":"2*E3-(2*D3)+2-((LEN(A3)-LEN(SUBSTITUTE(A3,\"_O_\",\"\")))/LEN(\"_O_\"))*2-((LEN(A3)-LEN(SUBSTITUTE(A3,\"_CHO_\",\"\")))/LEN(\"_CHO_\"))*2-((LEN(A3)-LEN(SUBSTITUTE(A3,\"_COOH_\",\"\")))/LEN(\"_COOH_\"))*2","v":48},1,{"$f":"7+((LEN(A3)-LEN(SUBSTITUTE(A3,\"_OH_\",\"\")))/LEN(\"_OH_\"))*1+((LEN(A3)-LEN(SUBSTITUTE(A3,\"_OOH_\",\"\")))/LEN(\"_OOH_\"))*2+((LEN(A3)-LEN(SUBSTITUTE(A3,\"_O_\",\"\")))/LEN(\"_O_\"))*1+((LEN(A3)-LEN(SUBSTITUTE(A3,\"_CHO_\",\"\")))/LEN(\"_CHO_\"))*1+((LEN(A3)-LEN(SUBSTITUTE(A3,\"_COOH_\",\"\")))/LEN(\"_COOH_\"))*2","v":7},1,null,null,{"$f":"CONCATENATE(\"C\",E3,\"H\",F3,\"N\",G3,\"O\",H3,\"P\",I3)","v":"C23H48N1O7P1"},{"$f":"(E3*12.0107)+(F3*1.00794)+(G3*14.0067)+(H3*15.9994)+(I3*30.973762)","v":481.60348200000004},{"$f":"(E3*12)+(F3*1.0078246)+(G3*14.003074)+(H3*15.994915)+(I3*30.973763)","v":481.31682280000001},{"$f":"N3+1.0078246-0.00055","v":482.32409740000003},{"$f":"O3-18.01057-0.00055","v":464.31297740000002},{"$f":"N3+18.03437-0.00055","v":499.35064280000006},{"$f":"N3+22.98977-0.00055","v":504.30604280000006},{"$f":"N3+38.96371-0.00055","v":520.27998280000008},{"$f":"N3+7.01601-0.00055","v":488.33228280000003},{"$f":"N3-1.0078246+0.00055","v":480.30954819999999},{"$f":"N3+44.99767+0.00055","v":526.31504280000001},{"$f":"N3+59.01332+0.00055","v":540.33069279999995}]

{"sheet":"cPA","index":35,"n_rows":3,"n_cols":23,"rows_kept":3,"cut":false,"hidden":false,"merged":[]}
["Lipid","Sum Composition",null,null,"#C","#H","#N","#O","#P",null,null,"Formula","Molecular Weight","Neutral Mass","[M+H]+","[M+H-H2O]+","[M+NH4]+","[M+Na]+","[M+K]+","[M+Li]+","[M-H]-","[M+HCOO]-","[M+CH3COO]-"]
["cPA 16:0",{"$f":"IF(ISNUMBER(SEARCH(\"(\",A2)),IF(ISNUMBER(SEARCH(\"/\",A2)),CONCATENATE(MID(A2,1,3),\" \",(SUM(MID(A2,FIND(\"(\",A2)+1,FIND(\":\",A2)-FIND(\"(\",A2)-1),MID(A2,FIND(\"/\",A2)+1,FIND(\":\",A2,FIND(\"/\",A2))-FIND(\"/\",A2)-1))),\":\",SUM(MID(A2,FIND(\":\",A2)+1,FIND(\"/\",A2)-FIND(\":\",A2)-1),MID(A2,FIND(\":\",A2,FIND(\"/\",A2))+1,FIND(\")\",A2)-FIND(\":\",A2,FIND(\"/\",A2))-1)),MID(A2,(FIND(\")\",A2)+1),100)),CONCATENATE(MID(A2,1,3),\" \",(SUM(MID(A2,FIND(\"(\",A2)+1,FIND(\":\",A2)-FIND(\"(\",A2)-1),MID(A2,FIND(\"_\",A2)+1,FIND(\":\",A2,FIND(\"_\",A2))-FIND(\"_\",A2)-1))),\":\",SUM(MID(A2,FIND(\":\",A2)+1,FIND(\"_\",A2)-FIND(\":\",A2)-1),MID(A2,FIND(\":\",A2,FIND(\"_\",A2))+1,FIND(\")\",A2)-FIND(\":\",A2,FIND(\"_\",A2))-1)),MID(A2,(FIND(\")\",A2)+1),100))),A2)","v":"cPA 16:0"},{"$f":"MID(B2,5,FIND(\":\",B2)-FIND(\" \",B2)-1)","v":"16"},{"$f":"IF(ISNUMBER(SEARCH(\"__\",B2)),MID(B2,FIND(\":\",B2)+1,FIND(\"__\",B2)-FIND(\":\",B2)-1),MID(B2,FIND(\":\",B2)+1,7))","v":"0"},{"$f":"C2+3","v":19},{"$f":"2*E2-(2*D2)-1-((LEN(A2)-LEN(SUBSTITUTE(A2,\"_O_\",\"\")))/LEN(\"_O_\"))*2-((LEN(A2)-LEN(SUBSTITUTE(A2,\"_CHO_\",\"\")))/LEN(\"_CHO_\"))*2-((LEN(A2)-LEN(SUBSTITUTE(A2,\"_COOH_\",\"\")))/LEN(\"_COOH_\"))*2","v":37},0,{"$f":"6+((LEN(A2)-LEN(SUBSTITUTE(A2,\"_OH_\",\"\")))/LEN(\"_OH_\"))*1+((LEN(A2)-LEN(SUBSTITUTE(A2,\"_OOH_\",\"\")))/LEN(\"_OOH_\"))*2+((LEN(A2)-LEN(SUBSTITUTE(A2,\"_O_\",\"\")))/LEN(\"_O_\"))*1+((LEN(A2)-LEN(SUBSTITUTE(A2,\"_CHO_\",\"\")))/LEN(\"_CHO_\"))*1+((LEN(A2)-LEN(SUBSTITUTE(A2,\"_COOH_\",\"\")))/LEN(\"_COOH_\"))*2","v":6},1,null,null,{"$f":"CONCATENATE(\"C\",E2,\"H\",F2,\"O\",H2,\"P\",I2)","v":"C19H37O6P1"},{"$f":"(E2*12.0107)+(F2*1.00794)+(G2*14.0067)+(H2*15.9994)+(I2*30.973762)","v":392.46724200000006},{"$f":"(E2*12)+(F2*1.0078246)+(G2*14.003074)+(H2*15.994915)+(I2*30.973763)","v":392.23276320000002},{"$f":"N2+1.0078246-0.00055","v":393.24003780000004},{"$f":"O2-18.01057-0.00055","v":375.22891780000009},{"$f":"N2+18.03437-0.00055","v":410.26658320000007},{"$f":"N2+22.98977-0.00055","v":415.22198320000007},{"$f":"N2+38.96371-0.00055","v":431.19592320000004},{"$f":"N2+7.01601-0.00055","v":399.24822320000004},{"$f":"N2-1.0078246+0.00055","v":391.22548860000001},{"$f":"N2+44.99767+0.00055","v":437.23098319999997},{"$f":"N2+59.01332+0.00055","v":451.24663320000002}]
["cPA 18:1",{"$f":"IF(ISNUMBER(SEARCH(\"(\",A3)),IF(ISNUMBER(SEARCH(\"/\",A3)),CONCATENATE(MID(A3,1,3),\" \",(SUM(MID(A3,FIND(\"(\",A3)+1,FIND(\":\",A3)-FIND(\"(\",A3)-1),MID(A3,FIND(\"/\",A3)+1,FIND(\":\",A3,FIND(\"/\",A3))-FIND(\"/\",A3)-1))),\":\",SUM(MID(A3,FIND(\":\",A3)+1,FIND(\"/\",A3)-FIND(\":\",A3)-1),MID(A3,FIND(\":\",A3,FIND(\"/\",A3))+1,FIND(\")\",A3)-FIND(\":\",A3,FIND(\"/\",A3))-1)),MID(A3,(FIND(\")\",A3)+1),100)),CONCATENATE(MID(A3,1,3),\" \",(SUM(MID(A3,FIND(\"(\",A3)+1,FIND(\":\",A3)-FIND(\"(\",A3)-1),MID(A3,FIND(\"_\",A3)+1,FIND(\":\",A3,FIND(\"_\",A3))-FIND(\"_\",A3)-1))),\":\",SUM(MID(A3,FIND(\":\",A3)+1,FIND(\"_\",A3)-FIND(\":\",A3)-1),MID(A3,FIND(\":\",A3,FIND(\"_\",A3))+1,FIND(\")\",A3)-FIND(\":\",A3,FIND(\"_\",A3))-1)),MID(A3,(FIND(\")\",A3)+1),100))),A3)","v":"cPA 18:1"},{"$f":"MID(B3,5,FIND(\":\",B3)-FIND(\" \",B3)-1)","v":"18"},{"$f":"IF(ISNUMBER(SEARCH(\"__\",B3)),MID(B3,FIND(\":\",B3)+1,FIND(\"__\",B3)-FIND(\":\",B3)-1),MID(B3,FIND(\":\",B3)+1,7))","v":"1"},{"$f":"C3+3","v":21},{"$f":"2*E3-(2*D3)-1-((LEN(A3)-LEN(SUBSTITUTE(A3,\"_O_\",\"\")))/LEN(\"_O_\"))*2-((LEN(A3)-LEN(SUBSTITUTE(A3,\"_CHO_\",\"\")))/LEN(\"_CHO_\"))*2-((LEN(A3)-LEN(SUBSTITUTE(A3,\"_COOH_\",\"\")))/LEN(\"_COOH_\"))*2","v":39},0,{"$f":"6+((LEN(A3)-LEN(SUBSTITUTE(A3,\"_OH_\",\"\")))/LEN(\"_OH_\"))*1+((LEN(A3)-LEN(SUBSTITUTE(A3,\"_OOH_\",\"\")))/LEN(\"_OOH_\"))*2+((LEN(A3)-LEN(SUBSTITUTE(A3,\"_O_\",\"\")))/LEN(\"_O_\"))*1+((LEN(A3)-LEN(SUBSTITUTE(A3,\"_CHO_\",\"\")))/LEN(\"_CHO_\"))*1+((LEN(A3)-LEN(SUBSTITUTE(A3,\"_COOH_\",\"\")))/LEN(\"_COOH_\"))*2","v":6},1,null,null,{"$f":"CONCATENATE(\"C\",E3,\"H\",F3,\"O\",H3,\"P\",I3)","v":"C21H39O6P1"},{"$f":"(E3*12.0107)+(F3*1.00794)+(G3*14.0067)+(H3*15.9994)+(I3*30.973762)","v":418.50452200000001},{"$f":"(E3*12)+(F3*1.0078246)+(G3*14.003074)+(H3*15.994915)+(I3*30.973763)","v":418.24841240000001},{"$f":"N3+1.0078246-0.00055","v":419.25568700000002},{"$f":"O3-18.01057-0.00055","v":401.24456700000007},{"$f":"N3+18.03437-0.00055","v":436.28223240000005},{"$f":"N3+22.98977-0.00055","v":441.23763240000005},{"$f":"N3+38.96371-0.00055","v":457.21157240000002},{"$f":"N3+7.01601-0.00055","v":425.26387240000003},{"$f":"N3-1.0078246+0.00055","v":417.24113779999999},{"$f":"N3+44.99767+0.00055","v":463.24663239999995},{"$f":"N3+59.01332+0.00055","v":477.2622824}]

{"sheet":"PEt","index":36,"n_rows":4,"n_cols":23,"rows_kept":4,"cut":false,"hidden":false,"merged":[]}
["Lipid","Sum Composition",null,null,"#C","#H","#N","#O","#P",null,null,"Formula","Molecular Weight","Neutral Mass","[M+H]+","[M+H-H2O]+","[M+NH4]+","[M+Na]+","[M+K]+","[M+Li]+","[M-H]-","[M+HCOO]-","[M+CH3COO]-"]
["PEt 33:0",{"$f":"IF(ISNUMBER(SEARCH(\"(\",A2)),IF(ISNUMBER(SEARCH(\"/\",A2)),CONCATENATE(MID(A2,1,3),\" \",(SUM(MID(A2,FIND(\"(\",A2)+1,FIND(\":\",A2)-FIND(\"(\",A2)-1),MID(A2,FIND(\"/\",A2)+1,FIND(\":\",A2,FIND(\"/\",A2))-FIND(\"/\",A2)-1))),\":\",SUM(MID(A2,FIND(\":\",A2)+1,FIND(\"/\",A2)-FIND(\":\",A2)-1),MID(A2,FIND(\":\",A2,FIND(\"/\",A2))+1,FIND(\")\",A2)-FIND(\":\",A2,FIND(\"/\",A2))-1)),MID(A2,(FIND(\")\",A2)+1),100)),CONCATENATE(MID(A2,1,3),\" \",(SUM(MID(A2,FIND(\"(\",A2)+1,FIND(\":\",A2)-FIND(\"(\",A2)-1),MID(A2,FIND(\"_\",A2)+1,FIND(\":\",A2,FIND(\"_\",A2))-FIND(\"_\",A2)-1))),\":\",SUM(MID(A2,FIND(\":\",A2)+1,FIND(\"_\",A2)-FIND(\":\",A2)-1),MID(A2,FIND(\":\",A2,FIND(\"_\",A2))+1,FIND(\")\",A2)-FIND(\":\",A2,FIND(\"_\",A2))-1)),MID(A2,(FIND(\")\",A2)+1),100))),A2)","v":"PEt 33:0"},{"$f":"MID(B2,5,FIND(\":\",B2)-FIND(\" \",B2)-1)","v":"33"},{"$f":"IF(ISNUMBER(SEARCH(\"__\",B2)),MID(B2,FIND(\":\",B2)+1,FIND(\"__\",B2)-FIND(\":\",B2)-1),MID(B2,FIND(\":\",B2)+1,7))","v":"0"},{"$f":"C2+5","v":38},{"$f":"2*E2-(2*D2)-1-((LEN(A2)-LEN(SUBSTITUTE(A2,\"_O_\",\"\")))/LEN(\"_O_\"))*2-((LEN(A2)-LEN(SUBSTITUTE(A2,\"_CHO_\",\"\")))/LEN(\"_CHO_\"))*2-((LEN(A2)-LEN(SUBSTITUTE(A2,\"_COOH_\",\"\")))/LEN(\"_COOH_\"))*2","v":75},0,{"$f":"8+((LEN(A2)-LEN(SUBSTITUTE(A2,\"_OH_\",\"\")))/LEN(\"_OH_\"))*1+((LEN(A2)-LEN(SUBSTITUTE(A2,\"_OOH_\",\"\")))/LEN(\"_OOH_\"))*2+((LEN(A2)-LEN(SUBSTITUTE(A2,\"_O_\",\"\")))/LEN(\"_O_\"))*1+((LEN(A2)-LEN(SUBSTITUTE(A2,\"_CHO_\",\"\")))/LEN(\"_CHO_\"))*1+((LEN(A2)-LEN(SUBSTITUTE(A2,\"_COOH_\",\"\")))/LEN(\"_COOH_\"))*2","v":8},1,null,null,{"$f":"CONCATENATE(\"C\",E2,\"H\",F2,\"O\",H2,\"P\",I2)","v":"C38H75O8P1"},{"$f":"(E2*12.0107)+(F2*1.00794)+(G2*14.0067)+(H2*15.9994)+(I2*30.973762)","v":690.97106199999996},{"$f":"(E2*12)+(F2*1.0078246)+(G2*14.003074)+(H2*15.994915)+(I2*30.973763)","v":690.51992800000005},{"$f":"N2+1.0078246-0.00055","v":691.52720260000012},{"$f":"O2-18.01057-0.00055","v":673.51608260000012},{"$f":"N2+18.03437-0.00055","v":708.55374800000004},{"$f":"N2+22.98977-0.00055","v":713.5091480000001},{"$f":"N2+38.96371-0.00055","v":729.48308800000007},{"$f":"N2+7.01601-0.00055","v":697.53538800000013},{"$f":"N2-1.0078246+0.00055","v":689.51265339999998},{"$f":"N2+44.99767+0.00055","v":735.518148},{"$f":"N2+59.01332+0.00055","v":749.53379800000005}]
["PEt(16:0/18:2)",{"$f":"IF(ISNUMBER(SEARCH(\"(\",A3)),IF(ISNUMBER(SEARCH(\"/\",A3)),CONCATENATE(MID(A3,1,3),\" \",(SUM(MID(A3,FIND(\"(\",A3)+1,FIND(\":\",A3)-FIND(\"(\",A3)-1),MID(A3,FIND(\"/\",A3)+1,FIND(\":\",A3,FIND(\"/\",A3))-FIND(\"/\",A3)-1))),\":\",SUM(MID(A3,FIND(\":\",A3)+1,FIND(\"/\",A3)-FIND(\":\",A3)-1),MID(A3,FIND(\":\",A3,FIND(\"/\",A3))+1,FIND(\")\",A3)-FIND(\":\",A3,FIND(\"/\",A3))-1)),MID(A3,(FIND(\")\",A3)+1),100)),CONCATENATE(MID(A3,1,3),\" \",(SUM(MID(A3,FIND(\"(\",A3)+1,FIND(\":\",A3)-FIND(\"(\",A3)-1),MID(A3,FIND(\"_\",A3)+1,FIND(\":\",A3,FIND(\"_\",A3))-FIND(\"_\",A3)-1))),\":\",SUM(MID(A3,FIND(\":\",A3)+1,FIND(\"_\",A3)-FIND(\":\",A3)-1),MID(A3,FIND(\":\",A3,FIND(\"_\",A3))+1,FIND(\")\",A3)-FIND(\":\",A3,FIND(\"_\",A3))-1)),MID(A3,(FIND(\")\",A3)+1),100))),A3)","v":"PEt 34:2"},{"$f":"MID(B3,5,FIND(\":\",B3)-FIND(\" \",B3)-1)","v":"34"},{"$f":"IF(ISNUMBER(SEARCH(\"__\",B3)),MID(B3,FIND(\":\",B3)+1,FIND(\"__\",B3)-FIND(\":\",B3)-1),MID(B3,FIND(\":\",B3)+1,7))","v":"2"},{"$f":"C3+5","v":39},{"$f":"2*E3-(2*D3)-1-((LEN(A3)-LEN(SUBSTITUTE(A3,\"_O_\",\"\")))/LEN(\"_O_\"))*2-((LEN(A3)-LEN(SUBSTITUTE(A3,\"_CHO_\",\"\")))/LEN(\"_CHO_\"))*2-((LEN(A3)-LEN(SUBSTITUTE(A3,\"_COOH_\",\"\")))/LEN(\"_COOH_\"))*2","v":73},0,{"$f":"8+((LEN(A3)-LEN(SUBSTITUTE(A3,\"_OH_\",\"\")))/LEN(\"_OH_\"))*1+((LEN(A3)-LEN(SUBSTITUTE(A3,\"_OOH_\",\"\")))/LEN(\"_OOH_\"))*2+((LEN(A3)-LEN(SUBSTITUTE(A3,\"_O_\",\"\")))/LEN(\"_O_\"))*1+((LEN(A3)-LEN(SUBSTITUTE(A3,\"_CHO_\",\"\")))/LEN(\"_CHO_\"))*1+((LEN(A3)-LEN(SUBSTITUTE(A3,\"_COOH_\",\"\")))/LEN(\"_COOH_\"))*2","v":8},1,null,null,{"$f":"CONCATENATE(\"C\",E3,\"H\",F3,\"O\",H3,\"P\",I3)","v":"C39H73O8P1"},{"$f":"(E3*12.0107)+(F3*1.00794)+(G3*14.0067)+(H3*15.9994)+(I3*30.973762)","v":700.96588199999997},{"$f":"(E3*12)+(F3*1.0078246)+(G3*14.003074)+(H3*15.994915)+(I3*30.973763)","v":700.50427879999995},{"$f":"N3+1.0078246-0.00055","v":701.51155340000003},{"$f":"O3-18.01057-0.00055","v":683.50043340000002},{"$f":"N3+18.03437-0.00055","v":718.53809879999994},{"$f":"N3+22.98977-0.00055","v":723.4934988},{"$f":"N3+38.96371-0.00055","v":739.46743879999997},{"$f":"N3+7.01601-0.00055","v":707.51973880000003},{"$f":"N3-1.0078246+0.00055","v":699.49700419999988},{"$f":"N3+44.99767+0.00055","v":745.5024987999999},{"$f":"N3+59.01332+0.00055","v":759.51814879999995}]
["PEt(18:1_18:2)__CHO__",{"$f":"IF(ISNUMBER(SEARCH(\"(\",A4)),IF(ISNUMBER(SEARCH(\"/\",A4)),CONCATENATE(MID(A4,1,3),\" \",(SUM(MID(A4,FIND(\"(\",A4)+1,FIND(\":\",A4)-FIND(\"(\",A4)-1),MID(A4,FIND(\"/\",A4)+1,FIND(\":\",A4,FIND(\"/\",A4))-FIND(\"/\",A4)-1))),\":\",SUM(MID(A4,FIND(\":\",A4)+1,FIND(\"/\",A4)-FIND(\":\",A4)-1),MID(A4,FIND(\":\",A4,FIND(\"/\",A4))+1,FIND(\")\",A4)-FIND(\":\",A4,FIND(\"/\",A4))-1)),MID(A4,(FIND(\")\",A4)+1),100)),CONCATENATE(MID(A4,1,3),\" \",(SUM(MID(A4,FIND(\"(\",A4)+1,FIND(\":\",A4)-FIND(\"(\",A4)-1),MID(A4,FIND(\"_\",A4)+1,FIND(\":\",A4,FIND(\"_\",A4))-FIND(\"_\",A4)-1))),\":\",SUM(MID(A4,FIND(\":\",A4)+1,FIND(\"_\",A4)-FIND(\":\",A4)-1),MID(A4,FIND(\":\",A4,FIND(\"_\",A4))+1,FIND(\")\",A4)-FIND(\":\",A4,FIND(\"_\",A4))-1)),MID(A4,(FIND(\")\",A4)+1),100))),A4)","v":"PEt 36:3__CHO__"},{"$f":"MID(B4,5,FIND(\":\",B4)-FIND(\" \",B4)-1)","v":"36"},{"$f":"IF(ISNUMBER(SEARCH(\"__\",B4)),MID(B4,FIND(\":\",B4)+1,FIND(\"__\",B4)-FIND(\":\",B4)-1),MID(B4,FIND(\":\",B4)+1,7))","v":"3"},41,{"$f":"2*E4-(2*D4)-1-((LEN(A4)-LEN(SUBSTITUTE(A4,\"_O_\",\"\")))/LEN(\"_O_\"))*2-((LEN(A4)-LEN(SUBSTITUTE(A4,\"_CHO_\",\"\")))/LEN(\"_CHO_\"))*2-((LEN(A4)-LEN(SUBSTITUTE(A4,\"_COOH_\",\"\")))/LEN(\"_COOH_\"))*2","v":73},0,{"$f":"8+((LEN(A4)-LEN(SUBSTITUTE(A4,\"_OH_\",\"\")))/LEN(\"_OH_\"))*1+((LEN(A4)-LEN(SUBSTITUTE(A4,\"_OOH_\",\"\")))/LEN(\"_OOH_\"))*2+((LEN(A4)-LEN(SUBSTITUTE(A4,\"_O_\",\"\")))/LEN(\"_O_\"))*1+((LEN(A4)-LEN(SUBSTITUTE(A4,\"_CHO_\",\"\")))/LEN(\"_CHO_\"))*1+((LEN(A4)-LEN(SUBSTITUTE(A4,\"_COOH_\",\"\")))/LEN(\"_COOH_\"))*2","v":9},1,null,null,{"$f":"CONCATENATE(\"C\",E4,\"H\",F4,\"O\",H4,\"P\",I4)","v":"C41H73O9P1"},{"$f":"(E4*12.0107)+(F4*1.00794)+(G4*14.0067)+(H4*15.9994)+(I4*30.973762)","v":740.98668199999997},740.49919379999994,{"$f":"N4+1.0078246-0.00055","v":741.50646840000002},{"$f":"O4-18.01057-0.00055","v":723.49534840000001},{"$f":"N4+18.03437-0.00055","v":758.53301379999994},{"$f":"N4+22.98977-0.00055","v":763.48841379999999},{"$f":"N4+38.96371-0.00055","v":779.46235379999996},{"$f":"N4+7.01601-0.00055","v":747.51465380000002},{"$f":"N4-1.0078246+0.00055","v":739.49191919999987},{"$f":"N4+44.99767+0.00055","v":785.49741379999989},{"$f":"N4+59.01332+0.00055","v":799.51306379999994}]

{"sheet":"PIP","index":37,"n_rows":4,"n_cols":23,"rows_kept":4,"cut":false,"hidden":false,"merged":[]}
["Lipid","Sum Composition",null,null,"#C","#H","#N","#O","#P",null,null,"Formula","Molecular Weight","Neutral Mass","[M+H]+","[M+H-H2O]+","[M+NH4]+","[M+Na]+","[M+K]+","[M+Li]+","[M-H]-","[M+HCOO]-","[M+CH3COO]-"]
["PIP 54:5",{"$f":"IF(ISNUMBER(SEARCH(\"(\",A2)),IF(ISNUMBER(SEARCH(\"/\",A2)),CONCATENATE(MID(A2,1,3),\" \",(SUM(MID(A2,FIND(\"(\",A2)+1,FIND(\":\",A2)-FIND(\"(\",A2)-1),MID(A2,FIND(\"/\",A2)+1,FIND(\":\",A2,FIND(\"/\",A2))-FIND(\"/\",A2)-1))),\":\",SUM(MID(A2,FIND(\":\",A2)+1,FIND(\"/\",A2)-FIND(\":\",A2)-1),MID(A2,FIND(\":\",A2,FIND(\"/\",A2))+1,FIND(\")\",A2)-FIND(\":\",A2,FIND(\"/\",A2))-1)),MID(A2,(FIND(\")\",A2)+1),100)),CONCATENATE(MID(A2,1,3),\" \",(SUM(MID(A2,FIND(\"(\",A2)+1,FIND(\":\",A2)-FIND(\"(\",A2)-1),MID(A2,FIND(\"_\",A2)+1,FIND(\":\",A2,FIND(\"_\",A2))-FIND(\"_\",A2)-1))),\":\",SUM(MID(A2,FIND(\":\",A2)+1,FIND(\"_\",A2)-FIND(\":\",A2)-1),MID(A2,FIND(\":\",A2,FIND(\"_\",A2))+1,FIND(\")\",A2)-FIND(\":\",A2,FIND(\"_\",A2))-1)),MID(A2,(FIND(\")\",A2)+1),100))),A2)","v":"PIP 54:5"},{"$f":"MID(B2,5,FIND(\":\",B2)-FIND(\" \",B2)-1)","v":"54"},{"$f":"IF(ISNUMBER(SEARCH(\"__\",B2)),MID(B2,FIND(\":\",B2)+1,FIND(\"__\",B2)-FIND(\":\",B2)-1),MID(B2,FIND(\":\",B2)+1,7))","v":"5"},{"$f":"C2+9","v":63},{"$f":"2*E2-(2*D2)-2-((LEN(A2)-LEN(SUBSTITUTE(A2,\"_O_\",\"\")))/LEN(\"_O_\"))*2-((LEN(A2)-LEN(SUBSTITUTE(A2,\"_CHO_\",\"\")))/LEN(\"_CHO_\"))*2-((LEN(A2)-LEN(SUBSTITUTE(A2,\"_COOH_\",\"\")))/LEN(\"_COOH_\"))*2","v":114},0,{"$f":"16+((LEN(A2)-LEN(SUBSTITUTE(A2,\"_OH_\",\"\")))/LEN(\"_OH_\"))*1+((LEN(A2)-LEN(SUBSTITUTE(A2,\"_OOH_\",\"\")))/LEN(\"_OOH_\"))*2+((LEN(A2)-LEN(SUBSTITUTE(A2,\"_O_\",\"\")))/LEN(\"_O_\"))*1+((LEN(A2)-LEN(SUBSTITUTE(A2,\"_CHO_\",\"\")))/LEN(\"_CHO_\"))*1+((LEN(A2)-LEN(SUBSTITUTE(A2,\"_COOH_\",\"\")))/LEN(\"_COOH_\"))*2","v":16},2,null,null,{"$f":"CONCATENATE(\"C\",E2,\"H\",F2,\"O\",H2,\"P\",I2)","v":"C63H114O16P2"},{"$f":"(E2*12.0107)+(F2*1.00794)+(G2*14.0067)+(H2*15.9994)+(I2*30.973762)","v":1189.5171839999998},{"$f":"(E2*12)+(F2*1.0078246)+(G2*14.003074)+(H2*15.994915)+(I2*30.973763)","v":1188.7581703999999},{"$f":"N2+1.0078246-0.00055","v":1189.765445},{"$f":"O2-18.01057-0.00055","v":1171.7543250000001},{"$f":"N2+18.03437-0.00055","v":1206.7919904},{"$f":"N2+22.98977-0.00055","v":1211.7473903999999},{"$f":"N2+38.96371-0.00055","v":1227.7213303999999},{"$f":"N2+7.01601-0.00055","v":1195.7736304},{"$f":"N2-1.0078246+0.00055","v":1187.7508957999999},{"$f":"N2+44.99767+0.00055","v":1233.7563903999999},{"$f":"N2+59.01332+0.00055","v":1247.7720403999999}]
["PIP(16:1/18:1)",{"$f":"IF(ISNUMBER(SEARCH(\"(\",A3)),IF(ISNUMBER(SEARCH(\"/\",A3)),CONCATENATE(MID(A3,1,3),\" \",(SUM(MID(A3,FIND(\"(\",A3)+1,FIND(\":\",A3)-FIND(\"(\",A3)-1),MID(A3,FIND(\"/\",A3)+1,FIND(\":\",A3,FIND(\"/\",A3))-FIND(\"/\",A3)-1))),\":\",SUM(MID(A3,FIND(\":\",A3)+1,FIND(\"/\",A3)-FIND(\":\",A3)-1),MID(A3,FIND(\":\",A3,FIND(\"/\",A3))+1,FIND(\")\",A3)-FIND(\":\",A3,FIND(\"/\",A3))-1)),MID(A3,(FIND(\")\",A3)+1),100)),CONCATENATE(MID(A3,1,3),\" \",(SUM(MID(A3,FIND(\"(\",A3)+1,FIND(\":\",A3)-FIND(\"(\",A3)-1),MID(A3,FIND(\"_\",A3)+1,FIND(\":\",A3,FIND(\"_\",A3))-FIND(\"_\",A3)-1))),\":\",SUM(MID(A3,FIND(\":\",A3)+1,FIND(\"_\",A3)-FIND(\":\",A3)-1),MID(A3,FIND(\":\",A3,FIND(\"_\",A3))+1,FIND(\")\",A3)-FIND(\":\",A3,FIND(\"_\",A3))-1)),MID(A3,(FIND(\")\",A3)+1),100))),A3)","v":"PIP 34:2"},{"$f":"MID(B3,5,FIND(\":\",B3)-FIND(\" \",B3)-1)","v":"34"},{"$f":"IF(ISNUMBER(SEARCH(\"__\",B3)),MID(B3,FIND(\":\",B3)+1,FIND(\"__\",B3)-FIND(\":\",B3)-1),MID(B3,FIND(\":\",B3)+1,7))","v":"2"},{"$f":"C3+9","v":43},{"$f":"2*E3-(2*D3)-2-((LEN(A3)-LEN(SUBSTITUTE(A3,\"_O_\",\"\")))/LEN(\"_O_\"))*2-((LEN(A3)-LEN(SUBSTITUTE(A3,\"_CHO_\",\"\")))/LEN(\"_CHO_\"))*2-((LEN(A3)-LEN(SUBSTITUTE(A3,\"_COOH_\",\"\")))/LEN(\"_COOH_\"))*2","v":80},0,{"$f":"16+((LEN(A3)-LEN(SUBSTITUTE(A3,\"_OH_\",\"\")))/LEN(\"_OH_\"))*1+((LEN(A3)-LEN(SUBSTITUTE(A3,\"_OOH_\",\"\")))/LEN(\"_OOH_\"))*2+((LEN(A3)-LEN(SUBSTITUTE(A3,\"_O_\",\"\")))/LEN(\"_O_\"))*1+((LEN(A3)-LEN(SUBSTITUTE(A3,\"_CHO_\",\"\")))/LEN(\"_CHO_\"))*1+((LEN(A3)-LEN(SUBSTITUTE(A3,\"_COOH_\",\"\")))/LEN(\"_COOH_\"))*2","v":16},2,null,null,{"$f":"CONCATENATE(\"C\",E3,\"H\",F3,\"O\",H3,\"P\",I3)","v":"C43H80O16P2"},{"$f":"(E3*12.0107)+(F3*1.00794)+(G3*14.0067)+(H3*15.9994)+(I3*30.973762)","v":915.03322400000002},{"$f":"(E3*12)+(F3*1.0078246)+(G3*14.003074)+(H3*15.994915)+(I3*30.973763)","v":914.49213400000008},{"$f":"N3+1.0078246-0.00055","v":915.49940860000015},{"$f":"O3-18.01057-0.00055","v":897.48828860000015},{"$f":"N3+18.03437-0.00055","v":932.52595400000007},{"$f":"N3+22.98977-0.00055","v":937.48135400000012},{"$f":"N3+38.96371-0.00055","v":953.45529400000009},{"$f":"N3+7.01601-0.00055","v":921.50759400000015},{"$f":"N3-1.0078246+0.00055","v":913.4848594},{"$f":"N3+44.99767+0.00055","v":959.49035400000002},{"$f":"N3+59.01332+0.00055","v":973.50600400000008}]
["PIP(18:1_18:2)__CHO__",{"$f":"IF(ISNUMBER(SEARCH(\"(\",A4)),IF(ISNUMBER(SEARCH(\"/\",A4)),CONCATENATE(MID(A4,1,3),\" \",(SUM(MID(A4,FIND(\"(\",A4)+1,FIND(\":\",A4)-FIND(\"(\",A4)-1),MID(A4,FIND(\"/\",A4)+1,FIND(\":\",A4,FIND(\"/\",A4))-FIND(\"/\",A4)-1))),\":\",SUM(MID(A4,FIND(\":\",A4)+1,FIND(\"/\",A4)-FIND(\":\",A4)-1),MID(A4,FIND(\":\",A4,FIND(\"/\",A4))+1,FIND(\")\",A4)-FIND(\":\",A4,FIND(\"/\",A4))-1)),MID(A4,(FIND(\")\",A4)+1),100)),CONCATENATE(MID(A4,1,3),\" \",(SUM(MID(A4,FIND(\"(\",A4)+1,FIND(\":\",A4)-FIND(\"(\",A4)-1),MID(A4,FIND(\"_\",A4)+1,FIND(\":\",A4,FIND(\"_\",A4))-FIND(\"_\",A4)-1))),\":\",SUM(MID(A4,FIND(\":\",A4)+1,FIND(\"_\",A4)-FIND(\":\",A4)-1),MID(A4,FIND(\":\",A4,FIND(\"_\",A4))+1,FIND(\")\",A4)-FIND(\":\",A4,FIND(\"_\",A4))-1)),MID(A4,(FIND(\")\",A4)+1),100))),A4)","v":"PIP 36:3__CHO__"},{"$f":"MID(B4,5,FIND(\":\",B4)-FIND(\" \",B4)-1)","v":"36"},{"$f":"IF(ISNUMBER(SEARCH(\"__\",B4)),MID(B4,FIND(\":\",B4)+1,FIND(\"__\",B4)-FIND(\":\",B4)-1),MID(B4,FIND(\":\",B4)+1,7))","v":"3"},{"$f":"C4+9","v":45},{"$f":"2*E4-(2*D4)-2-((LEN(A4)-LEN(SUBSTITUTE(A4,\"_O_\",\"\")))/LEN(\"_O_\"))*2-((LEN(A4)-LEN(SUBSTITUTE(A4,\"_CHO_\",\"\")))/LEN(\"_CHO_\"))*2-((LEN(A4)-LEN(SUBSTITUTE(A4,\"_COOH_\",\"\")))/LEN(\"_COOH_\"))*2","v":80},0,{"$f":"16+((LEN(A4)-LEN(SUBSTITUTE(A4,\"_OH_\",\"\")))/LEN(\"_OH_\"))*1+((LEN(A4)-LEN(SUBSTITUTE(A4,\"_OOH_\",\"\")))/LEN(\"_OOH_\"))*2+((LEN(A4)-LEN(SUBSTITUTE(A4,\"_O_\",\"\")))/LEN(\"_O_\"))*1+((LEN(A4)-LEN(SUBSTITUTE(A4,\"_CHO_\",\"\")))/LEN(\"_CHO_\"))*1+((LEN(A4)-LEN(SUBSTITUTE(A4,\"_COOH_\",\"\")))/LEN(\"_COOH_\"))*2","v":17},2,null,null,"C45H80O17P2",{"$f":"(E4*12.0107)+(F4*1.00794)+(G4*14.0067)+(H4*15.9994)+(I4*30.973762)","v":955.05402400000014},{"$f":"(E4*12)+(F4*1.0078246)+(G4*14.003074)+(H4*15.994915)+(I4*30.973763)","v":954.48704900000018},{"$f":"N4+1.0078246-0.00055","v":955.49432360000026},{"$f":"O4-18.01057-0.00055","v":937.48320360000025},{"$f":"N4+18.03437-0.00055","v":972.52086900000018},{"$f":"N4+22.98977-0.00055","v":977.47626900000023},{"$f":"N4+38.96371-0.00055","v":993.4502090000002},{"$f":"N4+7.01601-0.00055","v":961.50250900000026},{"$f":"N4-1.0078246+0.00055","v":953.47977440000011},{"$f":"N4+44.99767+0.00055","v":999.48526900000013},{"$f":"N4+59.01332+0.00055","v":1013.5009190000002}]

{"sheet":"PMe","index":38,"n_rows":4,"n_cols":23,"rows_kept":4,"cut":false,"hidden":false,"merged":[]}
["Lipid","Sum Composition",null,null,"#C","#H","#N","#O","#P",null,null,"Formula","Molecular Weight","Neutral Mass","[M+H]+","[M+H-H2O]+","[M+NH4]+","[M+Na]+","[M+K]+","[M+Li]+","[M-H]-","[M+HCOO]-","[M+CH3COO]-"]
["PMe 38:0",{"$f":"IF(ISNUMBER(SEARCH(\"(\",A2)),IF(ISNUMBER(SEARCH(\"/\",A2)),CONCATENATE(MID(A2,1,3),\" \",(SUM(MID(A2,FIND(\"(\",A2)+1,FIND(\":\",A2)-FIND(\"(\",A2)-1),MID(A2,FIND(\"/\",A2)+1,FIND(\":\",A2,FIND(\"/\",A2))-FIND(\"/\",A2)-1))),\":\",SUM(MID(A2,FIND(\":\",A2)+1,FIND(\"/\",A2)-FIND(\":\",A2)-1),MID(A2,FIND(\":\",A2,FIND(\"/\",A2))+1,FIND(\")\",A2)-FIND(\":\",A2,FIND(\"/\",A2))-1)),MID(A2,(FIND(\")\",A2)+1),100)),CONCATENATE(MID(A2,1,3),\" \",(SUM(MID(A2,FIND(\"(\",A2)+1,FIND(\":\",A2)-FIND(\"(\",A2)-1),MID(A2,FIND(\"_\",A2)+1,FIND(\":\",A2,FIND(\"_\",A2))-FIND(\"_\",A2)-1))),\":\",SUM(MID(A2,FIND(\":\",A2)+1,FIND(\"_\",A2)-FIND(\":\",A2)-1),MID(A2,FIND(\":\",A2,FIND(\"_\",A2))+1,FIND(\")\",A2)-FIND(\":\",A2,FIND(\"_\",A2))-1)),MID(A2,(FIND(\")\",A2)+1),100))),A2)","v":"PMe 38:0"},{"$f":"MID(B2,5,FIND(\":\",B2)-FIND(\" \",B2)-1)","v":"38"},{"$f":"IF(ISNUMBER(SEARCH(\"__\",B2)),MID(B2,FIND(\":\",B2)+1,FIND(\"__\",B2)-FIND(\":\",B2)-1),MID(B2,FIND(\":\",B2)+1,7))","v":"0"},{"$f":"C2+4","v":42},{"$f":"2*E2-(2*D2)-1-((LEN(A2)-LEN(SUBSTITUTE(A2,\"_O_\",\"\")))/LEN(\"_O_\"))*2-((LEN(A2)-LEN(SUBSTITUTE(A2,\"_CHO_\",\"\")))/LEN(\"_CHO_\"))*2-((LEN(A2)-LEN(SUBSTITUTE(A2,\"_COOH_\",\"\")))/LEN(\"_COOH_\"))*2","v":83},0,{"$f":"8+((LEN(A2)-LEN(SUBSTITUTE(A2,\"_OH_\",\"\")))/LEN(\"_OH_\"))*1+((LEN(A2)-LEN(SUBSTITUTE(A2,\"_OOH_\",\"\")))/LEN(\"_OOH_\"))*2+((LEN(A2)-LEN(SUBSTITUTE(A2,\"_O_\",\"\")))/LEN(\"_O_\"))*1+((LEN(A2)-LEN(SUBSTITUTE(A2,\"_CHO_\",\"\")))/LEN(\"_CHO_\"))*1+((LEN(A2)-LEN(SUBSTITUTE(A2,\"_COOH_\",\"\")))/LEN(\"_COOH_\"))*2","v":8},1,null,null,{"$f":"CONCATENATE(\"C\",E2,\"H\",F2,\"O\",H2,\"P\",I2)","v":"C42H83O8P1"},{"$f":"(E2*12.0107)+(F2*1.00794)+(G2*14.0067)+(H2*15.9994)+(I2*30.973762)","v":747.07738199999994},{"$f":"(E2*12)+(F2*1.0078246)+(G2*14.003074)+(H2*15.994915)+(I2*30.973763)","v":746.58252479999999},{"$f":"N2+1.0078246-0.00055","v":747.58979940000006},{"$f":"O2-18.01057-0.00055","v":729.57867940000006},{"$f":"N2+18.03437-0.00055","v":764.61634479999998},{"$f":"N2+22.98977-0.00055","v":769.57174480000003},{"$f":"N2+38.96371-0.00055","v":785.5456848},{"$f":"N2+7.01601-0.00055","v":753.59798480000006},{"$f":"N2-1.0078246+0.00055","v":745.57525019999991},{"$f":"N2+44.99767+0.00055","v":791.58074479999993},{"$f":"N2+59.01332+0.00055","v":805.59639479999998}]
["PMe(16:0/18:1)",{"$f":"IF(ISNUMBER(SEARCH(\"(\",A3)),IF(ISNUMBER(SEARCH(\"/\",A3)),CONCATENATE(MID(A3,1,3),\" \",(SUM(MID(A3,FIND(\"(\",A3)+1,FIND(\":\",A3)-FIND(\"(\",A3)-1),MID(A3,FIND(\"/\",A3)+1,FIND(\":\",A3,FIND(\"/\",A3))-FIND(\"/\",A3)-1))),\":\",SUM(MID(A3,FIND(\":\",A3)+1,FIND(\"/\",A3)-FIND(\":\",A3)-1),MID(A3,FIND(\":\",A3,FIND(\"/\",A3))+1,FIND(\")\",A3)-FIND(\":\",A3,FIND(\"/\",A3))-1)),MID(A3,(FIND(\")\",A3)+1),100)),CONCATENATE(MID(A3,1,3),\" \",(SUM(MID(A3,FIND(\"(\",A3)+1,FIND(\":\",A3)-FIND(\"(\",A3)-1),MID(A3,FIND(\"_\",A3)+1,FIND(\":\",A3,FIND(\"_\",A3))-FIND(\"_\",A3)-1))),\":\",SUM(MID(A3,FIND(\":\",A3)+1,FIND(\"_\",A3)-FIND(\":\",A3)-1),MID(A3,FIND(\":\",A3,FIND(\"_\",A3))+1,FIND(\")\",A3)-FIND(\":\",A3,FIND(\"_\",A3))-1)),MID(A3,(FIND(\")\",A3)+1),100))),A3)","v":"PMe 34:1"},{"$f":"MID(B3,5,FIND(\":\",B3)-FIND(\" \",B3)-1)","v":"34"},{"$f":"IF(ISNUMBER(SEARCH(\"__\",B3)),MID(B3,FIND(\":\",B3)+1,FIND(\"__\",B3)-FIND(\":\",B3)-1),MID(B3,FIND(\":\",B3)+1,7))","v":"1"},{"$f":"C3+4","v":38},{"$f":"2*E3-(2*D3)-1-((LEN(A3)-LEN(SUBSTITUTE(A3,\"_O_\",\"\")))/LEN(\"_O_\"))*2-((LEN(A3)-LEN(SUBSTITUTE(A3,\"_CHO_\",\"\")))/LEN(\"_CHO_\"))*2-((LEN(A3)-LEN(SUBSTITUTE(A3,\"_COOH_\",\"\")))/LEN(\"_COOH_\"))*2","v":73},0,{"$f":"8+((LEN(A3)-LEN(SUBSTITUTE(A3,\"_OH_\",\"\")))/LEN(\"_OH_\"))*1+((LEN(A3)-LEN(SUBSTITUTE(A3,\"_OOH_\",\"\")))/LEN(\"_OOH_\"))*2+((LEN(A3)-LEN(SUBSTITUTE(A3,\"_O_\",\"\")))/LEN(\"_O_\"))*1+((LEN(A3)-LEN(SUBSTITUTE(A3,\"_CHO_\",\"\")))/LEN(\"_CHO_\"))*1+((LEN(A3)-LEN(SUBSTITUTE(A3,\"_COOH_\",\"\")))/LEN(\"_COOH_\"))*2","v":8},1,null,null,{"$f":"CONCATENATE(\"C\",E3,\"H\",F3,\"O\",H3,\"P\",I3)","v":"C38H73O8P1"},{"$f":"(E3*12.0107)+(F3*1.00794)+(G3*14.0067)+(H3*15.9994)+(I3*30.973762)","v":688.95518199999992},{"$f":"(E3*12)+(F3*1.0078246)+(G3*14.003074)+(H3*15.994915)+(I3*30.973763)","v":688.50427879999995},{"$f":"N3+1.0078246-0.00055","v":689.51155340000003},{"$f":"O3-18.01057-0.00055","v":671.50043340000002},{"$f":"N3+18.03437-0.00055","v":706.53809879999994},{"$f":"N3+22.98977-0.00055","v":711.4934988},{"$f":"N3+38.96371-0.00055","v":727.46743879999997},{"$f":"N3+7.01601-0.00055","v":695.51973880000003},{"$f":"N3-1.0078246+0.00055","v":687.49700419999988},{"$f":"N3+44.99767+0.00055","v":733.5024987999999},{"$f":"N3+59.01332+0.00055","v":747.51814879999995}]
["PMe(18:1/18:2)__COOH__",{"$f":"IF(ISNUMBER(SEARCH(\"(\",A4)),IF(ISNUMBER(SEARCH(\"/\",A4)),CONCATENATE(MID(A4,1,3),\" \",(SUM(MID(A4,FIND(\"(\",A4)+1,FIND(\":\",A4)-FIND(\"(\",A4)-1),MID(A4,FIND(\"/\",A4)+1,FIND(\":\",A4,FIND(\"/\",A4))-FIND(\"/\",A4)-1))),\":\",SUM(MID(A4,FIND(\":\",A4)+1,FIND(\"/\",A4)-FIND(\":\",A4)-1),MID(A4,FIND(\":\",A4,FIND(\"/\",A4))+1,FIND(\")\",A4)-FIND(\":\",A4,FIND(\"/\",A4))-1)),MID(A4,(FIND(\")\",A4)+1),100)),CONCATENATE(MID(A4,1,3),\" \",(SUM(MID(A4,FIND(\"(\",A4)+1,FIND(\":\",A4)-FIND(\"(\",A4)-1),MID(A4,FIND(\"_\",A4)+1,FIND(\":\",A4,FIND(\"_\",A4))-FIND(\"_\",A4)-1))),\":\",SUM(MID(A4,FIND(\":\",A4)+1,FIND(\"_\",A4)-FIND(\":\",A4)-1),MID(A4,FIND(\":\",A4,FIND(\"_\",A4))+1,FIND(\")\",A4)-FIND(\":\",A4,FIND(\"_\",A4))-1)),MID(A4,(FIND(\")\",A4)+1),100))),A4)","v":"PMe 36:3__COOH__"},{"$f":"MID(B4,5,FIND(\":\",B4)-FIND(\" \",B4)-1)","v":"36"},{"$f":"IF(ISNUMBER(SEARCH(\"__\",B4)),MID(B4,FIND(\":\",B4)+1,FIND(\"__\",B4)-FIND(\":\",B4)-1),MID(B4,FIND(\":\",B4)+1,7))","v":"3"},{"$f":"C4+4","v":40},{"$f":"2*E4-(2*D4)-1-((LEN(A4)-LEN(SUBSTITUTE(A4,\"_O_\",\"\")))/LEN(\"_O_\"))*2-((LEN(A4)-LEN(SUBSTITUTE(A4,\"_CHO_\",\"\")))/LEN(\"_CHO_\"))*2-((LEN(A4)-LEN(SUBSTITUTE(A4,\"_COOH_\",\"\")))/LEN(\"_COOH_\"))*2","v":71},0,{"$f":"8+((LEN(A4)-LEN(SUBSTITUTE(A4,\"_OH_\",\"\")))/LEN(\"_OH_\"))*1+((LEN(A4)-LEN(SUBSTITUTE(A4,\"_OOH_\",\"\")))/LEN(\"_OOH_\"))*2+((LEN(A4)-LEN(SUBSTITUTE(A4,\"_O_\",\"\")))/LEN(\"_O_\"))*1+((LEN(A4)-LEN(SUBSTITUTE(A4,\"_CHO_\",\"\")))/LEN(\"_CHO_\"))*1+((LEN(A4)-LEN(SUBSTITUTE(A4,\"_COOH_\",\"\")))/LEN(\"_COOH_\"))*2","v":10},1,null,null,{"$f":"CONCATENATE(\"C\",E4,\"H\",F4,\"O\",H4,\"P\",I4)","v":"C40H71O10P1"},{"$f":"(E4*12.0107)+(F4*1.00794)+(G4*14.0067)+(H4*15.9994)+(I4*30.973762)","v":742.95950200000004},{"$f":"(E4*12)+(F4*1.0078246)+(G4*14.003074)+(H4*15.994915)+(I4*30.973763)","v":742.47845959999995},{"$f":"N4+1.0078246-0.00055","v":743.48573420000002},{"$f":"O4-18.01057-0.00055","v":725.47461420000002},{"$f":"N4+18.03437-0.00055","v":760.51227959999994},{"$f":"N4+22.98977-0.00055","v":765.4676796},{"$f":"N4+38.96371-0.00055","v":781.44161959999997},{"$f":"N4+7.01601-0.00055","v":749.49391960000003},{"$f":"N4-1.0078246+0.00055","v":741.47118499999988},{"$f":"N4+44.99767+0.00055","v":787.4766795999999},{"$f":"N4+59.01332+0.00055","v":801.49232959999995}]

{"sheet":"MGDG","index":39,"n_rows":4,"n_cols":23,"rows_kept":4,"cut":false,"hidden":false,"merged":[]}
["Lipid","Sum Composition",null,null,"#C","#H","#N","#O","#P",null,null,"Formula","Molecular Weight","Neutral Mass","[M+H]+","[M+H-H2O]+","[M+NH4]+","[M+Na]+","[M+K]+","[M+Li]+","[M-H]-","[M+HCOO]-","[M+CH3COO]-"]
["MGDG 36:4__O__",{"$f":"IF(ISNUMBER(SEARCH(\"(\",A2)),IF(ISNUMBER(SEARCH(\"/\",A2)),CONCATENATE(MID(A2,1,4),\" \",(SUM(MID(A2,FIND(\"(\",A2)+1,FIND(\":\",A2)-FIND(\"(\",A2)-1),MID(A2,FIND(\"/\",A2)+1,FIND(\":\",A2,FIND(\"/\",A2))-FIND(\"/\",A2)-1))),\":\",SUM(MID(A2,FIND(\":\",A2)+1,FIND(\"/\",A2)-FIND(\":\",A2)-1),MID(A2,FIND(\":\",A2,FIND(\"/\",A2))+1,FIND(\")\",A2)-FIND(\":\",A2,FIND(\"/\",A2))-1)),MID(A2,(FIND(\")\",A2)+1),100)),CONCATENATE(MID(A2,1,4),\" \",(SUM(MID(A2,FIND(\"(\",A2)+1,FIND(\":\",A2)-FIND(\"(\",A2)-1),MID(A2,FIND(\"_\",A2)+1,FIND(\":\",A2,FIND(\"_\",A2))-FIND(\"_\",A2)-1))),\":\",SUM(MID(A2,FIND(\":\",A2)+1,FIND(\"_\",A2)-FIND(\":\",A2)-1),MID(A2,FIND(\":\",A2,FIND(\"_\",A2))+1,FIND(\")\",A2)-FIND(\":\",A2,FIND(\"_\",A2))-1)),MID(A2,(FIND(\")\",A2)+1),100))),A2)","v":"MGDG 36:4__O__"},{"$f":"MID(B2,6,FIND(\":\",B2)-FIND(\" \",B2)-1)","v":"36"},{"$f":"IF(ISNUMBER(SEARCH(\"__\",B2)),MID(B2,FIND(\":\",B2)+1,FIND(\"__\",B2)-FIND(\":\",B2)-1),MID(B2,FIND(\":\",B2)+1,7))","v":"4"},{"$f":"C2+9","v":45},{"$f":"2*E2-(2*D2)-4-((LEN(A2)-LEN(SUBSTITUTE(A2,\"_O_\",\"\")))/LEN(\"_O_\"))*2-((LEN(A2)-LEN(SUBSTITUTE(A2,\"_CHO_\",\"\")))/LEN(\"_CHO_\"))*2-((LEN(A2)-LEN(SUBSTITUTE(A2,\"_COOH_\",\"\")))/LEN(\"_COOH_\"))*2","v":76},0,{"$f":"10+((LEN(A2)-LEN(SUBSTITUTE(A2,\"_OH_\",\"\")))/LEN(\"_OH_\"))*1+((LEN(A2)-LEN(SUBSTITUTE(A2,\"_OOH_\",\"\")))/LEN(\"_OOH_\"))*2+((LEN(A2)-LEN(SUBSTITUTE(A2,\"_O_\",\"\")))/LEN(\"_O_\"))*1+((LEN(A2)-LEN(SUBSTITUTE(A2,\"_CHO_\",\"\")))/LEN(\"_CHO_\"))*1+((LEN(A2)-LEN(SUBSTITUTE(A2,\"_COOH_\",\"\")))/LEN(\"_COOH_\"))*2","v":11},0,null,null,{"$f":"CONCATENATE(\"C\",E2,\"H\",F2,\"O\",H2,)","v":"C45H76O11"},{"$f":"(E2*12.0107)+(F2*1.00794)+(G2*14.0067)+(H2*15.9994)+(I2*30.973762)","v":793.07834000000003},{"$f":"(E2*12)+(F2*1.0078246)+(G2*14.003074)+(H2*15.994915)+(I2*30.973763)","v":792.5387346},{"$f":"N2+1.0078246-0.00055","v":793.54600920000007},{"$f":"O2-18.01057-0.00055","v":775.53488920000007},{"$f":"N2+18.03437-0.00055","v":810.57255459999999},{"$f":"N2+22.98977-0.00055","v":815.52795460000004},{"$f":"N2+38.96371-0.00055","v":831.50189460000001},{"$f":"N2+7.01601-0.00055","v":799.55419460000007},{"$f":"N2-1.0078246+0.00055","v":791.53145999999992},{"$f":"N2+44.99767+0.00055","v":837.53695459999994},{"$f":"N2+59.01332+0.00055","v":851.5526046}]
["MGDG(16:0/22:6)__O__",{"$f":"IF(ISNUMBER(SEARCH(\"(\",A3)),IF(ISNUMBER(SEARCH(\"/\",A3)),CONCATENATE(MID(A3,1,4),\" \",(SUM(MID(A3,FIND(\"(\",A3)+1,FIND(\":\",A3)-FIND(\"(\",A3)-1),MID(A3,FIND(\"/\",A3)+1,FIND(\":\",A3,FIND(\"/\",A3))-FIND(\"/\",A3)-1))),\":\",SUM(MID(A3,FIND(\":\",A3)+1,FIND(\"/\",A3)-FIND(\":\",A3)-1),MID(A3,FIND(\":\",A3,FIND(\"/\",A3))+1,FIND(\")\",A3)-FIND(\":\",A3,FIND(\"/\",A3))-1)),MID(A3,(FIND(\")\",A3)+1),100)),CONCATENATE(MID(A3,1,4),\" \",(SUM(MID(A3,FIND(\"(\",A3)+1,FIND(\":\",A3)-FIND(\"(\",A3)-1),MID(A3,FIND(\"_\",A3)+1,FIND(\":\",A3,FIND(\"_\",A3))-FIND(\"_\",A3)-1))),\":\",SUM(MID(A3,FIND(\":\",A3)+1,FIND(\"_\",A3)-FIND(\":\",A3)-1),MID(A3,FIND(\":\",A3,FIND(\"_\",A3))+1,FIND(\")\",A3)-FIND(\":\",A3,FIND(\"_\",A3))-1)),MID(A3,(FIND(\")\",A3)+1),100))),A3)","v":"MGDG 38:6__O__"},{"$f":"MID(B3,6,FIND(\":\",B3)-FIND(\" \",B3)-1)","v":"38"},{"$f":"IF(ISNUMBER(SEARCH(\"__\",B3)),MID(B3,FIND(\":\",B3)+1,FIND(\"__\",B3)-FIND(\":\",B3)-1),MID(B3,FIND(\":\",B3)+1,7))","v":"6"},{"$f":"C3+9","v":47},{"$f":"2*E3-(2*D3)-4-((LEN(A3)-LEN(SUBSTITUTE(A3,\"_O_\",\"\")))/LEN(\"_O_\"))*2-((LEN(A3)-LEN(SUBSTITUTE(A3,\"_CHO_\",\"\")))/LEN(\"_CHO_\"))*2-((LEN(A3)-LEN(SUBSTITUTE(A3,\"_COOH_\",\"\")))/LEN(\"_COOH_\"))*2","v":76},0,{"$f":"10+((LEN(A3)-LEN(SUBSTITUTE(A3,\"_OH_\",\"\")))/LEN(\"_OH_\"))*1+((LEN(A3)-LEN(SUBSTITUTE(A3,\"_OOH_\",\"\")))/LEN(\"_OOH_\"))*2+((LEN(A3)-LEN(SUBSTITUTE(A3,\"_O_\",\"\")))/LEN(\"_O_\"))*1+((LEN(A3)-LEN(SUBSTITUTE(A3,\"_CHO_\",\"\")))/LEN(\"_CHO_\"))*1+((LEN(A3)-LEN(SUBSTITUTE(A3,\"_COOH_\",\"\")))/LEN(\"_COOH_\"))*2","v":11},0,null,null,{"$f":"CONCATENATE(\"C\",E3,\"H\",F3,\"O\",H3,)","v":"C47H76O11"},{"$f":"(E3*12.0107)+(F3*1.00794)+(G3*14.0067)+(H3*15.9994)+(I3*30.973762)","v":817.09973999999988},{"$f":"(E3*12)+(F3*1.0078246)+(G3*14.003074)+(H3*15.994915)+(I3*30.973763)","v":816.5387346},{"$f":"N3+1.0078246-0.00055","v":817.54600920000007},{"$f":"O3-18.01057-0.00055","v":799.53488920000007},{"$f":"N3+18.03437-0.00055","v":834.57255459999999},{"$f":"N3+22.98977-0.00055","v":839.52795460000004},{"$f":"N3+38.96371-0.00055","v":855.50189460000001},{"$f":"N3+7.01601-0.00055","v":823.55419460000007},{"$f":"N3-1.0078246+0.00055","v":815.53145999999992},{"$f":"N3+44.99767+0.00055","v":861.53695459999994},{"$f":"N3+59.01332+0.00055","v":875.5526046}]
["MGDG(16:0_22:6)",{"$f":"IF(ISNUMBER(SEARCH(\"(\",A4)),IF(ISNUMBER(SEARCH(\"/\",A4)),CONCATENATE(MID(A4,1,4),\" \",(SUM(MID(A4,FIND(\"(\",A4)+1,FIND(\":\",A4)-FIND(\"(\",A4)-1),MID(A4,FIND(\"/\",A4)+1,FIND(\":\",A4,FIND(\"/\",A4))-FIND(\"/\",A4)-1))),\":\",SUM(MID(A4,FIND(\":\",A4)+1,FIND(\"/\",A4)-FIND(\":\",A4)-1),MID(A4,FIND(\":\",A4,FIND(\"/\",A4))+1,FIND(\")\",A4)-FIND(\":\",A4,FIND(\"/\",A4))-1)),MID(A4,(FIND(\")\",A4)+1),100)),CONCATENATE(MID(A4,1,4),\" \",(SUM(MID(A4,FIND(\"(\",A4)+1,FIND(\":\",A4)-FIND(\"(\",A4)-1),MID(A4,FIND(\"_\",A4)+1,FIND(\":\",A4,FIND(\"_\",A4))-FIND(\"_\",A4)-1))),\":\",SUM(MID(A4,FIND(\":\",A4)+1,FIND(\"_\",A4)-FIND(\":\",A4)-1),MID(A4,FIND(\":\",A4,FIND(\"_\",A4))+1,FIND(\")\",A4)-FIND(\":\",A4,FIND(\"_\",A4))-1)),MID(A4,(FIND(\")\",A4)+1),100))),A4)","v":"MGDG 38:6"},{"$f":"MID(B4,6,FIND(\":\",B4)-FIND(\" \",B4)-1)","v":"38"},{"$f":"IF(ISNUMBER(SEARCH(\"__\",B4)),MID(B4,FIND(\":\",B4)+1,FIND(\"__\",B4)-FIND(\":\",B4)-1),MID(B4,FIND(\":\",B4)+1,7))","v":"6"},{"$f":"C4+9","v":47},{"$f":"2*E4-(2*D4)-4-((LEN(A4)-LEN(SUBSTITUTE(A4,\"_O_\",\"\")))/LEN(\"_O_\"))*2-((LEN(A4)-LEN(SUBSTITUTE(A4,\"_CHO_\",\"\")))/LEN(\"_CHO_\"))*2-((LEN(A4)-LEN(SUBSTITUTE(A4,\"_COOH_\",\"\")))/LEN(\"_COOH_\"))*2","v":78},0,{"$f":"10+((LEN(A4)-LEN(SUBSTITUTE(A4,\"_OH_\",\"\")))/LEN(\"_OH_\"))*1+((LEN(A4)-LEN(SUBSTITUTE(A4,\"_OOH_\",\"\")))/LEN(\"_OOH_\"))*2+((LEN(A4)-LEN(SUBSTITUTE(A4,\"_O_\",\"\")))/LEN(\"_O_\"))*1+((LEN(A4)-LEN(SUBSTITUTE(A4,\"_CHO_\",\"\")))/LEN(\"_CHO_\"))*1+((LEN(A4)-LEN(SUBSTITUTE(A4,\"_COOH_\",\"\")))/LEN(\"_COOH_\"))*2","v":10},0,null,null,{"$f":"CONCATENATE(\"C\",E4,\"H\",F4,\"O\",H4,)","v":"C47H78O10"},{"$f":"(E4*12.0107)+(F4*1.00794)+(G4*14.0067)+(H4*15.9994)+(I4*30.973762)","v":803.11622},802.55946879999999,{"$f":"N4+1.0078246-0.00055","v":803.56674340000006},{"$f":"O4-18.01057-0.00055","v":785.55562340000006},{"$f":"N4+18.03437-0.00055","v":820.59328879999998},{"$f":"N4+22.98977-0.00055","v":825.54868880000004},{"$f":"N4+38.96371-0.00055","v":841.52262880000001},{"$f":"N4+7.01601-0.00055","v":809.57492880000007},{"$f":"N4-1.0078246+0.00055","v":801.55219419999992},{"$f":"N4+44.99767+0.00055","v":847.55768879999994},{"$f":"N4+59.01332+0.00055","v":861.57333879999999}]

{"sheet":"OAHFA","index":40,"n_rows":3,"n_cols":23,"rows_kept":3,"cut":false,"hidden":false,"merged":[]}
["Lipid","Sum Composition",null,null,"#C","#H","#N","#O","#P",null,null,"Formula","Molecular Weight","Neutral Mass","[M+H]+","[M+H-H2O]+","[M+NH4]+","[M+Na]+","[M+K]+","[M+Li]+","[M-H]-","[M+HCOO]-","[M+CH3COO]-"]
["OAHFA 34:0",{"$f":"IF(ISNUMBER(SEARCH(\"(\",A2)),IF(ISNUMBER(SEARCH(\"/\",A2)),CONCATENATE(MID(A2,1,5),\" \",(SUM(MID(A2,FIND(\"(\",A2)+1,FIND(\":\",A2)-FIND(\"(\",A2)-1),MID(A2,FIND(\"/\",A2)+1,FIND(\":\",A2,FIND(\"/\",A2))-FIND(\"/\",A2)-1))),\":\",SUM(MID(A2,FIND(\":\",A2)+1,FIND(\"/\",A2)-FIND(\":\",A2)-1),MID(A2,FIND(\":\",A2,FIND(\"/\",A2))+1,FIND(\")\",A2)-FIND(\":\",A2,FIND(\"/\",A2))-1)),MID(A2,(FIND(\")\",A2)+1),100)),CONCATENATE(MID(A2,1,5),\" \",(SUM(MID(A2,FIND(\"(\",A2)+1,FIND(\":\",A2)-FIND(\"(\",A2)-1),MID(A2,FIND(\"_\",A2)+1,FIND(\":\",A2,FIND(\"_\",A2))-FIND(\"_\",A2)-1))),\":\",SUM(MID(A2,FIND(\":\",A2)+1,FIND(\"_\",A2)-FIND(\":\",A2)-1),MID(A2,FIND(\":\",A2,FIND(\"_\",A2))+1,FIND(\")\",A2)-FIND(\":\",A2,FIND(\"_\",A2))-1)),MID(A2,(FIND(\")\",A2)+1),100))),A2)","v":"OAHFA 34:0"},{"$f":"MID(B2,7,FIND(\":\",B2)-FIND(\" \",B2)-1)","v":"34"},{"$f":"IF(ISNUMBER(SEARCH(\"__\",B2)),MID(B2,FIND(\":\",B2)+1,FIND(\"__\",B2)-FIND(\":\",B2)-1),MID(B2,FIND(\":\",B2)+1,7))","v":"0"},{"$f":"C2","v":"34"},{"$f":"2*E2-(2*D2)-2-((LEN(A2)-LEN(SUBSTITUTE(A2,\"_O_\",\"\")))/LEN(\"_O_\"))*2-((LEN(A2)-LEN(SUBSTITUTE(A2,\"_CHO_\",\"\")))/LEN(\"_CHO_\"))*2-((LEN(A2)-LEN(SUBSTITUTE(A2,\"_COOH_\",\"\")))/LEN(\"_COOH_\"))*2","v":66},0,{"$f":"4+((LEN(A2)-LEN(SUBSTITUTE(A2,\"_OH_\",\"\")))/LEN(\"_OH_\"))*1+((LEN(A2)-LEN(SUBSTITUTE(A2,\"_OOH_\",\"\")))/LEN(\"_OOH_\"))*2+((LEN(A2)-LEN(SUBSTITUTE(A2,\"_O_\",\"\")))/LEN(\"_O_\"))*1+((LEN(A2)-LEN(SUBSTITUTE(A2,\"_CHO_\",\"\")))/LEN(\"_CHO_\"))*1+((LEN(A2)-LEN(SUBSTITUTE(A2,\"_COOH_\",\"\")))/LEN(\"_COOH_\"))*2","v":4},0,null,null,{"$f":"CONCATENATE(\"C\",E2,\"H\",F2,\"O\",H2,)","v":"C34H66O4"},{"$f":"(E2*12.0107)+(F2*1.00794)+(G2*14.0067)+(H2*15.9994)+(I2*30.973762)","v":538.88544000000002},{"$f":"(E2*12)+(F2*1.0078246)+(G2*14.003074)+(H2*15.994915)+(I2*30.973763)","v":538.49608360000002},{"$f":"N2+1.0078246-0.00055","v":539.50335820000009},{"$f":"O2-18.01057-0.00055","v":521.49223820000009},{"$f":"N2+18.03437-0.00055","v":556.52990360000001},{"$f":"N2+22.98977-0.00055","v":561.48530360000007},{"$f":"N2+38.96371-0.00055","v":577.45924360000004},{"$f":"N2+7.01601-0.00055","v":545.5115436000001},{"$f":"N2-1.0078246+0.00055","v":537.48880899999995},{"$f":"N2+44.99767+0.00055","v":583.49430359999997},{"$f":"N2+59.01332+0.00055","v":597.50995360000002}]
["OAHFA 36:0",{"$f":"IF(ISNUMBER(SEARCH(\"(\",A3)),IF(ISNUMBER(SEARCH(\"/\",A3)),CONCATENATE(MID(A3,1,5),\" \",(SUM(MID(A3,FIND(\"(\",A3)+1,FIND(\":\",A3)-FIND(\"(\",A3)-1),MID(A3,FIND(\"/\",A3)+1,FIND(\":\",A3,FIND(\"/\",A3))-FIND(\"/\",A3)-1))),\":\",SUM(MID(A3,FIND(\":\",A3)+1,FIND(\"/\",A3)-FIND(\":\",A3)-1),MID(A3,FIND(\":\",A3,FIND(\"/\",A3))+1,FIND(\")\",A3)-FIND(\":\",A3,FIND(\"/\",A3))-1)),MID(A3,(FIND(\")\",A3)+1),100)),CONCATENATE(MID(A3,1,5),\" \",(SUM(MID(A3,FIND(\"(\",A3)+1,FIND(\":\",A3)-FIND(\"(\",A3)-1),MID(A3,FIND(\"_\",A3)+1,FIND(\":\",A3,FIND(\"_\",A3))-FIND(\"_\",A3)-1))),\":\",SUM(MID(A3,FIND(\":\",A3)+1,FIND(\"_\",A3)-FIND(\":\",A3)-1),MID(A3,FIND(\":\",A3,FIND(\"_\",A3))+1,FIND(\")\",A3)-FIND(\":\",A3,FIND(\"_\",A3))-1)),MID(A3,(FIND(\")\",A3)+1),100))),A3)","v":"OAHFA 36:0"},{"$f":"MID(B3,7,FIND(\":\",B3)-FIND(\" \",B3)-1)","v":"36"},{"$f":"IF(ISNUMBER(SEARCH(\"__\",B3)),MID(B3,FIND(\":\",B3)+1,FIND(\"__\",B3)-FIND(\":\",B3)-1),MID(B3,FIND(\":\",B3)+1,7))","v":"0"},{"$f":"C3","v":"36"},{"$f":"2*E3-(2*D3)-2-((LEN(A3)-LEN(SUBSTITUTE(A3,\"_O_\",\"\")))/LEN(\"_O_\"))*2-((LEN(A3)-LEN(SUBSTITUTE(A3,\"_CHO_\",\"\")))/LEN(\"_CHO_\"))*2-((LEN(A3)-LEN(SUBSTITUTE(A3,\"_COOH_\",\"\")))/LEN(\"_COOH_\"))*2","v":70},0,{"$f":"4+((LEN(A3)-LEN(SUBSTITUTE(A3,\"_OH_\",\"\")))/LEN(\"_OH_\"))*1+((LEN(A3)-LEN(SUBSTITUTE(A3,\"_OOH_\",\"\")))/LEN(\"_OOH_\"))*2+((LEN(A3)-LEN(SUBSTITUTE(A3,\"_O_\",\"\")))/LEN(\"_O_\"))*1+((LEN(A3)-LEN(SUBSTITUTE(A3,\"_CHO_\",\"\")))/LEN(\"_CHO_\"))*1+((LEN(A3)-LEN(SUBSTITUTE(A3,\"_COOH_\",\"\")))/LEN(\"_COOH_\"))*2","v":4},0,null,null,{"$f":"CONCATENATE(\"C\",E3,\"H\",F3,\"O\",H3,)","v":"C36H70O4"},{"$f":"(E3*12.0107)+(F3*1.00794)+(G3*14.0067)+(H3*15.9994)+(I3*30.973762)","v":566.93860000000006},{"$f":"(E3*12)+(F3*1.0078246)+(G3*14.003074)+(H3*15.994915)+(I3*30.973763)","v":566.52738199999999},{"$f":"N3+1.0078246-0.00055","v":567.53465660000006},{"$f":"O3-18.01057-0.00055","v":549.52353660000006},{"$f":"N3+18.03437-0.00055","v":584.56120199999998},{"$f":"N3+22.98977-0.00055","v":589.51660200000003},{"$f":"N3+38.96371-0.00055","v":605.490542},{"$f":"N3+7.01601-0.00055","v":573.54284200000006},{"$f":"N3-1.0078246+0.00055","v":565.52010739999992},{"$f":"N3+44.99767+0.00055","v":611.52560199999994},{"$f":"N3+59.01332+0.00055","v":625.54125199999999}]

{"sheet":"So","index":41,"n_rows":4,"n_cols":23,"rows_kept":4,"cut":false,"hidden":false,"merged":[]}
["Lipid",null,null,null,"#C","#H","#N","#O","#P",null,null,"Formula","Molecular Weight","Neutral Mass","[M+H]+","[M+H-H2O]+","[M+NH4]+","[M+Na]+","[M+K]+","[M+Li]+","[M-H]-","[M+HCOO]-","[M+CH3COO]-"]
["So d18:1",{"$f":"IF(ISNUMBER(SEARCH(\"(\",A2)),IF(ISNUMBER(SEARCH(\"/\",A2)),CONCATENATE(MID(A2,1,2),\" \",\"d\",(SUM(MID(A2,FIND(\"(\",A2)+2,FIND(\":\",A2)-FIND(\"(\",A2)-2),MID(A2,FIND(\"/\",A2)+1,FIND(\":\",A2,FIND(\"/\",A2))-FIND(\"/\",A2)-1))),\":\",SUM(MID(A2,FIND(\":\",A2)+1,FIND(\"/\",A2)-FIND(\":\",A2)-1),MID(A2,FIND(\":\",A2,FIND(\"/\",A2))+1,FIND(\")\",A2)-FIND(\":\",A2,FIND(\"/\",A2))-1)),MID(A2,(FIND(\")\",A2)+1),100)),CONCATENATE(MID(A2,1,2),\" \",\"d\",(SUM(MID(A2,FIND(\"(\",A2)+2,FIND(\":\",A2)-FIND(\"(\",A2)-2),MID(A2,FIND(\"_\",A2)+1,FIND(\":\",A2,FIND(\"_\",A2))-FIND(\"_\",A2)-1))),\":\",SUM(MID(A2,FIND(\":\",A2)+1,FIND(\"_\",A2)-FIND(\":\",A2)-1),MID(A2,FIND(\":\",A2,FIND(\"_\",A2))+1,FIND(\")\",A2)-FIND(\":\",A2,FIND(\"_\",A2))-1)),MID(A2,(FIND(\")\",A2)+1),100))),CONCATENATE(MID(A2,1,2),\" \",\"d\",MID(A2,5,100)))","v":"So d18:1"},{"$f":"MID(B2,5,FIND(\":\",B2)-FIND(\"d\",B2)-1)","v":"18"},{"$f":"IF(ISNUMBER(SEARCH(\"__\",B2)),MID(B2,FIND(\":\",B2)+1,FIND(\"__\",B2)-FIND(\":\",B2)-1),MID(B2,FIND(\":\",B2)+1,7))","v":"1"},{"$f":"C2","v":"18"},{"$f":"2*E2-(2*D2)+3-((LEN(A2)-LEN(SUBSTITUTE(A2,\"_O_\",\"\")))/LEN(\"_O_\"))*2-((LEN(A2)-LEN(SUBSTITUTE(A2,\"_CHO_\",\"\")))/LEN(\"_CHO_\"))*2-((LEN(A2)-LEN(SUBSTITUTE(A2,\"_COOH_\",\"\")))/LEN(\"_COOH_\"))*2","v":37},1,{"$f":"2+((LEN(A2)-LEN(SUBSTITUTE(A2,\"_OH_\",\"\")))/LEN(\"_OH_\"))*1+((LEN(A2)-LEN(SUBSTITUTE(A2,\"_OOH_\",\"\")))/LEN(\"_OOH_\"))*2+((LEN(A2)-LEN(SUBSTITUTE(A2,\"_O_\",\"\")))/LEN(\"_O_\"))*1+((LEN(A2)-LEN(SUBSTITUTE(A2,\"_CHO_\",\"\")))/LEN(\"_CHO_\"))*1+((LEN(A2)-LEN(SUBSTITUTE(A2,\"_COOH_\",\"\")))/LEN(\"_COOH_\"))*2","v":2},0,null,null,{"$f":"CONCATENATE(\"C\",E2,\"H\",F2,\"N\",G2,\"O\",H2,)","v":"C18H37N1O2"},{"$f":"(E2*12.0107)+(F2*1.00794)+(G2*14.0067)+(H2*15.9994)","v":299.49188000000004},{"$f":"(E2*12)+(F2*1.0078246)+(G2*14.003074)+(H2*15.994915)","v":299.28241420000001},{"$f":"N2+1.0078246-0.00055","v":300.28968880000002},{"$f":"O2-18.01057-0.00055","v":282.27856880000002},{"$f":"N2+18.03437-0.00055","v":317.31623420000005},{"$f":"N2+22.98977-0.00055","v":322.27163420000005},{"$f":"N2+38.96371-0.00055","v":338.24557420000002},{"$f":"N2+7.01601-0.00055","v":306.29787420000002},{"$f":"N2-1.0078246+0.00055","v":298.27513959999999},{"$f":"N2+44.99767+0.00055","v":344.28063420000001},{"$f":"N2+59.01332+0.00055","v":358.2962842}]
["So d18:1__O__",{"$f":"IF(ISNUMBER(SEARCH(\"(\",A3)),IF(ISNUMBER(SEARCH(\"/\",A3)),CONCATENATE(MID(A3,1,2),\" \",(SUM(MID(A3,FIND(\"(\",A3)+2,FIND(\":\",A3)-FIND(\"(\",A3)-2),MID(A3,FIND(\"/\",A3)+1,FIND(\":\",A3,FIND(\"/\",A3))-FIND(\"/\",A3)-1))),\":\",SUM(MID(A3,FIND(\":\",A3)+1,FIND(\"/\",A3)-FIND(\":\",A3)-1),MID(A3,FIND(\":\",A3,FIND(\"/\",A3))+1,FIND(\")\",A3)-FIND(\":\",A3,FIND(\"/\",A3))-1)),MID(A3,(FIND(\")\",A3)+1),100)),CONCATENATE(MID(A3,1,2),\" \",(SUM(MID(A3,FIND(\"(\",A3)+2,FIND(\":\",A3)-FIND(\"(\",A3)-2),MID(A3,FIND(\"_\",A3)+1,FIND(\":\",A3,FIND(\"_\",A3))-FIND(\"_\",A3)-1))),\":\",SUM(MID(A3,FIND(\":\",A3)+1,FIND(\"_\",A3)-FIND(\":\",A3)-1),MID(A3,FIND(\":\",A3,FIND(\"_\",A3))+1,FIND(\")\",A3)-FIND(\":\",A3,FIND(\"_\",A3))-1)),MID(A3,(FIND(\")\",A3)+1),100))),CONCATENATE(MID(A3,1,2),\" \",MID(A3,5,100)))","v":"So 18:1__O__"},{"$f":"MID(B3,4,FIND(\":\",B3)-FIND(\" \",B3)-1)","v":"18"},{"$f":"IF(ISNUMBER(SEARCH(\"__\",B3)),MID(B3,FIND(\":\",B3)+1,FIND(\"__\",B3)-FIND(\":\",B3)-1),MID(B3,FIND(\":\",B3)+1,7))","v":"1"},{"$f":"C3","v":"18"},{"$f":"2*E3-(2*D3)+3-((LEN(A3)-LEN(SUBSTITUTE(A3,\"_O_\",\"\")))/LEN(\"_O_\"))*2-((LEN(A3)-LEN(SUBSTITUTE(A3,\"_CHO_\",\"\")))/LEN(\"_CHO_\"))*2-((LEN(A3)-LEN(SUBSTITUTE(A3,\"_COOH_\",\"\")))/LEN(\"_COOH_\"))*2","v":35},1,{"$f":"2+((LEN(A3)-LEN(SUBSTITUTE(A3,\"_OH_\",\"\")))/LEN(\"_OH_\"))*1+((LEN(A3)-LEN(SUBSTITUTE(A3,\"_OOH_\",\"\")))/LEN(\"_OOH_\"))*2+((LEN(A3)-LEN(SUBSTITUTE(A3,\"_O_\",\"\")))/LEN(\"_O_\"))*1+((LEN(A3)-LEN(SUBSTITUTE(A3,\"_CHO_\",\"\")))/LEN(\"_CHO_\"))*1+((LEN(A3)-LEN(SUBSTITUTE(A3,\"_COOH_\",\"\")))/LEN(\"_COOH_\"))*2","v":3},0,null,null,{"$f":"CONCATENATE(\"C\",E3,\"H\",F3,\"N\",G3,\"O\",H3,)","v":"C18H35N1O3"},{"$f":"(E3*12.0107)+(F3*1.00794)+(G3*14.0067)+(H3*15.9994)","v":313.47540000000004},{"$f":"(E3*12)+(F3*1.0078246)+(G3*14.003074)+(H3*15.994915)","v":313.26168000000007},{"$f":"N3+1.0078246-0.00055","v":314.26895460000009},{"$f":"O3-18.01057-0.00055","v":296.25783460000014},{"$f":"N3+18.03437-0.00055","v":331.29550000000012},{"$f":"N3+22.98977-0.00055","v":336.25090000000012},{"$f":"N3+38.96371-0.00055","v":352.22484000000009},{"$f":"N3+7.01601-0.00055","v":320.27714000000009},{"$f":"N3-1.0078246+0.00055","v":312.25440540000005},{"$f":"N3+44.99767+0.00055","v":358.25990000000002},{"$f":"N3+59.01332+0.00055","v":372.27555000000007}]
["So d18:1",{"$f":"IF(ISNUMBER(SEARCH(\"(\",A4)),IF(ISNUMBER(SEARCH(\"/\",A4)),CONCATENATE(MID(A4,1,2),\" \",(SUM(MID(A4,FIND(\"(\",A4)+2,FIND(\":\",A4)-FIND(\"(\",A4)-2),MID(A4,FIND(\"/\",A4)+1,FIND(\":\",A4,FIND(\"/\",A4))-FIND(\"/\",A4)-1))),\":\",SUM(MID(A4,FIND(\":\",A4)+1,FIND(\"/\",A4)-FIND(\":\",A4)-1),MID(A4,FIND(\":\",A4,FIND(\"/\",A4))+1,FIND(\")\",A4)-FIND(\":\",A4,FIND(\"/\",A4))-1)),MID(A4,(FIND(\")\",A4)+1),100)),CONCATENATE(MID(A4,1,2),\" \",(SUM(MID(A4,FIND(\"(\",A4)+2,FIND(\":\",A4)-FIND(\"(\",A4)-2),MID(A4,FIND(\"_\",A4)+1,FIND(\":\",A4,FIND(\"_\",A4))-FIND(\"_\",A4)-1))),\":\",SUM(MID(A4,FIND(\":\",A4)+1,FIND(\"_\",A4)-FIND(\":\",A4)-1),MID(A4,FIND(\":\",A4,FIND(\"_\",A4))+1,FIND(\")\",A4)-FIND(\":\",A4,FIND(\"_\",A4))-1)),MID(A4,(FIND(\")\",A4)+1),100))),CONCATENATE(MID(A4,1,2),\" \",MID(A4,5,100)))","v":"So 18:1"},{"$f":"MID(B4,4,FIND(\":\",B4)-FIND(\" \",B4)-1)","v":"18"},{"$f":"IF(ISNUMBER(SEARCH(\"__\",B4)),MID(B4,FIND(\":\",B4)+1,FIND(\"__\",B4)-FIND(\":\",B4)-1),MID(B4,FIND(\":\",B4)+1,7))","v":"1"},{"$f":"C4","v":"18"},{"$f":"2*E4-(2*D4)+3-((LEN(A4)-LEN(SUBSTITUTE(A4,\"_O_\",\"\")))/LEN(\"_O_\"))*2-((LEN(A4)-LEN(SUBSTITUTE(A4,\"_CHO_\",\"\")))/LEN(\"_CHO_\"))*2-((LEN(A4)-LEN(SUBSTITUTE(A4,\"_COOH_\",\"\")))/LEN(\"_COOH_\"))*2","v":37},1,{"$f":"2+((LEN(A4)-LEN(SUBSTITUTE(A4,\"_OH_\",\"\")))/LEN(\"_OH_\"))*1+((LEN(A4)-LEN(SUBSTITUTE(A4,\"_OOH_\",\"\")))/LEN(\"_OOH_\"))*2+((LEN(A4)-LEN(SUBSTITUTE(A4,\"_O_\",\"\")))/LEN(\"_O_\"))*1+((LEN(A4)-LEN(SUBSTITUTE(A4,\"_CHO_\",\"\")))/LEN(\"_CHO_\"))*1+((LEN(A4)-LEN(SUBSTITUTE(A4,\"_COOH_\",\"\")))/LEN(\"_COOH_\"))*2","v":2},0,null,null,{"$f":"CONCATENATE(\"C\",E4,\"H\",F4,\"N\",G4,\"O\",H4,)","v":"C18H37N1O2"},{"$f":"(E4*12.0107)+(F4*1.00794)+(G4*14.0067)+(H4*15.9994)","v":299.49188000000004},{"$f":"(E4*12)+(F4*1.0078246)+(G4*14.003074)+(H4*15.994915)","v":299.28241420000001},{"$f":"N4+1.0078246-0.00055","v":300.28968880000002},{"$f":"O4-18.01057-0.00055","v":282.27856880000002},{"$f":"N4+18.03437-0.00055","v":317.31623420000005},{"$f":"N4+22.98977-0.00055","v":322.27163420000005},{"$f":"N4+38.96371-0.00055","v":338.24557420000002},{"$f":"N4+7.01601-0.00055","v":306.29787420000002},{"$f":"N4-1.0078246+0.00055","v":298.27513959999999},{"$f":"N4+44.99767+0.00055","v":344.28063420000001},{"$f":"N4+59.01332+0.00055","v":358.2962842}]

{"sheet":"ZyE","index":42,"n_rows":6,"n_cols":23,"rows_kept":6,"cut":false,"hidden":false,"merged":[]}
["Lipid","Sum Composition",null,null,"#C","#H","#N","#O","#P",null,null,"Formula","Molecular Weight","Neutral Mass","[M+H]+","[M+H-H2O]+","[M+NH4]+","[M+Na]+","[M+K]+","[M+Li]+","[M-H]-","[M+HCOO]-","[M+CH3COO]-"]
["ZyE 16:1",{"$f":"IF(ISNUMBER(SEARCH(\"(\",A2)),IF(ISNUMBER(SEARCH(\"/\",A2)),CONCATENATE(MID(A2,1,2),\" \",(SUM(MID(A2,FIND(\"(\",A2)+1,FIND(\":\",A2)-FIND(\"(\",A2)-1),MID(A2,FIND(\"/\",A2)+1,FIND(\":\",A2,FIND(\"/\",A2))-FIND(\"/\",A2)-1))),\":\",SUM(MID(A2,FIND(\":\",A2)+1,FIND(\"/\",A2)-FIND(\":\",A2)-1),MID(A2,FIND(\":\",A2,FIND(\"/\",A2))+1,FIND(\")\",A2)-FIND(\":\",A2,FIND(\"/\",A2))-1)),MID(A2,(FIND(\")\",A2)+1),100)),CONCATENATE(MID(A2,1,2),\" \",(SUM(MID(A2,FIND(\"(\",A2)+1,FIND(\":\",A2)-FIND(\"(\",A2)-1),MID(A2,FIND(\"_\",A2)+1,FIND(\":\",A2,FIND(\"_\",A2))-FIND(\"_\",A2)-1))),\":\",SUM(MID(A2,FIND(\":\",A2)+1,FIND(\"_\",A2)-FIND(\":\",A2)-1),MID(A2,FIND(\":\",A2,FIND(\"_\",A2))+1,FIND(\")\",A2)-FIND(\":\",A2,FIND(\"_\",A2))-1)),MID(A2,(FIND(\")\",A2)+1),100))),A2)","v":"ZyE 16:1"},{"$f":"MID(B2,5,FIND(\":\",B2)-FIND(\" \",B2)-1)","v":"16"},{"$f":"IF(ISNUMBER(SEARCH(\"__\",B2)),MID(B2,FIND(\":\",B2)+1,FIND(\"__\",B2)-FIND(\":\",B2)-1),MID(B2,FIND(\":\",B2)+1,7))","v":"1"},{"$f":"C2+27","v":43},{"$f":"2*E2-(2*D2)-12-((LEN(A2)-LEN(SUBSTITUTE(A2,\"_O_\",\"\")))/LEN(\"_O_\"))*2-((LEN(A2)-LEN(SUBSTITUTE(A2,\"_CHO_\",\"\")))/LEN(\"_CHO_\"))*2-((LEN(A2)-LEN(SUBSTITUTE(A2,\"_COOH_\",\"\")))/LEN(\"_COOH_\"))*2","v":72},0,{"$f":"2+((LEN(A2)-LEN(SUBSTITUTE(A2,\"_OH_\",\"\")))/LEN(\"_OH_\"))*1+((LEN(A2)-LEN(SUBSTITUTE(A2,\"_OOH_\",\"\")))/LEN(\"_OOH_\"))*2+((LEN(A2)-LEN(SUBSTITUTE(A2,\"_O_\",\"\")))/LEN(\"_O_\"))*1+((LEN(A2)-LEN(SUBSTITUTE(A2,\"_CHO_\",\"\")))/LEN(\"_CHO_\"))*1+((LEN(A2)-LEN(SUBSTITUTE(A2,\"_COOH_\",\"\")))/LEN(\"_COOH_\"))*2","v":2},0,null,null,{"$f":"CONCATENATE(\"C\",E2,\"H\",F2,\"O\",H2)","v":"C43H72O2"},{"$f":"(E2*12.0107)+(F2*1.00794)+(G2*14.0067)+(H2*15.9994)+(I2*30.973762)","v":621.03057999999999},{"$f":"(E2*12)+(F2*1.0078246)+(G2*14.003074)+(H2*15.994915)+(I2*30.973763)","v":620.55320119999999},{"$f":"N2+1.0078246-0.00055","v":621.56047580000006},{"$f":"O2-18.01057-0.00055","v":603.54935580000006},{"$f":"N2+18.03437-0.00055","v":638.58702119999998},{"$f":"N2+22.98977-0.00055","v":643.54242120000004},{"$f":"N2+38.96371-0.00055","v":659.51636120000001},{"$f":"N2+7.01601-0.00055","v":627.56866120000007},{"$f":"N2-1.0078246+0.00055","v":619.54592659999992},{"$f":"N2+44.99767+0.00055","v":665.55142119999994},{"$f":"N2+59.01332+0.00055","v":679.56707119999999}]
["ZyE 18:2",{"$f":"IF(ISNUMBER(SEARCH(\"(\",A3)),IF(ISNUMBER(SEARCH(\"/\",A3)),CONCATENATE(MID(A3,1,2),\" \",(SUM(MID(A3,FIND(\"(\",A3)+1,FIND(\":\",A3)-FIND(\"(\",A3)-1),MID(A3,FIND(\"/\",A3)+1,FIND(\":\",A3,FIND(\"/\",A3))-FIND(\"/\",A3)-1))),\":\",SUM(MID(A3,FIND(\":\",A3)+1,FIND(\"/\",A3)-FIND(\":\",A3)-1),MID(A3,FIND(\":\",A3,FIND(\"/\",A3))+1,FIND(\")\",A3)-FIND(\":\",A3,FIND(\"/\",A3))-1)),MID(A3,(FIND(\")\",A3)+1),100)),CONCATENATE(MID(A3,1,2),\" \",(SUM(MID(A3,FIND(\"(\",A3)+1,FIND(\":\",A3)-FIND(\"(\",A3)-1),MID(A3,FIND(\"_\",A3)+1,FIND(\":\",A3,FIND(\"_\",A3))-FIND(\"_\",A3)-1))),\":\",SUM(MID(A3,FIND(\":\",A3)+1,FIND(\"_\",A3)-FIND(\":\",A3)-1),MID(A3,FIND(\":\",A3,FIND(\"_\",A3))+1,FIND(\")\",A3)-FIND(\":\",A3,FIND(\"_\",A3))-1)),MID(A3,(FIND(\")\",A3)+1),100))),A3)","v":"ZyE 18:2"},{"$f":"MID(B3,5,FIND(\":\",B3)-FIND(\" \",B3)-1)","v":"18"},{"$f":"IF(ISNUMBER(SEARCH(\"__\",B3)),MID(B3,FIND(\":\",B3)+1,FIND(\"__\",B3)-FIND(\":\",B3)-1),MID(B3,FIND(\":\",B3)+1,7))","v":"2"},{"$f":"C3+27","v":45},{"$f":"2*E3-(2*D3)-12-((LEN(A3)-LEN(SUBSTITUTE(A3,\"_O_\",\"\")))/LEN(\"_O_\"))*2-((LEN(A3)-LEN(SUBSTITUTE(A3,\"_CHO_\",\"\")))/LEN(\"_CHO_\"))*2-((LEN(A3)-LEN(SUBSTITUTE(A3,\"_COOH_\",\"\")))/LEN(\"_COOH_\"))*2","v":74},0,{"$f":"2+((LEN(A3)-LEN(SUBSTITUTE(A3,\"_OH_\",\"\")))/LEN(\"_OH_\"))*1+((LEN(A3)-LEN(SUBSTITUTE(A3,\"_OOH_\",\"\")))/LEN(\"_OOH_\"))*2+((LEN(A3)-LEN(SUBSTITUTE(A3,\"_O_\",\"\")))/LEN(\"_O_\"))*1+((LEN(A3)-LEN(SUBSTITUTE(A3,\"_CHO_\",\"\")))/LEN(\"_CHO_\"))*1+((LEN(A3)-LEN(SUBSTITUTE(A3,\"_COOH_\",\"\")))/LEN(\"_COOH_\"))*2","v":2},0,null,null,{"$f":"CONCATENATE(\"C\",E3,\"H\",F3,\"O\",H3)","v":"C45H74O2"},{"$f":"(E3*12.0107)+(F3*1.00794)+(G3*14.0067)+(H3*15.9994)+(I3*30.973762)","v":647.06786},{"$f":"(E3*12)+(F3*1.0078246)+(G3*14.003074)+(H3*15.994915)+(I3*30.973763)","v":646.56885039999997},{"$f":"N3+1.0078246-0.00055","v":647.57612500000005},{"$f":"O3-18.01057-0.00055","v":629.56500500000004},{"$f":"N3+18.03437-0.00055","v":664.60267039999997},{"$f":"N3+22.98977-0.00055","v":669.55807040000002},{"$f":"N3+38.96371-0.00055","v":685.53201039999999},{"$f":"N3+7.01601-0.00055","v":653.58431040000005},{"$f":"N3-1.0078246+0.00055","v":645.5615757999999},{"$f":"N3+44.99767+0.00055","v":691.56707039999992},{"$f":"N3+59.01332+0.00055","v":705.58272039999997}]
["ZyE 18:3",{"$f":"IF(ISNUMBER(SEARCH(\"(\",A4)),IF(ISNUMBER(SEARCH(\"/\",A4)),CONCATENATE(MID(A4,1,2),\" \",(SUM(MID(A4,FIND(\"(\",A4)+1,FIND(\":\",A4)-FIND(\"(\",A4)-1),MID(A4,FIND(\"/\",A4)+1,FIND(\":\",A4,FIND(\"/\",A4))-FIND(\"/\",A4)-1))),\":\",SUM(MID(A4,FIND(\":\",A4)+1,FIND(\"/\",A4)-FIND(\":\",A4)-1),MID(A4,FIND(\":\",A4,FIND(\"/\",A4))+1,FIND(\")\",A4)-FIND(\":\",A4,FIND(\"/\",A4))-1)),MID(A4,(FIND(\")\",A4)+1),100)),CONCATENATE(MID(A4,1,2),\" \",(SUM(MID(A4,FIND(\"(\",A4)+1,FIND(\":\",A4)-FIND(\"(\",A4)-1),MID(A4,FIND(\"_\",A4)+1,FIND(\":\",A4,FIND(\"_\",A4))-FIND(\"_\",A4)-1))),\":\",SUM(MID(A4,FIND(\":\",A4)+1,FIND(\"_\",A4)-FIND(\":\",A4)-1),MID(A4,FIND(\":\",A4,FIND(\"_\",A4))+1,FIND(\")\",A4)-FIND(\":\",A4,FIND(\"_\",A4))-1)),MID(A4,(FIND(\")\",A4)+1),100))),A4)","v":"ZyE 18:3"},"18","3",{"$f":"C4+27","v":45},{"$f":"2*E4-(2*D4)-12-((LEN(A4)-LEN(SUBSTITUTE(A4,\"_O_\",\"\")))/LEN(\"_O_\"))*2-((LEN(A4)-LEN(SUBSTITUTE(A4,\"_CHO_\",\"\")))/LEN(\"_CHO_\"))*2-((LEN(A4)-LEN(SUBSTITUTE(A4,\"_COOH_\",\"\")))/LEN(\"_COOH_\"))*2","v":72},0,{"$f":"2+((LEN(A4)-LEN(SUBSTITUTE(A4,\"_OH_\",\"\")))/LEN(\"_OH_\"))*1+((LEN(A4)-LEN(SUBSTITUTE(A4,\"_OOH_\",\"\")))/LEN(\"_OOH_\"))*2+((LEN(A4)-LEN(SUBSTITUTE(A4,\"_O_\",\"\")))/LEN(\"_O_\"))*1+((LEN(A4)-LEN(SUBSTITUTE(A4,\"_CHO_\",\"\")))/LEN(\"_CHO_\"))*1+((LEN(A4)-LEN(SUBSTITUTE(A4,\"_COOH_\",\"\")))/LEN(\"_COOH_\"))*2","v":2},0,null,null,{"$f":"CONCATENATE(\"C\",E4,\"H\",F4,\"O\",H4)","v":"C45H72O2"},{"$f":"(E4*12.0107)+(F4*1.00794)+(G4*14.0067)+(H4*15.9994)+(I4*30.973762)","v":645.05197999999996},{"$f":"(E4*12)+(F4*1.0078246)+(G4*14.003074)+(H4*15.994915)+(I4*30.973763)","v":644.55320119999999},{"$f":"N4+1.0078246-0.00055","v":645.56047580000006},{"$f":"O4-18.01057-0.00055","v":627.54935580000006},{"$f":"N4+18.03437-0.00055","v":662.58702119999998},{"$f":"N4+22.98977-0.00055","v":667.54242120000004},{"$f":"N4+38.96371-0.00055","v":683.51636120000001},{"$f":"N4+7.01601-0.00055","v":651.56866120000007},{"$f":"N4-1.0078246+0.00055","v":643.54592659999992},{"$f":"N4+44.99767+0.00055","v":689.55142119999994},{"$f":"N4+59.01332+0.00055","v":703.56707119999999}]
["ZyE 20:4",{"$f":"IF(ISNUMBER(SEARCH(\"(\",A5)),IF(ISNUMBER(SEARCH(\"/\",A5)),CONCATENATE(MID(A5,1,2),\" \",(SUM(MID(A5,FIND(\"(\",A5)+1,FIND(\":\",A5)-FIND(\"(\",A5)-1),MID(A5,FIND(\"/\",A5)+1,FIND(\":\",A5,FIND(\"/\",A5))-FIND(\"/\",A5)-1))),\":\",SUM(MID(A5,FIND(\":\",A5)+1,FIND(\"/\",A5)-FIND(\":\",A5)-1),MID(A5,FIND(\":\",A5,FIND(\"/\",A5))+1,FIND(\")\",A5)-FIND(\":\",A5,FIND(\"/\",A5))-1)),MID(A5,(FIND(\")\",A5)+1),100)),CONCATENATE(MID(A5,1,2),\" \",(SUM(MID(A5,FIND(\"(\",A5)+1,FIND(\":\",A5)-FIND(\"(\",A5)-1),MID(A5,FIND(\"_\",A5)+1,FIND(\":\",A5,FIND(\"_\",A5))-FIND(\"_\",A5)-1))),\":\",SUM(MID(A5,FIND(\":\",A5)+1,FIND(\"_\",A5)-FIND(\":\",A5)-1),MID(A5,FIND(\":\",A5,FIND(\"_\",A5))+1,FIND(\")\",A5)-FIND(\":\",A5,FIND(\"_\",A5))-1)),MID(A5,(FIND(\")\",A5)+1),100))),A5)","v":"ZyE 20:4"},"20","4",{"$f":"C5+27","v":47},{"$f":"2*E5-(2*D5)-12-((LEN(A5)-LEN(SUBSTITUTE(A5,\"_O_\",\"\")))/LEN(\"_O_\"))*2-((LEN(A5)-LEN(SUBSTITUTE(A5,\"_CHO_\",\"\")))/LEN(\"_CHO_\"))*2-((LEN(A5)-LEN(SUBSTITUTE(A5,\"_COOH_\",\"\")))/LEN(\"_COOH_\"))*2","v":74},0,{"$f":"2+((LEN(A5)-LEN(SUBSTITUTE(A5,\"_OH_\",\"\")))/LEN(\"_OH_\"))*1+((LEN(A5)-LEN(SUBSTITUTE(A5,\"_OOH_\",\"\")))/LEN(\"_OOH_\"))*2+((LEN(A5)-LEN(SUBSTITUTE(A5,\"_O_\",\"\")))/LEN(\"_O_\"))*1+((LEN(A5)-LEN(SUBSTITUTE(A5,\"_CHO_\",\"\")))/LEN(\"_CHO_\"))*1+((LEN(A5)-LEN(SUBSTITUTE(A5,\"_COOH_\",\"\")))/LEN(\"_COOH_\"))*2","v":2},0,null,null,{"$f":"CONCATENATE(\"C\",E5,\"H\",F5,\"O\",H5)","v":"C47H74O2"},{"$f":"(E5*12.0107)+(F5*1.00794)+(G5*14.0067)+(H5*15.9994)+(I5*30.973762)","v":671.08925999999997},{"$f":"(E5*12)+(F5*1.0078246)+(G5*14.003074)+(H5*15.994915)+(I5*30.973763)","v":670.56885039999997},{"$f":"N5+1.0078246-0.00055","v":671.57612500000005},{"$f":"O5-18.01057-0.00055","v":653.56500500000004},{"$f":"N5+18.03437-0.00055","v":688.60267039999997},{"$f":"N5+22.98977-0.00055","v":693.55807040000002},{"$f":"N5+38.96371-0.00055","v":709.53201039999999},{"$f":"N5+7.01601-0.00055","v":677.58431040000005},{"$f":"N5-1.0078246+0.00055","v":669.5615757999999},{"$f":"N5+44.99767+0.00055","v":715.56707039999992},{"$f":"N5+59.01332+0.00055","v":729.58272039999997}]
["ZyE 20:0",{"$f":"IF(ISNUMBER(SEARCH(\"(\",A6)),IF(ISNUMBER(SEARCH(\"/\",A6)),CONCATENATE(MID(A6,1,2),\" \",(SUM(MID(A6,FIND(\"(\",A6)+1,FIND(\":\",A6)-FIND(\"(\",A6)-1),MID(A6,FIND(\"/\",A6)+1,FIND(\":\",A6,FIND(\"/\",A6))-FIND(\"/\",A6)-1))),\":\",SUM(MID(A6,FIND(\":\",A6)+1,FIND(\"/\",A6)-FIND(\":\",A6)-1),MID(A6,FIND(\":\",A6,FIND(\"/\",A6))+1,FIND(\")\",A6)-FIND(\":\",A6,FIND(\"/\",A6))-1)),MID(A6,(FIND(\")\",A6)+1),100)),CONCATENATE(MID(A6,1,2),\" \",(SUM(MID(A6,FIND(\"(\",A6)+1,FIND(\":\",A6)-FIND(\"(\",A6)-1),MID(A6,FIND(\"_\",A6)+1,FIND(\":\",A6,FIND(\"_\",A6))-FIND(\"_\",A6)-1))),\":\",SUM(MID(A6,FIND(\":\",A6)+1,FIND(\"_\",A6)-FIND(\":\",A6)-1),MID(A6,FIND(\":\",A6,FIND(\"_\",A6))+1,FIND(\")\",A6)-FIND(\":\",A6,FIND(\"_\",A6))-1)),MID(A6,(FIND(\")\",A6)+1),100))),A6)","v":"ZyE 20:0"},{"$f":"MID(B6,5,FIND(\":\",B6)-FIND(\" \",B6)-1)","v":"20"},{"$f":"IF(ISNUMBER(SEARCH(\"__\",B6)),MID(B6,FIND(\":\",B6)+1,FIND(\"__\",B6)-FIND(\":\",B6)-1),MID(B6,FIND(\":\",B6)+1,7))","v":"0"},{"$f":"C6+27","v":47},{"$f":"2*E6-(2*D6)-12-((LEN(A6)-LEN(SUBSTITUTE(A6,\"_O_\",\"\")))/LEN(\"_O_\"))*2-((LEN(A6)-LEN(SUBSTITUTE(A6,\"_CHO_\",\"\")))/LEN(\"_CHO_\"))*2-((LEN(A6)-LEN(SUBSTITUTE(A6,\"_COOH_\",\"\")))/LEN(\"_COOH_\"))*2","v":82},0,{"$f":"2+((LEN(A6)-LEN(SUBSTITUTE(A6,\"_OH_\",\"\")))/LEN(\"_OH_\"))*1+((LEN(A6)-LEN(SUBSTITUTE(A6,\"_OOH_\",\"\")))/LEN(\"_OOH_\"))*2+((LEN(A6)-LEN(SUBSTITUTE(A6,\"_O_\",\"\")))/LEN(\"_O_\"))*1+((LEN(A6)-LEN(SUBSTITUTE(A6,\"_CHO_\",\"\")))/LEN(\"_CHO_\"))*1+((LEN(A6)-LEN(SUBSTITUTE(A6,\"_COOH_\",\"\")))/LEN(\"_COOH_\"))*2","v":2},0,null,null,{"$f":"CONCATENATE(\"C\",E6,\"H\",F6,\"O\",H6)","v":"C47H82O2"},{"$f":"(E6*12.0107)+(F6*1.00794)+(G6*14.0067)+(H6*15.9994)+(I6*30.973762)","v":679.15277999999989},{"$f":"(E6*12)+(F6*1.0078246)+(G6*14.003074)+(H6*15.994915)+(I6*30.973763)","v":678.63144720000003},{"$f":"N6+1.0078246-0.00055","v":679.6387218000001},{"$f":"O6-18.01057-0.00055","v":661.62760180000009},{"$f":"N6+18.03437-0.00055","v":696.66526720000002},{"$f":"N6+22.98977-0.00055","v":701.62066720000007},{"$f":"N6+38.96371-0.00055","v":717.59460720000004},{"$f":"N6+7.01601-0.00055","v":685.6469072000001},{"$f":"N6-1.0078246+0.00055","v":677.62417259999995},{"$f":"N6+44.99767+0.00055","v":723.62966719999997},{"$f":"N6+59.01332+0.00055","v":737.64531720000002}]

{"sheet":"Extra","index":43,"n_rows":13,"n_cols":21,"rows_kept":13,"cut":false,"hidden":false,"merged":[]}
["Lipid","Common Name",null,null,null,"#C","#H","#N","#O","#P","#I","Formula","Molecular Weight","Neutral Mass","[M+H]+","[M+NH4]+","[M+Na]+","[M+HCOO]-","[M+CH3COO]-","[M-H]-","[M+H-H2O]+"]
["dhSph","sphinganine",18,0,{"$f":"MID(A2,6,1)","v":""},{"$f":"C2","v":18},{"$f":"2*F2-(2*D2)+3","v":39},1,{"$f":"2+((LEN(A2)-LEN(SUBSTITUTE(A2,\"_OH_\",\"\")))/LEN(\"_OH_\"))*1+((LEN(A2)-LEN(SUBSTITUTE(A2,\"_OOH_\",\"\")))/LEN(\"_OOH_\"))*2+((LEN(A2)-LEN(SUBSTITUTE(A2,\"_O_\",\"\")))/LEN(\"_O_\"))*1+((LEN(A2)-LEN(SUBSTITUTE(A2,\"_CHO_\",\"\")))/LEN(\"_CHO_\"))*1+((LEN(A2)-LEN(SUBSTITUTE(A2,\"_COOH_\",\"\")))/LEN(\"_COOH_\"))*2","v":2},0,0,{"$f":"CONCATENATE(\"C\",F2,\"H\",G2,IF(H2>0,CONCATENATE(\"N\",H2),\"\"),\"O\",I2,IF(J2>0,CONCATENATE(\"P\",J2),\"\"),IF(K2>0,CONCATENATE(\"I\",K2),\"\"))","v":"C18H39N1O2"},{"$f":"(F2*12.0107)+(G2*1.00794)+(H2*14.0067)+(I2*15.9994)+(J2*30.973762)+(K2*126.90447)","v":301.50776000000002},{"$f":"(F2*12)+(G2*1.0078246)+(H2*14.003074)+(I2*15.994915)+(J2*30.973763)+(K2*126.904477)","v":301.29806339999999},{"$f":"N2+1.0078246","v":302.30588799999998},{"$f":"N2+18.0338257","v":319.33188910000001},{"$f":"N2+22.9892213","v":324.28728469999999},{"$f":"N2+44.9976546","v":346.29571799999997},{"$f":"N2+59.0133038","v":360.31136720000001},{"$f":"N2-1.0078246","v":300.2902388},{"$f":"N2-17.0027396","v":284.29532380000001}]
["dhS1P","sphinganine-1-phosphate",18,0,null,18,{"$f":"2*F3-(2*D3)+4","v":40},{"$f":"2-1","v":1},{"$f":"6-1+((LEN(A2)-LEN(SUBSTITUTE(A2,\"_OH_\",\"\")))/LEN(\"_OH_\"))*1+((LEN(A2)-LEN(SUBSTITUTE(A2,\"_OOH_\",\"\")))/LEN(\"_OOH_\"))*2+((LEN(A2)-LEN(SUBSTITUTE(A2,\"_O_\",\"\")))/LEN(\"_O_\"))*1+((LEN(A2)-LEN(SUBSTITUTE(A2,\"_CHO_\",\"\")))/LEN(\"_CHO_\"))*1+((LEN(A2)-LEN(SUBSTITUTE(A2,\"_COOH_\",\"\")))/LEN(\"_COOH_\"))*2","v":5},1,0,{"$f":"CONCATENATE(\"C\",F3,\"H\",G3,IF(H3>0,CONCATENATE(\"N\",H3),\"\"),\"O\",I3,IF(J3>0,CONCATENATE(\"P\",J3),\"\"),IF(K3>0,CONCATENATE(\"I\",K3),\"\"))","v":"C18H40N1O5P1"},381.48766200000006,{"$f":"(F3*12)+(G3*1.0078246)+(H3*14.003074)+(I3*15.994915)+(J3*30.973763)+(K3*126.904477)","v":381.26439600000009},382.27222060000008,399.29822170000011,404.25361730000009,426.26205060000007,440.27769980000011,380.2565714000001,364.26165640000011]
["Sph","sphingosine",18,1,"",18,{"$f":"2*F4-(2*D4)+3","v":37},1,2,0,0,"C18H37N1O2",299.49188000000004,299.28241420000001,300.2902388,317.31623990000003,322.2716355,344.28006879999998,358.29571800000002,298.27458960000001,282.27967460000002]
["S1P","sphingosine-1-phosphate",18,1,null,18,{"$f":"2*F5-(2*D5)+4","v":38},{"$f":"2-1","v":1},{"$f":"6-1","v":5},1,0,"C18H38N1O5P1",379.47178200000008,379.24874680000005,380.25657140000004,397.28257250000007,402.23796810000005,424.24640140000002,438.26205060000007,378.24092220000006,362.24600720000007]
["d16:1 S1P",null,{"$f":"MID(A6,2,2)","v":"16"},{"$f":"MID(A6,5,1)","v":"1"},null,"16",{"$f":"2*F6-(2*D6)+4","v":34},1,5,1,0,"C16H34N1O5P1",351.41862200000003,351.21744840000002,{"$f":"N6+1.0078246","v":352.22527300000002},{"$f":"N6+18.0338257","v":369.25127410000005},374.20666970000002,396.215103,410.23075220000004,350.20962380000003,334.21470880000004]
["d18:2 S1P",null,{"$f":"MID(A7,2,2)","v":"18"},{"$f":"MID(A7,5,1)","v":"2"},{"$f":"MID(A7,6,1)","v":" "},"18",{"$f":"2*F7-(2*D7)+4","v":36},1,5,1,0,"C18H36N1O5P1",377.45590200000004,377.23309760000006,{"$f":"N7+1.0078246","v":378.24092220000006},{"$f":"N7+18.0338257","v":395.26692330000009},400.22231890000006,422.23075220000004,436.24640140000008,376.22527300000007,360.23035800000008]
[]
["HexSph","Psychosine",null,null,null,24,{"$f":"2*F9-(2*D9)-1","v":47},1,7,0,0,"C24H47N1O7",{"$f":"(F9*12.0107)+(G9*1.00794)+(H9*14.0067)+(I9*15.9994)+(J9*30.973762)+(K9*126.90447)","v":461.63247999999999},461.3352352,{"$f":"N9+1.0078246","v":462.34305979999999},{"$f":"N9+18.0338257","v":479.36906090000002},484.3244565,506.33288979999998,520.34853899999996,{"$f":"N9-1.0078246","v":460.32741060000001},444.33249560000002]
["LacSph",null,null,null,null,30,{"$f":"2*F10-(2*D10)-3","v":57},1,12,0,0,"C30H57N1O12",{"$f":"(F10*12.0107)+(G10*1.00794)+(H10*14.0067)+(I10*15.9994)+(J10*30.973762)+(K10*126.90447)","v":623.77308000000005},623.38805620000005,{"$f":"N10+1.0078246","v":624.3958808000001},{"$f":"N10+18.0338257","v":641.42188190000002},646.3772775000001,668.38571080000008,682.40136000000007,622.3802316,606.38531660000001]
[]
["cholesterol",null,27,0,null,{"$f":"C12","v":27},{"$f":"2*F12-(2*D12)-8","v":46},0,1,0,0,"C27H46O1",{"$f":"(F12*12.0107)+(G12*1.00794)+(H12*14.0067)+(I12*15.9994)+(J12*30.973762)+(K12*126.90447)","v":386.65353999999996},386.35484659999997,{"$f":"N12+1.0078246","v":387.36267119999997},{"$f":"N12+18.0338257","v":404.3886723},409.34406789999997,431.35250119999995,445.36815039999999,385.34702199999998,{"$f":"N12-17.0027396","v":369.35210699999999}]
["thyroxine",null,15,0,null,{"$f":"C13","v":15},{"$f":"F13-4","v":11},1,4,0,4,"C15H11N1O4I4",{"$f":"(F13*12.0107)+(G13*1.00794)+(H13*14.0067)+(I13*15.9994)+(J13*30.973762)+(K13*126.90447)","v":776.87002000000007},776.68671259999996,777.69453720000001,{"$f":"N13+18.0338257","v":794.72053829999993},799.67593390000002,821.6843672,835.70001639999998,775.67888799999992,{"$f":"N13-17.0027396","v":759.68397299999992}]

{"sheet":"Bile Acids","index":44,"n_rows":83,"n_cols":23,"rows_kept":83,"cut":false,"hidden":false,"merged":[]}
["Bile Acid",null,null,"#C","#H","#N","#O","#S",null,null,null,"Formula","Molecular Weight","Neutral Mass","[M+H]+","[M+H-H2O]+","[M+NH4]+","[M+Na]+","[M+K]+","[M+Li]+","[M-H]-","[M+HCOO]-","[M+CH3COO]-"]
["12-Ketochenodeoxycholic acid","12-KCDCA",null,24,38,0,5,0,null,null,null,{"$f":"CONCATENATE(\"C\",D2,\"H\",E2,IF(F2>0,CONCATENATE(\"N\",F2),\"\"),\"O\",G2,IF(H2>0,CONCATENATE(\"S\",H2),\"\"))","v":"C24H38O5"},{"$f":"(D2*12.0107)+(E2*1.00794)+(F2*14.0067)+(G2*15.9994)+(H2*32.065)","v":406.55552},{"$f":"(D2*12)+(E2*1.0078246)+(F2*14.003074)+(G2*15.994915)+(H2*31.972072)","v":406.2719098},{"$f":"N2+1.0078246","v":407.2797344},{"$f":"O2-18.01057-0.00055","v":389.26861440000005},{"$f":"N2+18.03437-0.00055","v":424.30572980000005},{"$f":"N2+22.98977-0.00055","v":429.26112980000005},{"$f":"N2+38.96371-0.00055","v":445.23506980000002},{"$f":"N2+7.01601-0.00055","v":413.28736980000002},{"$f":"N2-1.0078246+0.00055","v":405.26463519999999},{"$f":"N2+44.99767+0.00055","v":451.27012979999995},{"$f":"N2+59.01332+0.00055","v":465.2857798}]
["12-Ketolithocholic acid","12-KLCA",null,24,38,0,4,0,null,null,null,"C24H38O4",390.55611999999996,390.27699480000001,{"$f":"N3+1.0078246","v":391.2848194},{"$f":"O3-18.01057-0.00055","v":373.27369940000005},{"$f":"N3+18.03437-0.00055","v":408.31081480000006},{"$f":"N3+22.98977-0.00055","v":413.26621480000006},{"$f":"N3+38.96371-0.00055","v":429.24015480000003},{"$f":"N3+7.01601-0.00055","v":397.29245480000003},{"$f":"N3-1.0078246+0.00055","v":389.26972019999999},{"$f":"N3+44.99767+0.00055","v":435.27521479999996},{"$f":"N3+59.01332+0.00055","v":449.29086480000001}]
["12-oxo-chenodeoxycholic acid","12-oxo-CDCA",null,24,38,0,5,0,null,null,null,"C24H38O5",406.55552,406.2719098,407.2797344,389.26861440000005,424.30572980000005,429.26112980000005,445.23506980000002,413.28736980000002,405.26463519999999,451.27012979999995,465.2857798]
["12-oxo-Lithocholic acid","12-oxo-LCA",null,24,38,0,4,0,null,null,null,"C24H38O4",390.55611999999996,390.27699480000001,{"$f":"N5+1.0078246","v":391.2848194},{"$f":"O5-18.01057-0.00055","v":373.27369940000005},{"$f":"N5+18.03437-0.00055","v":408.31081480000006},{"$f":"N5+22.98977-0.00055","v":413.26621480000006},{"$f":"N5+38.96371-0.00055","v":429.24015480000003},{"$f":"N5+7.01601-0.00055","v":397.29245480000003},{"$f":"N5-1.0078246+0.00055","v":389.26972019999999},{"$f":"N5+44.99767+0.00055","v":435.27521479999996},{"$f":"N5+59.01332+0.00055","v":449.29086480000001}]
["3-dehydrocholic acid","3-DHCA",null,24,38,0,5,0,null,null,null,"C24H38O5",406.55552,406.2719098,407.2797344,389.26861440000005,424.30572980000005,429.26112980000005,445.23506980000002,413.28736980000002,405.26463519999999,451.27012979999995,465.2857798]
["3-Oxocholic acid","3-oxo-CA",null,24,38,0,5,0,null,null,null,"C24H38O5",406.55552,406.2719098,{"$f":"N7+1.0078246","v":407.2797344},{"$f":"O7-18.01057-0.00055","v":389.26861440000005},{"$f":"N7+18.03437-0.00055","v":424.30572980000005},{"$f":"N7+22.98977-0.00055","v":429.26112980000005},{"$f":"N7+38.96371-0.00055","v":445.23506980000002},{"$f":"N7+7.01601-0.00055","v":413.28736980000002},{"$f":"N7-1.0078246+0.00055","v":405.26463519999999},{"$f":"N7+44.99767+0.00055","v":451.27012979999995},{"$f":"N7+59.01332+0.00055","v":465.2857798}]
["3α,6α,7α,12α-Tetrahydroxy-5b-cholanoic acid",null,null,24,40,0,6,0,null,null,null,"C24H40O6",424.57079999999996,424.28247400000004,425.29029860000003,407.27917860000002,442.31629400000008,447.27169400000008,463.24563400000005,431.29793400000005,423.27519940000002,469.28069400000004,483.29634400000003]
["3α,6β,7α,12α-Tetrahydroxy-5b-cholanoic acid",null,null,24,40,0,6,0,null,null,null,"C24H40O6",424.57079999999996,424.28247400000004,{"$f":"N9+1.0078246","v":425.29029860000003},{"$f":"O9-18.01057-0.00055","v":407.27917860000002},{"$f":"N9+18.03437-0.00055","v":442.31629400000008},{"$f":"N9+22.98977-0.00055","v":447.27169400000008},{"$f":"N9+38.96371-0.00055","v":463.24563400000005},{"$f":"N9+7.01601-0.00055","v":431.29793400000005},{"$f":"N9-1.0078246+0.00055","v":423.27519940000002},{"$f":"N9+44.99767+0.00055","v":469.28069400000004},{"$f":"N9+59.01332+0.00055","v":483.29634400000003}]
["6,7-Diketolithocholic acid","6,7-DKLCA",null,24,36,0,5,0,null,null,null,"C24H36O5",404.53964000000002,404.25626060000002,{"$f":"N10+1.0078246","v":405.26408520000001},{"$f":"O10-18.01057-0.00055","v":387.25296520000006},{"$f":"N10+18.03437-0.00055","v":422.29008060000007},{"$f":"N10+22.98977-0.00055","v":427.24548060000006},{"$f":"N10+38.96371-0.00055","v":443.21942060000003},{"$f":"N10+7.01601-0.00055","v":411.27172060000004},{"$f":"N10-1.0078246+0.00055","v":403.248986},{"$f":"N10+44.99767+0.00055","v":449.25448059999997},{"$f":"N10+59.01332+0.00055","v":463.27013060000002}]
["7,12-Diketolithocholic acid","7,12-DKLCA",null,24,36,0,5,0,null,null,null,{"$f":"CONCATENATE(\"C\",D11,\"H\",E11,IF(F11>0,CONCATENATE(\"N\",F11),\"\"),\"O\",G11,IF(H11>0,CONCATENATE(\"S\",H11),\"\"))","v":"C24H36O5"},404.53964000000002,{"$f":"(D11*12)+(E11*1.0078246)+(F11*14.003074)+(G11*15.994915)+(H11*31.972072)","v":404.25626060000002},{"$f":"N11+1.0078246","v":405.26408520000001},{"$f":"O11-18.01057-0.00055","v":387.25296520000006},{"$f":"N11+18.03437-0.00055","v":422.29008060000007},{"$f":"N11+22.98977-0.00055","v":427.24548060000006},{"$f":"N11+38.96371-0.00055","v":443.21942060000003},{"$f":"N11+7.01601-0.00055","v":411.27172060000004},{"$f":"N11-1.0078246+0.00055","v":403.248986},{"$f":"N11+44.99767+0.00055","v":449.25448059999997},{"$f":"N11+59.01332+0.00055","v":463.27013060000002}]
["6-oxo-Lithocholic acid","6-oxo-LCA",null,24,38,0,4,0,null,null,null,"C24H38O4",390.55611999999996,390.27699480000001,391.2848194,373.27369940000005,408.31081480000006,413.26621480000006,429.24015480000003,397.29245480000003,389.26972019999999,435.27521479999996,449.29086480000001]
["7-Ketodeoxycholic acid","7-KDCA",null,24,38,0,5,0,null,null,null,"C24H38O5",406.55552,406.2719098,{"$f":"N13+1.0078246","v":407.2797344},{"$f":"O13-18.01057-0.00055","v":389.26861440000005},{"$f":"N13+18.03437-0.00055","v":424.30572980000005},{"$f":"N13+22.98977-0.00055","v":429.26112980000005},{"$f":"N13+38.96371-0.00055","v":445.23506980000002},{"$f":"N13+7.01601-0.00055","v":413.28736980000002},{"$f":"N13-1.0078246+0.00055","v":405.26463519999999},{"$f":"N13+44.99767+0.00055","v":451.27012979999995},{"$f":"N13+59.01332+0.00055","v":465.2857798}]
["7-Ketolithocholic acid","7-KLCA",null,24,38,0,4,0,null,null,null,"C24H38O4",390.55611999999996,390.27699480000001,{"$f":"N14+1.0078246","v":391.2848194},{"$f":"O14-18.01057-0.00055","v":373.27369940000005},{"$f":"N14+18.03437-0.00055","v":408.31081480000006},{"$f":"N14+22.98977-0.00055","v":413.26621480000006},{"$f":"N14+38.96371-0.00055","v":429.24015480000003},{"$f":"N14+7.01601-0.00055","v":397.29245480000003},{"$f":"N14-1.0078246+0.00055","v":389.26972019999999},{"$f":"N14+44.99767+0.00055","v":435.27521479999996},{"$f":"N14+59.01332+0.00055","v":449.29086480000001}]
["7-oxo-Lithocholic acid","7-oxo-LCA",null,24,38,0,4,0,null,null,null,"C24H38O4",390.55611999999996,390.27699480000001,391.2848194,373.27369940000005,408.31081480000006,413.26621480000006,429.24015480000003,397.29245480000003,389.26972019999999,435.27521479999996,449.29086480000001]
["Allocholic acid","ACA",null,24,40,0,5,0,null,null,null,"C24H40O5",408.57139999999998,408.28755900000004,{"$f":"N16+1.0078246","v":409.29538360000004},{"$f":"O16-18.01057-0.00055","v":391.28426360000003},{"$f":"N16+18.03437-0.00055","v":426.32137900000009},{"$f":"N16+22.98977-0.00055","v":431.27677900000009},{"$f":"N16+38.96371-0.00055","v":447.25071900000006},{"$f":"N16+7.01601-0.00055","v":415.30301900000006},{"$f":"N16-1.0078246+0.00055","v":407.28028440000003},{"$f":"N16+44.99767+0.00055","v":453.28577900000005},{"$f":"N16+59.01332+0.00055","v":467.30142900000004}]
["Alloisolithocholic acid",null,null,24,40,0,3,0,null,null,null,"C24H40O3",376.57259999999997,376.297729,377.3055536,359.29443360000005,394.33154900000005,399.28694900000005,415.26088900000002,383.31318900000002,375.29045439999999,421.29594899999995,435.311599]
["Chenodeoxycholic acid","CDCA",null,24,40,0,4,0,null,null,null,"C24H40O4",392.57199999999995,392.29264400000005,393.30046860000004,375.28934860000004,410.3264640000001,415.2818640000001,431.25580400000007,399.30810400000007,391.28536940000004,437.29086400000006,451.30651400000005]
["Chenodeoxycholic acid-Sulfate","CDCA-S",null,24,40,0,7,1,null,null,null,"C24H40O7S1",472.6352,472.24946100000005,473.25728560000005,455.24616560000004,490.2832810000001,495.2386810000001,511.21262100000007,479.26492100000007,471.24218640000004,517.24768100000006,531.26333099999999]
["Cholic acid","CA",null,24,40,0,5,0,null,null,null,"C24H40O5",408.57139999999998,408.28755900000004,409.29538360000004,391.28426360000003,426.32137900000009,431.27677900000009,447.25071900000006,415.30301900000006,407.28028440000003,453.28577900000005,467.30142900000004]
["Cholic acid-Sulfate","CA-S",null,24,40,0,8,1,null,null,null,"C24H40O8S1",488.63459999999998,488.24437600000005,489.25220060000004,471.24108060000003,506.27819600000009,511.23359600000009,527.20753600000012,495.25983600000006,487.23710140000003,533.24259600000005,547.25824599999999]
["Dehydrocholic acid","DHCA",null,24,34,0,5,0,null,null,null,"C24H34O5",402.52376000000004,402.24061140000003,403.24843600000003,385.23731600000008,420.27443140000008,425.22983140000008,441.20377140000005,409.25607140000005,401.23333680000002,447.23883139999998,461.25448140000003]
["Dehydrolithocholic acid","DHLCA",null,24,38,0,3,0,null,null,null,"C24H38O3",374.55671999999998,374.28207980000002,{"$f":"N23+1.0078246-0.00055","v":375.28935440000004},357.27823440000009,392.31589980000007,397.27129980000007,413.24523980000004,381.29753980000004,373.2748052,419.28029979999997,433.29594980000002]
["Deoxycholic acid","DCA",null,24,40,0,4,0,null,null,null,"C24H40O4",392.57199999999995,392.29264400000005,{"$f":"N24+1.0078246","v":393.30046860000004},375.28934860000004,410.3264640000001,415.2818640000001,431.25580400000007,399.30810400000007,391.28536940000004,437.29086400000006,451.30651400000005]
["Deoxycholic acid-Sulfate ","DCA-S",null,23,38,0,7,1,null,null,null,"C23H38O7S1",458.60862000000003,458.23381180000001,459.2416364,441.23051640000006,476.26763180000006,481.22303180000006,497.19697180000003,465.24927180000003,457.2265372,503.23203179999996,517.24768180000001]
["Dioxolithocholic acid",null,null,24,36,0,5,0,null,null,null,"C24H36O5",404.53964000000002,404.25626060000002,405.26408520000001,387.25296520000006,422.29008060000007,427.24548060000006,443.21942060000003,411.27172060000004,403.248986,449.25448059999997,463.27013060000002]
["Glycoallocholic acid","GACA",null,26,43,1,6,0,null,null,null,"C26H43N1O6",465.62271999999996,465.30902180000004,466.31684640000003,448.30572640000003,483.34284180000009,488.29824180000008,504.27218180000006,472.32448180000006,464.30174720000002,510.30724180000004,524.32289179999998]
["Glycochenodeoxycholic acid-Sulfate","GCDCA-S",null,26,43,1,8,1,null,null,null,"C26H43N1O8S1",529.68651999999997,529.27092379999999,530.27874840000004,512.26762840000004,547.30474379999998,552.26014380000004,568.23408380000001,536.28638380000007,528.26364919999992,574.26914379999994,588.28479379999999]
["Glycochenodeoxycholic acid","GCDCA",null,26,43,1,5,0,null,null,null,"C26H43N1O5",449.62331999999998,449.31410680000005,450.32193140000004,432.31081140000003,467.3479268000001,472.30332680000009,488.27726680000006,456.32956680000007,448.30683220000003,494.31232680000005,508.32797680000004]
["Glycocholic acid","GCA",null,26,43,1,6,0,null,null,null,"C26H43N1O6",465.62271999999996,465.30902180000004,466.31684640000003,448.30572640000003,483.34284180000009,488.29824180000008,504.27218180000006,472.32448180000006,464.30174720000002,510.30724180000004,524.32289179999998]
["Glycocholic acid-sulfate","GCA-S",null,26,43,1,9,1,null,null,null,"C26H43N1O9S1",545.6859199999999,545.2658388000001,546.27366340000015,528.26254340000014,563.29965880000009,568.25505880000014,584.22899880000011,552.28129880000017,544.25856420000002,590.26405880000004,604.27970880000009]
["Glycodehydrocholic acid","GDHCA",null,26,37,1,6,0,null,null,null,"C26H37N1O6",459.57508000000001,459.26207420000003,460.26989880000002,442.25877880000007,477.29589420000008,482.25129420000007,498.22523420000005,466.27753420000005,458.25479960000001,504.26029419999998,518.27594420000003]
["Glycodeoxycholic acid","GDCA",null,26,43,1,5,0,null,null,null,"C26H43N1O5",449.62331999999998,449.31410680000005,450.32193140000004,432.31081140000003,467.3479268000001,472.30332680000009,488.27726680000006,456.32956680000007,448.30683220000003,494.31232680000005,508.32797680000004]
["Glycodeoxycholic acid-Sulfate","GDCA-S",null,26,43,1,8,1,null,null,null,"C26H43N1O8S1",{"$f":"(D34*12.0107)+(E34*1.00794)+(F34*14.0067)+(G34*15.9994)+(H34*32.065)","v":529.68651999999997},529.27092379999999,530.27874840000004,512.26762840000004,547.30474379999998,552.26014380000004,568.23408380000001,536.28638380000007,528.26364919999992,574.26914379999994,588.28479379999999]
["Glycohyocholic acid","GHCA",null,26,43,1,6,0,null,null,null,{"$f":"CONCATENATE(\"C\",D35,\"H\",E35,IF(F35>0,CONCATENATE(\"N\",F35),\"\"),\"O\",G35,IF(H35>0,CONCATENATE(\"S\",H35),\"\"))","v":"C26H43N1O6"},465.62271999999996,{"$f":"(D35*12)+(E35*1.0078246)+(F35*14.003074)+(G35*15.994915)+(H35*31.972072)","v":465.30902180000004},466.31684640000003,448.30572640000003,483.34284180000009,488.29824180000008,504.27218180000006,472.32448180000006,464.30174720000002,510.30724180000004,524.32289179999998]
["Glycohyodeoxycholic acid","GHDCA",null,26,43,1,5,0,null,null,null,"C26H43N1O5",449.62331999999998,449.31410680000005,450.32193140000004,432.31081140000003,467.3479268000001,472.30332680000009,488.27726680000006,456.32956680000007,448.30683220000003,494.31232680000005,508.32797680000004]
["Glycolithocholic acid","GLCA",null,26,43,1,4,0,null,null,null,"C26H43N1O4",433.62391999999994,433.31919180000006,434.32701640000005,416.31589640000004,451.3530118000001,456.3084118000001,472.28235180000007,440.33465180000007,432.31191720000004,478.31741180000006,492.33306180000005]
["Glycolithocholic acid sulfate","GLCA-S",null,26,43,1,7,1,null,null,null,"C26H43N1O7S1",513.68712000000005,513.2760088,514.28383340000005,496.27271340000004,531.30982879999999,536.26522880000005,552.23916880000002,520.29146880000008,512.26873419999993,558.27422879999995,572.2898788]
["Glycomuricholic acid","GMCA",null,26,43,1,6,0,null,null,null,"C26H43N1O6",465.62271999999996,465.30902180000004,466.31684640000003,448.30572640000003,483.34284180000009,488.29824180000008,504.27218180000006,472.32448180000006,464.30174720000002,510.30724180000004,524.32289179999998]
["Glycomuricholic acid-3-Sulfate","GMCA-S",null,26,43,1,9,1,null,null,null,"C26H43N1O9S1",545.6859199999999,545.2658388000001,546.27366340000015,528.26254340000014,563.29965880000009,568.25505880000014,584.22899880000011,552.28129880000017,544.25856420000002,590.26405880000004,604.27970880000009]
["Glycoursocholic acid","GUCA",null,26,43,1,5,0,null,null,null,"C26H43N1O5",449.62331999999998,449.31410680000005,450.32193140000004,432.31081140000003,467.3479268000001,472.30332680000009,488.27726680000006,456.32956680000007,448.30683220000003,494.31232680000005,508.32797680000004]
["Glycoursodeoxycholic acid","GUDCA",null,26,43,1,5,0,null,null,null,"C26H43N1O5",449.62331999999998,449.31410680000005,450.32193140000004,432.31081140000003,467.3479268000001,472.30332680000009,488.27726680000006,456.32956680000007,448.30683220000003,494.31232680000005,508.32797680000004]
["Glycoursodeoxycholic acid-Sulfate","GUDCA-S",null,26,43,1,8,1,null,null,null,"C26H43N1O8S1",529.68651999999997,529.27092379999999,530.27874840000004,512.26762840000004,547.30474379999998,552.26014380000004,568.23408380000001,536.28638380000007,528.26364919999992,574.26914379999994,588.28479379999999]
["Glyco-α-muriholic acid","G-α-MCA",null,26,43,1,6,0,null,null,null,"C26H43N1O6",465.62271999999996,465.30902180000004,466.31684640000003,448.30572640000003,483.34284180000009,488.29824180000008,504.27218180000006,472.32448180000006,464.30174720000002,510.30724180000004,524.32289179999998]
["Glyco-β-muricholic acid","G-β-MCA",null,26,43,1,6,0,null,null,null,"C26H43N1O6",465.62271999999996,465.30902180000004,466.31684640000003,448.30572640000003,483.34284180000009,488.29824180000008,504.27218180000006,472.32448180000006,464.30174720000002,510.30724180000004,524.32289179999998]
["Glyco-ω-muricholic acid","G-ω-MCA",null,26,43,1,6,0,null,null,null,"C26H43N1O6",465.62271999999996,465.30902180000004,466.31684640000003,448.30572640000003,483.34284180000009,488.29824180000008,504.27218180000006,472.32448180000006,464.30174720000002,510.30724180000004,524.32289179999998]
["Hyocholic acid","HCA",null,24,40,0,5,0,null,null,null,"C24H40O5",408.57139999999998,408.28755900000004,409.29538360000004,391.28426360000003,426.32137900000009,431.27677900000009,447.25071900000006,415.30301900000006,407.28028440000003,453.28577900000005,467.30142900000004]
["Hyodeoxycholic acid","HDCA",null,24,40,0,4,0,null,null,null,"C24H40O4",392.57199999999995,392.29264400000005,393.30046860000004,375.28934860000004,410.3264640000001,415.2818640000001,431.25580400000007,399.30810400000007,391.28536940000004,437.29086400000006,451.30651400000005]
["isoDeoxycholic acid","isoDCA",null,24,40,0,4,0,null,null,null,"C24H40O4",392.57199999999995,392.29264400000005,393.30046860000004,375.28934860000004,410.3264640000001,415.2818640000001,431.25580400000007,399.30810400000007,391.28536940000004,437.29086400000006,451.30651400000005]
["isoLithocholic acid","isoLCA",null,24,40,0,3,0,null,null,null,"C24H40O3",376.57259999999997,376.297729,377.3055536,359.29443360000005,394.33154900000005,399.28694900000005,415.26088900000002,383.31318900000002,375.29045439999999,421.29594899999995,435.311599]
["Lithocholic acid","LCA",null,24,40,0,3,0,null,null,null,"C24H40O3",376.57259999999997,376.297729,377.3055536,359.29443360000005,394.33154900000005,399.28694900000005,415.26088900000002,383.31318900000002,375.29045439999999,421.29594899999995,435.311599]
["Lithocholic acid-Sulfate ","LCA-S",null,24,40,0,6,1,null,null,null,"C24H40O6S1",456.63579999999996,456.25454600000006,457.26237060000005,439.25125060000005,474.28836600000011,479.24376600000011,495.21770600000008,463.27000600000008,455.24727140000005,501.25276600000007,515.268416]
["Muricholic acid-Sulfate","MCA-S",null,24,40,0,8,1,null,null,null,"C24H40O8S1",488.63459999999998,488.24437600000005,489.25220060000004,471.24108060000003,506.27819600000009,511.23359600000009,527.20753600000012,495.25983600000006,487.23710140000003,533.24259600000005,547.25824599999999]
["Murideoxycholic acid","MDCA",null,24,40,0,4,0,null,null,null,"C24H40O4",392.57199999999995,392.29264400000005,393.30046860000004,375.28934860000004,410.3264640000001,415.2818640000001,431.25580400000007,399.30810400000007,391.28536940000004,437.29086400000006,451.30651400000005]
["Murocholic acid","MC",null,24,40,0,4,0,null,null,null,"C24H40O4",392.57199999999995,392.29264400000005,393.30046860000004,375.28934860000004,410.3264640000001,415.2818640000001,431.25580400000007,399.30810400000007,391.28536940000004,437.29086400000006,451.30651400000005]
["Norcholic acid ","NCA",null,23,38,0,5,0,null,null,null,"C23H38O5",394.54482000000002,394.2719098,395.2797344,377.26861440000005,412.30572980000005,417.26112980000005,433.23506980000002,401.28736980000002,393.26463519999999,439.27012979999995,453.2857798]
["Nordeoxycholic acid","NDCA",null,23,38,0,4,0,null,null,null,"C23H38O4",378.54541999999998,378.27699480000001,379.2848194,361.27369940000005,396.31081480000006,401.26621480000006,417.24015480000003,385.29245480000003,377.26972019999999,423.27521479999996,437.29086480000001]
["Tauro-3α,6α,7α,12α-tetrahydroxy bile acid",null,null,26,45,1,8,1,null,null,null,"C26H45N1O8S1",531.70240000000001,531.28657299999998,532.29439760000002,514.28327760000002,549.32039299999997,554.27579300000002,570.24973299999999,538.30203300000005,530.2792983999999,576.28479299999992,590.30044299999997]
["Tauroallocholic acid","TAC",null,26,45,1,7,1,null,null,null,"C26H45N1O7S1",515.70299999999997,515.29165799999998,516.29948260000003,498.28836260000003,533.32547799999998,538.28087800000003,554.254818,522.30711800000006,514.28438339999991,560.28987799999993,574.30552799999998]
["Taurochenodeoxycholic acid","TCDCA",null,26,45,1,6,1,null,null,null,"C26H45N1O6S1",499.70359999999999,499.29674300000005,500.30456760000004,482.29344760000004,517.3305630000001,522.28596300000004,538.25990300000012,506.31220300000007,498.28946840000003,544.29496300000005,558.31061299999999]
["Taurochenodeoxycholic acid-sulfate","TCDCA-S",null,26,45,1,9,2,null,null,null,"C26H45N1O9S2",579.76679999999999,579.25356000000011,580.26138460000016,562.25026460000015,597.2873800000001,602.24278000000015,618.21672000000012,586.26902000000018,578.24628540000003,624.25178000000005,638.2674300000001]
["Taurocholic acid ","TCA",null,26,45,1,7,1,null,null,null,"C26H45N1O7S1",515.70299999999997,515.29165799999998,516.29948260000003,498.28836260000003,533.32547799999998,538.28087800000003,554.254818,522.30711800000006,514.28438339999991,560.28987799999993,574.30552799999998]
["Taurocholic acid-sulfate","TCA-S",null,26,45,1,10,2,null,null,null,"C26H45N1O10S2",595.76620000000003,595.2484750000001,516.29948260000003,498.28836260000003,533.32547799999998,538.28087800000003,554.254818,522.30711800000006,514.28438339999991,560.28987799999993,574.30552799999998]
["Taurodeoxycholic acid","TDCA",null,26,45,1,6,1,null,null,null,"C26H45N1O6S1",499.70359999999999,499.29674300000005,{"$f":"N64+1.0078246","v":500.30456760000004},{"$f":"O64-18.01057-0.00055","v":482.29344760000004},{"$f":"N64+18.03437-0.00055","v":517.3305630000001},{"$f":"N64+22.98977-0.00055","v":522.28596300000004},{"$f":"N64+38.96371-0.00055","v":538.25990300000012},{"$f":"N64+7.01601-0.00055","v":506.31220300000007},{"$f":"N64-1.0078246+0.00055","v":498.28946840000003},{"$f":"N64+44.99767+0.00055","v":544.29496300000005},{"$f":"N64+59.01332+0.00055","v":558.31061299999999}]
["Taurodeoxycholic acid-sulfate","TDCA-S",null,26,45,1,9,2,null,null,null,"C26H45N1O9S2",579.76679999999999,579.25356000000011,580.26138460000016,562.25026460000015,597.2873800000001,602.24278000000015,618.21672000000012,586.26902000000018,578.24628540000003,624.25178000000005,638.2674300000001]
["Taurohyocholic acid","THCA",null,26,45,1,7,1,null,null,null,"C26H45N1O7S1",{"$f":"(D66*12.0107)+(E66*1.00794)+(F66*14.0067)+(G66*15.9994)+(H66*32.065)","v":515.70299999999997},515.29165799999998,516.29948260000003,498.28836260000003,533.32547799999998,538.28087800000003,554.254818,522.30711800000006,514.28438339999991,560.28987799999993,574.30552799999998]
["Taurohyodeoxyocholic acid","THDCA",null,26,45,1,6,1,null,null,null,{"$f":"CONCATENATE(\"C\",D67,\"H\",E67,IF(F67>0,CONCATENATE(\"N\",F67),\"\"),\"O\",G67,IF(H67>0,CONCATENATE(\"S\",H67),\"\"))","v":"C26H45N1O6S1"},499.70359999999999,{"$f":"(D67*12)+(E67*1.0078246)+(F67*14.003074)+(G67*15.994915)+(H67*31.972072)","v":499.29674300000005},500.30456760000004,482.29344760000004,517.3305630000001,522.28596300000004,538.25990300000012,506.31220300000007,498.28946840000003,544.29496300000005,558.31061299999999]
["Taurolithocholic acid","TLCA",null,26,45,1,5,1,null,null,null,"C26H45N1O5S1",483.70420000000001,483.30182800000006,484.30965260000005,466.29853260000004,501.33564800000011,506.2910480000001,522.26498800000013,490.31728800000008,482.29455340000004,528.30004800000006,542.315698]
["Taurolithocholic acid-sulfate","TLCA-S",null,26,45,1,8,2,null,null,null,"C26H45N1O8S2",563.76739999999995,563.258645,564.26646960000005,546.25534960000005,581.29246499999999,586.24786500000005,602.22180500000002,570.27410500000008,562.25137039999993,608.25686499999995,622.272515]
["Tauromuricholic acid (a+b)","TMCA(a+b)",null,26,45,1,7,1,null,null,null,"C26H45N1O7S1",515.70299999999997,515.29165799999998,516.29948260000003,498.28836260000003,533.32547799999998,538.28087800000003,554.254818,522.30711800000006,514.28438339999991,560.28987799999993,574.30552799999998]
["Tauromuricholic acid-Sulfate","TMCA-S",null,26,45,1,10,2,null,null,null,"C26H45N1O10S2",595.76620000000003,595.2484750000001,596.25629960000015,578.24517960000014,613.28229500000009,618.23769500000014,634.21163500000011,602.26393500000017,594.24120040000003,640.24669500000005,654.2623450000001]
["Tauroursodeoxycholic acid","TUDCA",null,26,45,1,6,1,null,null,null,"C26H45N1O6S1",499.70359999999999,499.29674300000005,500.30456760000004,482.29344760000004,517.3305630000001,522.28596300000004,538.25990300000012,506.31220300000007,498.28946840000003,544.29496300000005,558.31061299999999]
["Tauroursodeoxycholic acid-sulfate","TUDCA-S",null,26,45,1,9,2,null,null,null,"C26H45N1O9S2",579.76679999999999,579.25356000000011,580.26138460000016,562.25026460000015,597.2873800000001,602.24278000000015,618.21672000000012,586.26902000000018,578.24628540000003,624.25178000000005,638.2674300000001]
["Tauro-α-muricholic acid","TαMCA",null,26,45,1,7,1,null,null,null,"C26H45N1O7S1",515.70299999999997,515.29165799999998,516.29948260000003,498.28836260000003,533.32547799999998,538.28087800000003,554.254818,522.30711800000006,514.28438339999991,560.28987799999993,574.30552799999998]
["Tauro-β-muricholic acid","TβMCA",null,26,45,1,7,1,null,null,null,"C26H45N1O7S1",515.70299999999997,515.29165799999998,516.29948260000003,498.28836260000003,533.32547799999998,538.28087800000003,554.254818,522.30711800000006,514.28438339999991,560.28987799999993,574.30552799999998]
["Tauro-ω-muricholic acid","TωMCA",null,26,45,1,7,1,null,null,null,"C26H45N1O7S1",515.70299999999997,515.29165799999998,516.29948260000003,498.28836260000003,533.32547799999998,538.28087800000003,554.254818,522.30711800000006,514.28438339999991,560.28987799999993,574.30552799999998]
["Ursocholic acid","UCA",null,24,40,0,5,0,null,null,null,"C24H40O5",408.57139999999998,408.28755900000004,409.29538360000004,391.28426360000003,426.32137900000009,431.27677900000009,447.25071900000006,415.30301900000006,407.28028440000003,453.28577900000005,467.30142900000004]
["Ursodeoxycholic acid","UDCA",null,24,40,0,4,0,null,null,null,"C24H40O4",392.57199999999995,392.29264400000005,393.30046860000004,375.28934860000004,410.3264640000001,415.2818640000001,431.25580400000007,399.30810400000007,391.28536940000004,437.29086400000006,451.30651400000005]
["Ursodeoxycholic acid-Sulfate ","UDCA-S",null,24,40,0,7,1,null,null,null,"C24H40O7S1",472.6352,472.24946100000005,473.25728560000005,455.24616560000004,490.2832810000001,495.2386810000001,511.21262100000007,479.26492100000007,471.24218640000004,517.24768100000006,531.26333099999999]
["α-Muricholic acid","MCA(α)",null,24,40,0,5,0,null,null,null,"C24H40O5",408.57139999999998,408.28755900000004,409.29538360000004,391.28426360000003,426.32137900000009,431.27677900000009,447.25071900000006,415.30301900000006,407.28028440000003,453.28577900000005,467.30142900000004]
["β-Muricholic acid","MCA(β)",null,24,40,0,5,0,null,null,null,"C24H40O5",408.57139999999998,408.28755900000004,409.29538360000004,391.28426360000003,426.32137900000009,431.27677900000009,447.25071900000006,415.30301900000006,407.28028440000003,453.28577900000005,467.30142900000004]
["λ-muricholic acid","MCA(λ)",null,24,40,0,5,0,null,null,null,"C24H40O5",408.57139999999998,408.28755900000004,409.29538360000004,391.28426360000003,426.32137900000009,431.27677900000009,447.25071900000006,415.30301900000006,407.28028440000003,453.28577900000005,467.30142900000004]
["ω-Muricholic acid","MCA(ω)",null,24,40,0,5,0,null,null,null,"C24H40O5",408.57139999999998,408.28755900000004,409.29538360000004,391.28426360000003,426.32137900000009,431.27677900000009,447.25071900000006,415.30301900000006,407.28028440000003,453.28577900000005,467.30142900000004]

{"sheet":"Eicosanoids","index":45,"n_rows":171,"n_cols":23,"rows_kept":171,"cut":false,"hidden":false,"merged":[]}
["Eicosanoid",null,"#C","#H","#N","#O","#S",null,null,null,null,"Formula","Molecular Weight","Neutral Mass","[M+H]+","[M+H-H2O]+","[M+NH4]+","[M+Na]+","[M+K]+","[M+Li]+","[M-H]-","[M+HCOO]-","[M+CH3COO]-"]
["10,11-EpDPE",null,22,32,0,3,0,null,null,null,null,{"$f":"CONCATENATE(\"C\",C2,\"H\",D2,IF(E2>0,CONCATENATE(\"N\",E2),\"\"),\"O\",F2,IF(G2>0,CONCATENATE(\"S\",G2),\"\"))","v":"C22H32O3"},{"$f":"(C2*12.0107)+(D2*1.00794)+(E2*14.0067)+(F2*15.9994)+(G2*32.065)","v":344.48768000000001},{"$f":"(C2*12)+(D2*1.0078246)+(E2*14.003074)+(F2*15.994915)+(G2*31.972072)","v":344.23513219999995},{"$f":"N2+1.0078246-0.00055","v":345.24240679999997},{"$f":"O2-18.01057-0.00055","v":327.23128680000002},{"$f":"N2+18.03437-0.00055","v":362.2689522},{"$f":"N2+22.98977-0.00055","v":367.2243522},{"$f":"N2+38.96371-0.00055","v":383.19829219999997},{"$f":"N2+7.01601-0.00055","v":351.25059219999997},{"$f":"N2-1.0078246+0.00055","v":343.22785759999994},{"$f":"N2+44.99767+0.00055","v":389.2333521999999},{"$f":"N2+59.01332+0.00055","v":403.24900219999995}]
["10,17-diHDHA ",null,22,32,0,4,0,null,null,null,null,"C22H32O4",360.48707999999999,360.2300472,361.23732180000002,343.22620180000001,378.26386720000005,383.21926720000005,399.19320720000002,367.24550720000002,359.22277259999998,405.2282672,419.2439172]
["10,17-DiHDoHE",null,22,32,0,4,0,null,null,null,null,"C22H32O4",360.48707999999999,360.2300472,{"$f":"N4+1.0078246-0.00055","v":361.23732180000002},{"$f":"O4-18.01057-0.00055","v":343.22620180000001},{"$f":"N4+18.03437-0.00055","v":378.26386720000005},{"$f":"N4+22.98977-0.00055","v":383.21926720000005},{"$f":"N4+38.96371-0.00055","v":399.19320720000002},{"$f":"N4+7.01601-0.00055","v":367.24550720000002},{"$f":"N4-1.0078246+0.00055","v":359.22277259999998},{"$f":"N4+44.99767+0.00055","v":405.2282672},{"$f":"N4+59.01332+0.00055","v":419.2439172}]
["10-HDoHE",null,22,32,0,3,0,null,null,null,null,"C22H32O3",344.48768000000001,344.23513219999995,345.24240679999997,327.23128680000002,362.2689522,367.2243522,383.19829219999997,351.25059219999997,343.22785759999994,389.2333521999999,403.24900219999995]
["11,12-DiHET (DHET)",null,20,34,0,4,0,null,null,null,null,"C20H34O4",338.48156,338.24569640000004,339.25297100000006,321.24185100000011,356.27951640000009,361.23491640000009,377.20885640000006,345.26115640000006,337.23842180000003,383.24391639999999,397.25956640000004]
["11,12-DiHETrE",null,20,34,0,4,0,null,null,null,null,"C20H34O4",338.48156,338.24569640000004,339.25297100000006,321.24185100000011,356.27951640000009,361.23491640000009,377.20885640000006,345.26115640000006,337.23842180000003,383.24391639999999,397.25956640000004]
["11,12-EET",null,20,32,0,3,0,null,null,null,null,"C20H32O3",320.46627999999998,320.23513219999995,321.24240679999997,303.23128680000002,338.2689522,343.2243522,359.19829219999997,327.25059219999997,319.22785759999994,365.2333521999999,379.24900219999995]
["11,12-EpETE",null,20,30,0,3,0,null,null,null,null,"C20H30O3",318.4504,318.21948299999997,319.22675759999998,301.21563760000004,336.25330300000002,341.20870300000001,357.18264299999998,325.23494299999999,317.21220839999995,363.21770299999991,377.23335299999997]
["11,12-EpETrE",null,20,32,0,3,0,null,null,null,null,"C20H32O3",320.46627999999998,320.23513219999995,321.24240679999997,303.23128680000002,338.2689522,343.2243522,359.19829219999997,327.25059219999997,319.22785759999994,365.2333521999999,379.24900219999995]
["11b PGE2",null,20,32,0,5,0,null,null,null,null,"C20H32O5",352.46508,352.22496219999999,353.23223680000001,335.2211168,370.25878220000004,375.21418220000004,391.18812220000001,359.24042220000001,351.21768759999998,397.2231822,411.23883219999999]
["11-HDoHE",null,22,32,0,3,0,null,null,null,null,"C22H32O3",344.48768000000001,344.23513219999995,345.24240679999997,327.23128680000002,362.2689522,367.2243522,383.19829219999997,351.25059219999997,343.22785759999994,389.2333521999999,403.24900219999995]
["11-HEDE",null,20,36,0,3,0,null,null,null,null,"C20H36O3",324.49804,324.26643060000004,325.27370520000005,307.2625852000001,342.30025060000008,347.25565060000008,363.22959060000005,331.28189060000005,323.25915600000002,369.26465059999998,383.28030060000003]
["11-HEPE",null,20,30,0,3,0,null,null,null,null,"C20H30O3",318.4504,318.21948299999997,319.22675759999998,301.21563760000004,336.25330300000002,341.20870300000001,357.18264299999998,325.23494299999999,317.21220839999995,363.21770299999991,377.23335299999997]
["11-HETE",null,20,32,0,3,0,null,null,null,null,"C20H32O3",320.46627999999998,320.23513219999995,321.24240679999997,303.23128680000002,338.2689522,343.2243522,359.19829219999997,327.25059219999997,319.22785759999994,365.2333521999999,379.24900219999995]
["11-keto TXB2 (11-dehydro TXB2)",null,20,32,0,6,0,null,null,null,null,"C20H32O6",368.46447999999998,368.21987719999998,369.2271518,351.2160318,386.25369720000003,391.20909720000003,407.1830372,375.2353372,367.21260259999997,413.21809719999999,427.23374719999998]
["12,13-DiHOME",null,18,34,0,4,0,null,null,null,null,"C18H34O4",314.46015999999997,314.24569639999999,315.252971,297.241851,332.27951640000003,337.23491640000003,353.2088564,321.2611564,313.23842179999997,359.24391639999999,373.25956639999998]
["12,13-EpODE",null,18,30,0,3,0,null,null,null,null,"C18H30O3",294.42899999999997,294.21948299999997,295.22675759999998,277.21563760000004,312.25330300000002,317.20870300000001,333.18264299999998,301.23494299999999,293.21220839999995,339.21770299999991,353.23335299999997]
["12,13-EpOME",null,18,32,0,3,0,null,null,null,null,"C18H32O3",296.44488000000001,296.23513220000001,297.24240680000003,279.23128680000002,314.26895220000006,319.22435220000006,335.19829220000003,303.25059220000003,295.22785759999999,341.23335220000001,355.24900220000001]
["12-epi LTB4",null,20,32,0,4,0,null,null,null,null,"C20H32O4",336.46567999999996,336.2300472,337.23732180000002,319.22620180000001,354.26386720000005,359.21926720000005,375.19320720000002,343.24550720000002,335.22277259999998,381.2282672,395.2439172]
["12-HEPE",null,20,30,0,3,0,null,null,null,null,"C20H30O3",318.4504,318.21948299999997,319.22675759999998,301.21563760000004,336.25330300000002,341.20870300000001,357.18264299999998,325.23494299999999,317.21220839999995,363.21770299999991,377.23335299999997]
["12-HETE",null,20,32,0,3,0,null,null,null,null,"C20H32O3",320.46627999999998,320.23513219999995,321.24240679999997,303.23128680000002,338.2689522,343.2243522,359.19829219999997,327.25059219999997,319.22785759999994,365.2333521999999,379.24900219999995]
["12-HHTrE",null,17,28,0,3,0,null,null,null,null,"C17H28O3",280.40242000000001,280.20383379999998,281.2111084,263.19998840000005,298.23765380000003,303.19305380000003,319.1669938,287.2192938,279.19655919999997,325.20205379999993,339.21770379999998]
["12-OxoETE (12-KETE)",null,20,30,0,3,0,null,null,null,null,"C20H30O3",318.4504,318.21948299999997,319.22675759999998,301.21563760000004,336.25330300000002,341.20870300000001,357.18264299999998,325.23494299999999,317.21220839999995,363.21770299999991,377.23335299999997]
["12-OxoLTB4",null,20,30,0,4,0,null,null,null,null,"C20H30O4",334.44979999999998,334.21439800000002,335.22167260000003,317.21055260000003,352.24821800000007,357.20361800000006,373.17755800000003,341.22985800000004,333.2071234,379.21261800000002,393.22826800000001]
["13,14dh-15k-PGD2",null,20,32,0,5,0,null,null,null,null,"C20H32O5",352.46508,352.22496219999999,353.23223680000001,335.2211168,370.25878220000004,375.21418220000004,391.18812220000001,359.24042220000001,351.21768759999998,397.2231822,411.23883219999999]
["13,14dh-15k-PGE1",null,20,34,0,5,0,null,null,null,null,"C20H34O5",354.48096000000004,354.24061140000003,355.24788600000005,337.2367660000001,372.27443140000008,377.22983140000008,393.20377140000005,361.25607140000005,353.23333680000002,399.23883139999998,413.25448140000003]
["13,14dh-15k-PGE2",null,20,32,0,5,0,null,null,null,null,"C20H32O5",352.46508,352.22496219999999,353.23223680000001,335.2211168,370.25878220000004,375.21418220000004,391.18812220000001,359.24042220000001,351.21768759999998,397.2231822,411.23883219999999]
["13,14dh-15k-PGF2α",null,20,34,0,5,0,null,null,null,null,"C20H34O5",354.48096000000004,354.24061140000003,355.24788600000005,337.2367660000001,372.27443140000008,377.22983140000008,393.20377140000005,361.25607140000005,353.23333680000002,399.23883139999998,413.25448140000003]
["13,14dh-PGE1",null,20,36,0,5,0,null,null,null,null,"C20H36O5",356.49684000000002,356.25626060000002,357.26353520000004,339.25241520000009,374.29008060000007,379.24548060000006,395.21942060000003,363.27172060000004,355.248986,401.25448059999997,415.27013060000002]
["13,14-EpDPE",null,22,32,0,3,0,null,null,null,null,"C22H32O3",344.48768000000001,344.23513219999995,345.24240679999997,327.23128680000002,362.2689522,367.2243522,383.19829219999997,351.25059219999997,343.22785759999994,389.2333521999999,403.24900219999995]
["13-HDoHE",null,22,32,0,3,0,null,null,null,null,"C22H32O3",344.48768000000001,344.23513219999995,345.24240679999997,327.23128680000002,362.2689522,367.2243522,383.19829219999997,351.25059219999997,343.22785759999994,389.2333521999999,403.24900219999995]
["13-HODE",null,18,32,0,3,0,null,null,null,null,"C18H32O3",296.44488000000001,296.23513220000001,297.24240680000003,279.23128680000002,314.26895220000006,319.22435220000006,335.19829220000003,303.25059220000003,295.22785759999999,341.23335220000001,355.24900220000001]
["13-HOTrE",null,18,30,0,3,0,null,null,null,null,{"$f":"CONCATENATE(\"C\",C34,\"H\",D34,IF(E34>0,CONCATENATE(\"N\",E34),\"\"),\"O\",F34,IF(G34>0,CONCATENATE(\"S\",G34),\"\"))","v":"C18H30O3"},{"$f":"(C34*12.0107)+(D34*1.00794)+(E34*14.0067)+(F34*15.9994)+(G34*32.065)","v":294.42899999999997},{"$f":"(C34*12)+(D34*1.0078246)+(E34*14.003074)+(F34*15.994915)+(G34*31.972072)","v":294.21948299999997},295.22675759999998,277.21563760000004,312.25330300000002,317.20870300000001,333.18264299999998,301.23494299999999,293.21220839999995,339.21770299999991,353.23335299999997]
["13-HOTrE (gamma)",null,18,30,0,3,0,null,null,null,null,"C18H30O3",294.42899999999997,294.21948299999997,295.22675759999998,277.21563760000004,312.25330300000002,317.20870300000001,333.18264299999998,301.23494299999999,293.21220839999995,339.21770299999991,353.23335299999997]
["13-OxoODE (13-KODE)",null,18,30,0,3,0,null,null,null,null,"C18H30O3",294.42899999999997,294.21948299999997,{"$f":"N36+1.0078246-0.00055","v":295.22675759999998},{"$f":"O36-18.01057-0.00055","v":277.21563760000004},{"$f":"N36+18.03437-0.00055","v":312.25330300000002},{"$f":"N36+22.98977-0.00055","v":317.20870300000001},{"$f":"N36+38.96371-0.00055","v":333.18264299999998},{"$f":"N36+7.01601-0.00055","v":301.23494299999999},{"$f":"N36-1.0078246+0.00055","v":293.21220839999995},{"$f":"N36+44.99767+0.00055","v":339.21770299999991},{"$f":"N36+59.01332+0.00055","v":353.23335299999997}]
["14,15-DiHET (DHET)",null,20,34,0,4,0,null,null,null,null,"C20H34O4",338.48156,338.24569640000004,339.25297100000006,321.24185100000011,356.27951640000009,361.23491640000009,377.20885640000006,345.26115640000006,337.23842180000003,383.24391639999999,397.25956640000004]
["14,15-DiHETE",null,20,32,0,4,0,null,null,null,null,"C20H32O4",336.46567999999996,336.2300472,337.23732180000002,319.22620180000001,354.26386720000005,359.21926720000005,375.19320720000002,343.24550720000002,335.22277259999998,381.2282672,395.2439172]
["14,15-DiHETrE",null,20,34,0,4,0,null,null,null,null,"C20H34O4",338.48156,338.24569640000004,339.25297100000006,321.24185100000011,356.27951640000009,361.23491640000009,377.20885640000006,345.26115640000006,337.23842180000003,383.24391639999999,397.25956640000004]
["14,15-EET",null,20,32,0,3,0,null,null,null,null,"C20H32O3",320.46627999999998,320.23513219999995,321.24240679999997,303.23128680000002,338.2689522,343.2243522,359.19829219999997,327.25059219999997,319.22785759999994,365.2333521999999,379.24900219999995]
["14,15-EpETE",null,20,30,0,3,0,null,null,null,null,"C20H30O3",318.4504,318.21948299999997,319.22675759999998,301.21563760000004,336.25330300000002,341.20870300000001,357.18264299999998,325.23494299999999,317.21220839999995,363.21770299999991,377.23335299999997]
["14,15-EpETrE",null,20,32,0,3,0,null,null,null,null,"C20H32O3",320.46627999999998,320.23513219999995,321.24240679999997,303.23128680000002,338.2689522,343.2243522,359.19829219999997,327.25059219999997,319.22785759999994,365.2333521999999,379.24900219999995]
["14-HDoHE",null,22,32,0,3,0,null,null,null,null,"C22H32O3",344.48768000000001,344.23513219999995,345.24240679999997,327.23128680000002,362.2689522,367.2243522,383.19829219999997,351.25059219999997,343.22785759999994,389.2333521999999,403.24900219999995]
["15d-D12,14-PGJ2",null,20,28,0,3,0,null,null,null,null,"C20H28O3",316.43452000000002,316.20383379999998,317.2111084,299.19998840000005,334.23765380000003,339.19305380000003,355.1669938,323.2192938,315.19655919999997,361.20205379999993,375.21770379999998]
["15d-D12,14-PGJ3",null,20,28,0,3,0,null,null,null,null,"C20H28O3",316.43452000000002,316.20383379999998,317.2111084,299.19998840000005,334.23765380000003,339.19305380000003,355.1669938,323.2192938,315.19655919999997,361.20205379999993,375.21770379999998]
["15-HEDE",null,20,36,0,3,0,null,null,null,null,"C20H36O3",324.49804,324.26643060000004,325.27370520000005,307.2625852000001,342.30025060000008,347.25565060000008,363.22959060000005,331.28189060000005,323.25915600000002,369.26465059999998,383.28030060000003]
["15-HEPE",null,20,30,0,3,0,null,null,null,null,"C20H30O3",318.4504,318.21948299999997,319.22675759999998,301.21563760000004,336.25330300000002,341.20870300000001,357.18264299999998,325.23494299999999,317.21220839999995,363.21770299999991,377.23335299999997]
["15-HETE",null,20,32,0,3,0,null,null,null,null,"C20H32O3",320.46627999999998,320.23513219999995,321.24240679999997,303.23128680000002,338.2689522,343.2243522,359.19829219999997,327.25059219999997,319.22785759999994,365.2333521999999,379.24900219999995]
["15-HETrE",null,20,34,0,3,0,null,null,null,null,"C20H34O3",322.48216000000002,322.25078140000005,323.25805600000007,305.24693600000012,340.2846014000001,345.2400014000001,361.21394140000007,329.26624140000007,321.24350680000003,367.2490014,381.26465140000005]
["15-keto PGE2",null,20,30,0,5,0,null,null,null,null,"C20H30O5",350.44920000000002,350.20931300000001,351.21658760000003,333.20546760000002,368.24313300000006,373.19853300000005,389.17247300000002,357.22477300000003,349.20203839999999,395.20753300000001,409.22318300000001]
["15-keto PGF2a",null,20,32,0,5,0,null,null,null,null,"C20H32O5",352.46508,352.22496219999999,353.23223680000001,335.2211168,370.25878220000004,375.21418220000004,391.18812220000001,359.24042220000001,351.21768759999998,397.2231822,411.23883219999999]
["15-OxoEDE (15-KEDE)",null,20,34,0,3,0,null,null,null,null,"C20H34O3",322.48216000000002,322.25078140000005,323.25805600000007,305.24693600000012,340.2846014000001,345.2400014000001,361.21394140000007,329.26624140000007,321.24350680000003,367.2490014,381.26465140000005]
["15-OxoETE (15-KETE)",null,20,30,0,3,0,null,null,null,null,"C20H30O3",318.4504,318.21948299999997,319.22675759999998,301.21563760000004,336.25330300000002,341.20870300000001,357.18264299999998,325.23494299999999,317.21220839999995,363.21770299999991,377.23335299999997]
["16,17-EpDPE",null,22,32,0,3,0,null,null,null,null,"C22H32O3",344.48768000000001,344.23513219999995,345.24240679999997,327.23128680000002,362.2689522,367.2243522,383.19829219999997,351.25059219999997,343.22785759999994,389.2333521999999,403.24900219999995]
["16-HDoHE",null,22,32,0,3,0,null,null,null,null,"C22H32O3",344.48768000000001,344.23513219999995,345.24240679999997,327.23128680000002,362.2689522,367.2243522,383.19829219999997,351.25059219999997,343.22785759999994,389.2333521999999,403.24900219999995]
["16-HETE",null,20,32,0,3,0,null,null,null,null,"C20H32O3",320.46627999999998,320.23513219999995,321.24240679999997,303.23128680000002,338.2689522,343.2243522,359.19829219999997,327.25059219999997,319.22785759999994,365.2333521999999,379.24900219999995]
["17,18-DiHETE",null,20,32,0,4,0,null,null,null,null,"C20H32O4",336.46567999999996,336.2300472,337.23732180000002,319.22620180000001,354.26386720000005,359.21926720000005,375.19320720000002,343.24550720000002,335.22277259999998,381.2282672,395.2439172]
["17,18-EET",null,20,32,0,3,0,null,null,null,null,"C20H32O3",320.46627999999998,320.23513219999995,321.24240679999997,303.23128680000002,338.2689522,343.2243522,359.19829219999997,327.25059219999997,319.22785759999994,365.2333521999999,379.24900219999995]
["17,18-EpETE",null,20,30,0,3,0,null,null,null,null,"C20H30O3",318.4504,318.21948299999997,319.22675759999998,301.21563760000004,336.25330300000002,341.20870300000001,357.18264299999998,325.23494299999999,317.21220839999995,363.21770299999991,377.23335299999997]
["17-HDoHE",null,22,32,0,3,0,null,null,null,null,"C22H32O3",344.48768000000001,344.23513219999995,345.24240679999997,327.23128680000002,362.2689522,367.2243522,383.19829219999997,351.25059219999997,343.22785759999994,389.2333521999999,403.24900219999995]
["17-HETE",null,20,32,0,3,0,null,null,null,null,"C20H32O3",320.46627999999998,320.23513219999995,321.24240679999997,303.23128680000002,338.2689522,343.2243522,359.19829219999997,327.25059219999997,319.22785759999994,365.2333521999999,379.24900219999995]
["18-HEPE",null,20,30,0,3,0,null,null,null,null,"C20H30O3",318.4504,318.21948299999997,319.22675759999998,301.21563760000004,336.25330300000002,341.20870300000001,357.18264299999998,325.23494299999999,317.21220839999995,363.21770299999991,377.23335299999997]
["18-HETE",null,20,32,0,3,0,null,null,null,null,"C20H32O3",320.46627999999998,320.23513219999995,321.24240679999997,303.23128680000002,338.2689522,343.2243522,359.19829219999997,327.25059219999997,319.22785759999994,365.2333521999999,379.24900219999995]
["19,20-DiHDoPE (19,20-DiHDPA)",null,22,34,0,4,0,null,null,null,null,"C22H34O4",362.50296000000003,362.24569640000004,363.25297100000006,345.24185100000011,380.27951640000009,385.23491640000009,401.20885640000006,369.26115640000006,361.23842180000003,407.24391639999999,421.25956640000004]
["19,20-EpDPE",null,22,32,0,3,0,null,null,null,null,"C22H32O3",344.48768000000001,344.23513219999995,345.24240679999997,327.23128680000002,362.2689522,367.2243522,383.19829219999997,351.25059219999997,343.22785759999994,389.2333521999999,403.24900219999995]
["19-HETE",null,20,32,0,3,0,null,null,null,null,{"$f":"CONCATENATE(\"C\",C66,\"H\",D66,IF(E66>0,CONCATENATE(\"N\",E66),\"\"),\"O\",F66,IF(G66>0,CONCATENATE(\"S\",G66),\"\"))","v":"C20H32O3"},{"$f":"(C66*12.0107)+(D66*1.00794)+(E66*14.0067)+(F66*15.9994)+(G66*32.065)","v":320.46627999999998},{"$f":"(C66*12)+(D66*1.0078246)+(E66*14.003074)+(F66*15.994915)+(G66*31.972072)","v":320.23513219999995},321.24240679999997,303.23128680000002,338.2689522,343.2243522,359.19829219999997,327.25059219999997,319.22785759999994,365.2333521999999,379.24900219999995]
["19-OH PGE1",null,20,34,0,6,0,null,null,null,null,"C20H34O6",370.48036000000002,370.23552640000003,371.24280100000004,353.23168100000009,388.26934640000007,393.22474640000007,409.19868640000004,377.25098640000004,369.22825180000001,415.23374639999997,429.24939640000002]
["19-OH PGE2",null,20,32,0,6,0,null,null,null,null,"C20H32O6",368.46447999999998,368.21987719999998,{"$f":"N68+1.0078246-0.00055","v":369.2271518},{"$f":"O68-18.01057-0.00055","v":351.2160318},{"$f":"N68+18.03437-0.00055","v":386.25369720000003},{"$f":"N68+22.98977-0.00055","v":391.20909720000003},{"$f":"N68+38.96371-0.00055","v":407.1830372},{"$f":"N68+7.01601-0.00055","v":375.2353372},{"$f":"N68-1.0078246+0.00055","v":367.21260259999997},{"$f":"N68+44.99767+0.00055","v":413.21809719999999},{"$f":"N68+59.01332+0.00055","v":427.23374719999998}]
["19-OH PGF2a",null,20,34,0,6,0,null,null,null,null,"C20H34O6",370.48036000000002,370.23552640000003,371.24280100000004,353.23168100000009,388.26934640000007,393.22474640000007,409.19868640000004,377.25098640000004,369.22825180000001,415.23374639999997,429.24939640000002]
["2,3 dinor 11b PGF2a",null,18,30,0,5,0,null,null,null,null,"C18H30O5",326.42779999999999,326.20931300000001,327.21658760000003,309.20546760000002,344.24313300000006,349.19853300000005,365.17247300000002,333.22477300000003,325.20203839999999,371.20753300000001,385.22318300000001]
["2,3-dinor PGE1",null,18,30,0,5,0,null,null,null,null,"C18H30O5",326.42779999999999,326.20931300000001,327.21658760000003,309.20546760000002,344.24313300000006,349.19853300000005,365.17247300000002,333.22477300000003,325.20203839999999,371.20753300000001,385.22318300000001]
["2,3-dinor TXB2",null,18,30,0,6,0,null,null,null,null,"C18H30O6",342.42719999999997,342.204228,343.21150260000002,325.20038260000001,360.23804800000005,365.19344800000005,381.16738800000002,349.21968800000002,341.19695339999998,387.202448,401.218098]
["20-COOH AA",null,20,30,0,4,0,null,null,null,null,"C20H30O4",334.44979999999998,334.21439800000002,335.22167260000003,317.21055260000003,352.24821800000007,357.20361800000006,373.17755800000003,341.22985800000004,333.2071234,379.21261800000002,393.22826800000001]
["20-COOH LTB4",null,20,30,0,6,0,null,null,null,null,"C20H30O6",366.4486,366.204228,367.21150260000002,349.20038260000001,384.23804800000005,389.19344800000005,405.16738800000002,373.21968800000002,365.19695339999998,411.202448,425.218098]
["20-HDoHE",null,22,32,0,3,0,null,null,null,null,"C22H32O3",344.48768000000001,344.23513219999995,345.24240679999997,327.23128680000002,362.2689522,367.2243522,383.19829219999997,351.25059219999997,343.22785759999994,389.2333521999999,403.24900219999995]
["20-HETE",null,20,32,0,3,0,null,null,null,null,"C20H32O3",320.46627999999998,320.23513219999995,321.24240679999997,303.23128680000002,338.2689522,343.2243522,359.19829219999997,327.25059219999997,319.22785759999994,365.2333521999999,379.24900219999995]
["20-OH LTB4",null,20,32,0,5,0,null,null,null,null,"C20H32O5",352.46508,352.22496219999999,353.23223680000001,335.2211168,370.25878220000004,375.21418220000004,391.18812220000001,359.24042220000001,351.21768759999998,397.2231822,411.23883219999999]
["22-OH-PD1",null,22,32,0,5,0,null,null,null,null,"C22H32O5",376.48648000000003,376.22496219999999,377.23223680000001,359.2211168,394.25878220000004,399.21418220000004,415.18812220000001,383.24042220000001,375.21768759999998,421.2231822,435.23883219999999]
["4,14-diHDHA ",null,22,32,0,4,0,null,null,null,null,"C22H32O4",360.48707999999999,360.2300472,361.23732180000002,343.22620180000001,378.26386720000005,383.21926720000005,399.19320720000002,367.24550720000002,359.22277259999998,405.2282672,419.2439172]
["4,17-DiHDoHE",null,22,32,0,4,0,null,null,null,null,"C22H32O4",360.48707999999999,360.2300472,361.23732180000002,343.22620180000001,378.26386720000005,383.21926720000005,399.19320720000002,367.24550720000002,359.22277259999998,405.2282672,419.2439172]
["4-HDoHE",null,22,32,0,3,0,null,null,null,null,"C22H32O3",344.48768000000001,344.23513219999995,345.24240679999997,327.23128680000002,362.2689522,367.2243522,383.19829219999997,351.25059219999997,343.22785759999994,389.2333521999999,403.24900219999995]
["5,12-DiHETE",null,20,32,0,4,0,null,null,null,null,"C20H32O4",336.46567999999996,336.2300472,337.23732180000002,319.22620180000001,354.26386720000005,359.21926720000005,375.19320720000002,343.24550720000002,335.22277259999998,381.2282672,395.2439172]
["5,12-diHETE ",null,20,32,0,4,0,null,null,null,null,"C20H32O4",336.46567999999996,336.2300472,337.23732180000002,319.22620180000001,354.26386720000005,359.21926720000005,375.19320720000002,343.24550720000002,335.22277259999998,381.2282672,395.2439172]
["5,15-DiHETE",null,20,32,0,4,0,null,null,null,null,"C20H32O4",336.46567999999996,336.2300472,337.23732180000002,319.22620180000001,354.26386720000005,359.21926720000005,375.19320720000002,343.24550720000002,335.22277259999998,381.2282672,395.2439172]
["5,6-DiHET (DHET)",null,20,34,0,4,0,null,null,null,null,"C20H34O4",338.48156,338.24569640000004,339.25297100000006,321.24185100000011,356.27951640000009,361.23491640000009,377.20885640000006,345.26115640000006,337.23842180000003,383.24391639999999,397.25956640000004]
["5,6-DiHETE",null,20,32,0,4,0,null,null,null,null,"C20H32O4",336.46567999999996,336.2300472,337.23732180000002,319.22620180000001,354.26386720000005,359.21926720000005,375.19320720000002,343.24550720000002,335.22277259999998,381.2282672,395.2439172]
["5,6-DiHETE (EPA)",null,20,32,0,4,0,null,null,null,null,"C20H32O4",336.46567999999996,336.2300472,337.23732180000002,319.22620180000001,354.26386720000005,359.21926720000005,375.19320720000002,343.24550720000002,335.22277259999998,381.2282672,395.2439172]
["5,6-DiHETrE",null,20,34,0,4,0,null,null,null,null,"C20H34O4",338.48156,338.24569640000004,339.25297100000006,321.24185100000011,356.27951640000009,361.23491640000009,377.20885640000006,345.26115640000006,337.23842180000003,383.24391639999999,397.25956640000004]
["5,6-EET",null,20,32,0,3,0,null,null,null,null,"C20H32O3",320.46627999999998,320.23513219999995,321.24240679999997,303.23128680000002,338.2689522,343.2243522,359.19829219999997,327.25059219999997,319.22785759999994,365.2333521999999,379.24900219999995]
["5,6-EpETrE",null,20,32,0,3,0,null,null,null,null,"C20H32O3",320.46627999999998,320.23513219999995,321.24240679999997,303.23128680000002,338.2689522,343.2243522,359.19829219999997,327.25059219999997,319.22785759999994,365.2333521999999,379.24900219999995]
["5-HEPE",null,20,30,0,3,0,null,null,null,null,"C20H30O3",318.4504,318.21948299999997,319.22675759999998,301.21563760000004,336.25330300000002,341.20870300000001,357.18264299999998,325.23494299999999,317.21220839999995,363.21770299999991,377.23335299999997]
["5-HETE",null,20,32,0,3,0,null,null,null,null,"C20H32O3",320.46627999999998,320.23513219999995,321.24240679999997,303.23128680000002,338.2689522,343.2243522,359.19829219999997,327.25059219999997,319.22785759999994,365.2333521999999,379.24900219999995]
["5-HETrE",null,20,34,0,3,0,null,null,null,null,"C20H34O3",322.48216000000002,322.25078140000005,323.25805600000007,305.24693600000012,340.2846014000001,345.2400014000001,361.21394140000007,329.26624140000007,321.24350680000003,367.2490014,381.26465140000005]
["5-iso PGF2a VI",null,20,34,0,5,0,null,null,null,null,"C20H34O5",354.48096000000004,354.24061140000003,355.24788600000005,337.2367660000001,372.27443140000008,377.22983140000008,393.20377140000005,361.25607140000005,353.23333680000002,399.23883139999998,413.25448140000003]
["5-oxoETE (5-KETE)",null,20,30,0,3,0,null,null,null,null,"C20H30O3",318.4504,318.21948299999997,319.22675759999998,301.21563760000004,336.25330300000002,341.20870300000001,357.18264299999998,325.23494299999999,317.21220839999995,363.21770299999991,377.23335299999997]
["6-keto-PGE1",null,20,32,0,6,0,null,null,null,null,"C20H32O6",368.46447999999998,368.21987719999998,369.2271518,351.2160318,386.25369720000003,391.20909720000003,407.1830372,375.2353372,367.21260259999997,413.21809719999999,427.23374719999998]
["6-keto-PGF1a",null,20,34,0,6,0,null,null,null,null,"C20H34O6",370.48036000000002,370.23552640000003,371.24280100000004,353.23168100000009,388.26934640000007,393.22474640000007,409.19868640000004,377.25098640000004,369.22825180000001,415.23374639999997,429.24939640000002]
["6-trans-12-epi-LTB4",null,20,32,0,4,0,null,null,null,null,{"$f":"CONCATENATE(\"C\",C98,\"H\",D98,IF(E98>0,CONCATENATE(\"N\",E98),\"\"),\"O\",F98,IF(G98>0,CONCATENATE(\"S\",G98),\"\"))","v":"C20H32O4"},{"$f":"(C98*12.0107)+(D98*1.00794)+(E98*14.0067)+(F98*15.9994)+(G98*32.065)","v":336.46567999999996},{"$f":"(C98*12)+(D98*1.0078246)+(E98*14.003074)+(F98*15.994915)+(G98*31.972072)","v":336.2300472},337.23732180000002,319.22620180000001,354.26386720000005,359.21926720000005,375.19320720000002,343.24550720000002,335.22277259999998,381.2282672,395.2439172]
["7,14-diHDHA ",null,22,32,0,4,0,null,null,null,null,"C22H32O4",360.48707999999999,360.2300472,361.23732180000002,343.22620180000001,378.26386720000005,383.21926720000005,399.19320720000002,367.24550720000002,359.22277259999998,405.2282672,419.2439172]
["7,17-DiHDoPE",null,22,34,0,4,0,null,null,null,null,"C22H34O4",362.50296000000003,362.24569640000004,{"$f":"N100+1.0078246-0.00055","v":363.25297100000006},{"$f":"O100-18.01057-0.00055","v":345.24185100000011},{"$f":"N100+18.03437-0.00055","v":380.27951640000009},{"$f":"N100+22.98977-0.00055","v":385.23491640000009},{"$f":"N100+38.96371-0.00055","v":401.20885640000006},{"$f":"N100+7.01601-0.00055","v":369.26115640000006},{"$f":"N100-1.0078246+0.00055","v":361.23842180000003},{"$f":"N100+44.99767+0.00055","v":407.24391639999999},{"$f":"N100+59.01332+0.00055","v":421.25956640000004}]
["7,17-hydroxy-DPA",null,22,34,0,4,0,null,null,null,null,"C22H34O4",362.50296000000003,362.24569640000004,363.25297100000006,345.24185100000011,380.27951640000009,385.23491640000009,401.20885640000006,369.26115640000006,361.23842180000003,407.24391639999999,421.25956640000004]
["7,8-EpDPE",null,22,32,0,3,0,null,null,null,null,"C22H32O3",344.48768000000001,344.23513219999995,345.24240679999997,327.23128680000002,362.2689522,367.2243522,383.19829219999997,351.25059219999997,343.22785759999994,389.2333521999999,403.24900219999995]
["7-HDoHE",null,22,32,0,3,0,null,null,null,null,"C22H32O3",344.48768000000001,344.23513219999995,345.24240679999997,327.23128680000002,362.2689522,367.2243522,383.19829219999997,351.25059219999997,343.22785759999994,389.2333521999999,403.24900219999995]
["7-Maresin1",null,22,32,0,4,0,null,null,null,null,"C22H32O4",360.48707999999999,360.2300472,361.23732180000002,343.22620180000001,378.26386720000005,383.21926720000005,399.19320720000002,367.24550720000002,359.22277259999998,405.2282672,419.2439172]
["8,15-DiHETE",null,20,32,0,4,0,null,null,null,null,"C20H32O4",336.46567999999996,336.2300472,337.23732180000002,319.22620180000001,354.26386720000005,359.21926720000005,375.19320720000002,343.24550720000002,335.22277259999998,381.2282672,395.2439172]
["8,9-DiHET (DHET)",null,20,34,0,4,0,null,null,null,null,"C20H34O4",338.48156,338.24569640000004,339.25297100000006,321.24185100000011,356.27951640000009,361.23491640000009,377.20885640000006,345.26115640000006,337.23842180000003,383.24391639999999,397.25956640000004]
["8,9-DiHETrE",null,20,34,0,4,0,null,null,null,null,"C20H34O4",338.48156,338.24569640000004,339.25297100000006,321.24185100000011,356.27951640000009,361.23491640000009,377.20885640000006,345.26115640000006,337.23842180000003,383.24391639999999,397.25956640000004]
["8,9-EET",null,20,32,0,3,0,null,null,null,null,"C20H32O3",320.46627999999998,320.23513219999995,321.24240679999997,303.23128680000002,338.2689522,343.2243522,359.19829219999997,327.25059219999997,319.22785759999994,365.2333521999999,379.24900219999995]
["8,9-EpETE",null,20,30,0,3,0,null,null,null,null,"C20H30O3",318.4504,318.21948299999997,319.22675759999998,301.21563760000004,336.25330300000002,341.20870300000001,357.18264299999998,325.23494299999999,317.21220839999995,363.21770299999991,377.23335299999997]
["8,9-EpETrE",null,20,32,0,3,0,null,null,null,null,"C20H32O3",320.46627999999998,320.23513219999995,321.24240679999997,303.23128680000002,338.2689522,343.2243522,359.19829219999997,327.25059219999997,319.22785759999994,365.2333521999999,379.24900219999995]
["8-HDoHE",null,22,32,0,3,0,null,null,null,null,"C22H32O3",344.48768000000001,344.23513219999995,345.24240679999997,327.23128680000002,362.2689522,367.2243522,383.19829219999997,351.25059219999997,343.22785759999994,389.2333521999999,403.24900219999995]
["8-HEPE",null,20,30,0,3,0,null,null,null,null,"C20H30O3",318.4504,318.21948299999997,319.22675759999998,301.21563760000004,336.25330300000002,341.20870300000001,357.18264299999998,325.23494299999999,317.21220839999995,363.21770299999991,377.23335299999997]
["8-HETE",null,20,32,0,3,0,null,null,null,null,"C20H32O3",320.46627999999998,320.23513219999995,321.24240679999997,303.23128680000002,338.2689522,343.2243522,359.19829219999997,327.25059219999997,319.22785759999994,365.2333521999999,379.24900219999995]
["8-HETrE",null,20,34,0,3,0,null,null,null,null,"C20H34O3",322.48216000000002,322.25078140000005,323.25805600000007,305.24693600000012,340.2846014000001,345.2400014000001,361.21394140000007,329.26624140000007,321.24350680000003,367.2490014,381.26465140000005]
["8-isoPGE2",null,20,32,0,5,0,null,null,null,null,"C20H32O5",352.46508,352.22496219999999,353.23223680000001,335.2211168,370.25878220000004,375.21418220000004,391.18812220000001,359.24042220000001,351.21768759999998,397.2231822,411.23883219999999]
["8-iso-PGF2a (8-iso PGF2a III)",null,20,34,0,5,0,null,null,null,null,"C20H34O5",354.48096000000004,354.24061140000003,355.24788600000005,337.2367660000001,372.27443140000008,377.22983140000008,393.20377140000005,361.25607140000005,353.23333680000002,399.23883139999998,413.25448140000003]
["8-iso-PGF3a",null,20,32,0,5,0,null,null,null,null,"C20H32O5",352.46508,352.22496219999999,353.23223680000001,335.2211168,370.25878220000004,375.21418220000004,391.18812220000001,359.24042220000001,351.21768759999998,397.2231822,411.23883219999999]
["9,10,13-TriHOME",null,18,34,0,5,0,null,null,null,null,"C18H34O5",330.45956000000001,330.24061139999998,331.24788599999999,313.23676599999999,348.27443140000003,353.22983140000002,369.20377139999999,337.2560714,329.23333679999996,375.23883139999998,389.25448139999997]
["9,10-DiHOME",null,18,34,0,4,0,null,null,null,null,"C18H34O4",314.46015999999997,314.24569639999999,315.252971,297.241851,332.27951640000003,337.23491640000003,353.2088564,321.2611564,313.23842179999997,359.24391639999999,373.25956639999998]
["9,10-EpOME",null,18,32,0,3,0,null,null,null,null,"C18H32O3",296.44488000000001,296.23513220000001,297.24240680000003,279.23128680000002,314.26895220000006,319.22435220000006,335.19829220000003,303.25059220000003,295.22785759999999,341.23335220000001,355.24900220000001]
["9,12,13-TriHOME",null,18,34,0,5,0,null,null,null,null,"C18H34O5",330.45956000000001,330.24061139999998,331.24788599999999,313.23676599999999,348.27443140000003,353.22983140000002,369.20377139999999,337.2560714,329.23333679999996,375.23883139999998,389.25448139999997]
["9-HEPE",null,20,30,0,3,0,null,null,null,null,"C20H30O3",318.4504,318.21948299999997,319.22675759999998,301.21563760000004,336.25330300000002,341.20870300000001,357.18264299999998,325.23494299999999,317.21220839999995,363.21770299999991,377.23335299999997]
["9-HETE",null,20,32,0,3,0,null,null,null,null,"C20H32O3",320.46627999999998,320.23513219999995,321.24240679999997,303.23128680000002,338.2689522,343.2243522,359.19829219999997,327.25059219999997,319.22785759999994,365.2333521999999,379.24900219999995]
["9-HODE",null,18,32,0,3,0,null,null,null,null,"C18H32O3",296.44488000000001,296.23513220000001,297.24240680000003,279.23128680000002,314.26895220000006,319.22435220000006,335.19829220000003,303.25059220000003,295.22785759999999,341.23335220000001,355.24900220000001]
["9-HOTrE",null,18,30,0,3,0,null,null,null,null,"C18H30O3",294.42899999999997,294.21948299999997,295.22675759999998,277.21563760000004,312.25330300000002,317.20870300000001,333.18264299999998,301.23494299999999,293.21220839999995,339.21770299999991,353.23335299999997]
["9-OxoODE (9-KODE)",null,18,30,0,3,0,null,null,null,null,"C18H30O3",294.42899999999997,294.21948299999997,295.22675759999998,277.21563760000004,312.25330300000002,317.20870300000001,333.18264299999998,301.23494299999999,293.21220839999995,339.21770299999991,353.23335299999997]
["9-OxoOTrE (9-KOTrE)",null,18,28,0,3,0,null,null,null,null,"C18H28O3",292.41311999999999,292.20383379999998,293.2111084,275.19998840000005,310.23765380000003,315.19305380000003,331.1669938,299.2192938,291.19655919999997,337.20205379999993,351.21770379999998]
["Bicyclo PGE1",null,20,32,0,4,0,null,null,null,null,"C20H32O4",336.46567999999996,336.2300472,337.23732180000002,319.22620180000001,354.26386720000005,359.21926720000005,375.19320720000002,343.24550720000002,335.22277259999998,381.2282672,395.2439172]
["Bicyclo PGE2",null,20,30,0,4,0,null,null,null,null,"C20H30O4",334.44979999999998,334.21439800000002,335.22167260000003,317.21055260000003,352.24821800000007,357.20361800000006,373.17755800000003,341.22985800000004,333.2071234,379.21261800000002,393.22826800000001]
["D12-PGJ2",null,20,30,0,4,0,null,null,null,null,{"$f":"CONCATENATE(\"C\",C130,\"H\",D130,IF(E130>0,CONCATENATE(\"N\",E130),\"\"),\"O\",F130,IF(G130>0,CONCATENATE(\"S\",G130),\"\"))","v":"C20H30O4"},{"$f":"(C130*12.0107)+(D130*1.00794)+(E130*14.0067)+(F130*15.9994)+(G130*32.065)","v":334.44979999999998},{"$f":"(C130*12)+(D130*1.0078246)+(E130*14.003074)+(F130*15.994915)+(G130*31.972072)","v":334.21439800000002},335.22167260000003,317.21055260000003,352.24821800000007,357.20361800000006,373.17755800000003,341.22985800000004,333.2071234,379.21261800000002,393.22826800000001]
["D17-6 keto PGF1a",null,20,32,0,6,0,null,null,null,null,"C20H32O6",368.46447999999998,368.21987719999998,369.2271518,351.2160318,386.25369720000003,391.20909720000003,407.1830372,375.2353372,367.21260259999997,413.21809719999999,427.23374719999998]
["D17-PGE1",null,20,32,0,5,0,null,null,null,null,"C20H32O5",352.46508,352.22496219999999,{"$f":"N132+1.0078246-0.00055","v":353.23223680000001},{"$f":"O132-18.01057-0.00055","v":335.2211168},{"$f":"N132+18.03437-0.00055","v":370.25878220000004},{"$f":"N132+22.98977-0.00055","v":375.21418220000004},{"$f":"N132+38.96371-0.00055","v":391.18812220000001},{"$f":"N132+7.01601-0.00055","v":359.24042220000001},{"$f":"N132-1.0078246+0.00055","v":351.21768759999998},{"$f":"N132+44.99767+0.00055","v":397.2231822},{"$f":"N132+59.01332+0.00055","v":411.23883219999999}]
["dhk PGD2",null,20,32,0,5,0,null,null,null,null,"C20H32O5",352.46508,352.22496219999999,353.23223680000001,335.2211168,370.25878220000004,375.21418220000004,391.18812220000001,359.24042220000001,351.21768759999998,397.2231822,411.23883219999999]
["dhk PGE2",null,20,32,0,5,0,null,null,null,null,"C20H32O5",352.46508,352.22496219999999,353.23223680000001,335.2211168,370.25878220000004,375.21418220000004,391.18812220000001,359.24042220000001,351.21768759999998,397.2231822,411.23883219999999]
["dhk PGF2a",null,20,34,0,5,0,null,null,null,null,"C20H34O5",354.48096000000004,354.24061140000003,355.24788600000005,337.2367660000001,372.27443140000008,377.22983140000008,393.20377140000005,361.25607140000005,353.23333680000002,399.23883139999998,413.25448140000003]
["dihomo PGF2a",null,22,38,0,5,0,null,null,null,null,"C22H38O5",382.53412000000003,382.2719098,383.27918440000002,365.26806440000007,400.30572980000005,405.26112980000005,421.23506980000002,389.28736980000002,381.26463519999999,427.27012979999995,441.2857798]
["EKODE",null,18,30,0,4,0,null,null,null,null,"C18H30O4",310.42840000000001,310.21439800000002,311.22167260000003,293.21055260000003,328.24821800000007,333.20361800000006,349.17755800000003,317.22985800000004,309.2071234,355.21261800000002,369.22826800000001]
["iPF2a-IV",null,20,34,0,5,0,null,null,null,null,"C20H34O5",354.48096000000004,354.24061140000003,355.24788600000005,337.2367660000001,372.27443140000008,377.22983140000008,393.20377140000005,361.25607140000005,353.23333680000002,399.23883139999998,413.25448140000003]
["LTB4",null,20,32,0,4,0,null,null,null,null,"C20H32O4",336.46567999999996,336.2300472,337.23732180000002,319.22620180000001,354.26386720000005,359.21926720000005,375.19320720000002,343.24550720000002,335.22277259999998,381.2282672,395.2439172]
["LTB5",null,20,30,0,4,0,null,null,null,null,"C20H30O4",334.44979999999998,334.21439800000002,335.22167260000003,317.21055260000003,352.24821800000007,357.20361800000006,373.17755800000003,341.22985800000004,333.2071234,379.21261800000002,393.22826800000001]
["LTC4",null,30,47,3,9,1,null,null,null,null,"C30H47N3O9S1",625.77387999999996,625.3032852,626.31055980000008,608.29943980000007,643.3371052,648.29250520000005,664.26644520000002,632.31874520000008,624.29601059999993,670.30150519999995,684.3171552]
["LTD4",null,25,40,2,6,1,null,null,null,null,"C25H40N2O6S1",496.65989999999999,496.26069400000006,497.26796860000007,479.25684860000013,514.29451400000005,519.2499140000001,535.22385400000007,503.27615400000008,495.25341940000004,541.258914,555.27456400000005]
["LTE4",null,23,37,1,5,1,null,null,null,null,"C23H37N1O5S1",439.60858000000007,439.23923120000006,440.24650580000008,422.23538580000013,457.27305120000011,462.22845120000011,478.20239120000008,446.25469120000008,438.23195660000005,484.23745120000001,498.25310120000006]
["LXA4",null,20,32,0,5,0,null,null,null,null,"C20H32O5",352.46508,352.22496219999999,353.23223680000001,335.2211168,370.25878220000004,375.21418220000004,391.18812220000001,359.24042220000001,351.21768759999998,397.2231822,411.23883219999999]
["LXA5",null,20,30,0,5,0,null,null,null,null,"C20H30O5",350.44920000000002,350.20931300000001,351.21658760000003,333.20546760000002,368.24313300000006,373.19853300000005,389.17247300000002,357.22477300000003,349.20203839999999,395.20753300000001,409.22318300000001]
["LXB4",null,20,32,0,5,0,null,null,null,null,"C20H32O5",352.46508,352.22496219999999,353.23223680000001,335.2211168,370.25878220000004,375.21418220000004,391.18812220000001,359.24042220000001,351.21768759999998,397.2231822,411.23883219999999]
["PD1",null,22,32,0,4,0,null,null,null,null,"C22H32O4",360.48707999999999,360.2300472,361.23732180000002,343.22620180000001,378.26386720000005,383.21926720000005,399.19320720000002,367.24550720000002,359.22277259999998,405.2282672,419.2439172]
["PGA2",null,20,30,0,4,0,null,null,null,null,"C20H30O4",334.44979999999998,334.21439800000002,335.22167260000003,317.21055260000003,352.24821800000007,357.20361800000006,373.17755800000003,341.22985800000004,333.2071234,379.21261800000002,393.22826800000001]
["PGB2",null,20,30,0,4,0,null,null,null,null,"C20H30O4",334.44979999999998,334.21439800000002,335.22167260000003,317.21055260000003,352.24821800000007,357.20361800000006,373.17755800000003,341.22985800000004,333.2071234,379.21261800000002,393.22826800000001]
["PGD2 ",null,20,32,0,5,0,null,null,null,null,"C20H32O5",352.46508,352.22496219999999,353.23223680000001,335.2211168,370.25878220000004,375.21418220000004,391.18812220000001,359.24042220000001,351.21768759999998,397.2231822,411.23883219999999]
["PGD3",null,20,30,0,5,0,null,null,null,null,"C20H30O5",350.44920000000002,350.20931300000001,351.21658760000003,333.20546760000002,368.24313300000006,373.19853300000005,389.17247300000002,357.22477300000003,349.20203839999999,395.20753300000001,409.22318300000001]
["PGE1",null,20,34,0,5,0,null,null,null,null,"C20H34O5",354.48096000000004,354.24061140000003,355.24788600000005,337.2367660000001,372.27443140000008,377.22983140000008,393.20377140000005,361.25607140000005,353.23333680000002,399.23883139999998,413.25448140000003]
["PGE2",null,20,32,0,5,0,null,null,null,null,"C20H32O5",352.46508,352.22496219999999,353.23223680000001,335.2211168,370.25878220000004,375.21418220000004,391.18812220000001,359.24042220000001,351.21768759999998,397.2231822,411.23883219999999]
["PGE3",null,20,30,0,5,0,null,null,null,null,"C20H30O5",350.44920000000002,350.20931300000001,351.21658760000003,333.20546760000002,368.24313300000006,373.19853300000005,389.17247300000002,357.22477300000003,349.20203839999999,395.20753300000001,409.22318300000001]
["PGF1a",null,20,36,0,5,0,null,null,null,null,"C20H36O5",356.49684000000002,356.25626060000002,357.26353520000004,339.25241520000009,374.29008060000007,379.24548060000006,395.21942060000003,363.27172060000004,355.248986,401.25448059999997,415.27013060000002]
["PGF2a",null,20,34,0,5,0,null,null,null,null,"C20H34O5",354.48096000000004,354.24061140000003,355.24788600000005,337.2367660000001,372.27443140000008,377.22983140000008,393.20377140000005,361.25607140000005,353.23333680000002,399.23883139999998,413.25448140000003]
["PGF3a",null,20,32,0,5,0,null,null,null,null,"C20H32O5",352.46508,352.22496219999999,353.23223680000001,335.2211168,370.25878220000004,375.21418220000004,391.18812220000001,359.24042220000001,351.21768759999998,397.2231822,411.23883219999999]
["PGJ2",null,20,30,0,4,0,null,null,null,null,"C20H30O4",334.44979999999998,334.21439800000002,335.22167260000003,317.21055260000003,352.24821800000007,357.20361800000006,373.17755800000003,341.22985800000004,333.2071234,379.21261800000002,393.22826800000001]
["RvD1",null,22,32,0,5,0,null,null,null,null,"C22H32O5",376.48648000000003,376.22496219999999,377.23223680000001,359.2211168,394.25878220000004,399.21418220000004,415.18812220000001,383.24042220000001,375.21768759999998,421.2231822,435.23883219999999]
["RvD2 ",null,22,32,0,5,0,null,null,null,null,"C22H32O5",376.48648000000003,376.22496219999999,377.23223680000001,359.2211168,394.25878220000004,399.21418220000004,415.18812220000001,383.24042220000001,375.21768759999998,421.2231822,435.23883219999999]
["RvD3",null,22,32,0,5,0,null,null,null,null,"C22H32O5",376.48648000000003,376.22496219999999,361.23732180000002,343.22620180000001,378.26386720000005,383.21926720000005,399.19320720000002,367.24550720000002,359.22277259999998,405.2282672,419.2439172]
["RvD5",null,22,32,0,4,0,null,null,null,null,{"$f":"CONCATENATE(\"C\",C162,\"H\",D162,IF(E162>0,CONCATENATE(\"N\",E162),\"\"),\"O\",F162,IF(G162>0,CONCATENATE(\"S\",G162),\"\"))","v":"C22H32O4"},{"$f":"(C162*12.0107)+(D162*1.00794)+(E162*14.0067)+(F162*15.9994)+(G162*32.065)","v":360.48707999999999},{"$f":"(C162*12)+(D162*1.0078246)+(E162*14.003074)+(F162*15.994915)+(G162*31.972072)","v":360.2300472},{"$f":"N162+1.0078246-0.00055","v":361.23732180000002},{"$f":"O162-18.01057-0.00055","v":343.22620180000001},{"$f":"N162+18.03437-0.00055","v":378.26386720000005},{"$f":"N162+22.98977-0.00055","v":383.21926720000005},{"$f":"N162+38.96371-0.00055","v":399.19320720000002},{"$f":"N162+7.01601-0.00055","v":367.24550720000002},{"$f":"N162-1.0078246+0.00055","v":359.22277259999998},{"$f":"N162+44.99767+0.00055","v":405.2282672},{"$f":"N162+59.01332+0.00055","v":419.2439172}]
["RvD6 ",null,22,32,0,4,0,null,null,null,null,"C22H32O4",360.48707999999999,360.2300472,361.23732180000002,343.22620180000001,378.26386720000005,383.21926720000005,399.19320720000002,367.24550720000002,359.22277259999998,405.2282672,419.2439172]
["RvE1 ",null,20,30,0,5,0,null,null,null,null,"C20H30O5",350.44920000000002,350.20931300000001,351.21658760000003,333.20546760000002,368.24313300000006,373.19853300000005,389.17247300000002,357.22477300000003,349.20203839999999,395.20753300000001,409.22318300000001]
["RvE2",null,20,30,0,4,0,null,null,null,null,"C20H30O4",334.44979999999998,334.21439800000002,335.22167260000003,317.21055260000003,352.24821800000007,357.20361800000006,373.17755800000003,341.22985800000004,333.2071234,379.21261800000002,393.22826800000001]
["RvE3",null,20,30,0,4,0,null,null,null,null,"C20H30O4",334.44979999999998,334.21439800000002,335.22167260000003,317.21055260000003,352.24821800000007,357.20361800000006,373.17755800000003,341.22985800000004,333.2071234,379.21261800000002,393.22826800000001]
["tetranor 12-HETE",null,16,26,0,3,0,null,null,null,null,"C16H26O3",266.37583999999998,266.1881846,267.19545920000002,249.18433920000001,284.22200460000005,289.17740460000005,305.15134460000002,273.20364460000002,265.18090999999998,311.18640459999995,325.2020546]
["tetranor-PGEM",null,16,24,0,7,0,null,null,null,null,"C16H24O7",328.35756000000003,328.15219539999998,329.15947,311.14835000000005,346.18601540000003,351.14141540000003,367.1153554,335.1676554,327.14492079999997,373.15041539999993,387.16606539999998]
["TXB1",null,20,36,0,6,0,null,null,null,null,"C20H36O6",372.49624,372.25117560000001,373.25845020000003,355.24733020000008,390.28499560000006,395.24039560000006,411.21433560000003,379.26663560000003,371.24390099999999,417.24939559999996,431.26504560000001]
["TXB2",null,20,34,0,6,0,null,null,null,null,"C20H34O6",370.48036000000002,370.23552640000003,371.24280100000004,353.23168100000009,388.26934640000007,393.22474640000007,409.19868640000004,377.25098640000004,369.22825180000001,415.23374639999997,429.24939640000002]
["TXB3",null,20,32,0,6,0,null,null,null,null,"C20H32O6",368.46447999999998,368.21987719999998,369.2271518,351.2160318,386.25369720000003,391.20909720000003,407.1830372,375.2353372,367.21260259999997,413.21809719999999,427.23374719999998]

{"sheet":"MG_ether","index":46,"n_rows":6,"n_cols":23,"rows_kept":6,"cut":false,"hidden":false,"merged":[]}
["Lipid","Sum ComP-osition",null,null,null,"#C","#H","#O",null,null,null,"Formula","Molecular Weight","Neutral Mass","[M+H]+","[M+H-H2O]+","[M+NH4]+","[M+Na]+","[M+K]+","[M+Li]+","[M-H]-","[M+HCOO]-","[M+CH3COO]-"]
["MG O-5:0__OH__",{"$f":"IF(ISNUMBER(SEARCH(\"(\",A2)),IF(ISNUMBER(SEARCH(\"/\",A2)),CONCATENATE(MID(A2,1,2),\" \",MID(A2,4,2),SUM(MID(A2,FIND(\"(\",A2)+3,(FIND(\":\",A2)-(FIND(\"-\",A2)+1))),MID(A2,FIND(\"/\",A2)+1,(FIND(\":\",A2,FIND(\"/\",A2))-FIND(\"/\",A2)-1))),\":\",SUM(MID(A2,FIND(\":\",A2)+1,FIND(\"/\",A2)-(FIND(\":\",A2)+1)),MID(A2,FIND(\":\",A2,FIND(\"/\",A2))+1,FIND(\")\",A2)-FIND(\":\",A2,FIND(\"/\",A2))-1)),\" \",MID(A2,(FIND(\")\",A2)+1),100)),CONCATENATE(MID(A2,1,2),\" \",MID(A2,4,2),SUM(MID(A2,FIND(\"(\",A2)+3,(FIND(\":\",A2)-(FIND(\"-\",A2)+1))),MID(A2,FIND(\"_\",A2)+1,(FIND(\":\",A2,FIND(\"_\",A2))-FIND(\"_\",A2)-1))),\":\",SUM(MID(A2,FIND(\":\",A2)+1,FIND(\"_\",A2)-(FIND(\":\",A2)+1)),MID(A2,FIND(\":\",A2,FIND(\"_\",A2))+1,FIND(\")\",A2)-FIND(\":\",A2,FIND(\"_\",A2))-1)),\" \",MID(A2,(FIND(\")\",A2)+1),100))),A2)","v":"MG O-5:0__OH__"},{"$f":"MID(B2,6,FIND(\":\",B2)-FIND(\"-\",B2)-1)","v":"5"},{"$f":"IF(ISNUMBER(VALUE(MID(B2,FIND(\":\",B2)+1,2))),MID(B2,FIND(\":\",B2)+1,2),MID(B2,FIND(\":\",B2)+1,1))","v":"0"},{"$f":"IF(ISERROR(FIND(\"O-\",A2)),IF(ISERROR(FIND(\"P--\",A2)),\"\",\"P--\"),\"O-\")","v":"O-"},{"$f":"C2+3","v":8},{"$f":"2*F2-(2*D2)+2*COUNTIF(B2,\"*O-*\")-((LEN(A2)-LEN(SUBSTITUTE(A2,\"_O_\",\"\")))/LEN(\"_O_\"))*2-((LEN(A2)-LEN(SUBSTITUTE(A2,\"_CHO_\",\"\")))/LEN(\"_CHO_\"))*2-((LEN(A2)-LEN(SUBSTITUTE(A2,\"_COOH_\",\"\")))/LEN(\"_COOH_\"))*2","v":18},{"$f":"3+((LEN(A2)-LEN(SUBSTITUTE(A2,\"_OH_\",\"\")))/LEN(\"_OH_\"))*1+((LEN(A2)-LEN(SUBSTITUTE(A2,\"_OOH_\",\"\")))/LEN(\"_OOH_\"))*2+((LEN(A2)-LEN(SUBSTITUTE(A2,\"_O_\",\"\")))/LEN(\"_O_\"))*1+((LEN(A2)-LEN(SUBSTITUTE(A2,\"_CHO_\",\"\")))/LEN(\"_CHO_\"))*1+((LEN(A2)-LEN(SUBSTITUTE(A2,\"_COOH_\",\"\")))/LEN(\"_COOH_\"))*2","v":4},null,null,null,{"$f":"IF(ISERROR(FIND(\"O-\",A2)),IF(ISERROR(FIND(\"P-\",A2)),\"\",CONCATENATE(\"C\",F2,\"H\",G2,\"O\",H2)),CONCATENATE(\"C\",F2,\"H\",G2,\"O\",H2))","v":"C8H18O4"},{"$f":"IF(ISERROR(FIND(\"O-\",A2)),IF(ISERROR(FIND(\"P-\",A2)),\"\",(F2*12.0107)+(G2*1.00794)+(H2*15.9994)),(F2*12.0107)+(G2*1.00794)+(H2*15.9994))","v":178.22612000000001},{"$f":"IF(ISERROR(FIND(\"O-\",A2)),IF(ISERROR(FIND(\"P-\",A2)),\"\",(F2*12)+(G2*1.0078246)+(H2*15.994915)),(F2*12)+(G2*1.0078246)+(H2*15.994915))","v":178.1205028},{"$f":"N2+1.0078246-0.00055","v":179.12777739999999},{"$f":"O2-18.01057-0.00055","v":161.11665739999998},{"$f":"N2+18.03437-0.00055","v":196.15432279999999},{"$f":"N2+22.98977-0.00055","v":201.10972279999999},{"$f":"N2+38.96371-0.00055","v":217.08366279999998},{"$f":"N2+7.01601-0.00055","v":185.13596279999999},{"$f":"N2-1.0078246+0.00055","v":177.11322820000001},{"$f":"N2+44.99767+0.00055","v":223.1187228},{"$f":"N2+59.01332+0.00055","v":237.13437279999999}]
["MG O-18:2__O__CHO__",{"$f":"IF(ISNUMBER(SEARCH(\"(\",A3)),IF(ISNUMBER(SEARCH(\"/\",A3)),CONCATENATE(MID(A3,1,2),\" \",MID(A3,4,2),SUM(MID(A3,FIND(\"(\",A3)+3,(FIND(\":\",A3)-(FIND(\"-\",A3)+1))),MID(A3,FIND(\"/\",A3)+1,(FIND(\":\",A3,FIND(\"/\",A3))-FIND(\"/\",A3)-1))),\":\",SUM(MID(A3,FIND(\":\",A3)+1,FIND(\"/\",A3)-(FIND(\":\",A3)+1)),MID(A3,FIND(\":\",A3,FIND(\"/\",A3))+1,FIND(\")\",A3)-FIND(\":\",A3,FIND(\"/\",A3))-1)),\" \",MID(A3,(FIND(\")\",A3)+1),100)),CONCATENATE(MID(A3,1,2),\" \",MID(A3,4,2),SUM(MID(A3,FIND(\"(\",A3)+3,(FIND(\":\",A3)-(FIND(\"-\",A3)+1))),MID(A3,FIND(\"_\",A3)+1,(FIND(\":\",A3,FIND(\"_\",A3))-FIND(\"_\",A3)-1))),\":\",SUM(MID(A3,FIND(\":\",A3)+1,FIND(\"_\",A3)-(FIND(\":\",A3)+1)),MID(A3,FIND(\":\",A3,FIND(\"_\",A3))+1,FIND(\")\",A3)-FIND(\":\",A3,FIND(\"_\",A3))-1)),\" \",MID(A3,(FIND(\")\",A3)+1),100))),A3)","v":"MG O-18:2__O__CHO__"},{"$f":"MID(B3,6,FIND(\":\",B3)-FIND(\"-\",B3)-1)","v":"18"},{"$f":"IF(ISNUMBER(VALUE(MID(B3,FIND(\":\",B3)+1,2))),MID(B3,FIND(\":\",B3)+1,2),MID(B3,FIND(\":\",B3)+1,1))","v":"2"},{"$f":"IF(ISERROR(FIND(\"O-\",A3)),IF(ISERROR(FIND(\"P--\",A3)),\"\",\"P--\"),\"O-\")","v":"O-"},{"$f":"C3+3","v":21},{"$f":"2*F3-(2*D3)+2*COUNTIF(B3,\"*O-*\")-((LEN(A3)-LEN(SUBSTITUTE(A3,\"_O_\",\"\")))/LEN(\"_O_\"))*2-((LEN(A3)-LEN(SUBSTITUTE(A3,\"_CHO_\",\"\")))/LEN(\"_CHO_\"))*2-((LEN(A3)-LEN(SUBSTITUTE(A3,\"_COOH_\",\"\")))/LEN(\"_COOH_\"))*2","v":36},{"$f":"3+((LEN(A3)-LEN(SUBSTITUTE(A3,\"_OH_\",\"\")))/LEN(\"_OH_\"))*1+((LEN(A3)-LEN(SUBSTITUTE(A3,\"_OOH_\",\"\")))/LEN(\"_OOH_\"))*2+((LEN(A3)-LEN(SUBSTITUTE(A3,\"_O_\",\"\")))/LEN(\"_O_\"))*1+((LEN(A3)-LEN(SUBSTITUTE(A3,\"_CHO_\",\"\")))/LEN(\"_CHO_\"))*1+((LEN(A3)-LEN(SUBSTITUTE(A3,\"_COOH_\",\"\")))/LEN(\"_COOH_\"))*2","v":5},null,null,null,{"$f":"IF(ISERROR(FIND(\"O-\",A3)),IF(ISERROR(FIND(\"P-\",A3)),\"\",CONCATENATE(\"C\",F3,\"H\",G3,\"O\",H3)),CONCATENATE(\"C\",F3,\"H\",G3,\"O\",H3))","v":"C21H36O5"},{"$f":"IF(ISERROR(FIND(\"O-\",A3)),IF(ISERROR(FIND(\"P-\",A3)),\"\",(F3*12.0107)+(G3*1.00794)+(H3*15.9994)),(F3*12.0107)+(G3*1.00794)+(H3*15.9994))","v":368.50754000000001},{"$f":"IF(ISERROR(FIND(\"O-\",A3)),IF(ISERROR(FIND(\"P-\",A3)),\"\",(F3*12)+(G3*1.0078246)+(H3*15.994915)),(F3*12)+(G3*1.0078246)+(H3*15.994915))","v":368.25626060000002},{"$f":"N3+1.0078246-0.00055","v":369.26353520000004},{"$f":"O3-18.01057-0.00055","v":351.25241520000009},{"$f":"N3+18.03437-0.00055","v":386.29008060000007},{"$f":"N3+22.98977-0.00055","v":391.24548060000006},{"$f":"N3+38.96371-0.00055","v":407.21942060000003},{"$f":"N3+7.01601-0.00055","v":375.27172060000004},{"$f":"N3-1.0078246+0.00055","v":367.248986},{"$f":"N3+44.99767+0.00055","v":413.25448059999997},{"$f":"N3+59.01332+0.00055","v":427.27013060000002}]
["MG P-18:0__COOH__",{"$f":"IF(ISNUMBER(SEARCH(\"(\",A4)),IF(ISNUMBER(SEARCH(\"/\",A4)),CONCATENATE(MID(A4,1,2),\" \",MID(A4,4,2),SUM(MID(A4,FIND(\"(\",A4)+3,(FIND(\":\",A4)-(FIND(\"-\",A4)+1))),MID(A4,FIND(\"/\",A4)+1,(FIND(\":\",A4,FIND(\"/\",A4))-FIND(\"/\",A4)-1))),\":\",SUM(MID(A4,FIND(\":\",A4)+1,FIND(\"/\",A4)-(FIND(\":\",A4)+1)),MID(A4,FIND(\":\",A4,FIND(\"/\",A4))+1,FIND(\")\",A4)-FIND(\":\",A4,FIND(\"/\",A4))-1)),\" \",MID(A4,(FIND(\")\",A4)+1),100)),CONCATENATE(MID(A4,1,2),\" \",MID(A4,4,2),SUM(MID(A4,FIND(\"(\",A4)+3,(FIND(\":\",A4)-(FIND(\"-\",A4)+1))),MID(A4,FIND(\"_\",A4)+1,(FIND(\":\",A4,FIND(\"_\",A4))-FIND(\"_\",A4)-1))),\":\",SUM(MID(A4,FIND(\":\",A4)+1,FIND(\"_\",A4)-(FIND(\":\",A4)+1)),MID(A4,FIND(\":\",A4,FIND(\"_\",A4))+1,FIND(\")\",A4)-FIND(\":\",A4,FIND(\"_\",A4))-1)),\" \",MID(A4,(FIND(\")\",A4)+1),100))),A4)","v":"MG P-18:0__COOH__"},{"$f":"MID(B4,6,FIND(\":\",B4)-FIND(\"-\",B4)-1)","v":"18"},{"$f":"IF(ISNUMBER(VALUE(MID(B4,FIND(\":\",B4)+1,2))),MID(B4,FIND(\":\",B4)+1,2),MID(B4,FIND(\":\",B4)+1,1))","v":"0"},{"$f":"IF(ISERROR(FIND(\"O-\",A4)),IF(ISERROR(FIND(\"P--\",A4)),\"\",\"P--\"),\"O-\")","v":""},{"$f":"C4+3","v":21},{"$f":"2*F4-(2*D4)+2*COUNTIF(B4,\"*O-*\")-((LEN(A4)-LEN(SUBSTITUTE(A4,\"_O_\",\"\")))/LEN(\"_O_\"))*2-((LEN(A4)-LEN(SUBSTITUTE(A4,\"_CHO_\",\"\")))/LEN(\"_CHO_\"))*2-((LEN(A4)-LEN(SUBSTITUTE(A4,\"_COOH_\",\"\")))/LEN(\"_COOH_\"))*2","v":40},{"$f":"3+((LEN(A4)-LEN(SUBSTITUTE(A4,\"_OH_\",\"\")))/LEN(\"_OH_\"))*1+((LEN(A4)-LEN(SUBSTITUTE(A4,\"_OOH_\",\"\")))/LEN(\"_OOH_\"))*2+((LEN(A4)-LEN(SUBSTITUTE(A4,\"_O_\",\"\")))/LEN(\"_O_\"))*1+((LEN(A4)-LEN(SUBSTITUTE(A4,\"_CHO_\",\"\")))/LEN(\"_CHO_\"))*1+((LEN(A4)-LEN(SUBSTITUTE(A4,\"_COOH_\",\"\")))/LEN(\"_COOH_\"))*2","v":5},null,null,null,{"$f":"IF(ISERROR(FIND(\"O-\",A4)),IF(ISERROR(FIND(\"P-\",A4)),\"\",CONCATENATE(\"C\",F4,\"H\",G4,\"O\",H4)),CONCATENATE(\"C\",F4,\"H\",G4,\"O\",H4))","v":"C21H40O5"},{"$f":"IF(ISERROR(FIND(\"O-\",A4)),IF(ISERROR(FIND(\"P-\",A4)),\"\",(F4*12.0107)+(G4*1.00794)+(H4*15.9994)),(F4*12.0107)+(G4*1.00794)+(H4*15.9994))","v":372.53929999999997},{"$f":"IF(ISERROR(FIND(\"O-\",A4)),IF(ISERROR(FIND(\"P-\",A4)),\"\",(F4*12)+(G4*1.0078246)+(H4*15.994915)),(F4*12)+(G4*1.0078246)+(H4*15.994915))","v":372.28755900000004},{"$f":"N4+1.0078246-0.00055","v":373.29483360000006},{"$f":"O4-18.01057-0.00055","v":355.28371360000006},{"$f":"N4+18.03437-0.00055","v":390.32137900000009},{"$f":"N4+22.98977-0.00055","v":395.27677900000009},{"$f":"N4+38.96371-0.00055","v":411.25071900000006},{"$f":"N4+7.01601-0.00055","v":379.30301900000006},{"$f":"N4-1.0078246+0.00055","v":371.28028440000003},{"$f":"N4+44.99767+0.00055","v":417.28577900000005},{"$f":"N4+59.01332+0.00055","v":431.30142900000004}]
["MG O-16:0","MG O-16:0","16","0","O-",19,40,3,null,null,null,"C19H40O3",{"$f":"IF(ISERROR(FIND(\"O-\",A5)),IF(ISERROR(FIND(\"P-\",A5)),\"\",(F5*12.0107)+(G5*1.00794)+(H5*15.9994)),(F5*12.0107)+(G5*1.00794)+(H5*15.9994))","v":316.51909999999998},316.297729,317.30500360000002,299.29388360000007,334.33154900000005,339.28694900000005,355.26088900000002,323.31318900000002,315.29045439999999,361.29594899999995,375.311599]
["MG P-16:1",{"$f":"IF(ISNUMBER(SEARCH(\"(\",A6)),IF(ISNUMBER(SEARCH(\"/\",A6)),CONCATENATE(MID(A6,1,2),\" \",MID(A6,4,2),SUM(MID(A6,FIND(\"(\",A6)+3,(FIND(\":\",A6)-(FIND(\"-\",A6)+1))),MID(A6,FIND(\"/\",A6)+1,(FIND(\":\",A6,FIND(\"/\",A6))-FIND(\"/\",A6)-1))),\":\",SUM(MID(A6,FIND(\":\",A6)+1,FIND(\"/\",A6)-(FIND(\":\",A6)+1)),MID(A6,FIND(\":\",A6,FIND(\"/\",A6))+1,FIND(\")\",A6)-FIND(\":\",A6,FIND(\"/\",A6))-1)),\" \",MID(A6,(FIND(\")\",A6)+1),100)),CONCATENATE(MID(A6,1,2),\" \",MID(A6,4,2),SUM(MID(A6,FIND(\"(\",A6)+3,(FIND(\":\",A6)-(FIND(\"-\",A6)+1))),MID(A6,FIND(\"_\",A6)+1,(FIND(\":\",A6,FIND(\"_\",A6))-FIND(\"_\",A6)-1))),\":\",SUM(MID(A6,FIND(\":\",A6)+1,FIND(\"_\",A6)-(FIND(\":\",A6)+1)),MID(A6,FIND(\":\",A6,FIND(\"_\",A6))+1,FIND(\")\",A6)-FIND(\":\",A6,FIND(\"_\",A6))-1)),\" \",MID(A6,(FIND(\")\",A6)+1),100))),A6)","v":"MG P-16:1"},{"$f":"MID(B6,6,FIND(\":\",B6)-FIND(\"-\",B6)-1)","v":"16"},{"$f":"IF(ISNUMBER(VALUE(MID(B6,FIND(\":\",B6)+1,2))),MID(B6,FIND(\":\",B6)+1,2),MID(B6,FIND(\":\",B6)+1,1))","v":"1"},{"$f":"IF(ISERROR(FIND(\"O-\",A6)),IF(ISERROR(FIND(\"P--\",A6)),\"\",\"P--\"),\"O-\")","v":""},{"$f":"C6+3","v":19},{"$f":"2*F6-(2*D6)+2*COUNTIF(B6,\"*O-*\")-((LEN(A6)-LEN(SUBSTITUTE(A6,\"_O_\",\"\")))/LEN(\"_O_\"))*2-((LEN(A6)-LEN(SUBSTITUTE(A6,\"_CHO_\",\"\")))/LEN(\"_CHO_\"))*2-((LEN(A6)-LEN(SUBSTITUTE(A6,\"_COOH_\",\"\")))/LEN(\"_COOH_\"))*2","v":36},{"$f":"3+((LEN(A6)-LEN(SUBSTITUTE(A6,\"_OH_\",\"\")))/LEN(\"_OH_\"))*1+((LEN(A6)-LEN(SUBSTITUTE(A6,\"_OOH_\",\"\")))/LEN(\"_OOH_\"))*2+((LEN(A6)-LEN(SUBSTITUTE(A6,\"_O_\",\"\")))/LEN(\"_O_\"))*1+((LEN(A6)-LEN(SUBSTITUTE(A6,\"_CHO_\",\"\")))/LEN(\"_CHO_\"))*1+((LEN(A6)-LEN(SUBSTITUTE(A6,\"_COOH_\",\"\")))/LEN(\"_COOH_\"))*2","v":3},null,null,null,{"$f":"IF(ISERROR(FIND(\"O-\",A6)),IF(ISERROR(FIND(\"P-\",A6)),\"\",CONCATENATE(\"C\",F6,\"H\",G6,\"O\",H6)),CONCATENATE(\"C\",F6,\"H\",G6,\"O\",H6))","v":"C19H36O3"},{"$f":"IF(ISERROR(FIND(\"O-\",A6)),IF(ISERROR(FIND(\"P-\",A6)),\"\",(F6*12.0107)+(G6*1.00794)+(H6*15.9994)),(F6*12.0107)+(G6*1.00794)+(H6*15.9994))","v":312.48734000000002},{"$f":"IF(ISERROR(FIND(\"O-\",A6)),IF(ISERROR(FIND(\"P-\",A6)),\"\",(F6*12)+(G6*1.0078246)+(H6*15.994915)),(F6*12)+(G6*1.0078246)+(H6*15.994915))","v":312.26643060000004},{"$f":"N6+1.0078246-0.00055","v":313.27370520000005},{"$f":"O6-18.01057-0.00055","v":295.2625852000001},{"$f":"N6+18.03437-0.00055","v":330.30025060000008},{"$f":"N6+22.98977-0.00055","v":335.25565060000008},{"$f":"N6+38.96371-0.00055","v":351.22959060000005},{"$f":"N6+7.01601-0.00055","v":319.28189060000005},{"$f":"N6-1.0078246+0.00055","v":311.25915600000002},{"$f":"N6+44.99767+0.00055","v":357.26465059999998},{"$f":"N6+59.01332+0.00055","v":371.28030060000003}]

{"sheet":"DG_ether","index":47,"n_rows":5,"n_cols":23,"rows_kept":5,"cut":false,"hidden":false,"merged":[]}
["Lipid","Sum Composition",null,null,null,"#C","#H","#O",null,null,null,"Formula","Molecular Weight","Neutral Mass","[M+H]+","[M+H-H2O]+","[M+NH4]+","[M+Na]+","[M+K]+","[M+Li]+","[M-H]-","[M+HCOO]-","[M+CH3COO]-"]
["DG(O-22:10/22:6)__O__",{"$f":"IF(ISNUMBER(SEARCH(\"(\",A2)),IF(ISNUMBER(SEARCH(\"/\",A2)),CONCATENATE(MID(A2,1,2),\" \",MID(A2,4,2),SUM(MID(A2,FIND(\"(\",A2)+3,(FIND(\":\",A2)-(FIND(\"-\",A2)+1))),MID(A2,FIND(\"/\",A2)+1,(FIND(\":\",A2,FIND(\"/\",A2))-FIND(\"/\",A2)-1))),\":\",SUM(MID(A2,FIND(\":\",A2)+1,FIND(\"/\",A2)-(FIND(\":\",A2)+1)),MID(A2,FIND(\":\",A2,FIND(\"/\",A2))+1,FIND(\")\",A2)-FIND(\":\",A2,FIND(\"/\",A2))-1)),\" \",MID(A2,(FIND(\")\",A2)+1),100)),CONCATENATE(MID(A2,1,2),\" \",MID(A2,4,2),SUM(MID(A2,FIND(\"(\",A2)+3,(FIND(\":\",A2)-(FIND(\"-\",A2)+1))),MID(A2,FIND(\"_\",A2)+1,(FIND(\":\",A2,FIND(\"_\",A2))-FIND(\"_\",A2)-1))),\":\",SUM(MID(A2,FIND(\":\",A2)+1,FIND(\"_\",A2)-(FIND(\":\",A2)+1)),MID(A2,FIND(\":\",A2,FIND(\"_\",A2))+1,FIND(\")\",A2)-FIND(\":\",A2,FIND(\"_\",A2))-1)),\" \",MID(A2,(FIND(\")\",A2)+1),100))),A2)","v":"DG O-44:16 __O__"},{"$f":"MID(B2,6,FIND(\":\",B2)-FIND(\"-\",B2)-1)","v":"44"},{"$f":"IF(ISNUMBER(VALUE(MID(B2,FIND(\":\",B2)+1,2))),MID(B2,FIND(\":\",B2)+1,2),MID(B2,FIND(\":\",B2)+1,1))","v":"16"},{"$f":"IF(ISERROR(FIND(\"O-\",A2)),IF(ISERROR(FIND(\"P-\",A2)),\"\",\"P-\"),\"O-\")","v":"O-"},{"$f":"C2+3","v":47},{"$f":"2*F2-(2*D2)-2+2*COUNTIF(B2,\"*O-*\")-((LEN(A2)-LEN(SUBSTITUTE(A2,\"_O_\",\"\")))/LEN(\"_O_\"))*2-((LEN(A2)-LEN(SUBSTITUTE(A2,\"_CHO_\",\"\")))/LEN(\"_CHO_\"))*2-((LEN(A2)-LEN(SUBSTITUTE(A2,\"_COOH_\",\"\")))/LEN(\"_COOH_\"))*2","v":60},{"$f":"4+((LEN(A2)-LEN(SUBSTITUTE(A2,\"_OH_\",\"\")))/LEN(\"_OH_\"))*1+((LEN(A2)-LEN(SUBSTITUTE(A2,\"_OOH_\",\"\")))/LEN(\"_OOH_\"))*2+((LEN(A2)-LEN(SUBSTITUTE(A2,\"_O_\",\"\")))/LEN(\"_O_\"))*1+((LEN(A2)-LEN(SUBSTITUTE(A2,\"_CHO_\",\"\")))/LEN(\"_CHO_\"))*1+((LEN(A2)-LEN(SUBSTITUTE(A2,\"_COOH_\",\"\")))/LEN(\"_COOH_\"))*2","v":5},null,null,null,{"$f":"IF(ISERROR(FIND(\"O-\",A2)),IF(ISERROR(FIND(\"P-\",A2)),\"\",CONCATENATE(\"C\",F2,\"H\",G2,\"O\",H2)),CONCATENATE(\"C\",F2,\"H\",G2,\"O\",H2))","v":"C47H60O5"},{"$f":"IF(ISERROR(FIND(\"O-\",A2)),IF(ISERROR(FIND(\"P-\",A2)),\"\",(F2*12.0107)+(G2*1.00794)+(H2*15.9994)),(F2*12.0107)+(G2*1.00794)+(H2*15.9994))","v":704.97629999999992},{"$f":"IF(ISERROR(FIND(\"O-\",A2)),IF(ISERROR(FIND(\"P-\",A2)),\"\",(F2*12)+(G2*1.0078246)+(H2*15.994915)),(F2*12)+(G2*1.0078246)+(H2*15.994915))","v":704.44405099999994},{"$f":"N2+1.0078246-0.00055","v":705.45132560000002},{"$f":"O2-18.01057-0.00055","v":687.44020560000001},{"$f":"N2+18.03437-0.00055","v":722.47787099999994},{"$f":"N2+22.98977-0.00055","v":727.43327099999999},{"$f":"N2+38.96371-0.00055","v":743.40721099999996},{"$f":"N2+7.01601-0.00055","v":711.45951100000002},{"$f":"N2-1.0078246+0.00055","v":703.43677639999987},{"$f":"N2+44.99767+0.00055","v":749.44227099999989},{"$f":"N2+59.01332+0.00055","v":763.45792099999994}]
["DG(O-22:1_22:6)",{"$f":"IF(ISNUMBER(SEARCH(\"(\",A3)),IF(ISNUMBER(SEARCH(\"/\",A3)),CONCATENATE(MID(A3,1,2),\" \",MID(A3,4,2),SUM(MID(A3,FIND(\"(\",A3)+3,(FIND(\":\",A3)-(FIND(\"-\",A3)+1))),MID(A3,FIND(\"/\",A3)+1,(FIND(\":\",A3,FIND(\"/\",A3))-FIND(\"/\",A3)-1))),\":\",SUM(MID(A3,FIND(\":\",A3)+1,FIND(\"/\",A3)-(FIND(\":\",A3)+1)),MID(A3,FIND(\":\",A3,FIND(\"/\",A3))+1,FIND(\")\",A3)-FIND(\":\",A3,FIND(\"/\",A3))-1)),\" \",MID(A3,(FIND(\")\",A3)+1),100)),CONCATENATE(MID(A3,1,2),\" \",MID(A3,4,2),SUM(MID(A3,FIND(\"(\",A3)+3,(FIND(\":\",A3)-(FIND(\"-\",A3)+1))),MID(A3,FIND(\"_\",A3)+1,(FIND(\":\",A3,FIND(\"_\",A3))-FIND(\"_\",A3)-1))),\":\",SUM(MID(A3,FIND(\":\",A3)+1,FIND(\"_\",A3)-(FIND(\":\",A3)+1)),MID(A3,FIND(\":\",A3,FIND(\"_\",A3))+1,FIND(\")\",A3)-FIND(\":\",A3,FIND(\"_\",A3))-1)),\" \",MID(A3,(FIND(\")\",A3)+1),100))),A3)","v":"DG O-44:7 "},{"$f":"MID(B3,6,FIND(\":\",B3)-FIND(\"-\",B3)-1)","v":"44"},{"$f":"IF(ISNUMBER(VALUE(MID(B3,FIND(\":\",B3)+1,2))),MID(B3,FIND(\":\",B3)+1,2),MID(B3,FIND(\":\",B3)+1,1))","v":"7 "},{"$f":"IF(ISERROR(FIND(\"O-\",A3)),IF(ISERROR(FIND(\"P-\",A3)),\"\",\"P-\"),\"O-\")","v":"O-"},{"$f":"C3+3","v":47},{"$f":"2*F3-(2*D3)-2+2*COUNTIF(B3,\"*O-*\")-((LEN(A3)-LEN(SUBSTITUTE(A3,\"_O_\",\"\")))/LEN(\"_O_\"))*2-((LEN(A3)-LEN(SUBSTITUTE(A3,\"_CHO_\",\"\")))/LEN(\"_CHO_\"))*2-((LEN(A3)-LEN(SUBSTITUTE(A3,\"_COOH_\",\"\")))/LEN(\"_COOH_\"))*2","v":80},{"$f":"4+((LEN(A3)-LEN(SUBSTITUTE(A3,\"_OH_\",\"\")))/LEN(\"_OH_\"))*1+((LEN(A3)-LEN(SUBSTITUTE(A3,\"_OOH_\",\"\")))/LEN(\"_OOH_\"))*2+((LEN(A3)-LEN(SUBSTITUTE(A3,\"_O_\",\"\")))/LEN(\"_O_\"))*1+((LEN(A3)-LEN(SUBSTITUTE(A3,\"_CHO_\",\"\")))/LEN(\"_CHO_\"))*1+((LEN(A3)-LEN(SUBSTITUTE(A3,\"_COOH_\",\"\")))/LEN(\"_COOH_\"))*2","v":4},null,null,null,{"$f":"IF(ISERROR(FIND(\"O-\",A3)),IF(ISERROR(FIND(\"P-\",A3)),\"\",CONCATENATE(\"C\",F3,\"H\",G3,\"O\",H3)),CONCATENATE(\"C\",F3,\"H\",G3,\"O\",H3))","v":"C47H80O4"},{"$f":"IF(ISERROR(FIND(\"O-\",A3)),IF(ISERROR(FIND(\"P-\",A3)),\"\",(F3*12.0107)+(G3*1.00794)+(H3*15.9994)),(F3*12.0107)+(G3*1.00794)+(H3*15.9994))","v":709.13569999999993},{"$f":"IF(ISERROR(FIND(\"O-\",A3)),IF(ISERROR(FIND(\"P-\",A3)),\"\",(F3*12)+(G3*1.0078246)+(H3*15.994915)),(F3*12)+(G3*1.0078246)+(H3*15.994915))","v":708.60562800000002},{"$f":"N3+1.0078246-0.00055","v":709.6129026000001},{"$f":"O3-18.01057-0.00055","v":691.60178260000009},{"$f":"N3+18.03437-0.00055","v":726.63944800000002},{"$f":"N3+22.98977-0.00055","v":731.59484800000007},{"$f":"N3+38.96371-0.00055","v":747.56878800000004},{"$f":"N3+7.01601-0.00055","v":715.6210880000001},{"$f":"N3-1.0078246+0.00055","v":707.59835339999995},{"$f":"N3+44.99767+0.00055","v":753.60384799999997},{"$f":"N3+59.01332+0.00055","v":767.61949800000002}]
["DG(P-22:1/22:6)","DG P-44:7 ","44","7 ","P-",47,{"$f":"2*F4-(2*D4)-2+2*COUNTIF(B4,\"*O-*\")-((LEN(A4)-LEN(SUBSTITUTE(A4,\"_O_\",\"\")))/LEN(\"_O_\"))*2-((LEN(A4)-LEN(SUBSTITUTE(A4,\"_CHO_\",\"\")))/LEN(\"_CHO_\"))*2-((LEN(A4)-LEN(SUBSTITUTE(A4,\"_COOH_\",\"\")))/LEN(\"_COOH_\"))*2","v":78},4,null,null,null,"C47H78O4",{"$f":"IF(ISERROR(FIND(\"O-\",A4)),IF(ISERROR(FIND(\"P-\",A4)),\"\",(F4*12.0107)+(G4*1.00794)+(H4*15.9994)),(F4*12.0107)+(G4*1.00794)+(H4*15.9994))","v":707.11982},706.58997879999993,707.5972534,689.58613339999999,724.62379879999992,729.57919879999997,745.55313879999994,713.6054388,705.58270419999985,751.58819879999987,765.60384879999992]
["DG O-43:1","DG O-43:1","43","1","O-",46,90,4,null,null,null,"C46H90O4",{"$f":"IF(ISERROR(FIND(\"O-\",A5)),IF(ISERROR(FIND(\"P-\",A5)),\"\",(F5*12.0107)+(G5*1.00794)+(H5*15.9994)),(F5*12.0107)+(G5*1.00794)+(H5*15.9994))","v":707.20440000000008},706.68387399999995,707.69114860000002,689.68002860000001,724.71769399999994,729.67309399999999,745.64703399999996,713.69933400000002,705.67659939999987,751.68209399999989,765.69774399999994]

{"sheet":"TG_ether","index":48,"n_rows":6,"n_cols":23,"rows_kept":6,"cut":false,"hidden":false,"merged":[]}
["Lipid","Sum Composition",null,null,null,"#C","#H","#O",null,null,null,"Formula","Molecular Weight","Neutral Mass","[M+H]+","[M+H-H2O]+","[M+NH4]+","[M+Na]+","[M+K]+","[M+Li]+","[M-H]-","[M+HCOO]-","[M+CH3COO]-"]
["TG(P-5:15/5:5/15:1)",{"$f":"IF(ISNUMBER(SEARCH(\"(\",A2)),IF(ISNUMBER(SEARCH(\"/\",A2)),CONCATENATE(MID(A2,1,2),\" \",MID(A2,4,2),(SUM(MID(A2,FIND(\"(\",A2)+3,FIND(\":\",A2)-FIND(\"-\",A2)-1),MID(A2,FIND(\"/\",A2)+1,FIND(\":\",A2,FIND(\"/\",A2))-FIND(\"/\",A2)-1),MID(A2,FIND(\"/\",A2,FIND(\"/\",A2)+1)+1,FIND(\":\",A2,FIND(\"/\",A2,FIND(\"/\",A2)+1))-FIND(\"/\",A2,FIND(\"/\",A2)+1)-1))),\":\",SUM(MID(A2,FIND(\":\",A2)+1,FIND(\"/\",A2)-FIND(\":\",A2)-1),MID(A2,FIND(\":\",A2,FIND(\"/\",A2))+1,(FIND(\"/\",A2,FIND(\"/\",A2)+1)-FIND(\":\",A2,FIND(\"/\",A2))-1)),VALUE(MID(A2,FIND(\":\",A2,FIND(\"/\",A2,FIND(\"/\",A2)+1))+1,FIND(\")\",A2)-FIND(\":\",A2,FIND(\"/\",A2,FIND(\"/\",A2)+1))-1))),\" \",MID(A2,(FIND(\")\",A2)+1),100)),CONCATENATE(MID(A2,1,2),\" \",MID(A2,4,2),(SUM(MID(A2,FIND(\"(\",A2)+3,FIND(\":\",A2)-FIND(\"-\",A2)-1),MID(A2,FIND(\"_\",A2)+1,FIND(\":\",A2,FIND(\"_\",A2))-FIND(\"_\",A2)-1),MID(A2,FIND(\"_\",A2,FIND(\"_\",A2)+1)+1,FIND(\":\",A2,FIND(\"_\",A2,FIND(\"_\",A2)+1))-FIND(\"_\",A2,FIND(\"_\",A2)+1)-1))),\":\",SUM(MID(A2,FIND(\":\",A2)+1,FIND(\"_\",A2)-FIND(\":\",A2)-1),MID(A2,FIND(\":\",A2,FIND(\"_\",A2))+1,(FIND(\"_\",A2,FIND(\"_\",A2)+1)-FIND(\":\",A2,FIND(\"_\",A2))-1)),VALUE(MID(A2,FIND(\":\",A2,FIND(\"_\",A2,FIND(\"_\",A2)+1))+1,FIND(\")\",A2)-FIND(\":\",A2,FIND(\"_\",A2,FIND(\"_\",A2)+1))-1))),\" \",MID(A2,(FIND(\")\",A2)+1),100))),A2)","v":"TG P-25:21 "},{"$f":"MID(B2,6,FIND(\":\",B2)-FIND(\"-\",B2)-1)","v":"25"},{"$f":"IF(ISNUMBER(VALUE(MID(B2,FIND(\":\",B2)+1,2))),MID(B2,FIND(\":\",B2)+1,2),MID(B2,FIND(\":\",B2)+1,1))","v":"21"},{"$f":"IF(ISERROR(FIND(\"O-\",A2)),IF(ISERROR(FIND(\"P-\",A2)),\"\",\"P-\"),\"O-\")","v":"P-"},{"$f":"C2+3","v":28},{"$f":"(F2*2)-(4+D2*2)+2*COUNTIF(B2,\"*O-*\")-((LEN(A2)-LEN(SUBSTITUTE(A2,\"_O_\",\"\")))/LEN(\"_O_\"))*2-((LEN(A2)-LEN(SUBSTITUTE(A2,\"_CHO_\",\"\")))/LEN(\"_CHO_\"))*2-((LEN(A2)-LEN(SUBSTITUTE(A2,\"_COOH_\",\"\")))/LEN(\"_COOH_\"))*2","v":10},{"$f":"5+((LEN(A2)-LEN(SUBSTITUTE(A2,\"_OH_\",\"\")))/LEN(\"_OH_\"))*1+((LEN(A2)-LEN(SUBSTITUTE(A2,\"_OOH_\",\"\")))/LEN(\"_OOH_\"))*2+((LEN(A2)-LEN(SUBSTITUTE(A2,\"_O_\",\"\")))/LEN(\"_O_\"))*1+((LEN(A2)-LEN(SUBSTITUTE(A2,\"_CHO_\",\"\")))/LEN(\"_CHO_\"))*1+((LEN(A2)-LEN(SUBSTITUTE(A2,\"_COOH_\",\"\")))/LEN(\"_COOH_\"))*2","v":5},null,null,null,{"$f":"IF(ISERROR(FIND(\"O-\",A2)),IF(ISERROR(FIND(\"P-\",A2)),\"\",CONCATENATE(\"C\",F2,\"H\",G2,\"O\",H2)),CONCATENATE(\"C\",F2,\"H\",G2,\"O\",H2))","v":"C28H10O5"},{"$f":"IF(ISERROR(FIND(\"O-\",A2)),IF(ISERROR(FIND(\"P-\",A2)),\"\",(F2*12.0107)+(G2*1.00794)+(H2*15.9994)),(F2*12.0107)+(G2*1.00794)+(H2*15.9994))","v":426.37600000000003},{"$f":"IF(ISERROR(FIND(\"O-\",A2)),IF(ISERROR(FIND(\"P-\",A2)),\"\",(F2*12)+(G2*1.0078246)+(H2*15.994915)),(F2*12)+(G2*1.0078246)+(H2*15.994915))","v":426.05282099999999},{"$f":"N2+1.0078246-0.00055","v":427.06009560000001},{"$f":"O2-18.01057-0.00055","v":409.04897560000006},{"$f":"N2+18.03437-0.00055","v":444.08664100000004},{"$f":"N2+22.98977-0.00055","v":449.04204100000004},{"$f":"N2+38.96371-0.00055","v":465.01598100000001},{"$f":"N2+7.01601-0.00055","v":433.06828100000001},{"$f":"N2-1.0078246+0.00055","v":425.04554639999998},{"$f":"N2+44.99767+0.00055","v":471.05104099999994},{"$f":"N2+59.01332+0.00055","v":485.06669099999999}]
["TG P-42:0",{"$f":"IF(ISNUMBER(SEARCH(\"(\",A3)),IF(ISNUMBER(SEARCH(\"/\",A3)),CONCATENATE(MID(A3,1,2),\" \",MID(A3,4,2),(SUM(MID(A3,FIND(\"(\",A3)+3,FIND(\":\",A3)-FIND(\"-\",A3)-1),MID(A3,FIND(\"/\",A3)+1,FIND(\":\",A3,FIND(\"/\",A3))-FIND(\"/\",A3)-1),MID(A3,FIND(\"/\",A3,FIND(\"/\",A3)+1)+1,FIND(\":\",A3,FIND(\"/\",A3,FIND(\"/\",A3)+1))-FIND(\"/\",A3,FIND(\"/\",A3)+1)-1))),\":\",SUM(MID(A3,FIND(\":\",A3)+1,FIND(\"/\",A3)-FIND(\":\",A3)-1),MID(A3,FIND(\":\",A3,FIND(\"/\",A3))+1,(FIND(\"/\",A3,FIND(\"/\",A3)+1)-FIND(\":\",A3,FIND(\"/\",A3))-1)),VALUE(MID(A3,FIND(\":\",A3,FIND(\"/\",A3,FIND(\"/\",A3)+1))+1,FIND(\")\",A3)-FIND(\":\",A3,FIND(\"/\",A3,FIND(\"/\",A3)+1))-1))),\" \",MID(A3,(FIND(\")\",A3)+1),100)),CONCATENATE(MID(A3,1,2),\" \",MID(A3,4,2),(SUM(MID(A3,FIND(\"(\",A3)+3,FIND(\":\",A3)-FIND(\"-\",A3)-1),MID(A3,FIND(\"_\",A3)+1,FIND(\":\",A3,FIND(\"_\",A3))-FIND(\"_\",A3)-1),MID(A3,FIND(\"_\",A3,FIND(\"_\",A3)+1)+1,FIND(\":\",A3,FIND(\"_\",A3,FIND(\"_\",A3)+1))-FIND(\"_\",A3,FIND(\"_\",A3)+1)-1))),\":\",SUM(MID(A3,FIND(\":\",A3)+1,FIND(\"_\",A3)-FIND(\":\",A3)-1),MID(A3,FIND(\":\",A3,FIND(\"_\",A3))+1,(FIND(\"_\",A3,FIND(\"_\",A3)+1)-FIND(\":\",A3,FIND(\"_\",A3))-1)),VALUE(MID(A3,FIND(\":\",A3,FIND(\"_\",A3,FIND(\"_\",A3)+1))+1,FIND(\")\",A3)-FIND(\":\",A3,FIND(\"_\",A3,FIND(\"_\",A3)+1))-1))),\" \",MID(A3,(FIND(\")\",A3)+1),100))),A3)","v":"TG P-42:0"},{"$f":"MID(B3,6,FIND(\":\",B3)-FIND(\"-\",B3)-1)","v":"42"},{"$f":"IF(ISNUMBER(VALUE(MID(B3,FIND(\":\",B3)+1,2))),MID(B3,FIND(\":\",B3)+1,2),MID(B3,FIND(\":\",B3)+1,1))","v":"0"},{"$f":"IF(ISERROR(FIND(\"O-\",A3)),IF(ISERROR(FIND(\"P-\",A3)),\"\",\"P-\"),\"O-\")","v":"P-"},{"$f":"C3+3","v":45},{"$f":"(F3*2)-(4+D3*2)+2*COUNTIF(B3,\"*O-*\")-((LEN(A3)-LEN(SUBSTITUTE(A3,\"_O_\",\"\")))/LEN(\"_O_\"))*2-((LEN(A3)-LEN(SUBSTITUTE(A3,\"_CHO_\",\"\")))/LEN(\"_CHO_\"))*2-((LEN(A3)-LEN(SUBSTITUTE(A3,\"_COOH_\",\"\")))/LEN(\"_COOH_\"))*2","v":86},{"$f":"5+((LEN(A3)-LEN(SUBSTITUTE(A3,\"_OH_\",\"\")))/LEN(\"_OH_\"))*1+((LEN(A3)-LEN(SUBSTITUTE(A3,\"_OOH_\",\"\")))/LEN(\"_OOH_\"))*2+((LEN(A3)-LEN(SUBSTITUTE(A3,\"_O_\",\"\")))/LEN(\"_O_\"))*1+((LEN(A3)-LEN(SUBSTITUTE(A3,\"_CHO_\",\"\")))/LEN(\"_CHO_\"))*1+((LEN(A3)-LEN(SUBSTITUTE(A3,\"_COOH_\",\"\")))/LEN(\"_COOH_\"))*2","v":5},null,null,null,{"$f":"IF(ISERROR(FIND(\"O-\",A3)),IF(ISERROR(FIND(\"P-\",A3)),\"\",CONCATENATE(\"C\",F3,\"H\",G3,\"O\",H3)),CONCATENATE(\"C\",F3,\"H\",G3,\"O\",H3))","v":"C45H86O5"},{"$f":"IF(ISERROR(FIND(\"O-\",A3)),IF(ISERROR(FIND(\"P-\",A3)),\"\",(F3*12.0107)+(G3*1.00794)+(H3*15.9994)),(F3*12.0107)+(G3*1.00794)+(H3*15.9994))","v":707.16134},{"$f":"IF(ISERROR(FIND(\"O-\",A3)),IF(ISERROR(FIND(\"P-\",A3)),\"\",(F3*12)+(G3*1.0078246)+(H3*15.994915)),(F3*12)+(G3*1.0078246)+(H3*15.994915))","v":706.64749059999997},{"$f":"N3+1.0078246-0.00055","v":707.65476520000004},{"$f":"O3-18.01057-0.00055","v":689.64364520000004},{"$f":"N3+18.03437-0.00055","v":724.68131059999996},{"$f":"N3+22.98977-0.00055","v":729.63671060000001},{"$f":"N3+38.96371-0.00055","v":745.61065059999999},{"$f":"N3+7.01601-0.00055","v":713.66295060000004},{"$f":"N3-1.0078246+0.00055","v":705.6402159999999},{"$f":"N3+44.99767+0.00055","v":751.64571059999992},{"$f":"N3+59.01332+0.00055","v":765.66136059999997}]
["TG(O-16:10/16:0/16:0)",{"$f":"IF(ISNUMBER(SEARCH(\"(\",A4)),IF(ISNUMBER(SEARCH(\"/\",A4)),CONCATENATE(MID(A4,1,2),\" \",MID(A4,4,2),(SUM(MID(A4,FIND(\"(\",A4)+3,FIND(\":\",A4)-FIND(\"-\",A4)-1),MID(A4,FIND(\"/\",A4)+1,FIND(\":\",A4,FIND(\"/\",A4))-FIND(\"/\",A4)-1),MID(A4,FIND(\"/\",A4,FIND(\"/\",A4)+1)+1,FIND(\":\",A4,FIND(\"/\",A4,FIND(\"/\",A4)+1))-FIND(\"/\",A4,FIND(\"/\",A4)+1)-1))),\":\",SUM(MID(A4,FIND(\":\",A4)+1,FIND(\"/\",A4)-FIND(\":\",A4)-1),MID(A4,FIND(\":\",A4,FIND(\"/\",A4))+1,(FIND(\"/\",A4,FIND(\"/\",A4)+1)-FIND(\":\",A4,FIND(\"/\",A4))-1)),VALUE(MID(A4,FIND(\":\",A4,FIND(\"/\",A4,FIND(\"/\",A4)+1))+1,FIND(\")\",A4)-FIND(\":\",A4,FIND(\"/\",A4,FIND(\"/\",A4)+1))-1))),\" \",MID(A4,(FIND(\")\",A4)+1),100)),CONCATENATE(MID(A4,1,2),\" \",MID(A4,4,2),(SUM(MID(A4,FIND(\"(\",A4)+3,FIND(\":\",A4)-FIND(\"-\",A4)-1),MID(A4,FIND(\"_\",A4)+1,FIND(\":\",A4,FIND(\"_\",A4))-FIND(\"_\",A4)-1),MID(A4,FIND(\"_\",A4,FIND(\"_\",A4)+1)+1,FIND(\":\",A4,FIND(\"_\",A4,FIND(\"_\",A4)+1))-FIND(\"_\",A4,FIND(\"_\",A4)+1)-1))),\":\",SUM(MID(A4,FIND(\":\",A4)+1,FIND(\"_\",A4)-FIND(\":\",A4)-1),MID(A4,FIND(\":\",A4,FIND(\"_\",A4))+1,(FIND(\"_\",A4,FIND(\"_\",A4)+1)-FIND(\":\",A4,FIND(\"_\",A4))-1)),VALUE(MID(A4,FIND(\":\",A4,FIND(\"_\",A4,FIND(\"_\",A4)+1))+1,FIND(\")\",A4)-FIND(\":\",A4,FIND(\"_\",A4,FIND(\"_\",A4)+1))-1))),\" \",MID(A4,(FIND(\")\",A4)+1),100))),A4)","v":"TG O-48:10 "},{"$f":"MID(B4,6,FIND(\":\",B4)-FIND(\"-\",B4)-1)","v":"48"},{"$f":"IF(ISNUMBER(VALUE(MID(B4,FIND(\":\",B4)+1,2))),MID(B4,FIND(\":\",B4)+1,2),MID(B4,FIND(\":\",B4)+1,1))","v":"10"},{"$f":"IF(ISERROR(FIND(\"O-\",A4)),IF(ISERROR(FIND(\"P-\",A4)),\"\",\"P-\"),\"O-\")","v":"O-"},{"$f":"C4+3","v":51},{"$f":"(F4*2)-(4+D4*2)+2*COUNTIF(B4,\"*O-*\")-((LEN(A4)-LEN(SUBSTITUTE(A4,\"_O_\",\"\")))/LEN(\"_O_\"))*2-((LEN(A4)-LEN(SUBSTITUTE(A4,\"_CHO_\",\"\")))/LEN(\"_CHO_\"))*2-((LEN(A4)-LEN(SUBSTITUTE(A4,\"_COOH_\",\"\")))/LEN(\"_COOH_\"))*2","v":80},{"$f":"5+((LEN(A4)-LEN(SUBSTITUTE(A4,\"_OH_\",\"\")))/LEN(\"_OH_\"))*1+((LEN(A4)-LEN(SUBSTITUTE(A4,\"_OOH_\",\"\")))/LEN(\"_OOH_\"))*2+((LEN(A4)-LEN(SUBSTITUTE(A4,\"_O_\",\"\")))/LEN(\"_O_\"))*1+((LEN(A4)-LEN(SUBSTITUTE(A4,\"_CHO_\",\"\")))/LEN(\"_CHO_\"))*1+((LEN(A4)-LEN(SUBSTITUTE(A4,\"_COOH_\",\"\")))/LEN(\"_COOH_\"))*2","v":5},null,null,null,{"$f":"IF(ISERROR(FIND(\"O-\",A4)),IF(ISERROR(FIND(\"P-\",A4)),\"\",CONCATENATE(\"C\",F4,\"H\",G4,\"O\",H4)),CONCATENATE(\"C\",F4,\"H\",G4,\"O\",H4))","v":"C51H80O5"},{"$f":"IF(ISERROR(FIND(\"O-\",A4)),IF(ISERROR(FIND(\"P-\",A4)),\"\",(F4*12.0107)+(G4*1.00794)+(H4*15.9994)),(F4*12.0107)+(G4*1.00794)+(H4*15.9994))","v":773.17790000000002},{"$f":"IF(ISERROR(FIND(\"O-\",A4)),IF(ISERROR(FIND(\"P-\",A4)),\"\",(F4*12)+(G4*1.0078246)+(H4*15.994915)),(F4*12)+(G4*1.0078246)+(H4*15.994915))","v":772.60054300000002},{"$f":"N4+1.0078246-0.00055","v":773.60781760000009},{"$f":"O4-18.01057-0.00055","v":755.59669760000008},{"$f":"N4+18.03437-0.00055","v":790.63436300000001},{"$f":"N4+22.98977-0.00055","v":795.58976300000006},{"$f":"N4+38.96371-0.00055","v":811.56370300000003},{"$f":"N4+7.01601-0.00055","v":779.61600300000009},{"$f":"N4-1.0078246+0.00055","v":771.59326839999994},{"$f":"N4+44.99767+0.00055","v":817.59876299999996},{"$f":"N4+59.01332+0.00055","v":831.61441300000001}]
["TG O-50:0",{"$f":"IF(ISNUMBER(SEARCH(\"(\",A5)),IF(ISNUMBER(SEARCH(\"/\",A5)),CONCATENATE(MID(A5,1,2),\" \",MID(A5,4,2),(SUM(MID(A5,FIND(\"(\",A5)+3,FIND(\":\",A5)-FIND(\"-\",A5)-1),MID(A5,FIND(\"/\",A5)+1,FIND(\":\",A5,FIND(\"/\",A5))-FIND(\"/\",A5)-1),MID(A5,FIND(\"/\",A5,FIND(\"/\",A5)+1)+1,FIND(\":\",A5,FIND(\"/\",A5,FIND(\"/\",A5)+1))-FIND(\"/\",A5,FIND(\"/\",A5)+1)-1))),\":\",SUM(MID(A5,FIND(\":\",A5)+1,FIND(\"/\",A5)-FIND(\":\",A5)-1),MID(A5,FIND(\":\",A5,FIND(\"/\",A5))+1,(FIND(\"/\",A5,FIND(\"/\",A5)+1)-FIND(\":\",A5,FIND(\"/\",A5))-1)),VALUE(MID(A5,FIND(\":\",A5,FIND(\"/\",A5,FIND(\"/\",A5)+1))+1,FIND(\")\",A5)-FIND(\":\",A5,FIND(\"/\",A5,FIND(\"/\",A5)+1))-1))),\" \",MID(A5,(FIND(\")\",A5)+1),100)),CONCATENATE(MID(A5,1,2),\" \",MID(A5,4,2),(SUM(MID(A5,FIND(\"(\",A5)+3,FIND(\":\",A5)-FIND(\"-\",A5)-1),MID(A5,FIND(\"_\",A5)+1,FIND(\":\",A5,FIND(\"_\",A5))-FIND(\"_\",A5)-1),MID(A5,FIND(\"_\",A5,FIND(\"_\",A5)+1)+1,FIND(\":\",A5,FIND(\"_\",A5,FIND(\"_\",A5)+1))-FIND(\"_\",A5,FIND(\"_\",A5)+1)-1))),\":\",SUM(MID(A5,FIND(\":\",A5)+1,FIND(\"_\",A5)-FIND(\":\",A5)-1),MID(A5,FIND(\":\",A5,FIND(\"_\",A5))+1,(FIND(\"_\",A5,FIND(\"_\",A5)+1)-FIND(\":\",A5,FIND(\"_\",A5))-1)),VALUE(MID(A5,FIND(\":\",A5,FIND(\"_\",A5,FIND(\"_\",A5)+1))+1,FIND(\")\",A5)-FIND(\":\",A5,FIND(\"_\",A5,FIND(\"_\",A5)+1))-1))),\" \",MID(A5,(FIND(\")\",A5)+1),100))),A5)","v":"TG O-50:0"},{"$f":"MID(B5,6,FIND(\":\",B5)-FIND(\"-\",B5)-1)","v":"50"},{"$f":"IF(ISNUMBER(VALUE(MID(B5,FIND(\":\",B5)+1,2))),MID(B5,FIND(\":\",B5)+1,2),MID(B5,FIND(\":\",B5)+1,1))","v":"0"},{"$f":"IF(ISERROR(FIND(\"O-\",A5)),IF(ISERROR(FIND(\"P-\",A5)),\"\",\"P-\"),\"O-\")","v":"O-"},{"$f":"C5+3","v":53},{"$f":"(F5*2)-(4+D5*2)+2*COUNTIF(B5,\"*O-*\")-((LEN(A5)-LEN(SUBSTITUTE(A5,\"_O_\",\"\")))/LEN(\"_O_\"))*2-((LEN(A5)-LEN(SUBSTITUTE(A5,\"_CHO_\",\"\")))/LEN(\"_CHO_\"))*2-((LEN(A5)-LEN(SUBSTITUTE(A5,\"_COOH_\",\"\")))/LEN(\"_COOH_\"))*2","v":104},{"$f":"5+((LEN(A5)-LEN(SUBSTITUTE(A5,\"_OH_\",\"\")))/LEN(\"_OH_\"))*1+((LEN(A5)-LEN(SUBSTITUTE(A5,\"_OOH_\",\"\")))/LEN(\"_OOH_\"))*2+((LEN(A5)-LEN(SUBSTITUTE(A5,\"_O_\",\"\")))/LEN(\"_O_\"))*1+((LEN(A5)-LEN(SUBSTITUTE(A5,\"_CHO_\",\"\")))/LEN(\"_CHO_\"))*1+((LEN(A5)-LEN(SUBSTITUTE(A5,\"_COOH_\",\"\")))/LEN(\"_COOH_\"))*2","v":5},null,null,null,{"$f":"IF(ISERROR(FIND(\"O-\",A5)),IF(ISERROR(FIND(\"P-\",A5)),\"\",CONCATENATE(\"C\",F5,\"H\",G5,\"O\",H5)),CONCATENATE(\"C\",F5,\"H\",G5,\"O\",H5))","v":"C53H104O5"},{"$f":"IF(ISERROR(FIND(\"O-\",A5)),IF(ISERROR(FIND(\"P-\",A5)),\"\",(F5*12.0107)+(G5*1.00794)+(H5*15.9994)),(F5*12.0107)+(G5*1.00794)+(H5*15.9994))","v":821.38985999999989},{"$f":"IF(ISERROR(FIND(\"O-\",A5)),IF(ISERROR(FIND(\"P-\",A5)),\"\",(F5*12)+(G5*1.0078246)+(H5*15.994915)),(F5*12)+(G5*1.0078246)+(H5*15.994915))","v":820.78833339999994},{"$f":"N5+1.0078246-0.00055","v":821.79560800000002},{"$f":"O5-18.01057-0.00055","v":803.78448800000001},{"$f":"N5+18.03437-0.00055","v":838.82215339999993},{"$f":"N5+22.98977-0.00055","v":843.77755339999999},{"$f":"N5+38.96371-0.00055","v":859.75149339999996},{"$f":"N5+7.01601-0.00055","v":827.80379340000002},{"$f":"N5-1.0078246+0.00055","v":819.78105879999987},{"$f":"N5+44.99767+0.00055","v":865.78655339999989},{"$f":"N5+59.01332+0.00055","v":879.80220339999994}]
["TG(O-16:10_16:0_16:0)",{"$f":"IF(ISNUMBER(SEARCH(\"(\",A6)),IF(ISNUMBER(SEARCH(\"/\",A6)),CONCATENATE(MID(A6,1,2),\" \",MID(A6,4,2),(SUM(MID(A6,FIND(\"(\",A6)+3,FIND(\":\",A6)-FIND(\"-\",A6)-1),MID(A6,FIND(\"/\",A6)+1,FIND(\":\",A6,FIND(\"/\",A6))-FIND(\"/\",A6)-1),MID(A6,FIND(\"/\",A6,FIND(\"/\",A6)+1)+1,FIND(\":\",A6,FIND(\"/\",A6,FIND(\"/\",A6)+1))-FIND(\"/\",A6,FIND(\"/\",A6)+1)-1))),\":\",SUM(MID(A6,FIND(\":\",A6)+1,FIND(\"/\",A6)-FIND(\":\",A6)-1),MID(A6,FIND(\":\",A6,FIND(\"/\",A6))+1,(FIND(\"/\",A6,FIND(\"/\",A6)+1)-FIND(\":\",A6,FIND(\"/\",A6))-1)),VALUE(MID(A6,FIND(\":\",A6,FIND(\"/\",A6,FIND(\"/\",A6)+1))+1,FIND(\")\",A6)-FIND(\":\",A6,FIND(\"/\",A6,FIND(\"/\",A6)+1))-1))),\" \",MID(A6,(FIND(\")\",A6)+1),100)),CONCATENATE(MID(A6,1,2),\" \",MID(A6,4,2),(SUM(MID(A6,FIND(\"(\",A6)+3,FIND(\":\",A6)-FIND(\"-\",A6)-1),MID(A6,FIND(\"_\",A6)+1,FIND(\":\",A6,FIND(\"_\",A6))-FIND(\"_\",A6)-1),MID(A6,FIND(\"_\",A6,FIND(\"_\",A6)+1)+1,FIND(\":\",A6,FIND(\"_\",A6,FIND(\"_\",A6)+1))-FIND(\"_\",A6,FIND(\"_\",A6)+1)-1))),\":\",SUM(MID(A6,FIND(\":\",A6)+1,FIND(\"_\",A6)-FIND(\":\",A6)-1),MID(A6,FIND(\":\",A6,FIND(\"_\",A6))+1,(FIND(\"_\",A6,FIND(\"_\",A6)+1)-FIND(\":\",A6,FIND(\"_\",A6))-1)),VALUE(MID(A6,FIND(\":\",A6,FIND(\"_\",A6,FIND(\"_\",A6)+1))+1,FIND(\")\",A6)-FIND(\":\",A6,FIND(\"_\",A6,FIND(\"_\",A6)+1))-1))),\" \",MID(A6,(FIND(\")\",A6)+1),100))),A6)","v":"TG O-48:10 "},{"$f":"MID(B6,6,FIND(\":\",B6)-FIND(\"-\",B6)-1)","v":"48"},{"$f":"IF(ISNUMBER(VALUE(MID(B6,FIND(\":\",B6)+1,2))),MID(B6,FIND(\":\",B6)+1,2),MID(B6,FIND(\":\",B6)+1,1))","v":"10"},{"$f":"IF(ISERROR(FIND(\"O-\",A6)),IF(ISERROR(FIND(\"P-\",A6)),\"\",\"P-\"),\"O-\")","v":"O-"},{"$f":"C6+3","v":51},{"$f":"(F6*2)-(4+D6*2)+2*COUNTIF(B6,\"*O-*\")-((LEN(A6)-LEN(SUBSTITUTE(A6,\"_O_\",\"\")))/LEN(\"_O_\"))*2-((LEN(A6)-LEN(SUBSTITUTE(A6,\"_CHO_\",\"\")))/LEN(\"_CHO_\"))*2-((LEN(A6)-LEN(SUBSTITUTE(A6,\"_COOH_\",\"\")))/LEN(\"_COOH_\"))*2","v":80},{"$f":"5+((LEN(A6)-LEN(SUBSTITUTE(A6,\"_OH_\",\"\")))/LEN(\"_OH_\"))*1+((LEN(A6)-LEN(SUBSTITUTE(A6,\"_OOH_\",\"\")))/LEN(\"_OOH_\"))*2+((LEN(A6)-LEN(SUBSTITUTE(A6,\"_O_\",\"\")))/LEN(\"_O_\"))*1+((LEN(A6)-LEN(SUBSTITUTE(A6,\"_CHO_\",\"\")))/LEN(\"_CHO_\"))*1+((LEN(A6)-LEN(SUBSTITUTE(A6,\"_COOH_\",\"\")))/LEN(\"_COOH_\"))*2","v":5},null,null,null,{"$f":"IF(ISERROR(FIND(\"O-\",A6)),IF(ISERROR(FIND(\"P-\",A6)),\"\",CONCATENATE(\"C\",F6,\"H\",G6,\"O\",H6)),CONCATENATE(\"C\",F6,\"H\",G6,\"O\",H6))","v":"C51H80O5"},{"$f":"IF(ISERROR(FIND(\"O-\",A6)),IF(ISERROR(FIND(\"P-\",A6)),\"\",(F6*12.0107)+(G6*1.00794)+(H6*15.9994)),(F6*12.0107)+(G6*1.00794)+(H6*15.9994))","v":773.17790000000002},{"$f":"IF(ISERROR(FIND(\"O-\",A6)),IF(ISERROR(FIND(\"P-\",A6)),\"\",(F6*12)+(G6*1.0078246)+(H6*15.994915)),(F6*12)+(G6*1.0078246)+(H6*15.994915))","v":772.60054300000002},{"$f":"N6+1.0078246-0.00055","v":773.60781760000009},{"$f":"O6-18.01057-0.00055","v":755.59669760000008},{"$f":"N6+18.03437-0.00055","v":790.63436300000001},{"$f":"N6+22.98977-0.00055","v":795.58976300000006},{"$f":"N6+38.96371-0.00055","v":811.56370300000003},{"$f":"N6+7.01601-0.00055","v":779.61600300000009},{"$f":"N6-1.0078246+0.00055","v":771.59326839999994},{"$f":"N6+44.99767+0.00055","v":817.59876299999996},{"$f":"N6+59.01332+0.00055","v":831.61441300000001}]

{"sheet":"CL_ether","index":49,"n_rows":7,"n_cols":23,"rows_kept":7,"cut":false,"hidden":false,"merged":[]}
["Lipid","Sum Composition",null,null,null,"#C","#H","#N","#O","#P",null,"Formula","Molecular Weight","Neutral Mass","[M+H]+","[M+H-H2O]+","[M+NH4]+","[M+Na]+","[M+K]+","[M+Li]+","[M-H]-","[M+HCOO]-","[M+CH3COO]-"]
["CL P-68:2",{"$f":"IF(ISNUMBER(SEARCH(\"[\",A2)),IF(ISNUMBER(SEARCH(\"/\",A2)),CONCATENATE(MID(A2,1,2),\" \",MID(A2,8,2),(SUM(MID(A2,FIND(\"[\",A2)+3,FIND(\":\",A2)-FIND(\"[\",A2)-4),MID(A2,FIND(\"/\",A2)+1,FIND(\":\",A2,FIND(\"/\",A2))-FIND(\"/\",A2)-1),MID(A2,FIND(\"[\",A2,FIND(\"[\",A2)+1)+1,(FIND(\":\",A2,FIND(\"[\",A2))-FIND(\"[\",A2)-3)),MID(A2,FIND(\"/\",A2,FIND(\"/\",A2)+1)+1,FIND(\":\",A2,FIND(\"/\",A2,FIND(\"[\",A2,FIND(\"[\",A2)+1)+1))-FIND(\"/\",A2,FIND(\"[\",A2,FIND(\"[\",A2)+1)+1)-1))),\":\",SUM(MID(A2,FIND(\":\",A2)+1,FIND(\"/\",A2)-FIND(\":\",A2)-1),MID(A2,FIND(\":\",A2,FIND(\"/\",A2))+1,FIND(\"]\",A2)-FIND(\":\",A2,FIND(\"/\",A2))-1),MID(A2,FIND(\":\",A2,FIND(\"[\",A2,FIND(\"[\",A2)+1))+1,(FIND(\"/\",A2,FIND(\"[\",A2,FIND(\"[\",A2)+1)+1)-FIND(\":\",A2,FIND(\"[\",A2,FIND(\"[\",A2)+1))-1)),MID(A2,FIND(\":\",A2,FIND(\"/\",A2,FIND(\"]\",A2)+1))+1,(FIND(\"]\",A2,FIND(\"[\",A2,FIND(\"[\",A2)+1)+1)-FIND(\":\",A2,FIND(\"/\",A2,FIND(\"]\",A2)+1))-1))),MID(A2,(FIND(\")\",A2)+1),100)),CONCATENATE(MID(A2,1,2),\" \",MID(A2,8,2),(SUM(MID(A2,FIND(\"[\",A2)+3,FIND(\":\",A2)-FIND(\"[\",A2)-4),MID(A2,FIND(\"_\",A2)+1,FIND(\":\",A2,FIND(\"_\",A2))-FIND(\"_\",A2)-1),MID(A2,FIND(\"[\",A2,FIND(\"[\",A2)+1)+1,(FIND(\":\",A2,FIND(\"[\",A2))-FIND(\"[\",A2)-3)),MID(A2,FIND(\"_\",A2,FIND(\"_\",A2)+1)+1,FIND(\":\",A2,FIND(\"_\",A2,FIND(\"[\",A2,FIND(\"[\",A2)+1)+1))-FIND(\"_\",A2,FIND(\"[\",A2,FIND(\"[\",A2)+1)+1)-1))),\":\",SUM(MID(A2,FIND(\":\",A2)+1,FIND(\"_\",A2)-FIND(\":\",A2)-1),MID(A2,FIND(\":\",A2,FIND(\"_\",A2))+1,FIND(\"]\",A2)-FIND(\":\",A2,FIND(\"_\",A2))-1),MID(A2,FIND(\":\",A2,FIND(\"[\",A2,FIND(\"[\",A2)+1))+1,(FIND(\"_\",A2,FIND(\"[\",A2,FIND(\"[\",A2)+1)+1)-FIND(\":\",A2,FIND(\"[\",A2,FIND(\"[\",A2)+1))-1)),MID(A2,FIND(\":\",A2,FIND(\"_\",A2,FIND(\"]\",A2)+1))+1,(FIND(\"]\",A2,FIND(\"[\",A2,FIND(\"[\",A2)+1)+1)-FIND(\":\",A2,FIND(\"_\",A2,FIND(\"]\",A2)+1))-1))),MID(A2,(FIND(\")\",A2)+1),100))),A2)","v":"CL P-68:2"},{"$f":"MID(B2,6,FIND(\":\",B2)-FIND(\"-\",B2)-1)","v":"68"},{"$f":"IF(ISNUMBER(VALUE(MID(B2,FIND(\":\",B2)+1,2))),MID(B2,FIND(\":\",B2)+1,2),MID(B2,FIND(\":\",B2)+1,1))","v":"2"},{"$f":"IF(ISERROR(FIND(\"O-\",A2)),IF(ISERROR(FIND(\"P-\",A2)),\"\",\"P-\"),\"O-\")","v":"P-"},{"$f":"C2+9","v":77},{"$f":"2*F2-(2*D2)-4+2*COUNTIF(B2,\"*O-*\")-((LEN(A2)-LEN(SUBSTITUTE(A2,\"_O_\",\"\")))/LEN(\"_O_\"))*2-((LEN(A2)-LEN(SUBSTITUTE(A2,\"_CHO_\",\"\")))/LEN(\"_CHO_\"))*2-((LEN(A2)-LEN(SUBSTITUTE(A2,\"_COOH_\",\"\")))/LEN(\"_COOH_\"))*2","v":146},0,{"$f":"16+((LEN(A2)-LEN(SUBSTITUTE(A2,\"_OH_\",\"\")))/LEN(\"_OH_\"))*1+((LEN(A2)-LEN(SUBSTITUTE(A2,\"_OOH_\",\"\")))/LEN(\"_OOH_\"))*2+((LEN(A2)-LEN(SUBSTITUTE(A2,\"_O_\",\"\")))/LEN(\"_O_\"))*1+((LEN(A2)-LEN(SUBSTITUTE(A2,\"_CHO_\",\"\")))/LEN(\"_CHO_\"))*1+((LEN(A2)-LEN(SUBSTITUTE(A2,\"_COOH_\",\"\")))/LEN(\"_COOH_\"))*2","v":16},2,null,{"$f":"IF(ISERROR(FIND(\"O-\",A2)),IF(ISERROR(FIND(\"P-\",A2)),\"\",CONCATENATE(\"C\",F2,\"H\",G2,\"O\",I2,\"P\",J2)),CONCATENATE(\"C\",F2,\"H\",G2,\"O\",I2,\"P\",J2))","v":"C77H146O16P2"},{"$f":"IF(ISERROR(FIND(\"O-\",A2)),IF(ISERROR(FIND(\"P-\",A2)),\"\",(F2*12.0107)+(G2*1.00794)+(H2*14.0067)+(I2*15.9994)+(J2*30.973762)),(F2*12.0107)+(G2*1.00794)+(H2*14.0067)+(I2*15.9994)+(J2*30.973762))","v":1389.9210639999999},{"$f":"IF(ISERROR(FIND(\"O-\",A2)),IF(ISERROR(FIND(\"P-\",A2)),\"\",(F2*12)+(G2*1.0078246)+(H2*14.003074)+(I2*15.994915)+(J2*30.973763)),(F2*12)+(G2*1.0078246)+(H2*14.003074)+(I2*15.994915)+(J2*30.973763))","v":1389.0085575999999},{"$f":"N2+1.0078246-0.00055","v":1390.0158322},{"$f":"O2-18.01057-0.00055","v":1372.0047122000001},{"$f":"N2+18.03437-0.00055","v":1407.0423776},{"$f":"N2+22.98977-0.00055","v":1411.9977775999998},{"$f":"N2+38.96371-0.00055","v":1427.9717175999999},{"$f":"N2+7.01601-0.00055","v":1396.0240176},{"$f":"N2-1.0078246+0.00055","v":1388.0012829999998},{"$f":"N2+44.99767+0.00055","v":1434.0067775999999},{"$f":"N2+59.01332+0.00055","v":1448.0224275999999}]
["CL P-68:2__OOH__",{"$f":"IF(ISNUMBER(SEARCH(\"[\",A3)),IF(ISNUMBER(SEARCH(\"/\",A3)),CONCATENATE(MID(A3,1,2),\" \",MID(A3,8,2),(SUM(MID(A3,FIND(\"[\",A3)+3,FIND(\":\",A3)-FIND(\"[\",A3)-4),MID(A3,FIND(\"/\",A3)+1,FIND(\":\",A3,FIND(\"/\",A3))-FIND(\"/\",A3)-1),MID(A3,FIND(\"[\",A3,FIND(\"[\",A3)+1)+1,(FIND(\":\",A3,FIND(\"[\",A3))-FIND(\"[\",A3)-3)),MID(A3,FIND(\"/\",A3,FIND(\"/\",A3)+1)+1,FIND(\":\",A3,FIND(\"/\",A3,FIND(\"[\",A3,FIND(\"[\",A3)+1)+1))-FIND(\"/\",A3,FIND(\"[\",A3,FIND(\"[\",A3)+1)+1)-1))),\":\",SUM(MID(A3,FIND(\":\",A3)+1,FIND(\"/\",A3)-FIND(\":\",A3)-1),MID(A3,FIND(\":\",A3,FIND(\"/\",A3))+1,FIND(\"]\",A3)-FIND(\":\",A3,FIND(\"/\",A3))-1),MID(A3,FIND(\":\",A3,FIND(\"[\",A3,FIND(\"[\",A3)+1))+1,(FIND(\"/\",A3,FIND(\"[\",A3,FIND(\"[\",A3)+1)+1)-FIND(\":\",A3,FIND(\"[\",A3,FIND(\"[\",A3)+1))-1)),MID(A3,FIND(\":\",A3,FIND(\"/\",A3,FIND(\"]\",A3)+1))+1,(FIND(\"]\",A3,FIND(\"[\",A3,FIND(\"[\",A3)+1)+1)-FIND(\":\",A3,FIND(\"/\",A3,FIND(\"]\",A3)+1))-1))),MID(A3,(FIND(\")\",A3)+1),100)),CONCATENATE(MID(A3,1,2),\" \",MID(A3,8,2),(SUM(MID(A3,FIND(\"[\",A3)+3,FIND(\":\",A3)-FIND(\"[\",A3)-4),MID(A3,FIND(\"_\",A3)+1,FIND(\":\",A3,FIND(\"_\",A3))-FIND(\"_\",A3)-1),MID(A3,FIND(\"[\",A3,FIND(\"[\",A3)+1)+1,(FIND(\":\",A3,FIND(\"[\",A3))-FIND(\"[\",A3)-3)),MID(A3,FIND(\"_\",A3,FIND(\"_\",A3)+1)+1,FIND(\":\",A3,FIND(\"_\",A3,FIND(\"[\",A3,FIND(\"[\",A3)+1)+1))-FIND(\"_\",A3,FIND(\"[\",A3,FIND(\"[\",A3)+1)+1)-1))),\":\",SUM(MID(A3,FIND(\":\",A3)+1,FIND(\"_\",A3)-FIND(\":\",A3)-1),MID(A3,FIND(\":\",A3,FIND(\"_\",A3))+1,FIND(\"]\",A3)-FIND(\":\",A3,FIND(\"_\",A3))-1),MID(A3,FIND(\":\",A3,FIND(\"[\",A3,FIND(\"[\",A3)+1))+1,(FIND(\"_\",A3,FIND(\"[\",A3,FIND(\"[\",A3)+1)+1)-FIND(\":\",A3,FIND(\"[\",A3,FIND(\"[\",A3)+1))-1)),MID(A3,FIND(\":\",A3,FIND(\"_\",A3,FIND(\"]\",A3)+1))+1,(FIND(\"]\",A3,FIND(\"[\",A3,FIND(\"[\",A3)+1)+1)-FIND(\":\",A3,FIND(\"_\",A3,FIND(\"]\",A3)+1))-1))),MID(A3,(FIND(\")\",A3)+1),100))),A3)","v":"CL P-68:2__OOH__"},{"$f":"MID(B3,6,FIND(\":\",B3)-FIND(\"-\",B3)-1)","v":"68"},{"$f":"IF(ISNUMBER(VALUE(MID(B3,FIND(\":\",B3)+1,2))),MID(B3,FIND(\":\",B3)+1,2),MID(B3,FIND(\":\",B3)+1,1))","v":"2"},{"$f":"IF(ISERROR(FIND(\"O-\",A3)),IF(ISERROR(FIND(\"P-\",A3)),\"\",\"P-\"),\"O-\")","v":"P-"},{"$f":"C3+9","v":77},{"$f":"2*F3-(2*D3)-4+2*COUNTIF(B3,\"*O-*\")-((LEN(A3)-LEN(SUBSTITUTE(A3,\"_O_\",\"\")))/LEN(\"_O_\"))*2-((LEN(A3)-LEN(SUBSTITUTE(A3,\"_CHO_\",\"\")))/LEN(\"_CHO_\"))*2-((LEN(A3)-LEN(SUBSTITUTE(A3,\"_COOH_\",\"\")))/LEN(\"_COOH_\"))*2","v":146},0,{"$f":"16+((LEN(A3)-LEN(SUBSTITUTE(A3,\"_OH_\",\"\")))/LEN(\"_OH_\"))*1+((LEN(A3)-LEN(SUBSTITUTE(A3,\"_OOH_\",\"\")))/LEN(\"_OOH_\"))*2+((LEN(A3)-LEN(SUBSTITUTE(A3,\"_O_\",\"\")))/LEN(\"_O_\"))*1+((LEN(A3)-LEN(SUBSTITUTE(A3,\"_CHO_\",\"\")))/LEN(\"_CHO_\"))*1+((LEN(A3)-LEN(SUBSTITUTE(A3,\"_COOH_\",\"\")))/LEN(\"_COOH_\"))*2","v":18},2,null,{"$f":"IF(ISERROR(FIND(\"O-\",A3)),IF(ISERROR(FIND(\"P-\",A3)),\"\",CONCATENATE(\"C\",F3,\"H\",G3,\"O\",I3,\"P\",J3)),CONCATENATE(\"C\",F3,\"H\",G3,\"O\",I3,\"P\",J3))","v":"C77H146O18P2"},1421.919864,{"$f":"IF(ISERROR(FIND(\"O-\",A3)),IF(ISERROR(FIND(\"P-\",A3)),\"\",(F3*12)+(G3*1.0078246)+(H3*14.003074)+(I3*15.994915)+(J3*30.973763)),(F3*12)+(G3*1.0078246)+(H3*14.003074)+(I3*15.994915)+(J3*30.973763))","v":1420.9983875999999},{"$f":"N3+1.0078246-0.00055","v":1422.0056622},{"$f":"O3-18.01057-0.00055","v":1403.9945422000001},{"$f":"N3+18.03437-0.00055","v":1439.0322076},{"$f":"N3+22.98977-0.00055","v":1443.9876075999998},{"$f":"N3+38.96371-0.00055","v":1459.9615475999999},{"$f":"N3+7.01601-0.00055","v":1428.0138476},{"$f":"N3-1.0078246+0.00055","v":1419.9911129999998},{"$f":"N3+44.99767+0.00055","v":1465.9966075999998},{"$f":"N3+59.01332+0.00055","v":1480.0122575999999}]
["CL O-68:2","CL O-68:2","68","2","O-",77,148,0,16,2,null,"C77H148O16P2",1391.9369439999998,1391.0242068,1392.0314814000001,1374.0203614000002,1409.0580268000001,1414.0134267999999,1429.9873668,1398.0396668000001,1390.0169321999999,1436.0224267999999,1450.0380768]
["CL O-68:1","CL O-68:1","68","1","O-",77,150,0,16,2,null,"C77H150O16P2",1393.9528239999997,1393.0398560000001,1394.0471306000002,1376.0360106000003,1411.0736760000002,1416.029076,1432.0030160000001,1400.0553160000002,1392.0325814,1438.038076,1452.0537260000001]
["CL(1'-[P-16:1/18:1],3'-[18:2/22:4])","CL P-59:8","59","8","P-",68,116,0,16,2,null,"C68H116O16P2",1251.5865639999997,1250.7738196,1251.7810942000001,1233.7699742000002,1268.8076396000001,1273.7630396,1289.7369796,1257.7892796000001,1249.766545,1295.7720396,1309.7876896]
["CL(1'-[O-16:1_18:2],3'-[18:1_18:1])__O__","CL O-55:5__O__","55","5","O-",64,114,0,17,2,null,"C64H114O17P2",1217.527284,1216.7530853999999,1217.76036,1199.7492400000001,1234.7869054,1239.7423053999999,1255.7162453999999,1223.7685454,1215.7458107999998,1261.7513053999999,1275.7669553999999]

{"sheet":"LPA_ether","index":50,"n_rows":5,"n_cols":23,"rows_kept":5,"cut":false,"hidden":false,"merged":[]}
["Lipid","Sum ComP-osition",null,null,null,null,"#C","#H","#O","#P",null,"Formula","Molecular Weight","Neutral Mass","[M+H]+","[M+H-H2O]+","[M+NH4]+","[M+Na]+","[M+K]+","[M+Li]+","[M-H]-","[M+HCOO]-","[M+CH3COO]-"]
["LPA O-16:0",{"$f":"IF(ISNUMBER(SEARCH(\"(\",A2)),IF(ISNUMBER(SEARCH(\"/\",A2)),CONCATENATE(MID(A2,1,2),\" \",MID(A2,4,2),SUM(MID(A2,FIND(\"(\",A2)+3,(FIND(\":\",A2)-(FIND(\"-\",A2)+1))),MID(A2,FIND(\"/\",A2)+1,(FIND(\":\",A2,FIND(\"/\",A2))-FIND(\"/\",A2)-1))),\":\",SUM(MID(A2,FIND(\":\",A2)+1,FIND(\"/\",A2)-(FIND(\":\",A2)+1)),MID(A2,FIND(\":\",A2,FIND(\"/\",A2))+1,FIND(\")\",A2)-FIND(\":\",A2,FIND(\"/\",A2))-1)),\" \",MID(A2,(FIND(\")\",A2)+1),100)),CONCATENATE(MID(A2,1,2),\" \",MID(A2,4,2),SUM(MID(A2,FIND(\"(\",A2)+3,(FIND(\":\",A2)-(FIND(\"-\",A2)+1))),MID(A2,FIND(\"_\",A2)+1,(FIND(\":\",A2,FIND(\"_\",A2))-FIND(\"_\",A2)-1))),\":\",SUM(MID(A2,FIND(\":\",A2)+1,FIND(\"_\",A2)-(FIND(\":\",A2)+1)),MID(A2,FIND(\":\",A2,FIND(\"_\",A2))+1,FIND(\")\",A2)-FIND(\":\",A2,FIND(\"_\",A2))-1)),\" \",MID(A2,(FIND(\")\",A2)+1),100))),A2)","v":"LPA O-16:0"},{"$f":"MID(B2,7,FIND(\":\",B2)-FIND(\"-\",B2)-1)","v":"16"},{"$f":"IF(ISNUMBER(VALUE(MID(B2,FIND(\":\",B2)+1,2))),MID(B2,FIND(\":\",B2)+1,2),MID(B2,FIND(\":\",B2)+1,1))","v":"0"},{"$f":"IF(ISERROR(FIND(\"O-\",A2)),IF(ISERROR(FIND(\"P-\",A2)),\"\",\"P-\"),\"O-\")","v":"O-"},null,{"$f":"C2+3","v":19},{"$f":"2*G2-(2*D2)+1+2*COUNTIF(B2,\"*O-*\")-((LEN(A2)-LEN(SUBSTITUTE(A2,\"_O_\",\"\")))/LEN(\"_O_\"))*2-((LEN(A2)-LEN(SUBSTITUTE(A2,\"_CHO_\",\"\")))/LEN(\"_CHO_\"))*2-((LEN(A2)-LEN(SUBSTITUTE(A2,\"_COOH_\",\"\")))/LEN(\"_COOH_\"))*2","v":41},{"$f":"6+((LEN(A2)-LEN(SUBSTITUTE(A2,\"_OH_\",\"\")))/LEN(\"_OH_\"))*1+((LEN(A2)-LEN(SUBSTITUTE(A2,\"_OOH_\",\"\")))/LEN(\"_OOH_\"))*2+((LEN(A2)-LEN(SUBSTITUTE(A2,\"_O_\",\"\")))/LEN(\"_O_\"))*1+((LEN(A2)-LEN(SUBSTITUTE(A2,\"_CHO_\",\"\")))/LEN(\"_CHO_\"))*1+((LEN(A2)-LEN(SUBSTITUTE(A2,\"_COOH_\",\"\")))/LEN(\"_COOH_\"))*2","v":6},1,null,{"$f":"IF(ISERROR(FIND(\"O-\",A2)),IF(ISERROR(FIND(\"P-\",A2)),\"\",CONCATENATE(\"C\",G2,\"H\",H2,\"O\",I2,\"P\",J2)),CONCATENATE(\"C\",G2,\"H\",H2,\"O\",I2,\"P\",J2))","v":"C19H41O6P1"},{"$f":"IF(ISERROR(FIND(\"O-\",A2)),IF(ISERROR(FIND(\"P-\",A2)),\"\",(G2*12.0107)+(H2*1.00794)+(I2*15.9994)+(J2*30.973762)),(G2*12.0107)+(H2*1.00794)+(I2*15.9994)+(J2*30.973762))","v":396.49900200000002},{"$f":"IF(ISERROR(FIND(\"O-\",A2)),IF(ISERROR(FIND(\"P-\",A2)),\"\",(G2*12)+(H2*1.0078246)+(I2*15.994915)+(J2*30.973763)),(G2*12)+(H2*1.0078246)+(I2*15.994915)+(J2*30.973763))","v":396.26406160000005},{"$f":"N2+1.0078246-0.00055","v":397.27133620000006},{"$f":"O2-18.01057-0.00055","v":379.26021620000006},{"$f":"N2+18.03437-0.00055","v":414.2978816000001},{"$f":"N2+22.98977-0.00055","v":419.25328160000009},{"$f":"N2+38.96371-0.00055","v":435.22722160000006},{"$f":"N2+7.01601-0.00055","v":403.27952160000007},{"$f":"N2-1.0078246+0.00055","v":395.25678700000003},{"$f":"N2+44.99767+0.00055","v":441.26228160000005},{"$f":"N2+59.01332+0.00055","v":455.27793160000004}]
["LPA O-18:0__O__O__",{"$f":"IF(ISNUMBER(SEARCH(\"(\",A3)),IF(ISNUMBER(SEARCH(\"/\",A3)),CONCATENATE(MID(A3,1,2),\" \",MID(A3,4,2),SUM(MID(A3,FIND(\"(\",A3)+3,(FIND(\":\",A3)-(FIND(\"-\",A3)+1))),MID(A3,FIND(\"/\",A3)+1,(FIND(\":\",A3,FIND(\"/\",A3))-FIND(\"/\",A3)-1))),\":\",SUM(MID(A3,FIND(\":\",A3)+1,FIND(\"/\",A3)-(FIND(\":\",A3)+1)),MID(A3,FIND(\":\",A3,FIND(\"/\",A3))+1,FIND(\")\",A3)-FIND(\":\",A3,FIND(\"/\",A3))-1)),\" \",MID(A3,(FIND(\")\",A3)+1),100)),CONCATENATE(MID(A3,1,2),\" \",MID(A3,4,2),SUM(MID(A3,FIND(\"(\",A3)+3,(FIND(\":\",A3)-(FIND(\"-\",A3)+1))),MID(A3,FIND(\"_\",A3)+1,(FIND(\":\",A3,FIND(\"_\",A3))-FIND(\"_\",A3)-1))),\":\",SUM(MID(A3,FIND(\":\",A3)+1,FIND(\"_\",A3)-(FIND(\":\",A3)+1)),MID(A3,FIND(\":\",A3,FIND(\"_\",A3))+1,FIND(\")\",A3)-FIND(\":\",A3,FIND(\"_\",A3))-1)),\" \",MID(A3,(FIND(\")\",A3)+1),100))),A3)","v":"LPA O-18:0__O__O__"},{"$f":"MID(B3,7,FIND(\":\",B3)-FIND(\"-\",B3)-1)","v":"18"},{"$f":"IF(ISNUMBER(VALUE(MID(B3,FIND(\":\",B3)+1,2))),MID(B3,FIND(\":\",B3)+1,2),MID(B3,FIND(\":\",B3)+1,1))","v":"0"},{"$f":"IF(ISERROR(FIND(\"O-\",A3)),IF(ISERROR(FIND(\"P-\",A3)),\"\",\"P-\"),\"O-\")","v":"O-"},null,{"$f":"C3+3","v":21},{"$f":"2*G3-(2*D3)+1+2*COUNTIF(B3,\"*O-*\")-((LEN(A3)-LEN(SUBSTITUTE(A3,\"_O_\",\"\")))/LEN(\"_O_\"))*2-((LEN(A3)-LEN(SUBSTITUTE(A3,\"_CHO_\",\"\")))/LEN(\"_CHO_\"))*2-((LEN(A3)-LEN(SUBSTITUTE(A3,\"_COOH_\",\"\")))/LEN(\"_COOH_\"))*2","v":41},{"$f":"6+((LEN(A3)-LEN(SUBSTITUTE(A3,\"_OH_\",\"\")))/LEN(\"_OH_\"))*1+((LEN(A3)-LEN(SUBSTITUTE(A3,\"_OOH_\",\"\")))/LEN(\"_OOH_\"))*2+((LEN(A3)-LEN(SUBSTITUTE(A3,\"_O_\",\"\")))/LEN(\"_O_\"))*1+((LEN(A3)-LEN(SUBSTITUTE(A3,\"_CHO_\",\"\")))/LEN(\"_CHO_\"))*1+((LEN(A3)-LEN(SUBSTITUTE(A3,\"_COOH_\",\"\")))/LEN(\"_COOH_\"))*2","v":8},1,null,{"$f":"IF(ISERROR(FIND(\"O-\",A3)),IF(ISERROR(FIND(\"P-\",A3)),\"\",CONCATENATE(\"C\",G3,\"H\",H3,\"O\",I3,\"P\",J3)),CONCATENATE(\"C\",G3,\"H\",H3,\"O\",I3,\"P\",J3))","v":"C21H41O8P1"},{"$f":"IF(ISERROR(FIND(\"O-\",A3)),IF(ISERROR(FIND(\"P-\",A3)),\"\",(G3*12.0107)+(H3*1.00794)+(I3*15.9994)+(J3*30.973762)),(G3*12.0107)+(H3*1.00794)+(I3*15.9994)+(J3*30.973762))","v":452.51920200000001},{"$f":"IF(ISERROR(FIND(\"O-\",A3)),IF(ISERROR(FIND(\"P-\",A3)),\"\",(G3*12)+(H3*1.0078246)+(I3*15.994915)+(J3*30.973763)),(G3*12)+(H3*1.0078246)+(I3*15.994915)+(J3*30.973763))","v":452.25389160000003},{"$f":"N3+1.0078246-0.00055","v":453.26116620000005},{"$f":"O3-18.01057-0.00055","v":435.25004620000004},{"$f":"N3+18.03437-0.00055","v":470.28771160000008},{"$f":"N3+22.98977-0.00055","v":475.24311160000008},{"$f":"N3+38.96371-0.00055","v":491.21705160000005},{"$f":"N3+7.01601-0.00055","v":459.26935160000005},{"$f":"N3-1.0078246+0.00055","v":451.24661700000001},{"$f":"N3+44.99767+0.00055","v":497.25211160000003},{"$f":"N3+59.01332+0.00055","v":511.26776160000003}]
["LPA P-18:1","LPA P-18:1","18","1","P-",null,21,41,6,1,null,"C21H41O6P1",{"$f":"IF(ISERROR(FIND(\"O-\",A4)),IF(ISERROR(FIND(\"P-\",A4)),\"\",(G4*12.0107)+(H4*1.00794)+(I4*15.9994)+(J4*30.973762)),(G4*12.0107)+(H4*1.00794)+(I4*15.9994)+(J4*30.973762))","v":420.52040199999999},420.26406160000005,421.27133620000006,403.26021620000006,438.2978816000001,443.25328160000009,459.22722160000006,427.27952160000007,419.25678700000003,465.26228160000005,479.27793160000004]
["LPA O-18:1",{"$f":"IF(ISNUMBER(SEARCH(\"(\",A5)),IF(ISNUMBER(SEARCH(\"/\",A5)),CONCATENATE(MID(A5,1,2),\" \",MID(A5,4,2),SUM(MID(A5,FIND(\"(\",A5)+3,(FIND(\":\",A5)-(FIND(\"-\",A5)+1))),MID(A5,FIND(\"/\",A5)+1,(FIND(\":\",A5,FIND(\"/\",A5))-FIND(\"/\",A5)-1))),\":\",SUM(MID(A5,FIND(\":\",A5)+1,FIND(\"/\",A5)-(FIND(\":\",A5)+1)),MID(A5,FIND(\":\",A5,FIND(\"/\",A5))+1,FIND(\")\",A5)-FIND(\":\",A5,FIND(\"/\",A5))-1)),\" \",MID(A5,(FIND(\")\",A5)+1),100)),CONCATENATE(MID(A5,1,2),\" \",MID(A5,4,2),SUM(MID(A5,FIND(\"(\",A5)+3,(FIND(\":\",A5)-(FIND(\"-\",A5)+1))),MID(A5,FIND(\"_\",A5)+1,(FIND(\":\",A5,FIND(\"_\",A5))-FIND(\"_\",A5)-1))),\":\",SUM(MID(A5,FIND(\":\",A5)+1,FIND(\"_\",A5)-(FIND(\":\",A5)+1)),MID(A5,FIND(\":\",A5,FIND(\"_\",A5))+1,FIND(\")\",A5)-FIND(\":\",A5,FIND(\"_\",A5))-1)),\" \",MID(A5,(FIND(\")\",A5)+1),100))),A5)","v":"LPA O-18:1"},{"$f":"MID(B5,7,FIND(\":\",B5)-FIND(\"-\",B5)-1)","v":"18"},{"$f":"IF(ISNUMBER(VALUE(MID(B5,FIND(\":\",B5)+1,2))),MID(B5,FIND(\":\",B5)+1,2),MID(B5,FIND(\":\",B5)+1,1))","v":"1"},{"$f":"IF(ISERROR(FIND(\"O-\",A5)),IF(ISERROR(FIND(\"P-\",A5)),\"\",\"P-\"),\"O-\")","v":"O-"},null,{"$f":"C5+3","v":21},{"$f":"2*G5-(2*D5)+1+2*COUNTIF(B5,\"*O-*\")-((LEN(A5)-LEN(SUBSTITUTE(A5,\"_O_\",\"\")))/LEN(\"_O_\"))*2-((LEN(A5)-LEN(SUBSTITUTE(A5,\"_CHO_\",\"\")))/LEN(\"_CHO_\"))*2-((LEN(A5)-LEN(SUBSTITUTE(A5,\"_COOH_\",\"\")))/LEN(\"_COOH_\"))*2","v":43},{"$f":"6+((LEN(A5)-LEN(SUBSTITUTE(A5,\"_OH_\",\"\")))/LEN(\"_OH_\"))*1+((LEN(A5)-LEN(SUBSTITUTE(A5,\"_OOH_\",\"\")))/LEN(\"_OOH_\"))*2+((LEN(A5)-LEN(SUBSTITUTE(A5,\"_O_\",\"\")))/LEN(\"_O_\"))*1+((LEN(A5)-LEN(SUBSTITUTE(A5,\"_CHO_\",\"\")))/LEN(\"_CHO_\"))*1+((LEN(A5)-LEN(SUBSTITUTE(A5,\"_COOH_\",\"\")))/LEN(\"_COOH_\"))*2","v":6},1,null,{"$f":"IF(ISERROR(FIND(\"O-\",A5)),IF(ISERROR(FIND(\"P-\",A5)),\"\",CONCATENATE(\"C\",G5,\"H\",H5,\"O\",I5,\"P\",J5)),CONCATENATE(\"C\",G5,\"H\",H5,\"O\",I5,\"P\",J5))","v":"C21H43O6P1"},{"$f":"IF(ISERROR(FIND(\"O-\",A5)),IF(ISERROR(FIND(\"P-\",A5)),\"\",(G5*12.0107)+(H5*1.00794)+(I5*15.9994)+(J5*30.973762)),(G5*12.0107)+(H5*1.00794)+(I5*15.9994)+(J5*30.973762))","v":422.53628199999997},{"$f":"IF(ISERROR(FIND(\"O-\",A5)),IF(ISERROR(FIND(\"P-\",A5)),\"\",(G5*12)+(H5*1.0078246)+(I5*15.994915)+(J5*30.973763)),(G5*12)+(H5*1.0078246)+(I5*15.994915)+(J5*30.973763))","v":422.27971080000003},{"$f":"N5+1.0078246-0.00055","v":423.28698540000005},{"$f":"O5-18.01057-0.00055","v":405.27586540000004},{"$f":"N5+18.03437-0.00055","v":440.31353080000008},{"$f":"N5+22.98977-0.00055","v":445.26893080000008},{"$f":"N5+38.96371-0.00055","v":461.24287080000005},{"$f":"N5+7.01601-0.00055","v":429.29517080000005},{"$f":"N5-1.0078246+0.00055","v":421.27243620000002},{"$f":"N5+44.99767+0.00055","v":467.27793080000004},{"$f":"N5+59.01332+0.00055","v":481.29358080000003}]

{"sheet":"PA_ether","index":51,"n_rows":5,"n_cols":23,"rows_kept":5,"cut":false,"hidden":false,"merged":[]}
["Lipid","Sum Composition",null,null,null,null,"#C","#H","#O","#P",null,"Formula","Molecular Weight","Neutral Mass","[M+H]+","[M+H-H2O]+","[M+NH4]+","[M+Na]+","[M+K]+","[M+Li]+","[M-H]-","[M+HCOO]-","[M+CH3COO]-"]
["PA O-32:0",{"$f":"IF(ISNUMBER(SEARCH(\"(\",A2)),IF(ISNUMBER(SEARCH(\"/\",A2)),CONCATENATE(MID(A2,1,2),\" \",MID(A2,4,2),SUM(MID(A2,FIND(\"(\",A2)+3,(FIND(\":\",A2)-(FIND(\"-\",A2)+1))),MID(A2,FIND(\"/\",A2)+1,(FIND(\":\",A2,FIND(\"/\",A2))-FIND(\"/\",A2)-1))),\":\",SUM(MID(A2,FIND(\":\",A2)+1,FIND(\"/\",A2)-(FIND(\":\",A2)+1)),MID(A2,FIND(\":\",A2,FIND(\"/\",A2))+1,FIND(\")\",A2)-FIND(\":\",A2,FIND(\"/\",A2))-1)),\" \",MID(A2,(FIND(\")\",A2)+1),100)),CONCATENATE(MID(A2,1,2),\" \",MID(A2,4,2),SUM(MID(A2,FIND(\"(\",A2)+3,(FIND(\":\",A2)-(FIND(\"-\",A2)+1))),MID(A2,FIND(\"_\",A2)+1,(FIND(\":\",A2,FIND(\"_\",A2))-FIND(\"_\",A2)-1))),\":\",SUM(MID(A2,FIND(\":\",A2)+1,FIND(\"_\",A2)-(FIND(\":\",A2)+1)),MID(A2,FIND(\":\",A2,FIND(\"_\",A2))+1,FIND(\")\",A2)-FIND(\":\",A2,FIND(\"_\",A2))-1)),\" \",MID(A2,(FIND(\")\",A2)+1),100))),A2)","v":"PA O-32:0"},{"$f":"MID(B2,6,FIND(\":\",B2)-FIND(\"-\",B2)-1)","v":"32"},{"$f":"IF(ISNUMBER(VALUE(MID(B2,FIND(\":\",B2)+1,2))),MID(B2,FIND(\":\",B2)+1,2),MID(B2,FIND(\":\",B2)+1,1))","v":"0"},{"$f":"IF(ISERROR(FIND(\"O-\",A2)),IF(ISERROR(FIND(\"P-\",A2)),\"\",\"P-\"),\"O-\")","v":"O-"},null,{"$f":"C2+3","v":35},{"$f":"2*G2-(2*D2)-1+2*COUNTIF(E2,\"*O-*\")-((LEN(A2)-LEN(SUBSTITUTE(A2,\"_O_\",\"\")))/LEN(\"_O_\"))*2-((LEN(A2)-LEN(SUBSTITUTE(A2,\"_CHO_\",\"\")))/LEN(\"_CHO_\"))*2-((LEN(A2)-LEN(SUBSTITUTE(A2,\"_COOH_\",\"\")))/LEN(\"_COOH_\"))*2","v":71},{"$f":"7+((LEN(A2)-LEN(SUBSTITUTE(A2,\"_OH_\",\"\")))/LEN(\"_OH_\"))*1+((LEN(A2)-LEN(SUBSTITUTE(A2,\"_OOH_\",\"\")))/LEN(\"_OOH_\"))*2+((LEN(A2)-LEN(SUBSTITUTE(A2,\"_O_\",\"\")))/LEN(\"_O_\"))*1+((LEN(A2)-LEN(SUBSTITUTE(A2,\"_CHO_\",\"\")))/LEN(\"_CHO_\"))*1+((LEN(A2)-LEN(SUBSTITUTE(A2,\"_COOH_\",\"\")))/LEN(\"_COOH_\"))*2","v":7},1,null,{"$f":"IF(ISERROR(FIND(\"O-\",A2)),IF(ISERROR(FIND(\"P-\",A2)),\"\",CONCATENATE(\"C\",G2,\"H\",H2,\"O\",I2,\"P\",J2)),CONCATENATE(\"C\",G2,\"H\",H2,\"O\",I2,\"P\",J2))","v":"C35H71O7P1"},{"$f":"IF(ISERROR(FIND(\"O-\",A2)),IF(ISERROR(FIND(\"P-\",A2)),\"\",(G2*12.0107)+(H2-1)*1.00794+(I2*15.9994)+(J2*30.973762)),(G2*12.0107)+(H2-1)*1.00794+(I2*15.9994)+(J2*30.973762))","v":633.89986199999998},{"$f":"IF(ISERROR(FIND(\"O-\",A2)),IF(ISERROR(FIND(\"P-\",A2)),\"\",(G2*12)+(H2-1)*1.0078246+(I2*15.994915)+(J2*30.973763)),(G2*12)+(H2-1)*1.0078246+(I2*15.994915)+(J2*30.973763))","v":633.48588999999993},{"$f":"N2+1.0078246-0.00055","v":634.4931646},{"$f":"O2-18.01057-0.00055","v":616.48204459999999},{"$f":"N2+18.03437-0.00055","v":651.51970999999992},{"$f":"N2+22.98977-0.00055","v":656.47510999999997},{"$f":"N2+38.96371-0.00055","v":672.44904999999994},{"$f":"N2+7.01601-0.00055","v":640.50135},{"$f":"N2-1.0078246+0.00055","v":632.47861539999985},{"$f":"N2+44.99767+0.00055","v":678.48410999999987},{"$f":"N2+59.01332+0.00055","v":692.49975999999992}]
["PA O-34:0",{"$f":"IF(ISNUMBER(SEARCH(\"(\",A3)),IF(ISNUMBER(SEARCH(\"/\",A3)),CONCATENATE(MID(A3,1,2),\" \",MID(A3,4,2),SUM(MID(A3,FIND(\"(\",A3)+3,(FIND(\":\",A3)-(FIND(\"-\",A3)+1))),MID(A3,FIND(\"/\",A3)+1,(FIND(\":\",A3,FIND(\"/\",A3))-FIND(\"/\",A3)-1))),\":\",SUM(MID(A3,FIND(\":\",A3)+1,FIND(\"/\",A3)-(FIND(\":\",A3)+1)),MID(A3,FIND(\":\",A3,FIND(\"/\",A3))+1,FIND(\")\",A3)-FIND(\":\",A3,FIND(\"/\",A3))-1)),\" \",MID(A3,(FIND(\")\",A3)+1),100)),CONCATENATE(MID(A3,1,2),\" \",MID(A3,4,2),SUM(MID(A3,FIND(\"(\",A3)+3,(FIND(\":\",A3)-(FIND(\"-\",A3)+1))),MID(A3,FIND(\"_\",A3)+1,(FIND(\":\",A3,FIND(\"_\",A3))-FIND(\"_\",A3)-1))),\":\",SUM(MID(A3,FIND(\":\",A3)+1,FIND(\"_\",A3)-(FIND(\":\",A3)+1)),MID(A3,FIND(\":\",A3,FIND(\"_\",A3))+1,FIND(\")\",A3)-FIND(\":\",A3,FIND(\"_\",A3))-1)),\" \",MID(A3,(FIND(\")\",A3)+1),100))),A3)","v":"PA O-34:0"},{"$f":"MID(B3,6,FIND(\":\",B3)-FIND(\"-\",B3)-1)","v":"34"},{"$f":"IF(ISNUMBER(VALUE(MID(B3,FIND(\":\",B3)+1,2))),MID(B3,FIND(\":\",B3)+1,2),MID(B3,FIND(\":\",B3)+1,1))","v":"0"},{"$f":"IF(ISERROR(FIND(\"O-\",A3)),IF(ISERROR(FIND(\"P-\",A3)),\"\",\"P-\"),\"O-\")","v":"O-"},null,{"$f":"C3+3","v":37},{"$f":"2*G3-(2*D3)-1+2*COUNTIF(E3,\"*O-*\")-((LEN(A3)-LEN(SUBSTITUTE(A3,\"_O_\",\"\")))/LEN(\"_O_\"))*2-((LEN(A3)-LEN(SUBSTITUTE(A3,\"_CHO_\",\"\")))/LEN(\"_CHO_\"))*2-((LEN(A3)-LEN(SUBSTITUTE(A3,\"_COOH_\",\"\")))/LEN(\"_COOH_\"))*2","v":75},{"$f":"7+((LEN(A3)-LEN(SUBSTITUTE(A3,\"_OH_\",\"\")))/LEN(\"_OH_\"))*1+((LEN(A3)-LEN(SUBSTITUTE(A3,\"_OOH_\",\"\")))/LEN(\"_OOH_\"))*2+((LEN(A3)-LEN(SUBSTITUTE(A3,\"_O_\",\"\")))/LEN(\"_O_\"))*1+((LEN(A3)-LEN(SUBSTITUTE(A3,\"_CHO_\",\"\")))/LEN(\"_CHO_\"))*1+((LEN(A3)-LEN(SUBSTITUTE(A3,\"_COOH_\",\"\")))/LEN(\"_COOH_\"))*2","v":7},1,null,{"$f":"IF(ISERROR(FIND(\"O-\",A3)),IF(ISERROR(FIND(\"P-\",A3)),\"\",CONCATENATE(\"C\",G3,\"H\",H3,\"O\",I3,\"P\",J3)),CONCATENATE(\"C\",G3,\"H\",H3,\"O\",I3,\"P\",J3))","v":"C37H75O7P1"},{"$f":"IF(ISERROR(FIND(\"O-\",A3)),IF(ISERROR(FIND(\"P-\",A3)),\"\",(G3*12.0107)+(H3-1)*1.00794+(I3*15.9994)+(J3*30.973762)),(G3*12.0107)+(H3-1)*1.00794+(I3*15.9994)+(J3*30.973762))","v":661.95302200000003},{"$f":"IF(ISERROR(FIND(\"O-\",A3)),IF(ISERROR(FIND(\"P-\",A3)),\"\",(G3*12)+(H3-1)*1.0078246+(I3*15.994915)+(J3*30.973763)),(G3*12)+(H3-1)*1.0078246+(I3*15.994915)+(J3*30.973763))","v":661.5171883999999},{"$f":"N3+1.0078246-0.00055","v":662.52446299999997},{"$f":"O3-18.01057-0.00055","v":644.51334299999996},{"$f":"N3+18.03437-0.00055","v":679.55100839999989},{"$f":"N3+22.98977-0.00055","v":684.50640839999994},{"$f":"N3+38.96371-0.00055","v":700.48034839999991},{"$f":"N3+7.01601-0.00055","v":668.53264839999997},{"$f":"N3-1.0078246+0.00055","v":660.50991379999982},{"$f":"N3+44.99767+0.00055","v":706.51540839999984},{"$f":"N3+59.01332+0.00055","v":720.53105839999989}]
["PA(O-18:0/18:2)",{"$f":"IF(ISNUMBER(SEARCH(\"(\",A4)),IF(ISNUMBER(SEARCH(\"/\",A4)),CONCATENATE(MID(A4,1,2),\" \",MID(A4,4,2),SUM(MID(A4,FIND(\"(\",A4)+3,(FIND(\":\",A4)-(FIND(\"-\",A4)+1))),MID(A4,FIND(\"/\",A4)+1,(FIND(\":\",A4,FIND(\"/\",A4))-FIND(\"/\",A4)-1))),\":\",SUM(MID(A4,FIND(\":\",A4)+1,FIND(\"/\",A4)-(FIND(\":\",A4)+1)),MID(A4,FIND(\":\",A4,FIND(\"/\",A4))+1,FIND(\")\",A4)-FIND(\":\",A4,FIND(\"/\",A4))-1)),\" \",MID(A4,(FIND(\")\",A4)+1),100)),CONCATENATE(MID(A4,1,2),\" \",MID(A4,4,2),SUM(MID(A4,FIND(\"(\",A4)+3,(FIND(\":\",A4)-(FIND(\"-\",A4)+1))),MID(A4,FIND(\"_\",A4)+1,(FIND(\":\",A4,FIND(\"_\",A4))-FIND(\"_\",A4)-1))),\":\",SUM(MID(A4,FIND(\":\",A4)+1,FIND(\"_\",A4)-(FIND(\":\",A4)+1)),MID(A4,FIND(\":\",A4,FIND(\"_\",A4))+1,FIND(\")\",A4)-FIND(\":\",A4,FIND(\"_\",A4))-1)),\" \",MID(A4,(FIND(\")\",A4)+1),100))),A4)","v":"PA O-36:2 "},{"$f":"MID(B4,6,FIND(\":\",B4)-FIND(\"-\",B4)-1)","v":"36"},{"$f":"IF(ISNUMBER(VALUE(MID(B4,FIND(\":\",B4)+1,2))),MID(B4,FIND(\":\",B4)+1,2),MID(B4,FIND(\":\",B4)+1,1))","v":"2 "},{"$f":"IF(ISERROR(FIND(\"O-\",A4)),IF(ISERROR(FIND(\"P-\",A4)),\"\",\"P-\"),\"O-\")","v":"O-"},null,{"$f":"C4+3","v":39},{"$f":"2*G4-(2*D4)-1+2*COUNTIF(E4,\"*O-*\")-((LEN(A4)-LEN(SUBSTITUTE(A4,\"_O_\",\"\")))/LEN(\"_O_\"))*2-((LEN(A4)-LEN(SUBSTITUTE(A4,\"_CHO_\",\"\")))/LEN(\"_CHO_\"))*2-((LEN(A4)-LEN(SUBSTITUTE(A4,\"_COOH_\",\"\")))/LEN(\"_COOH_\"))*2","v":75},{"$f":"7+((LEN(A4)-LEN(SUBSTITUTE(A4,\"_OH_\",\"\")))/LEN(\"_OH_\"))*1+((LEN(A4)-LEN(SUBSTITUTE(A4,\"_OOH_\",\"\")))/LEN(\"_OOH_\"))*2+((LEN(A4)-LEN(SUBSTITUTE(A4,\"_O_\",\"\")))/LEN(\"_O_\"))*1+((LEN(A4)-LEN(SUBSTITUTE(A4,\"_CHO_\",\"\")))/LEN(\"_CHO_\"))*1+((LEN(A4)-LEN(SUBSTITUTE(A4,\"_COOH_\",\"\")))/LEN(\"_COOH_\"))*2","v":7},1,null,{"$f":"IF(ISERROR(FIND(\"O-\",A4)),IF(ISERROR(FIND(\"P-\",A4)),\"\",CONCATENATE(\"C\",G4,\"H\",H4,\"O\",I4,\"P\",J4)),CONCATENATE(\"C\",G4,\"H\",H4,\"O\",I4,\"P\",J4))","v":"C39H75O7P1"},{"$f":"IF(ISERROR(FIND(\"O-\",A4)),IF(ISERROR(FIND(\"P-\",A4)),\"\",(G4*12.0107)+(H4-1)*1.00794+(I4*15.9994)+(J4*30.973762)),(G4*12.0107)+(H4-1)*1.00794+(I4*15.9994)+(J4*30.973762))","v":685.974422},{"$f":"IF(ISERROR(FIND(\"O-\",A4)),IF(ISERROR(FIND(\"P-\",A4)),\"\",(G4*12)+(H4-1)*1.0078246+(I4*15.994915)+(J4*30.973763)),(G4*12)+(H4-1)*1.0078246+(I4*15.994915)+(J4*30.973763))","v":685.5171883999999},{"$f":"N4+1.0078246-0.00055","v":686.52446299999997},{"$f":"O4-18.01057-0.00055","v":668.51334299999996},{"$f":"N4+18.03437-0.00055","v":703.55100839999989},{"$f":"N4+22.98977-0.00055","v":708.50640839999994},{"$f":"N4+38.96371-0.00055","v":724.48034839999991},{"$f":"N4+7.01601-0.00055","v":692.53264839999997},{"$f":"N4-1.0078246+0.00055","v":684.50991379999982},{"$f":"N4+44.99767+0.00055","v":730.51540839999984},{"$f":"N4+59.01332+0.00055","v":744.53105839999989}]
["PA(P-18:1_18:1)","PA P-36:2 ","36","2 ","P-",null,39,73,7,1,null,"C39H73O7P1",{"$f":"IF(ISERROR(FIND(\"O-\",A5)),IF(ISERROR(FIND(\"P-\",A5)),\"\",(G5*12.0107)+(H5-1)*1.00794+(I5*15.9994)+(J5*30.973762)),(G5*12.0107)+(H5-1)*1.00794+(I5*15.9994)+(J5*30.973762))","v":683.95854199999997},683.50153920000002,684.5088138000001,666.49769380000009,701.53535920000002,706.49075920000007,722.46469920000004,690.5169992000001,682.49426459999995,728.49975919999997,742.51540920000002]

{"sheet":"LPC_ether","index":52,"n_rows":5,"n_cols":23,"rows_kept":5,"cut":false,"hidden":false,"merged":[]}
["Lipid","Sum Composition",null,null,null,null,"#C","#H","#N","#O","#P","Formula","Molecular Weight","Neutral Mass","[M+H]+","[M+H-H2O]+","[M+NH4]+","[M+Na]+","[M+K]+","[M+Li]+","[M-H]-","[M+HCOO]-","[M+CH3COO]-"]
["LPC O-14:0__O__",{"$f":"IF(ISNUMBER(SEARCH(\"(\",A2)),IF(ISNUMBER(SEARCH(\"/\",A2)),CONCATENATE(MID(A2,1,2),\" \",MID(A2,4,2),SUM(MID(A2,FIND(\"(\",A2)+3,(FIND(\":\",A2)-(FIND(\"-\",A2)+1))),MID(A2,FIND(\"/\",A2)+1,(FIND(\":\",A2,FIND(\"/\",A2))-FIND(\"/\",A2)-1))),\":\",SUM(MID(A2,FIND(\":\",A2)+1,FIND(\"/\",A2)-(FIND(\":\",A2)+1)),MID(A2,FIND(\":\",A2,FIND(\"/\",A2))+1,FIND(\")\",A2)-FIND(\":\",A2,FIND(\"/\",A2))-1)),\" \",MID(A2,(FIND(\")\",A2)+1),100)),CONCATENATE(MID(A2,1,2),\" \",MID(A2,4,2),SUM(MID(A2,FIND(\"(\",A2)+3,(FIND(\":\",A2)-(FIND(\"-\",A2)+1))),MID(A2,FIND(\"_\",A2)+1,(FIND(\":\",A2,FIND(\"_\",A2))-FIND(\"_\",A2)-1))),\":\",SUM(MID(A2,FIND(\":\",A2)+1,FIND(\"_\",A2)-(FIND(\":\",A2)+1)),MID(A2,FIND(\":\",A2,FIND(\"_\",A2))+1,FIND(\")\",A2)-FIND(\":\",A2,FIND(\"_\",A2))-1)),\" \",MID(A2,(FIND(\")\",A2)+1),100))),A2)","v":"LPC O-14:0__O__"},{"$f":"MID(B2,7,FIND(\":\",B2)-FIND(\"-\",B2)-1)","v":"14"},{"$f":"IF(ISNUMBER(VALUE(MID(B2,FIND(\":\",B2)+1,2))),MID(B2,FIND(\":\",B2)+1,2),MID(B2,FIND(\":\",B2)+1,1))","v":"0"},{"$f":"IF(ISERROR(FIND(\"O-\",A2)),IF(ISERROR(FIND(\"P-\",A2)),\"\",\"P-\"),\"O-\")","v":"O-"},null,{"$f":"C2+8","v":22},{"$f":"2*G2-(2*D2)+2+2*COUNTIF(B2,\"*O-*\")-((LEN(A2)-LEN(SUBSTITUTE(A2,\"_O_\",\"\")))/LEN(\"_O_\"))*2-((LEN(A2)-LEN(SUBSTITUTE(A2,\"_CHO_\",\"\")))/LEN(\"_CHO_\"))*2-((LEN(A2)-LEN(SUBSTITUTE(A2,\"_COOH_\",\"\")))/LEN(\"_COOH_\"))*2","v":46},1,{"$f":"6+((LEN(A2)-LEN(SUBSTITUTE(A2,\"_OH_\",\"\")))/LEN(\"_OH_\"))*1+((LEN(A2)-LEN(SUBSTITUTE(A2,\"_OOH_\",\"\")))/LEN(\"_OOH_\"))*2+((LEN(A2)-LEN(SUBSTITUTE(A2,\"_O_\",\"\")))/LEN(\"_O_\"))*1+((LEN(A2)-LEN(SUBSTITUTE(A2,\"_CHO_\",\"\")))/LEN(\"_CHO_\"))*1+((LEN(A2)-LEN(SUBSTITUTE(A2,\"_COOH_\",\"\")))/LEN(\"_COOH_\"))*2","v":7},1,{"$f":"IF(ISERROR(FIND(\"O-\",A2)),IF(ISERROR(FIND(\"P-\",A2)),\"\",CONCATENATE(\"C\",G2,\"H\",H2,\"N\",I2,\"O\",J2,\"P\",K2)),CONCATENATE(\"C\",G2,\"H\",H2,\"N\",I2,\"O\",J2,\"P\",K2))","v":"C22H46N1O7P1"},{"$f":"IF(ISERROR(FIND(\"O-\",A2)),IF(ISERROR(FIND(\"P-\",A2)),\"\",(G2*12.0107)+(H2*1.00794)+(I2*14.0067)+(J2*15.9994)+(K2*30.973762)),(G2*12.0107)+(H2*1.00794)+(I2*14.0067)+(J2*15.9994)+(K2*30.973762))","v":467.57690200000008},{"$f":"IF(ISERROR(FIND(\"O-\",A2)),IF(ISERROR(FIND(\"P-\",A2)),\"\",(G2*12)+(H2*1.0078246)+(I2*14.003074)+(J2*15.994915)+(K2*30.973763)),(G2*12)+(H2*1.0078246)+(I2*14.003074)+(J2*15.994915)+(K2*30.973763))","v":467.30117360000003},{"$f":"N2+1.0078246-0.00055","v":468.30844820000004},{"$f":"O2-18.01057-0.00055","v":450.29732820000004},{"$f":"N2+18.03437-0.00055","v":485.33499360000008},{"$f":"N2+22.98977-0.00055","v":490.29039360000007},{"$f":"N2+38.96371-0.00055","v":506.26433360000004},{"$f":"N2+7.01601-0.00055","v":474.31663360000005},{"$f":"N2-1.0078246+0.00055","v":466.29389900000001},{"$f":"N2+44.99767+0.00055","v":512.29939360000003},{"$f":"N2+59.01332+0.00055","v":526.31504359999997}]
["LPC O-14:0",{"$f":"IF(ISNUMBER(SEARCH(\"(\",A3)),IF(ISNUMBER(SEARCH(\"/\",A3)),CONCATENATE(MID(A3,1,2),\" \",MID(A3,4,2),SUM(MID(A3,FIND(\"(\",A3)+3,(FIND(\":\",A3)-(FIND(\"-\",A3)+1))),MID(A3,FIND(\"/\",A3)+1,(FIND(\":\",A3,FIND(\"/\",A3))-FIND(\"/\",A3)-1))),\":\",SUM(MID(A3,FIND(\":\",A3)+1,FIND(\"/\",A3)-(FIND(\":\",A3)+1)),MID(A3,FIND(\":\",A3,FIND(\"/\",A3))+1,FIND(\")\",A3)-FIND(\":\",A3,FIND(\"/\",A3))-1)),\" \",MID(A3,(FIND(\")\",A3)+1),100)),CONCATENATE(MID(A3,1,2),\" \",MID(A3,4,2),SUM(MID(A3,FIND(\"(\",A3)+3,(FIND(\":\",A3)-(FIND(\"-\",A3)+1))),MID(A3,FIND(\"_\",A3)+1,(FIND(\":\",A3,FIND(\"_\",A3))-FIND(\"_\",A3)-1))),\":\",SUM(MID(A3,FIND(\":\",A3)+1,FIND(\"_\",A3)-(FIND(\":\",A3)+1)),MID(A3,FIND(\":\",A3,FIND(\"_\",A3))+1,FIND(\")\",A3)-FIND(\":\",A3,FIND(\"_\",A3))-1)),\" \",MID(A3,(FIND(\")\",A3)+1),100))),A3)","v":"LPC O-14:0"},{"$f":"MID(B3,7,FIND(\":\",B3)-FIND(\"-\",B3)-1)","v":"14"},{"$f":"IF(ISNUMBER(VALUE(MID(B3,FIND(\":\",B3)+1,2))),MID(B3,FIND(\":\",B3)+1,2),MID(B3,FIND(\":\",B3)+1,1))","v":"0"},{"$f":"IF(ISERROR(FIND(\"O-\",A3)),IF(ISERROR(FIND(\"P-\",A3)),\"\",\"P-\"),\"O-\")","v":"O-"},null,{"$f":"C3+8","v":22},{"$f":"2*G3-(2*D3)+2+2*COUNTIF(B3,\"*O-*\")-((LEN(A3)-LEN(SUBSTITUTE(A3,\"_O_\",\"\")))/LEN(\"_O_\"))*2-((LEN(A3)-LEN(SUBSTITUTE(A3,\"_CHO_\",\"\")))/LEN(\"_CHO_\"))*2-((LEN(A3)-LEN(SUBSTITUTE(A3,\"_COOH_\",\"\")))/LEN(\"_COOH_\"))*2","v":48},1,{"$f":"6+((LEN(A3)-LEN(SUBSTITUTE(A3,\"_OH_\",\"\")))/LEN(\"_OH_\"))*1+((LEN(A3)-LEN(SUBSTITUTE(A3,\"_OOH_\",\"\")))/LEN(\"_OOH_\"))*2+((LEN(A3)-LEN(SUBSTITUTE(A3,\"_O_\",\"\")))/LEN(\"_O_\"))*1+((LEN(A3)-LEN(SUBSTITUTE(A3,\"_CHO_\",\"\")))/LEN(\"_CHO_\"))*1+((LEN(A3)-LEN(SUBSTITUTE(A3,\"_COOH_\",\"\")))/LEN(\"_COOH_\"))*2","v":6},1,{"$f":"IF(ISERROR(FIND(\"O-\",A3)),IF(ISERROR(FIND(\"P-\",A3)),\"\",CONCATENATE(\"C\",G3,\"H\",H3,\"N\",I3,\"O\",J3,\"P\",K3)),CONCATENATE(\"C\",G3,\"H\",H3,\"N\",I3,\"O\",J3,\"P\",K3))","v":"C22H48N1O6P1"},{"$f":"IF(ISERROR(FIND(\"O-\",A3)),IF(ISERROR(FIND(\"P-\",A3)),\"\",(G3*12.0107)+(H3*1.00794)+(I3*14.0067)+(J3*15.9994)+(K3*30.973762)),(G3*12.0107)+(H3*1.00794)+(I3*14.0067)+(J3*15.9994)+(K3*30.973762))","v":453.59338200000008},{"$f":"IF(ISERROR(FIND(\"O-\",A3)),IF(ISERROR(FIND(\"P-\",A3)),\"\",(G3*12)+(H3*1.0078246)+(I3*14.003074)+(J3*15.994915)+(K3*30.973763)),(G3*12)+(H3*1.0078246)+(I3*14.003074)+(J3*15.994915)+(K3*30.973763))","v":453.32190780000002},{"$f":"N3+1.0078246-0.00055","v":454.32918240000004},{"$f":"O3-18.01057-0.00055","v":436.31806240000003},{"$f":"N3+18.03437-0.00055","v":471.35572780000007},{"$f":"N3+22.98977-0.00055","v":476.31112780000007},{"$f":"N3+38.96371-0.00055","v":492.28506780000004},{"$f":"N3+7.01601-0.00055","v":460.33736780000004},{"$f":"N3-1.0078246+0.00055","v":452.3146332},{"$f":"N3+44.99767+0.00055","v":498.32012780000002},{"$f":"N3+59.01332+0.00055","v":512.33577779999996}]
["LPC O-16:0","LPC O-16:0","16","0","O-",null,24,52,1,6,1,"C24H52N1O6P1",{"$f":"IF(ISERROR(FIND(\"O-\",A4)),IF(ISERROR(FIND(\"P-\",A4)),\"\",(G4*12.0107)+(H4*1.00794)+(I4*14.0067)+(J4*15.9994)+(K4*30.973762)),(G4*12.0107)+(H4*1.00794)+(I4*14.0067)+(J4*15.9994)+(K4*30.973762))","v":481.64654200000001},481.35320620000005,482.36048080000006,464.34936080000011,499.38702620000009,504.34242620000009,520.31636620000006,488.36866620000006,480.34593160000003,526.35142619999999,540.36707620000004]
["LPC P-16:0","LPC P-16:0","16","0","P-",null,24,50,1,6,1,"C24H50N1O6P1",{"$f":"IF(ISERROR(FIND(\"O-\",A5)),IF(ISERROR(FIND(\"P-\",A5)),\"\",(G5*12.0107)+(H5*1.00794)+(I5*14.0067)+(J5*15.9994)+(K5*30.973762)),(G5*12.0107)+(H5*1.00794)+(I5*14.0067)+(J5*15.9994)+(K5*30.973762))","v":479.63066200000003},479.33755700000006,480.34483160000008,462.33371160000013,497.37137700000011,502.32677700000011,518.30071700000008,486.35301700000008,478.33028240000004,524.33577700000001,538.35142700000006]

{"sheet":"PC_ether","index":53,"n_rows":5,"n_cols":23,"rows_kept":5,"cut":false,"hidden":false,"merged":[]}
["Lipid","Sum Composition",null,null,null,null,"#C","#H","#N","#O","#P","Formula","Molecular Weight","Neutral Mass","[M+H]+","[M+H-H2O]+","[M+NH4]+","[M+Na]+","[M+K]+","[M+Li]+","[M-H]-","[M+HCOO]-","[M+CH3COO]-"]
["PC O-16:0",{"$f":"IF(ISNUMBER(SEARCH(\"(\",A2)),IF(ISNUMBER(SEARCH(\"/\",A2)),CONCATENATE(MID(A2,1,2),\" \",MID(A2,4,2),SUM(MID(A2,FIND(\"(\",A2)+3,(FIND(\":\",A2)-(FIND(\"-\",A2)+1))),MID(A2,FIND(\"/\",A2)+1,(FIND(\":\",A2,FIND(\"/\",A2))-FIND(\"/\",A2)-1))),\":\",SUM(MID(A2,FIND(\":\",A2)+1,FIND(\"/\",A2)-(FIND(\":\",A2)+1)),MID(A2,FIND(\":\",A2,FIND(\"/\",A2))+1,FIND(\")\",A2)-FIND(\":\",A2,FIND(\"/\",A2))-1)),\" \",MID(A2,(FIND(\")\",A2)+1),100)),CONCATENATE(MID(A2,1,2),\" \",MID(A2,4,2),SUM(MID(A2,FIND(\"(\",A2)+3,(FIND(\":\",A2)-(FIND(\"-\",A2)+1))),MID(A2,FIND(\"_\",A2)+1,(FIND(\":\",A2,FIND(\"_\",A2))-FIND(\"_\",A2)-1))),\":\",SUM(MID(A2,FIND(\":\",A2)+1,FIND(\"_\",A2)-(FIND(\":\",A2)+1)),MID(A2,FIND(\":\",A2,FIND(\"_\",A2))+1,FIND(\")\",A2)-FIND(\":\",A2,FIND(\"_\",A2))-1)),\" \",MID(A2,(FIND(\")\",A2)+1),100))),A2)","v":"PC O-16:0"},{"$f":"MID(B2,6,FIND(\":\",B2)-FIND(\"-\",B2)-1)","v":"16"},{"$f":"IF(ISNUMBER(VALUE(MID(B2,FIND(\":\",B2)+1,2))),MID(B2,FIND(\":\",B2)+1,2),MID(B2,FIND(\":\",B2)+1,1))","v":"0"},{"$f":"IF(ISERROR(FIND(\"O-\",A2)),IF(ISERROR(FIND(\"P-\",A2)),\"\",\"P-\"),\"O-\")","v":"O-"},null,{"$f":"C2+8","v":24},{"$f":"2*G2-(2*D2)+2*COUNTIF(B2,\"*O-*\")-((LEN(A2)-LEN(SUBSTITUTE(A2,\"_O_\",\"\")))/LEN(\"_O_\"))*2-((LEN(A2)-LEN(SUBSTITUTE(A2,\"_CHO_\",\"\")))/LEN(\"_CHO_\"))*2-((LEN(A2)-LEN(SUBSTITUTE(A2,\"_COOH_\",\"\")))/LEN(\"_COOH_\"))*2","v":50},1,{"$f":"7+((LEN(A2)-LEN(SUBSTITUTE(A2,\"_OH_\",\"\")))/LEN(\"_OH_\"))*1+((LEN(A2)-LEN(SUBSTITUTE(A2,\"_OOH_\",\"\")))/LEN(\"_OOH_\"))*2+((LEN(A2)-LEN(SUBSTITUTE(A2,\"_O_\",\"\")))/LEN(\"_O_\"))*1+((LEN(A2)-LEN(SUBSTITUTE(A2,\"_CHO_\",\"\")))/LEN(\"_CHO_\"))*1+((LEN(A2)-LEN(SUBSTITUTE(A2,\"_COOH_\",\"\")))/LEN(\"_COOH_\"))*2","v":7},1,{"$f":"IF(ISERROR(FIND(\"O-\",A2)),IF(ISERROR(FIND(\"P-\",A2)),\"\",CONCATENATE(\"C\",G2,\"H\",H2,\"N\",I2,\"O\",J2,\"P\",K2)),CONCATENATE(\"C\",G2,\"H\",H2,\"N\",I2,\"O\",J2,\"P\",K2))","v":"C24H50N1O7P1"},{"$f":"IF(ISERROR(FIND(\"O-\",A2)),IF(ISERROR(FIND(\"P-\",A2)),\"\",(G2*12.0107)+(H2*1.00794)+(I2*14.0067)+(J2*15.9994)+(K2*30.973762)),(G2*12.0107)+(H2*1.00794)+(I2*14.0067)+(J2*15.9994)+(K2*30.973762))","v":495.63006200000001},{"$f":"IF(ISERROR(FIND(\"O-\",A2)),IF(ISERROR(FIND(\"P-\",A2)),\"\",(G2*12)+(H2*1.0078246)+(I2*14.003074)+(J2*15.994915)+(K2*30.973763)),(G2*12)+(H2*1.0078246)+(I2*14.003074)+(J2*15.994915)+(K2*30.973763))","v":495.33247200000005},{"$f":"N2+1.0078246-0.00055","v":496.33974660000007},{"$f":"O2-18.01057-0.00055","v":478.32862660000012},{"$f":"N2+18.03437-0.00055","v":513.36629200000004},{"$f":"N2+22.98977-0.00055","v":518.3216920000001},{"$f":"N2+38.96371-0.00055","v":534.29563200000007},{"$f":"N2+7.01601-0.00055","v":502.34793200000007},{"$f":"N2-1.0078246+0.00055","v":494.32519740000004},{"$f":"N2+44.99767+0.00055","v":540.330692},{"$f":"N2+59.01332+0.00055","v":554.34634200000005}]
["PC(O-16:1/18:2)",{"$f":"IF(ISNUMBER(SEARCH(\"(\",A3)),IF(ISNUMBER(SEARCH(\"/\",A3)),CONCATENATE(MID(A3,1,2),\" \",MID(A3,4,2),SUM(MID(A3,FIND(\"(\",A3)+3,(FIND(\":\",A3)-(FIND(\"-\",A3)+1))),MID(A3,FIND(\"/\",A3)+1,(FIND(\":\",A3,FIND(\"/\",A3))-FIND(\"/\",A3)-1))),\":\",SUM(MID(A3,FIND(\":\",A3)+1,FIND(\"/\",A3)-(FIND(\":\",A3)+1)),MID(A3,FIND(\":\",A3,FIND(\"/\",A3))+1,FIND(\")\",A3)-FIND(\":\",A3,FIND(\"/\",A3))-1)),\" \",MID(A3,(FIND(\")\",A3)+1),100)),CONCATENATE(MID(A3,1,2),\" \",MID(A3,4,2),SUM(MID(A3,FIND(\"(\",A3)+3,(FIND(\":\",A3)-(FIND(\"-\",A3)+1))),MID(A3,FIND(\"_\",A3)+1,(FIND(\":\",A3,FIND(\"_\",A3))-FIND(\"_\",A3)-1))),\":\",SUM(MID(A3,FIND(\":\",A3)+1,FIND(\"_\",A3)-(FIND(\":\",A3)+1)),MID(A3,FIND(\":\",A3,FIND(\"_\",A3))+1,FIND(\")\",A3)-FIND(\":\",A3,FIND(\"_\",A3))-1)),\" \",MID(A3,(FIND(\")\",A3)+1),100))),A3)","v":"PC O-34:3 "},{"$f":"MID(B3,6,FIND(\":\",B3)-FIND(\"-\",B3)-1)","v":"34"},{"$f":"IF(ISNUMBER(VALUE(MID(B3,FIND(\":\",B3)+1,2))),MID(B3,FIND(\":\",B3)+1,2),MID(B3,FIND(\":\",B3)+1,1))","v":"3 "},{"$f":"IF(ISERROR(FIND(\"O-\",A3)),IF(ISERROR(FIND(\"P-\",A3)),\"\",\"P-\"),\"O-\")","v":"O-"},null,{"$f":"C3+8","v":42},{"$f":"2*G3-(2*D3)+2*COUNTIF(B3,\"*O-*\")-((LEN(A3)-LEN(SUBSTITUTE(A3,\"_O_\",\"\")))/LEN(\"_O_\"))*2-((LEN(A3)-LEN(SUBSTITUTE(A3,\"_CHO_\",\"\")))/LEN(\"_CHO_\"))*2-((LEN(A3)-LEN(SUBSTITUTE(A3,\"_COOH_\",\"\")))/LEN(\"_COOH_\"))*2","v":80},1,{"$f":"7+((LEN(A3)-LEN(SUBSTITUTE(A3,\"_OH_\",\"\")))/LEN(\"_OH_\"))*1+((LEN(A3)-LEN(SUBSTITUTE(A3,\"_OOH_\",\"\")))/LEN(\"_OOH_\"))*2+((LEN(A3)-LEN(SUBSTITUTE(A3,\"_O_\",\"\")))/LEN(\"_O_\"))*1+((LEN(A3)-LEN(SUBSTITUTE(A3,\"_CHO_\",\"\")))/LEN(\"_CHO_\"))*1+((LEN(A3)-LEN(SUBSTITUTE(A3,\"_COOH_\",\"\")))/LEN(\"_COOH_\"))*2","v":7},1,{"$f":"IF(ISERROR(FIND(\"O-\",A3)),IF(ISERROR(FIND(\"P-\",A3)),\"\",CONCATENATE(\"C\",G3,\"H\",H3,\"N\",I3,\"O\",J3,\"P\",K3)),CONCATENATE(\"C\",G3,\"H\",H3,\"N\",I3,\"O\",J3,\"P\",K3))","v":"C42H80N1O7P1"},{"$f":"IF(ISERROR(FIND(\"O-\",A3)),IF(ISERROR(FIND(\"P-\",A3)),\"\",(G3*12.0107)+(H3*1.00794)+(I3*14.0067)+(J3*15.9994)+(K3*30.973762)),(G3*12.0107)+(H3*1.00794)+(I3*14.0067)+(J3*15.9994)+(K3*30.973762))","v":742.06086199999993},{"$f":"IF(ISERROR(FIND(\"O-\",A3)),IF(ISERROR(FIND(\"P-\",A3)),\"\",(G3*12)+(H3*1.0078246)+(I3*14.003074)+(J3*15.994915)+(K3*30.973763)),(G3*12)+(H3*1.0078246)+(I3*14.003074)+(J3*15.994915)+(K3*30.973763))","v":741.56720999999993},{"$f":"N3+1.0078246-0.00055","v":742.57448460000001},{"$f":"O3-18.01057-0.00055","v":724.5633646},{"$f":"N3+18.03437-0.00055","v":759.60102999999992},{"$f":"N3+22.98977-0.00055","v":764.55642999999998},{"$f":"N3+38.96371-0.00055","v":780.53036999999995},{"$f":"N3+7.01601-0.00055","v":748.58267000000001},{"$f":"N3-1.0078246+0.00055","v":740.55993539999986},{"$f":"N3+44.99767+0.00055","v":786.56542999999988},{"$f":"N3+59.01332+0.00055","v":800.58107999999993}]
["PC O-30:2",{"$f":"IF(ISNUMBER(SEARCH(\"(\",A4)),IF(ISNUMBER(SEARCH(\"/\",A4)),CONCATENATE(MID(A4,1,2),\" \",MID(A4,4,2),SUM(MID(A4,FIND(\"(\",A4)+3,(FIND(\":\",A4)-(FIND(\"-\",A4)+1))),MID(A4,FIND(\"/\",A4)+1,(FIND(\":\",A4,FIND(\"/\",A4))-FIND(\"/\",A4)-1))),\":\",SUM(MID(A4,FIND(\":\",A4)+1,FIND(\"/\",A4)-(FIND(\":\",A4)+1)),MID(A4,FIND(\":\",A4,FIND(\"/\",A4))+1,FIND(\")\",A4)-FIND(\":\",A4,FIND(\"/\",A4))-1)),\" \",MID(A4,(FIND(\")\",A4)+1),100)),CONCATENATE(MID(A4,1,2),\" \",MID(A4,4,2),SUM(MID(A4,FIND(\"(\",A4)+3,(FIND(\":\",A4)-(FIND(\"-\",A4)+1))),MID(A4,FIND(\"_\",A4)+1,(FIND(\":\",A4,FIND(\"_\",A4))-FIND(\"_\",A4)-1))),\":\",SUM(MID(A4,FIND(\":\",A4)+1,FIND(\"_\",A4)-(FIND(\":\",A4)+1)),MID(A4,FIND(\":\",A4,FIND(\"_\",A4))+1,FIND(\")\",A4)-FIND(\":\",A4,FIND(\"_\",A4))-1)),\" \",MID(A4,(FIND(\")\",A4)+1),100))),A4)","v":"PC O-30:2"},{"$f":"MID(B4,6,FIND(\":\",B4)-FIND(\"-\",B4)-1)","v":"30"},{"$f":"IF(ISNUMBER(VALUE(MID(B4,FIND(\":\",B4)+1,2))),MID(B4,FIND(\":\",B4)+1,2),MID(B4,FIND(\":\",B4)+1,1))","v":"2"},{"$f":"IF(ISERROR(FIND(\"O-\",A4)),IF(ISERROR(FIND(\"P-\",A4)),\"\",\"P-\"),\"O-\")","v":"O-"},null,{"$f":"C4+8","v":38},{"$f":"2*G4-(2*D4)+2*COUNTIF(B4,\"*O-*\")-((LEN(A4)-LEN(SUBSTITUTE(A4,\"_O_\",\"\")))/LEN(\"_O_\"))*2-((LEN(A4)-LEN(SUBSTITUTE(A4,\"_CHO_\",\"\")))/LEN(\"_CHO_\"))*2-((LEN(A4)-LEN(SUBSTITUTE(A4,\"_COOH_\",\"\")))/LEN(\"_COOH_\"))*2","v":74},1,{"$f":"7+((LEN(A4)-LEN(SUBSTITUTE(A4,\"_OH_\",\"\")))/LEN(\"_OH_\"))*1+((LEN(A4)-LEN(SUBSTITUTE(A4,\"_OOH_\",\"\")))/LEN(\"_OOH_\"))*2+((LEN(A4)-LEN(SUBSTITUTE(A4,\"_O_\",\"\")))/LEN(\"_O_\"))*1+((LEN(A4)-LEN(SUBSTITUTE(A4,\"_CHO_\",\"\")))/LEN(\"_CHO_\"))*1+((LEN(A4)-LEN(SUBSTITUTE(A4,\"_COOH_\",\"\")))/LEN(\"_COOH_\"))*2","v":7},1,{"$f":"IF(ISERROR(FIND(\"O-\",A4)),IF(ISERROR(FIND(\"P-\",A4)),\"\",CONCATENATE(\"C\",G4,\"H\",H4,\"N\",I4,\"O\",J4,\"P\",K4)),CONCATENATE(\"C\",G4,\"H\",H4,\"N\",I4,\"O\",J4,\"P\",K4))","v":"C38H74N1O7P1"},{"$f":"IF(ISERROR(FIND(\"O-\",A4)),IF(ISERROR(FIND(\"P-\",A4)),\"\",(G4*12.0107)+(H4*1.00794)+(I4*14.0067)+(J4*15.9994)+(K4*30.973762)),(G4*12.0107)+(H4*1.00794)+(I4*14.0067)+(J4*15.9994)+(K4*30.973762))","v":687.9704220000001},{"$f":"IF(ISERROR(FIND(\"O-\",A4)),IF(ISERROR(FIND(\"P-\",A4)),\"\",(G4*12)+(H4*1.0078246)+(I4*14.003074)+(J4*15.994915)+(K4*30.973763)),(G4*12)+(H4*1.0078246)+(I4*14.003074)+(J4*15.994915)+(K4*30.973763))","v":687.52026239999987},{"$f":"N4+1.0078246-0.00055","v":688.52753699999994},{"$f":"O4-18.01057-0.00055","v":670.51641699999993},{"$f":"N4+18.03437-0.00055","v":705.55408239999986},{"$f":"N4+22.98977-0.00055","v":710.50948239999991},{"$f":"N4+38.96371-0.00055","v":726.48342239999988},{"$f":"N4+7.01601-0.00055","v":694.53572239999994},{"$f":"N4-1.0078246+0.00055","v":686.51298779999979},{"$f":"N4+44.99767+0.00055","v":732.51848239999981},{"$f":"N4+59.01332+0.00055","v":746.53413239999986}]
["PC(P-16:0_18:0)",{"$f":"IF(ISNUMBER(SEARCH(\"(\",A5)),IF(ISNUMBER(SEARCH(\"/\",A5)),CONCATENATE(MID(A5,1,2),\" \",MID(A5,4,2),SUM(MID(A5,FIND(\"(\",A5)+3,(FIND(\":\",A5)-(FIND(\"-\",A5)+1))),MID(A5,FIND(\"/\",A5)+1,(FIND(\":\",A5,FIND(\"/\",A5))-FIND(\"/\",A5)-1))),\":\",SUM(MID(A5,FIND(\":\",A5)+1,FIND(\"/\",A5)-(FIND(\":\",A5)+1)),MID(A5,FIND(\":\",A5,FIND(\"/\",A5))+1,FIND(\")\",A5)-FIND(\":\",A5,FIND(\"/\",A5))-1)),\" \",MID(A5,(FIND(\")\",A5)+1),100)),CONCATENATE(MID(A5,1,2),\" \",MID(A5,4,2),SUM(MID(A5,FIND(\"(\",A5)+3,(FIND(\":\",A5)-(FIND(\"-\",A5)+1))),MID(A5,FIND(\"_\",A5)+1,(FIND(\":\",A5,FIND(\"_\",A5))-FIND(\"_\",A5)-1))),\":\",SUM(MID(A5,FIND(\":\",A5)+1,FIND(\"_\",A5)-(FIND(\":\",A5)+1)),MID(A5,FIND(\":\",A5,FIND(\"_\",A5))+1,FIND(\")\",A5)-FIND(\":\",A5,FIND(\"_\",A5))-1)),\" \",MID(A5,(FIND(\")\",A5)+1),100))),A5)","v":"PC P-34:0 "},{"$f":"MID(B5,6,FIND(\":\",B5)-FIND(\"-\",B5)-1)","v":"34"},{"$f":"IF(ISNUMBER(VALUE(MID(B5,FIND(\":\",B5)+1,2))),MID(B5,FIND(\":\",B5)+1,2),MID(B5,FIND(\":\",B5)+1,1))","v":"0 "},{"$f":"IF(ISERROR(FIND(\"O-\",A5)),IF(ISERROR(FIND(\"P-\",A5)),\"\",\"P-\"),\"O-\")","v":"P-"},null,{"$f":"C5+8","v":42},{"$f":"2*G5-(2*D5)+2*COUNTIF(B5,\"*O-*\")-((LEN(A5)-LEN(SUBSTITUTE(A5,\"_O_\",\"\")))/LEN(\"_O_\"))*2-((LEN(A5)-LEN(SUBSTITUTE(A5,\"_CHO_\",\"\")))/LEN(\"_CHO_\"))*2-((LEN(A5)-LEN(SUBSTITUTE(A5,\"_COOH_\",\"\")))/LEN(\"_COOH_\"))*2","v":84},1,{"$f":"7+((LEN(A5)-LEN(SUBSTITUTE(A5,\"_OH_\",\"\")))/LEN(\"_OH_\"))*1+((LEN(A5)-LEN(SUBSTITUTE(A5,\"_OOH_\",\"\")))/LEN(\"_OOH_\"))*2+((LEN(A5)-LEN(SUBSTITUTE(A5,\"_O_\",\"\")))/LEN(\"_O_\"))*1+((LEN(A5)-LEN(SUBSTITUTE(A5,\"_CHO_\",\"\")))/LEN(\"_CHO_\"))*1+((LEN(A5)-LEN(SUBSTITUTE(A5,\"_COOH_\",\"\")))/LEN(\"_COOH_\"))*2","v":7},1,{"$f":"IF(ISERROR(FIND(\"O-\",A5)),IF(ISERROR(FIND(\"P-\",A5)),\"\",CONCATENATE(\"C\",G5,\"H\",H5,\"N\",I5,\"O\",J5,\"P\",K5)),CONCATENATE(\"C\",G5,\"H\",H5,\"N\",I5,\"O\",J5,\"P\",K5))","v":"C42H84N1O7P1"},{"$f":"IF(ISERROR(FIND(\"O-\",A5)),IF(ISERROR(FIND(\"P-\",A5)),\"\",(G5*12.0107)+(H5*1.00794)+(I5*14.0067)+(J5*15.9994)+(K5*30.973762)),(G5*12.0107)+(H5*1.00794)+(I5*14.0067)+(J5*15.9994)+(K5*30.973762))","v":746.09262200000001},{"$f":"IF(ISERROR(FIND(\"O-\",A5)),IF(ISERROR(FIND(\"P-\",A5)),\"\",(G5*12)+(H5*1.0078246)+(I5*14.003074)+(J5*15.994915)+(K5*30.973763)),(G5*12)+(H5*1.0078246)+(I5*14.003074)+(J5*15.994915)+(K5*30.973763))","v":745.5985083999999},{"$f":"N5+1.0078246-0.00055","v":746.60578299999997},{"$f":"O5-18.01057-0.00055","v":728.59466299999997},{"$f":"N5+18.03437-0.00055","v":763.63232839999989},{"$f":"N5+22.98977-0.00055","v":768.58772839999995},{"$f":"N5+38.96371-0.00055","v":784.56166839999992},{"$f":"N5+7.01601-0.00055","v":752.61396839999998},{"$f":"N5-1.0078246+0.00055","v":744.59123379999983},{"$f":"N5+44.99767+0.00055","v":790.59672839999985},{"$f":"N5+59.01332+0.00055","v":804.6123783999999}]

{"sheet":"LPE_ether","index":54,"n_rows":4,"n_cols":23,"rows_kept":4,"cut":false,"hidden":false,"merged":[]}
["Lipid","Sum Composition",null,null,null,null,"#C","#H","#N","#O","#P","Formula","Molecular Weight","Neutral Mass","[M+H]+","[M+H-H2O]+","[M+NH4]+","[M+Na]+","[M+K]+","[M+Li]+","[M-H]-","[M+HCOO]-","[M+CH3COO]-"]
["LPE O-12:0",{"$f":"IF(ISNUMBER(SEARCH(\"(\",A2)),IF(ISNUMBER(SEARCH(\"/\",A2)),CONCATENATE(MID(A2,1,2),\" \",MID(A2,4,2),SUM(MID(A2,FIND(\"(\",A2)+3,(FIND(\":\",A2)-(FIND(\"-\",A2)+1))),MID(A2,FIND(\"/\",A2)+1,(FIND(\":\",A2,FIND(\"/\",A2))-FIND(\"/\",A2)-1))),\":\",SUM(MID(A2,FIND(\":\",A2)+1,FIND(\"/\",A2)-(FIND(\":\",A2)+1)),MID(A2,FIND(\":\",A2,FIND(\"/\",A2))+1,FIND(\")\",A2)-FIND(\":\",A2,FIND(\"/\",A2))-1)),\" \",MID(A2,(FIND(\")\",A2)+1),100)),CONCATENATE(MID(A2,1,2),\" \",MID(A2,4,2),SUM(MID(A2,FIND(\"(\",A2)+3,(FIND(\":\",A2)-(FIND(\"-\",A2)+1))),MID(A2,FIND(\"_\",A2)+1,(FIND(\":\",A2,FIND(\"_\",A2))-FIND(\"_\",A2)-1))),\":\",SUM(MID(A2,FIND(\":\",A2)+1,FIND(\"_\",A2)-(FIND(\":\",A2)+1)),MID(A2,FIND(\":\",A2,FIND(\"_\",A2))+1,FIND(\")\",A2)-FIND(\":\",A2,FIND(\"_\",A2))-1)),\" \",MID(A2,(FIND(\")\",A2)+1),100))),A2)","v":"LPE O-12:0"},{"$f":"MID(B2,7,FIND(\":\",B2)-FIND(\"-\",B2)-1)","v":"12"},{"$f":"IF(ISNUMBER(VALUE(MID(B2,FIND(\":\",B2)+1,2))),MID(B2,FIND(\":\",B2)+1,2),MID(B2,FIND(\":\",B2)+1,1))","v":"0"},{"$f":"IF(ISERROR(FIND(\"O-\",A2)),IF(ISERROR(FIND(\"P-\",A2)),\"\",\"P-\"),\"O-\")","v":"O-"},null,{"$f":"C2+5","v":17},{"$f":"2*G2-(2*D2)+2+2*COUNTIF(B2,\"*O-*\")-((LEN(A2)-LEN(SUBSTITUTE(A2,\"_O_\",\"\")))/LEN(\"_O_\"))*2-((LEN(A2)-LEN(SUBSTITUTE(A2,\"_CHO_\",\"\")))/LEN(\"_CHO_\"))*2-((LEN(A2)-LEN(SUBSTITUTE(A2,\"_COOH_\",\"\")))/LEN(\"_COOH_\"))*2","v":38},1,{"$f":"6+((LEN(A2)-LEN(SUBSTITUTE(A2,\"_OH_\",\"\")))/LEN(\"_OH_\"))*1+((LEN(A2)-LEN(SUBSTITUTE(A2,\"_OOH_\",\"\")))/LEN(\"_OOH_\"))*2+((LEN(A2)-LEN(SUBSTITUTE(A2,\"_O_\",\"\")))/LEN(\"_O_\"))*1+((LEN(A2)-LEN(SUBSTITUTE(A2,\"_CHO_\",\"\")))/LEN(\"_CHO_\"))*1+((LEN(A2)-LEN(SUBSTITUTE(A2,\"_COOH_\",\"\")))/LEN(\"_COOH_\"))*2","v":6},1,{"$f":"IF(ISERROR(FIND(\"O-\",A2)),IF(ISERROR(FIND(\"P\",A2)),\"\",CONCATENATE(\"C\",G2,\"H\",H2,\"N\",I2,\"O\",J2,\"P\",K2)),CONCATENATE(\"C\",G2,\"H\",H2,\"N\",I2,\"O\",J2,\"P\",K2))","v":"C17H38N1O6P1"},{"$f":"IF(ISERROR(FIND(\"O-\",A2)),IF(ISERROR(FIND(\"P-\",A2)),\"\",(G2*12.0107)+(H2*1.00794)+(I2*14.0067)+(J2*15.9994)+(K2*30.973762)),(G2*12.0107)+(H2*1.00794)+(I2*14.0067)+(J2*15.9994)+(K2*30.973762))","v":383.46048200000001},{"$f":"IF(ISERROR(FIND(\"O-\",A2)),IF(ISERROR(FIND(\"P\",A2)),\"\",(G2*12)+(H2*1.0078246)+(I2*14.003074)+(J2*15.994915)+(K2*30.973763)),(G2*12)+(H2*1.0078246)+(I2*14.003074)+(J2*15.994915)+(K2*30.973763))","v":383.24366180000004},{"$f":"N2+1.0078246-0.00055","v":384.25093640000006},{"$f":"O2-18.01057-0.00055","v":366.23981640000011},{"$f":"N2+18.03437-0.00055","v":401.27748180000009},{"$f":"N2+22.98977-0.00055","v":406.23288180000009},{"$f":"N2+38.96371-0.00055","v":422.20682180000006},{"$f":"N2+7.01601-0.00055","v":390.25912180000006},{"$f":"N2-1.0078246+0.00055","v":382.23638720000002},{"$f":"N2+44.99767+0.00055","v":428.24188179999999},{"$f":"N2+59.01332+0.00055","v":442.25753180000004}]
["LPE O-16:0",{"$f":"IF(ISNUMBER(SEARCH(\"(\",A3)),IF(ISNUMBER(SEARCH(\"/\",A3)),CONCATENATE(MID(A3,1,2),\" \",MID(A3,4,2),SUM(MID(A3,FIND(\"(\",A3)+3,(FIND(\":\",A3)-(FIND(\"-\",A3)+1))),MID(A3,FIND(\"/\",A3)+1,(FIND(\":\",A3,FIND(\"/\",A3))-FIND(\"/\",A3)-1))),\":\",SUM(MID(A3,FIND(\":\",A3)+1,FIND(\"/\",A3)-(FIND(\":\",A3)+1)),MID(A3,FIND(\":\",A3,FIND(\"/\",A3))+1,FIND(\")\",A3)-FIND(\":\",A3,FIND(\"/\",A3))-1)),\" \",MID(A3,(FIND(\")\",A3)+1),100)),CONCATENATE(MID(A3,1,2),\" \",MID(A3,4,2),SUM(MID(A3,FIND(\"(\",A3)+3,(FIND(\":\",A3)-(FIND(\"-\",A3)+1))),MID(A3,FIND(\"_\",A3)+1,(FIND(\":\",A3,FIND(\"_\",A3))-FIND(\"_\",A3)-1))),\":\",SUM(MID(A3,FIND(\":\",A3)+1,FIND(\"_\",A3)-(FIND(\":\",A3)+1)),MID(A3,FIND(\":\",A3,FIND(\"_\",A3))+1,FIND(\")\",A3)-FIND(\":\",A3,FIND(\"_\",A3))-1)),\" \",MID(A3,(FIND(\")\",A3)+1),100))),A3)","v":"LPE O-16:0"},{"$f":"MID(B3,7,FIND(\":\",B3)-FIND(\"-\",B3)-1)","v":"16"},{"$f":"IF(ISNUMBER(VALUE(MID(B3,FIND(\":\",B3)+1,2))),MID(B3,FIND(\":\",B3)+1,2),MID(B3,FIND(\":\",B3)+1,1))","v":"0"},{"$f":"IF(ISERROR(FIND(\"O-\",A3)),IF(ISERROR(FIND(\"P-\",A3)),\"\",\"P-\"),\"O-\")","v":"O-"},null,{"$f":"C3+5","v":21},{"$f":"2*G3-(2*D3)+2+2*COUNTIF(B3,\"*O-*\")-((LEN(A3)-LEN(SUBSTITUTE(A3,\"_O_\",\"\")))/LEN(\"_O_\"))*2-((LEN(A3)-LEN(SUBSTITUTE(A3,\"_CHO_\",\"\")))/LEN(\"_CHO_\"))*2-((LEN(A3)-LEN(SUBSTITUTE(A3,\"_COOH_\",\"\")))/LEN(\"_COOH_\"))*2","v":46},1,{"$f":"6+((LEN(A3)-LEN(SUBSTITUTE(A3,\"_OH_\",\"\")))/LEN(\"_OH_\"))*1+((LEN(A3)-LEN(SUBSTITUTE(A3,\"_OOH_\",\"\")))/LEN(\"_OOH_\"))*2+((LEN(A3)-LEN(SUBSTITUTE(A3,\"_O_\",\"\")))/LEN(\"_O_\"))*1+((LEN(A3)-LEN(SUBSTITUTE(A3,\"_CHO_\",\"\")))/LEN(\"_CHO_\"))*1+((LEN(A3)-LEN(SUBSTITUTE(A3,\"_COOH_\",\"\")))/LEN(\"_COOH_\"))*2","v":6},1,{"$f":"IF(ISERROR(FIND(\"O-\",A3)),IF(ISERROR(FIND(\"P\",A3)),\"\",CONCATENATE(\"C\",G3,\"H\",H3,\"N\",I3,\"O\",J3,\"P\",K3)),CONCATENATE(\"C\",G3,\"H\",H3,\"N\",I3,\"O\",J3,\"P\",K3))","v":"C21H46N1O6P1"},{"$f":"IF(ISERROR(FIND(\"O-\",A3)),IF(ISERROR(FIND(\"P-\",A3)),\"\",(G3*12.0107)+(H3*1.00794)+(I3*14.0067)+(J3*15.9994)+(K3*30.973762)),(G3*12.0107)+(H3*1.00794)+(I3*14.0067)+(J3*15.9994)+(K3*30.973762))","v":439.566802},{"$f":"IF(ISERROR(FIND(\"O-\",A3)),IF(ISERROR(FIND(\"P\",A3)),\"\",(G3*12)+(H3*1.0078246)+(I3*14.003074)+(J3*15.994915)+(K3*30.973763)),(G3*12)+(H3*1.0078246)+(I3*14.003074)+(J3*15.994915)+(K3*30.973763))","v":439.30625860000004},{"$f":"N3+1.0078246-0.00055","v":440.31353320000005},{"$f":"O3-18.01057-0.00055","v":422.30241320000005},{"$f":"N3+18.03437-0.00055","v":457.34007860000008},{"$f":"N3+22.98977-0.00055","v":462.29547860000008},{"$f":"N3+38.96371-0.00055","v":478.26941860000005},{"$f":"N3+7.01601-0.00055","v":446.32171860000005},{"$f":"N3-1.0078246+0.00055","v":438.29898400000002},{"$f":"N3+44.99767+0.00055","v":484.30447860000004},{"$f":"N3+59.01332+0.00055","v":498.32012860000003}]
["LPE P-16:0","LPE P-16:0","16","0","P-",null,21,44,1,6,1,"C21H44N1O6P1",{"$f":"IF(ISERROR(FIND(\"O-\",A4)),IF(ISERROR(FIND(\"P-\",A4)),\"\",(G4*12.0107)+(H4*1.00794)+(I4*14.0067)+(J4*15.9994)+(K4*30.973762)),(G4*12.0107)+(H4*1.00794)+(I4*14.0067)+(J4*15.9994)+(K4*30.973762))","v":437.55092200000001},437.29060940000005,438.29788400000007,420.28676400000006,455.3244294000001,460.2798294000001,476.25376940000007,444.30606940000007,436.28333480000003,482.28882940000005,496.30447940000005]

{"sheet":"PE_ether","index":55,"n_rows":5,"n_cols":23,"rows_kept":5,"cut":false,"hidden":false,"merged":[]}
["Lipid","Sum Composition",null,null,null,null,"#C","#H","#N","#O","#P","Formula","Molecular Weight","Neutral Mass","[M+H]+","[M+H-H2O]+","[M+NH4]+","[M+Na]+","[M+K]+","[M+Li]+","[M-H]-","[M+HCOO]-","[M+CH3COO]-"]
["PE P-19:2",{"$f":"IF(ISNUMBER(SEARCH(\"(\",A2)),IF(ISNUMBER(SEARCH(\"/\",A2)),CONCATENATE(MID(A2,1,2),\" \",MID(A2,4,2),SUM(MID(A2,FIND(\"(\",A2)+3,(FIND(\":\",A2)-(FIND(\"-\",A2)+1))),MID(A2,FIND(\"/\",A2)+1,(FIND(\":\",A2,FIND(\"/\",A2))-FIND(\"/\",A2)-1))),\":\",SUM(MID(A2,FIND(\":\",A2)+1,FIND(\"/\",A2)-(FIND(\":\",A2)+1)),MID(A2,FIND(\":\",A2,FIND(\"/\",A2))+1,FIND(\")\",A2)-FIND(\":\",A2,FIND(\"/\",A2))-1)),\" \",MID(A2,(FIND(\")\",A2)+1),100)),CONCATENATE(MID(A2,1,2),\" \",MID(A2,4,2),SUM(MID(A2,FIND(\"(\",A2)+3,(FIND(\":\",A2)-(FIND(\"-\",A2)+1))),MID(A2,FIND(\"_\",A2)+1,(FIND(\":\",A2,FIND(\"_\",A2))-FIND(\"_\",A2)-1))),\":\",SUM(MID(A2,FIND(\":\",A2)+1,FIND(\"_\",A2)-(FIND(\":\",A2)+1)),MID(A2,FIND(\":\",A2,FIND(\"_\",A2))+1,FIND(\")\",A2)-FIND(\":\",A2,FIND(\"_\",A2))-1)),\" \",MID(A2,(FIND(\")\",A2)+1),100))),A2)","v":"PE P-19:2"},{"$f":"MID(B2,6,FIND(\":\",B2)-FIND(\"-\",B2)-1)","v":"19"},{"$f":"IF(ISNUMBER(VALUE(MID(B2,FIND(\":\",B2)+1,2))),MID(B2,FIND(\":\",B2)+1,2),MID(B2,FIND(\":\",B2)+1,1))","v":"2"},{"$f":"IF(ISERROR(FIND(\"O-\",A2)),IF(ISERROR(FIND(\"P-\",A2)),\"\",\"P-\"),\"O-\")","v":"P-"},null,{"$f":"C2+5","v":24},{"$f":"2*G2-(2*D2)+2*COUNTIF(E2,\"*O-*\")-((LEN(A2)-LEN(SUBSTITUTE(A2,\"_O_\",\"\")))/LEN(\"_O_\"))*2-((LEN(A2)-LEN(SUBSTITUTE(A2,\"_CHO_\",\"\")))/LEN(\"_CHO_\"))*2-((LEN(A2)-LEN(SUBSTITUTE(A2,\"_COOH_\",\"\")))/LEN(\"_COOH_\"))*2","v":44},1,{"$f":"7+((LEN(A2)-LEN(SUBSTITUTE(A2,\"_OH_\",\"\")))/LEN(\"_OH_\"))*1+((LEN(A2)-LEN(SUBSTITUTE(A2,\"_OOH_\",\"\")))/LEN(\"_OOH_\"))*2+((LEN(A2)-LEN(SUBSTITUTE(A2,\"_O_\",\"\")))/LEN(\"_O_\"))*1+((LEN(A2)-LEN(SUBSTITUTE(A2,\"_CHO_\",\"\")))/LEN(\"_CHO_\"))*1+((LEN(A2)-LEN(SUBSTITUTE(A2,\"_COOH_\",\"\")))/LEN(\"_COOH_\"))*2","v":7},1,{"$f":"IF(ISERROR(FIND(\"O-\",A2)),IF(ISERROR(FIND(\"P-\",A2)),\"\",CONCATENATE(\"C\",G2,\"H\",H2,\"N\",I2,\"O\",J2,\"P\",K2)),CONCATENATE(\"C\",G2,\"H\",H2,\"N\",I2,\"O\",J2,\"P\",K2))","v":"C24H44N1O7P1"},{"$f":"IF(ISERROR(FIND(\"O-\",A2)),IF(ISERROR(FIND(\"P-\",A2)),\"\",(G2*12.0107)+(H2*1.00794)+(I2*14.0067)+(J2*15.9994)+(K2*30.973762)),(G2*12.0107)+(H2*1.00794)+(I2*14.0067)+(J2*15.9994)+(K2*30.973762))","v":489.58242200000001},{"$f":"IF(ISERROR(FIND(\"O-\",A2)),IF(ISERROR(FIND(\"P-\",A2)),\"\",(G2*12)+(H2*1.0078246)+(I2*14.003074)+(J2*15.994915)+(K2*30.973763)),(G2*12)+(H2*1.0078246)+(I2*14.003074)+(J2*15.994915)+(K2*30.973763))","v":489.28552440000004},{"$f":"N2+1.0078246-0.00055","v":490.29279900000006},{"$f":"O2-18.01057-0.00055","v":472.28167900000005},{"$f":"N2+18.03437-0.00055","v":507.31934440000009},{"$f":"N2+22.98977-0.00055","v":512.27474440000003},{"$f":"N2+38.96371-0.00055","v":528.24868440000012},{"$f":"N2+7.01601-0.00055","v":496.30098440000006},{"$f":"N2-1.0078246+0.00055","v":488.27824980000003},{"$f":"N2+44.99767+0.00055","v":534.28374440000005},{"$f":"N2+59.01332+0.00055","v":548.29939439999998}]
["PE(P-16:0/18:1)",{"$f":"IF(ISNUMBER(SEARCH(\"(\",A3)),IF(ISNUMBER(SEARCH(\"/\",A3)),CONCATENATE(MID(A3,1,2),\" \",MID(A3,4,2),SUM(MID(A3,FIND(\"(\",A3)+3,(FIND(\":\",A3)-(FIND(\"-\",A3)+1))),MID(A3,FIND(\"/\",A3)+1,(FIND(\":\",A3,FIND(\"/\",A3))-FIND(\"/\",A3)-1))),\":\",SUM(MID(A3,FIND(\":\",A3)+1,FIND(\"/\",A3)-(FIND(\":\",A3)+1)),MID(A3,FIND(\":\",A3,FIND(\"/\",A3))+1,FIND(\")\",A3)-FIND(\":\",A3,FIND(\"/\",A3))-1)),\" \",MID(A3,(FIND(\")\",A3)+1),100)),CONCATENATE(MID(A3,1,2),\" \",MID(A3,4,2),SUM(MID(A3,FIND(\"(\",A3)+3,(FIND(\":\",A3)-(FIND(\"-\",A3)+1))),MID(A3,FIND(\"_\",A3)+1,(FIND(\":\",A3,FIND(\"_\",A3))-FIND(\"_\",A3)-1))),\":\",SUM(MID(A3,FIND(\":\",A3)+1,FIND(\"_\",A3)-(FIND(\":\",A3)+1)),MID(A3,FIND(\":\",A3,FIND(\"_\",A3))+1,FIND(\")\",A3)-FIND(\":\",A3,FIND(\"_\",A3))-1)),\" \",MID(A3,(FIND(\")\",A3)+1),100))),A3)","v":"PE P-34:1 "},{"$f":"MID(B3,6,FIND(\":\",B3)-FIND(\"-\",B3)-1)","v":"34"},{"$f":"IF(ISNUMBER(VALUE(MID(B3,FIND(\":\",B3)+1,2))),MID(B3,FIND(\":\",B3)+1,2),MID(B3,FIND(\":\",B3)+1,1))","v":"1 "},{"$f":"IF(ISERROR(FIND(\"O-\",A3)),IF(ISERROR(FIND(\"P-\",A3)),\"\",\"P-\"),\"O-\")","v":"P-"},null,{"$f":"C3+5","v":39},{"$f":"2*G3-(2*D3)+2*COUNTIF(E3,\"*O-*\")-((LEN(A3)-LEN(SUBSTITUTE(A3,\"_O_\",\"\")))/LEN(\"_O_\"))*2-((LEN(A3)-LEN(SUBSTITUTE(A3,\"_CHO_\",\"\")))/LEN(\"_CHO_\"))*2-((LEN(A3)-LEN(SUBSTITUTE(A3,\"_COOH_\",\"\")))/LEN(\"_COOH_\"))*2","v":76},1,{"$f":"7+((LEN(A3)-LEN(SUBSTITUTE(A3,\"_OH_\",\"\")))/LEN(\"_OH_\"))*1+((LEN(A3)-LEN(SUBSTITUTE(A3,\"_OOH_\",\"\")))/LEN(\"_OOH_\"))*2+((LEN(A3)-LEN(SUBSTITUTE(A3,\"_O_\",\"\")))/LEN(\"_O_\"))*1+((LEN(A3)-LEN(SUBSTITUTE(A3,\"_CHO_\",\"\")))/LEN(\"_CHO_\"))*1+((LEN(A3)-LEN(SUBSTITUTE(A3,\"_COOH_\",\"\")))/LEN(\"_COOH_\"))*2","v":7},1,{"$f":"IF(ISERROR(FIND(\"O-\",A3)),IF(ISERROR(FIND(\"P-\",A3)),\"\",CONCATENATE(\"C\",G3,\"H\",H3,\"N\",I3,\"O\",J3,\"P\",K3)),CONCATENATE(\"C\",G3,\"H\",H3,\"N\",I3,\"O\",J3,\"P\",K3))","v":"C39H76N1O7P1"},{"$f":"IF(ISERROR(FIND(\"O-\",A3)),IF(ISERROR(FIND(\"P-\",A3)),\"\",(G3*12.0107)+(H3*1.00794)+(I3*14.0067)+(J3*15.9994)+(K3*30.973762)),(G3*12.0107)+(H3*1.00794)+(I3*14.0067)+(J3*15.9994)+(K3*30.973762))","v":701.99700200000007},{"$f":"IF(ISERROR(FIND(\"O-\",A3)),IF(ISERROR(FIND(\"P-\",A3)),\"\",(G3*12)+(H3*1.0078246)+(I3*14.003074)+(J3*15.994915)+(K3*30.973763)),(G3*12)+(H3*1.0078246)+(I3*14.003074)+(J3*15.994915)+(K3*30.973763))","v":701.53591159999996},{"$f":"N3+1.0078246-0.00055","v":702.54318620000004},{"$f":"O3-18.01057-0.00055","v":684.53206620000003},{"$f":"N3+18.03437-0.00055","v":719.56973159999995},{"$f":"N3+22.98977-0.00055","v":724.52513160000001},{"$f":"N3+38.96371-0.00055","v":740.49907159999998},{"$f":"N3+7.01601-0.00055","v":708.55137160000004},{"$f":"N3-1.0078246+0.00055","v":700.52863699999989},{"$f":"N3+44.99767+0.00055","v":746.53413159999991},{"$f":"N3+59.01332+0.00055","v":760.54978159999996}]
["PE P-32:1",{"$f":"IF(ISNUMBER(SEARCH(\"(\",A4)),IF(ISNUMBER(SEARCH(\"/\",A4)),CONCATENATE(MID(A4,1,2),\" \",MID(A4,4,2),SUM(MID(A4,FIND(\"(\",A4)+3,(FIND(\":\",A4)-(FIND(\"-\",A4)+1))),MID(A4,FIND(\"/\",A4)+1,(FIND(\":\",A4,FIND(\"/\",A4))-FIND(\"/\",A4)-1))),\":\",SUM(MID(A4,FIND(\":\",A4)+1,FIND(\"/\",A4)-(FIND(\":\",A4)+1)),MID(A4,FIND(\":\",A4,FIND(\"/\",A4))+1,FIND(\")\",A4)-FIND(\":\",A4,FIND(\"/\",A4))-1)),\" \",MID(A4,(FIND(\")\",A4)+1),100)),CONCATENATE(MID(A4,1,2),\" \",MID(A4,4,2),SUM(MID(A4,FIND(\"(\",A4)+3,(FIND(\":\",A4)-(FIND(\"-\",A4)+1))),MID(A4,FIND(\"_\",A4)+1,(FIND(\":\",A4,FIND(\"_\",A4))-FIND(\"_\",A4)-1))),\":\",SUM(MID(A4,FIND(\":\",A4)+1,FIND(\"_\",A4)-(FIND(\":\",A4)+1)),MID(A4,FIND(\":\",A4,FIND(\"_\",A4))+1,FIND(\")\",A4)-FIND(\":\",A4,FIND(\"_\",A4))-1)),\" \",MID(A4,(FIND(\")\",A4)+1),100))),A4)","v":"PE P-32:1"},{"$f":"MID(B4,6,FIND(\":\",B4)-FIND(\"-\",B4)-1)","v":"32"},{"$f":"IF(ISNUMBER(VALUE(MID(B4,FIND(\":\",B4)+1,2))),MID(B4,FIND(\":\",B4)+1,2),MID(B4,FIND(\":\",B4)+1,1))","v":"1"},{"$f":"IF(ISERROR(FIND(\"O-\",A4)),IF(ISERROR(FIND(\"P-\",A4)),\"\",\"P-\"),\"O-\")","v":"P-"},null,{"$f":"C4+5","v":37},{"$f":"2*G4-(2*D4)+2*COUNTIF(E4,\"*O-*\")-((LEN(A4)-LEN(SUBSTITUTE(A4,\"_O_\",\"\")))/LEN(\"_O_\"))*2-((LEN(A4)-LEN(SUBSTITUTE(A4,\"_CHO_\",\"\")))/LEN(\"_CHO_\"))*2-((LEN(A4)-LEN(SUBSTITUTE(A4,\"_COOH_\",\"\")))/LEN(\"_COOH_\"))*2","v":72},1,{"$f":"7+((LEN(A4)-LEN(SUBSTITUTE(A4,\"_OH_\",\"\")))/LEN(\"_OH_\"))*1+((LEN(A4)-LEN(SUBSTITUTE(A4,\"_OOH_\",\"\")))/LEN(\"_OOH_\"))*2+((LEN(A4)-LEN(SUBSTITUTE(A4,\"_O_\",\"\")))/LEN(\"_O_\"))*1+((LEN(A4)-LEN(SUBSTITUTE(A4,\"_CHO_\",\"\")))/LEN(\"_CHO_\"))*1+((LEN(A4)-LEN(SUBSTITUTE(A4,\"_COOH_\",\"\")))/LEN(\"_COOH_\"))*2","v":7},1,{"$f":"IF(ISERROR(FIND(\"O-\",A4)),IF(ISERROR(FIND(\"P-\",A4)),\"\",CONCATENATE(\"C\",G4,\"H\",H4,\"N\",I4,\"O\",J4,\"P\",K4)),CONCATENATE(\"C\",G4,\"H\",H4,\"N\",I4,\"O\",J4,\"P\",K4))","v":"C37H72N1O7P1"},{"$f":"IF(ISERROR(FIND(\"O-\",A4)),IF(ISERROR(FIND(\"P-\",A4)),\"\",(G4*12.0107)+(H4*1.00794)+(I4*14.0067)+(J4*15.9994)+(K4*30.973762)),(G4*12.0107)+(H4*1.00794)+(I4*14.0067)+(J4*15.9994)+(K4*30.973762))","v":673.94384200000002},{"$f":"IF(ISERROR(FIND(\"O-\",A4)),IF(ISERROR(FIND(\"P-\",A4)),\"\",(G4*12)+(H4*1.0078246)+(I4*14.003074)+(J4*15.994915)+(K4*30.973763)),(G4*12)+(H4*1.0078246)+(I4*14.003074)+(J4*15.994915)+(K4*30.973763))","v":673.50461319999999},{"$f":"N4+1.0078246-0.00055","v":674.51188780000007},{"$f":"O4-18.01057-0.00055","v":656.50076780000006},{"$f":"N4+18.03437-0.00055","v":691.53843319999999},{"$f":"N4+22.98977-0.00055","v":696.49383320000004},{"$f":"N4+38.96371-0.00055","v":712.46777320000001},{"$f":"N4+7.01601-0.00055","v":680.52007320000007},{"$f":"N4-1.0078246+0.00055","v":672.49733859999992},{"$f":"N4+44.99767+0.00055","v":718.50283319999994},{"$f":"N4+59.01332+0.00055","v":732.51848319999999}]
["PE(P-16:1_18:2)",{"$f":"IF(ISNUMBER(SEARCH(\"(\",A5)),IF(ISNUMBER(SEARCH(\"/\",A5)),CONCATENATE(MID(A5,1,2),\" \",MID(A5,4,2),SUM(MID(A5,FIND(\"(\",A5)+3,(FIND(\":\",A5)-(FIND(\"-\",A5)+1))),MID(A5,FIND(\"/\",A5)+1,(FIND(\":\",A5,FIND(\"/\",A5))-FIND(\"/\",A5)-1))),\":\",SUM(MID(A5,FIND(\":\",A5)+1,FIND(\"/\",A5)-(FIND(\":\",A5)+1)),MID(A5,FIND(\":\",A5,FIND(\"/\",A5))+1,FIND(\")\",A5)-FIND(\":\",A5,FIND(\"/\",A5))-1)),\" \",MID(A5,(FIND(\")\",A5)+1),100)),CONCATENATE(MID(A5,1,2),\" \",MID(A5,4,2),SUM(MID(A5,FIND(\"(\",A5)+3,(FIND(\":\",A5)-(FIND(\"-\",A5)+1))),MID(A5,FIND(\"_\",A5)+1,(FIND(\":\",A5,FIND(\"_\",A5))-FIND(\"_\",A5)-1))),\":\",SUM(MID(A5,FIND(\":\",A5)+1,FIND(\"_\",A5)-(FIND(\":\",A5)+1)),MID(A5,FIND(\":\",A5,FIND(\"_\",A5))+1,FIND(\")\",A5)-FIND(\":\",A5,FIND(\"_\",A5))-1)),\" \",MID(A5,(FIND(\")\",A5)+1),100))),A5)","v":"PE P-34:3 "},{"$f":"MID(B5,6,FIND(\":\",B5)-FIND(\"-\",B5)-1)","v":"34"},{"$f":"IF(ISNUMBER(VALUE(MID(B5,FIND(\":\",B5)+1,2))),MID(B5,FIND(\":\",B5)+1,2),MID(B5,FIND(\":\",B5)+1,1))","v":"3 "},{"$f":"IF(ISERROR(FIND(\"O-\",A5)),IF(ISERROR(FIND(\"P-\",A5)),\"\",\"P-\"),\"O-\")","v":"P-"},null,{"$f":"C5+5","v":39},{"$f":"2*G5-(2*D5)+2*COUNTIF(E5,\"*O-*\")-((LEN(A5)-LEN(SUBSTITUTE(A5,\"_O_\",\"\")))/LEN(\"_O_\"))*2-((LEN(A5)-LEN(SUBSTITUTE(A5,\"_CHO_\",\"\")))/LEN(\"_CHO_\"))*2-((LEN(A5)-LEN(SUBSTITUTE(A5,\"_COOH_\",\"\")))/LEN(\"_COOH_\"))*2","v":72},1,{"$f":"7+((LEN(A5)-LEN(SUBSTITUTE(A5,\"_OH_\",\"\")))/LEN(\"_OH_\"))*1+((LEN(A5)-LEN(SUBSTITUTE(A5,\"_OOH_\",\"\")))/LEN(\"_OOH_\"))*2+((LEN(A5)-LEN(SUBSTITUTE(A5,\"_O_\",\"\")))/LEN(\"_O_\"))*1+((LEN(A5)-LEN(SUBSTITUTE(A5,\"_CHO_\",\"\")))/LEN(\"_CHO_\"))*1+((LEN(A5)-LEN(SUBSTITUTE(A5,\"_COOH_\",\"\")))/LEN(\"_COOH_\"))*2","v":7},1,{"$f":"IF(ISERROR(FIND(\"O-\",A5)),IF(ISERROR(FIND(\"P-\",A5)),\"\",CONCATENATE(\"C\",G5,\"H\",H5,\"N\",I5,\"O\",J5,\"P\",K5)),CONCATENATE(\"C\",G5,\"H\",H5,\"N\",I5,\"O\",J5,\"P\",K5))","v":"C39H72N1O7P1"},{"$f":"IF(ISERROR(FIND(\"O-\",A5)),IF(ISERROR(FIND(\"P-\",A5)),\"\",(G5*12.0107)+(H5*1.00794)+(I5*14.0067)+(J5*15.9994)+(K5*30.973762)),(G5*12.0107)+(H5*1.00794)+(I5*14.0067)+(J5*15.9994)+(K5*30.973762))","v":697.96524199999999},{"$f":"IF(ISERROR(FIND(\"O-\",A5)),IF(ISERROR(FIND(\"P-\",A5)),\"\",(G5*12)+(H5*1.0078246)+(I5*14.003074)+(J5*15.994915)+(K5*30.973763)),(G5*12)+(H5*1.0078246)+(I5*14.003074)+(J5*15.994915)+(K5*30.973763))","v":697.50461319999999},{"$f":"N5+1.0078246-0.00055","v":698.51188780000007},{"$f":"O5-18.01057-0.00055","v":680.50076780000006},{"$f":"N5+18.03437-0.00055","v":715.53843319999999},{"$f":"N5+22.98977-0.00055","v":720.49383320000004},{"$f":"N5+38.96371-0.00055","v":736.46777320000001},{"$f":"N5+7.01601-0.00055","v":704.52007320000007},{"$f":"N5-1.0078246+0.00055","v":696.49733859999992},{"$f":"N5+44.99767+0.00055","v":742.50283319999994},{"$f":"N5+59.01332+0.00055","v":756.51848319999999}]

{"sheet":"LPG_ether","index":56,"n_rows":6,"n_cols":23,"rows_kept":6,"cut":false,"hidden":false,"merged":[]}
["Lipid","Sum Composition",null,null,null,null,"#C","#H","#O","#P",null,"Formula","Molecular Weight","Neutral Mass","[M+H]+","[M+H-H2O]+","[M+NH4]+","[M+Na]+","[M+K]+","[M+Li]+","[M-H]-","[M+HCOO]-","[M+CH3COO]-"]
["LPG P-16:0",{"$f":"IF(ISNUMBER(SEARCH(\"(\",A2)),IF(ISNUMBER(SEARCH(\"/\",A2)),CONCATENATE(MID(A2,1,2),\" \",MID(A2,4,2),SUM(MID(A2,FIND(\"(\",A2)+3,(FIND(\":\",A2)-(FIND(\"-\",A2)+1))),MID(A2,FIND(\"/\",A2)+1,(FIND(\":\",A2,FIND(\"/\",A2))-FIND(\"/\",A2)-1))),\":\",SUM(MID(A2,FIND(\":\",A2)+1,FIND(\"/\",A2)-(FIND(\":\",A2)+1)),MID(A2,FIND(\":\",A2,FIND(\"/\",A2))+1,FIND(\")\",A2)-FIND(\":\",A2,FIND(\"/\",A2))-1)),\" \",MID(A2,(FIND(\")\",A2)+1),100)),CONCATENATE(MID(A2,1,2),\" \",MID(A2,4,2),SUM(MID(A2,FIND(\"(\",A2)+3,(FIND(\":\",A2)-(FIND(\"-\",A2)+1))),MID(A2,FIND(\"_\",A2)+1,(FIND(\":\",A2,FIND(\"_\",A2))-FIND(\"_\",A2)-1))),\":\",SUM(MID(A2,FIND(\":\",A2)+1,FIND(\"_\",A2)-(FIND(\":\",A2)+1)),MID(A2,FIND(\":\",A2,FIND(\"_\",A2))+1,FIND(\")\",A2)-FIND(\":\",A2,FIND(\"_\",A2))-1)),\" \",MID(A2,(FIND(\")\",A2)+1),100))),A2)","v":"LPG P-16:0"},{"$f":"MID(B2,7,FIND(\":\",B2)-FIND(\"-\",B2)-1)","v":"16"},{"$f":"IF(ISNUMBER(VALUE(MID(B2,FIND(\":\",B2)+1,2))),MID(B2,FIND(\":\",B2)+1,2),MID(B2,FIND(\":\",B2)+1,1))","v":"0"},{"$f":"IF(ISERROR(FIND(\"O-\",A2)),IF(ISERROR(FIND(\"P-\",A2)),\"\",\"P-\"),\"O-\")","v":"P-"},null,{"$f":"C2+6","v":22},{"$f":"2*G2-(2*D2)+1+2*COUNTIF(B2,\"*O-*\")-((LEN(A2)-LEN(SUBSTITUTE(A2,\"_O_\",\"\")))/LEN(\"_O_\"))*2-((LEN(A2)-LEN(SUBSTITUTE(A2,\"_CHO_\",\"\")))/LEN(\"_CHO_\"))*2-((LEN(A2)-LEN(SUBSTITUTE(A2,\"_COOH_\",\"\")))/LEN(\"_COOH_\"))*2","v":45},{"$f":"8+((LEN(A2)-LEN(SUBSTITUTE(A2,\"_OH_\",\"\")))/LEN(\"_OH_\"))*1+((LEN(A2)-LEN(SUBSTITUTE(A2,\"_OOH_\",\"\")))/LEN(\"_OOH_\"))*2+((LEN(A2)-LEN(SUBSTITUTE(A2,\"_O_\",\"\")))/LEN(\"_O_\"))*1+((LEN(A2)-LEN(SUBSTITUTE(A2,\"_CHO_\",\"\")))/LEN(\"_CHO_\"))*1+((LEN(A2)-LEN(SUBSTITUTE(A2,\"_COOH_\",\"\")))/LEN(\"_COOH_\"))*2","v":8},1,null,{"$f":"IF(ISERROR(FIND(\"O-\",A2)),IF(ISERROR(FIND(\"P-\",A2)),\"\",CONCATENATE(\"C\",G2,\"H\",H2,\"O\",I2,\"P\",J2)),CONCATENATE(\"C\",G2,\"H\",H2,\"O\",I2,\"P\",J2))","v":"C22H45O8P1"},{"$f":"IF(ISERROR(FIND(\"O-\",A2)),IF(ISERROR(FIND(\"P-\",A2)),\"\",(G2*12.0107)+(H2*1.00794)+(I2*15.9994)+(J2*30.973762)),(G2*12.0107)+(H2*1.00794)+(I2*15.9994)+(J2*30.973762))","v":468.56166200000007},{"$f":"IF(ISERROR(FIND(\"O-\",A2)),IF(ISERROR(FIND(\"P-\",A2)),\"\",(G2*12)+(H2*1.0078246)+(I2*15.994915)+(J2*30.973763)),(G2*12)+(H2*1.0078246)+(I2*15.994915)+(J2*30.973763))","v":468.28519},{"$f":"N2+1.0078246-0.00055","v":469.29246460000002},{"$f":"O2-18.01057-0.00055","v":451.28134460000001},{"$f":"N2+18.03437-0.00055","v":486.31901000000005},{"$f":"N2+22.98977-0.00055","v":491.27441000000005},{"$f":"N2+38.96371-0.00055","v":507.24835000000002},{"$f":"N2+7.01601-0.00055","v":475.30065000000002},{"$f":"N2-1.0078246+0.00055","v":467.27791539999998},{"$f":"N2+44.99767+0.00055","v":513.28341},{"$f":"N2+59.01332+0.00055","v":527.29905999999994}]
["LPG P-18:0",{"$f":"IF(ISNUMBER(SEARCH(\"(\",A3)),IF(ISNUMBER(SEARCH(\"/\",A3)),CONCATENATE(MID(A3,1,2),\" \",MID(A3,4,2),SUM(MID(A3,FIND(\"(\",A3)+3,(FIND(\":\",A3)-(FIND(\"-\",A3)+1))),MID(A3,FIND(\"/\",A3)+1,(FIND(\":\",A3,FIND(\"/\",A3))-FIND(\"/\",A3)-1))),\":\",SUM(MID(A3,FIND(\":\",A3)+1,FIND(\"/\",A3)-(FIND(\":\",A3)+1)),MID(A3,FIND(\":\",A3,FIND(\"/\",A3))+1,FIND(\")\",A3)-FIND(\":\",A3,FIND(\"/\",A3))-1)),\" \",MID(A3,(FIND(\")\",A3)+1),100)),CONCATENATE(MID(A3,1,2),\" \",MID(A3,4,2),SUM(MID(A3,FIND(\"(\",A3)+3,(FIND(\":\",A3)-(FIND(\"-\",A3)+1))),MID(A3,FIND(\"_\",A3)+1,(FIND(\":\",A3,FIND(\"_\",A3))-FIND(\"_\",A3)-1))),\":\",SUM(MID(A3,FIND(\":\",A3)+1,FIND(\"_\",A3)-(FIND(\":\",A3)+1)),MID(A3,FIND(\":\",A3,FIND(\"_\",A3))+1,FIND(\")\",A3)-FIND(\":\",A3,FIND(\"_\",A3))-1)),\" \",MID(A3,(FIND(\")\",A3)+1),100))),A3)","v":"LPG P-18:0"},{"$f":"MID(B3,7,FIND(\":\",B3)-FIND(\"-\",B3)-1)","v":"18"},{"$f":"IF(ISNUMBER(VALUE(MID(B3,FIND(\":\",B3)+1,2))),MID(B3,FIND(\":\",B3)+1,2),MID(B3,FIND(\":\",B3)+1,1))","v":"0"},{"$f":"IF(ISERROR(FIND(\"O-\",A3)),IF(ISERROR(FIND(\"P-\",A3)),\"\",\"P-\"),\"O-\")","v":"P-"},null,{"$f":"C3+6","v":24},{"$f":"2*G3-(2*D3)+1+2*COUNTIF(B3,\"*O-*\")-((LEN(A3)-LEN(SUBSTITUTE(A3,\"_O_\",\"\")))/LEN(\"_O_\"))*2-((LEN(A3)-LEN(SUBSTITUTE(A3,\"_CHO_\",\"\")))/LEN(\"_CHO_\"))*2-((LEN(A3)-LEN(SUBSTITUTE(A3,\"_COOH_\",\"\")))/LEN(\"_COOH_\"))*2","v":49},{"$f":"8+((LEN(A3)-LEN(SUBSTITUTE(A3,\"_OH_\",\"\")))/LEN(\"_OH_\"))*1+((LEN(A3)-LEN(SUBSTITUTE(A3,\"_OOH_\",\"\")))/LEN(\"_OOH_\"))*2+((LEN(A3)-LEN(SUBSTITUTE(A3,\"_O_\",\"\")))/LEN(\"_O_\"))*1+((LEN(A3)-LEN(SUBSTITUTE(A3,\"_CHO_\",\"\")))/LEN(\"_CHO_\"))*1+((LEN(A3)-LEN(SUBSTITUTE(A3,\"_COOH_\",\"\")))/LEN(\"_COOH_\"))*2","v":8},1,null,{"$f":"IF(ISERROR(FIND(\"O-\",A3)),IF(ISERROR(FIND(\"P-\",A3)),\"\",CONCATENATE(\"C\",G3,\"H\",H3,\"O\",I3,\"P\",J3)),CONCATENATE(\"C\",G3,\"H\",H3,\"O\",I3,\"P\",J3))","v":"C24H49O8P1"},{"$f":"IF(ISERROR(FIND(\"O-\",A3)),IF(ISERROR(FIND(\"P-\",A3)),\"\",(G3*12.0107)+(H3*1.00794)+(I3*15.9994)+(J3*30.973762)),(G3*12.0107)+(H3*1.00794)+(I3*15.9994)+(J3*30.973762))","v":496.614822},{"$f":"IF(ISERROR(FIND(\"O-\",A3)),IF(ISERROR(FIND(\"P-\",A3)),\"\",(G3*12)+(H3*1.0078246)+(I3*15.994915)+(J3*30.973763)),(G3*12)+(H3*1.0078246)+(I3*15.994915)+(J3*30.973763))","v":496.31648840000003},{"$f":"N3+1.0078246-0.00055","v":497.32376300000004},{"$f":"O3-18.01057-0.00055","v":479.31264300000009},{"$f":"N3+18.03437-0.00055","v":514.35030840000002},{"$f":"N3+22.98977-0.00055","v":519.30570840000007},{"$f":"N3+38.96371-0.00055","v":535.27964840000004},{"$f":"N3+7.01601-0.00055","v":503.33194840000004},{"$f":"N3-1.0078246+0.00055","v":495.30921380000001},{"$f":"N3+44.99767+0.00055","v":541.31470839999997},{"$f":"N3+59.01332+0.00055","v":555.33035840000002}]
["LPG O-18:0","LPG O-18:0","18","0","O-",null,24,51,8,1,null,"C24H51O8P1",{"$f":"IF(ISERROR(FIND(\"O-\",A4)),IF(ISERROR(FIND(\"P-\",A4)),\"\",(G4*12.0107)+(H4*1.00794)+(I4*15.9994)+(J4*30.973762)),(G4*12.0107)+(H4*1.00794)+(I4*15.9994)+(J4*30.973762))","v":498.63070200000004},498.33213760000001,499.33941220000003,481.32829220000008,516.3659576,521.32135760000006,537.29529760000003,505.34759760000003,497.32486299999999,543.33035759999996,557.34600760000001]
["LPG O-18:2","LPG O-18:2","18","2","O-",null,24,47,8,1,null,"C24H47O8P1",{"$f":"IF(ISERROR(FIND(\"O-\",A5)),IF(ISERROR(FIND(\"P-\",A5)),\"\",(G5*12.0107)+(H5*1.00794)+(I5*15.9994)+(J5*30.973762)),(G5*12.0107)+(H5*1.00794)+(I5*15.9994)+(J5*30.973762))","v":494.59894200000002},494.30083919999998,495.3081138,477.2969938,512.33465920000003,517.29005919999997,533.26399920000006,501.3162992,493.29356459999997,539.29905919999999,553.31470919999992]
["LPG O-20:0","LPG O-20:0","20","0","O-",null,26,55,8,1,null,"C26H55O8P1",{"$f":"IF(ISERROR(FIND(\"O-\",A6)),IF(ISERROR(FIND(\"P-\",A6)),\"\",(G6*12.0107)+(H6*1.00794)+(I6*15.9994)+(J6*30.973762)),(G6*12.0107)+(H6*1.00794)+(I6*15.9994)+(J6*30.973762))","v":526.68386199999998},526.36343599999998,527.37071060000005,509.35959060000005,544.39725599999997,549.35265600000002,565.326596,533.37889600000005,525.35616139999991,571.36165599999993,585.37730599999998]

{"sheet":"PG_ether","index":57,"n_rows":5,"n_cols":23,"rows_kept":5,"cut":false,"hidden":false,"merged":[]}
["Lipid","Sum Composition",null,null,null,null,"#C","#H","#O","#P",null,"Formula","Molecular Weight","Neutral Mass","[M+H]+","[M+H-H2O]+","[M+NH4]+","[M+Na]+","[M+K]+","[M+Li]+","[M-H]-","[M+HCOO]-","[M+CH3COO]-"]
["PG O-32:1",{"$f":"IF(ISNUMBER(SEARCH(\"(\",A2)),IF(ISNUMBER(SEARCH(\"/\",A2)),CONCATENATE(MID(A2,1,2),\" \",MID(A2,4,2),SUM(MID(A2,FIND(\"(\",A2)+3,(FIND(\":\",A2)-(FIND(\"-\",A2)+1))),MID(A2,FIND(\"/\",A2)+1,(FIND(\":\",A2,FIND(\"/\",A2))-FIND(\"/\",A2)-1))),\":\",SUM(MID(A2,FIND(\":\",A2)+1,FIND(\"/\",A2)-(FIND(\":\",A2)+1)),MID(A2,FIND(\":\",A2,FIND(\"/\",A2))+1,FIND(\")\",A2)-FIND(\":\",A2,FIND(\"/\",A2))-1)),\" \",MID(A2,(FIND(\")\",A2)+1),100)),CONCATENATE(MID(A2,1,2),\" \",MID(A2,4,2),SUM(MID(A2,FIND(\"(\",A2)+3,(FIND(\":\",A2)-(FIND(\"-\",A2)+1))),MID(A2,FIND(\"_\",A2)+1,(FIND(\":\",A2,FIND(\"_\",A2))-FIND(\"_\",A2)-1))),\":\",SUM(MID(A2,FIND(\":\",A2)+1,FIND(\"_\",A2)-(FIND(\":\",A2)+1)),MID(A2,FIND(\":\",A2,FIND(\"_\",A2))+1,FIND(\")\",A2)-FIND(\":\",A2,FIND(\"_\",A2))-1)),\" \",MID(A2,(FIND(\")\",A2)+1),100))),A2)","v":"PG O-32:1"},{"$f":"MID(B2,6,FIND(\":\",B2)-FIND(\"-\",B2)-1)","v":"32"},{"$f":"IF(ISNUMBER(VALUE(MID(B2,FIND(\":\",B2)+1,2))),MID(B2,FIND(\":\",B2)+1,2),MID(B2,FIND(\":\",B2)+1,1))","v":"1"},{"$f":"IF(ISERROR(FIND(\"O-\",A2)),IF(ISERROR(FIND(\"P-\",A2)),\"\",\"P-\"),\"O-\")","v":"O-"},null,{"$f":"C2+6","v":38},{"$f":"2*G2-(2*D2)-1+2*COUNTIF(B2,\"*O-*\")-((LEN(A2)-LEN(SUBSTITUTE(A2,\"_O_\",\"\")))/LEN(\"_O_\"))*2-((LEN(A2)-LEN(SUBSTITUTE(A2,\"_CHO_\",\"\")))/LEN(\"_CHO_\"))*2-((LEN(A2)-LEN(SUBSTITUTE(A2,\"_COOH_\",\"\")))/LEN(\"_COOH_\"))*2","v":75},{"$f":"9+((LEN(A2)-LEN(SUBSTITUTE(A2,\"_OH_\",\"\")))/LEN(\"_OH_\"))*1+((LEN(A2)-LEN(SUBSTITUTE(A2,\"_OOH_\",\"\")))/LEN(\"_OOH_\"))*2+((LEN(A2)-LEN(SUBSTITUTE(A2,\"_O_\",\"\")))/LEN(\"_O_\"))*1+((LEN(A2)-LEN(SUBSTITUTE(A2,\"_CHO_\",\"\")))/LEN(\"_CHO_\"))*1+((LEN(A2)-LEN(SUBSTITUTE(A2,\"_COOH_\",\"\")))/LEN(\"_COOH_\"))*2","v":9},1,null,{"$f":"IF(ISERROR(FIND(\"O-\",A2)),IF(ISERROR(FIND(\"P-\",A2)),\"\",CONCATENATE(\"C\",G2,\"H\",H2,\"O\",I2,\"P\",J2)),CONCATENATE(\"C\",G2,\"H\",H2,\"O\",I2,\"P\",J2))","v":"C38H75O9P1"},{"$f":"IF(ISERROR(FIND(\"O-\",A2)),IF(ISERROR(FIND(\"P-\",A2)),\"\",(G2*12.0107)+(H2*1.00794)+(I2*15.9994)+(J2*30.973762)),(G2*12.0107)+(H2*1.00794)+(I2*15.9994)+(J2*30.973762))","v":706.970462},{"$f":"IF(ISERROR(FIND(\"O-\",A2)),IF(ISERROR(FIND(\"P-\",A2)),\"\",(G2*12)+(H2*1.0078246)+(I2*15.994915)+(J2*30.973763)),(G2*12)+(H2*1.0078246)+(I2*15.994915)+(J2*30.973763))","v":706.51484300000004},{"$f":"N2+1.0078246-0.00055","v":707.52211760000012},{"$f":"O2-18.01057-0.00055","v":689.51099760000011},{"$f":"N2+18.03437-0.00055","v":724.54866300000003},{"$f":"N2+22.98977-0.00055","v":729.50406300000009},{"$f":"N2+38.96371-0.00055","v":745.47800300000006},{"$f":"N2+7.01601-0.00055","v":713.53030300000012},{"$f":"N2-1.0078246+0.00055","v":705.50756839999997},{"$f":"N2+44.99767+0.00055","v":751.51306299999999},{"$f":"N2+59.01332+0.00055","v":765.52871300000004}]
["PG(O-16:0/18:2)",{"$f":"IF(ISNUMBER(SEARCH(\"(\",A3)),IF(ISNUMBER(SEARCH(\"/\",A3)),CONCATENATE(MID(A3,1,2),\" \",MID(A3,4,2),SUM(MID(A3,FIND(\"(\",A3)+3,(FIND(\":\",A3)-(FIND(\"-\",A3)+1))),MID(A3,FIND(\"/\",A3)+1,(FIND(\":\",A3,FIND(\"/\",A3))-FIND(\"/\",A3)-1))),\":\",SUM(MID(A3,FIND(\":\",A3)+1,FIND(\"/\",A3)-(FIND(\":\",A3)+1)),MID(A3,FIND(\":\",A3,FIND(\"/\",A3))+1,FIND(\")\",A3)-FIND(\":\",A3,FIND(\"/\",A3))-1)),\" \",MID(A3,(FIND(\")\",A3)+1),100)),CONCATENATE(MID(A3,1,2),\" \",MID(A3,4,2),SUM(MID(A3,FIND(\"(\",A3)+3,(FIND(\":\",A3)-(FIND(\"-\",A3)+1))),MID(A3,FIND(\"_\",A3)+1,(FIND(\":\",A3,FIND(\"_\",A3))-FIND(\"_\",A3)-1))),\":\",SUM(MID(A3,FIND(\":\",A3)+1,FIND(\"_\",A3)-(FIND(\":\",A3)+1)),MID(A3,FIND(\":\",A3,FIND(\"_\",A3))+1,FIND(\")\",A3)-FIND(\":\",A3,FIND(\"_\",A3))-1)),\" \",MID(A3,(FIND(\")\",A3)+1),100))),A3)","v":"PG O-34:2 "},{"$f":"MID(B3,6,FIND(\":\",B3)-FIND(\"-\",B3)-1)","v":"34"},{"$f":"IF(ISNUMBER(VALUE(MID(B3,FIND(\":\",B3)+1,2))),MID(B3,FIND(\":\",B3)+1,2),MID(B3,FIND(\":\",B3)+1,1))","v":"2 "},{"$f":"IF(ISERROR(FIND(\"O-\",A3)),IF(ISERROR(FIND(\"P-\",A3)),\"\",\"P-\"),\"O-\")","v":"O-"},null,{"$f":"C3+6","v":40},{"$f":"2*G3-(2*D3)-1+2*COUNTIF(B3,\"*O-*\")-((LEN(A3)-LEN(SUBSTITUTE(A3,\"_O_\",\"\")))/LEN(\"_O_\"))*2-((LEN(A3)-LEN(SUBSTITUTE(A3,\"_CHO_\",\"\")))/LEN(\"_CHO_\"))*2-((LEN(A3)-LEN(SUBSTITUTE(A3,\"_COOH_\",\"\")))/LEN(\"_COOH_\"))*2","v":77},{"$f":"9+((LEN(A3)-LEN(SUBSTITUTE(A3,\"_OH_\",\"\")))/LEN(\"_OH_\"))*1+((LEN(A3)-LEN(SUBSTITUTE(A3,\"_OOH_\",\"\")))/LEN(\"_OOH_\"))*2+((LEN(A3)-LEN(SUBSTITUTE(A3,\"_O_\",\"\")))/LEN(\"_O_\"))*1+((LEN(A3)-LEN(SUBSTITUTE(A3,\"_CHO_\",\"\")))/LEN(\"_CHO_\"))*1+((LEN(A3)-LEN(SUBSTITUTE(A3,\"_COOH_\",\"\")))/LEN(\"_COOH_\"))*2","v":9},1,null,{"$f":"IF(ISERROR(FIND(\"O-\",A3)),IF(ISERROR(FIND(\"P-\",A3)),\"\",CONCATENATE(\"C\",G3,\"H\",H3,\"O\",I3,\"P\",J3)),CONCATENATE(\"C\",G3,\"H\",H3,\"O\",I3,\"P\",J3))","v":"C40H77O9P1"},{"$f":"IF(ISERROR(FIND(\"O-\",A3)),IF(ISERROR(FIND(\"P-\",A3)),\"\",(G3*12.0107)+(H3*1.00794)+(I3*15.9994)+(J3*30.973762)),(G3*12.0107)+(H3*1.00794)+(I3*15.9994)+(J3*30.973762))","v":733.00774200000001},{"$f":"IF(ISERROR(FIND(\"O-\",A3)),IF(ISERROR(FIND(\"P-\",A3)),\"\",(G3*12)+(H3*1.0078246)+(I3*15.994915)+(J3*30.973763)),(G3*12)+(H3*1.0078246)+(I3*15.994915)+(J3*30.973763))","v":732.53049220000003},{"$f":"N3+1.0078246-0.00055","v":733.5377668000001},{"$f":"O3-18.01057-0.00055","v":715.52664680000009},{"$f":"N3+18.03437-0.00055","v":750.56431220000002},{"$f":"N3+22.98977-0.00055","v":755.51971220000007},{"$f":"N3+38.96371-0.00055","v":771.49365220000004},{"$f":"N3+7.01601-0.00055","v":739.5459522000001},{"$f":"N3-1.0078246+0.00055","v":731.52321759999995},{"$f":"N3+44.99767+0.00055","v":777.52871219999997},{"$f":"N3+59.01332+0.00055","v":791.54436220000002}]
["PG P-32:1",{"$f":"IF(ISNUMBER(SEARCH(\"(\",A4)),IF(ISNUMBER(SEARCH(\"/\",A4)),CONCATENATE(MID(A4,1,2),\" \",MID(A4,4,2),SUM(MID(A4,FIND(\"(\",A4)+3,(FIND(\":\",A4)-(FIND(\"-\",A4)+1))),MID(A4,FIND(\"/\",A4)+1,(FIND(\":\",A4,FIND(\"/\",A4))-FIND(\"/\",A4)-1))),\":\",SUM(MID(A4,FIND(\":\",A4)+1,FIND(\"/\",A4)-(FIND(\":\",A4)+1)),MID(A4,FIND(\":\",A4,FIND(\"/\",A4))+1,FIND(\")\",A4)-FIND(\":\",A4,FIND(\"/\",A4))-1)),\" \",MID(A4,(FIND(\")\",A4)+1),100)),CONCATENATE(MID(A4,1,2),\" \",MID(A4,4,2),SUM(MID(A4,FIND(\"(\",A4)+3,(FIND(\":\",A4)-(FIND(\"-\",A4)+1))),MID(A4,FIND(\"_\",A4)+1,(FIND(\":\",A4,FIND(\"_\",A4))-FIND(\"_\",A4)-1))),\":\",SUM(MID(A4,FIND(\":\",A4)+1,FIND(\"_\",A4)-(FIND(\":\",A4)+1)),MID(A4,FIND(\":\",A4,FIND(\"_\",A4))+1,FIND(\")\",A4)-FIND(\":\",A4,FIND(\"_\",A4))-1)),\" \",MID(A4,(FIND(\")\",A4)+1),100))),A4)","v":"PG P-32:1"},{"$f":"MID(B4,6,FIND(\":\",B4)-FIND(\"-\",B4)-1)","v":"32"},{"$f":"IF(ISNUMBER(VALUE(MID(B4,FIND(\":\",B4)+1,2))),MID(B4,FIND(\":\",B4)+1,2),MID(B4,FIND(\":\",B4)+1,1))","v":"1"},{"$f":"IF(ISERROR(FIND(\"O-\",A4)),IF(ISERROR(FIND(\"P-\",A4)),\"\",\"P-\"),\"O-\")","v":"P-"},null,{"$f":"C4+6","v":38},{"$f":"2*G4-(2*D4)-1+2*COUNTIF(B4,\"*O-*\")-((LEN(A4)-LEN(SUBSTITUTE(A4,\"_O_\",\"\")))/LEN(\"_O_\"))*2-((LEN(A4)-LEN(SUBSTITUTE(A4,\"_CHO_\",\"\")))/LEN(\"_CHO_\"))*2-((LEN(A4)-LEN(SUBSTITUTE(A4,\"_COOH_\",\"\")))/LEN(\"_COOH_\"))*2","v":73},{"$f":"9+((LEN(A4)-LEN(SUBSTITUTE(A4,\"_OH_\",\"\")))/LEN(\"_OH_\"))*1+((LEN(A4)-LEN(SUBSTITUTE(A4,\"_OOH_\",\"\")))/LEN(\"_OOH_\"))*2+((LEN(A4)-LEN(SUBSTITUTE(A4,\"_O_\",\"\")))/LEN(\"_O_\"))*1+((LEN(A4)-LEN(SUBSTITUTE(A4,\"_CHO_\",\"\")))/LEN(\"_CHO_\"))*1+((LEN(A4)-LEN(SUBSTITUTE(A4,\"_COOH_\",\"\")))/LEN(\"_COOH_\"))*2","v":9},1,null,{"$f":"IF(ISERROR(FIND(\"O-\",A4)),IF(ISERROR(FIND(\"P-\",A4)),\"\",CONCATENATE(\"C\",G4,\"H\",H4,\"O\",I4,\"P\",J4)),CONCATENATE(\"C\",G4,\"H\",H4,\"O\",I4,\"P\",J4))","v":"C38H73O9P1"},{"$f":"IF(ISERROR(FIND(\"O-\",A4)),IF(ISERROR(FIND(\"P-\",A4)),\"\",(G4*12.0107)+(H4*1.00794)+(I4*15.9994)+(J4*30.973762)),(G4*12.0107)+(H4*1.00794)+(I4*15.9994)+(J4*30.973762))","v":704.95458199999996},{"$f":"IF(ISERROR(FIND(\"O-\",A4)),IF(ISERROR(FIND(\"P-\",A4)),\"\",(G4*12)+(H4*1.0078246)+(I4*15.994915)+(J4*30.973763)),(G4*12)+(H4*1.0078246)+(I4*15.994915)+(J4*30.973763))","v":704.49919379999994},{"$f":"N4+1.0078246-0.00055","v":705.50646840000002},{"$f":"O4-18.01057-0.00055","v":687.49534840000001},{"$f":"N4+18.03437-0.00055","v":722.53301379999994},{"$f":"N4+22.98977-0.00055","v":727.48841379999999},{"$f":"N4+38.96371-0.00055","v":743.46235379999996},{"$f":"N4+7.01601-0.00055","v":711.51465380000002},{"$f":"N4-1.0078246+0.00055","v":703.49191919999987},{"$f":"N4+44.99767+0.00055","v":749.49741379999989},{"$f":"N4+59.01332+0.00055","v":763.51306379999994}]
["PG(O-18:1_20:1)",{"$f":"IF(ISNUMBER(SEARCH(\"(\",A5)),IF(ISNUMBER(SEARCH(\"/\",A5)),CONCATENATE(MID(A5,1,2),\" \",MID(A5,4,2),SUM(MID(A5,FIND(\"(\",A5)+3,(FIND(\":\",A5)-(FIND(\"-\",A5)+1))),MID(A5,FIND(\"/\",A5)+1,(FIND(\":\",A5,FIND(\"/\",A5))-FIND(\"/\",A5)-1))),\":\",SUM(MID(A5,FIND(\":\",A5)+1,FIND(\"/\",A5)-(FIND(\":\",A5)+1)),MID(A5,FIND(\":\",A5,FIND(\"/\",A5))+1,FIND(\")\",A5)-FIND(\":\",A5,FIND(\"/\",A5))-1)),\" \",MID(A5,(FIND(\")\",A5)+1),100)),CONCATENATE(MID(A5,1,2),\" \",MID(A5,4,2),SUM(MID(A5,FIND(\"(\",A5)+3,(FIND(\":\",A5)-(FIND(\"-\",A5)+1))),MID(A5,FIND(\"_\",A5)+1,(FIND(\":\",A5,FIND(\"_\",A5))-FIND(\"_\",A5)-1))),\":\",SUM(MID(A5,FIND(\":\",A5)+1,FIND(\"_\",A5)-(FIND(\":\",A5)+1)),MID(A5,FIND(\":\",A5,FIND(\"_\",A5))+1,FIND(\")\",A5)-FIND(\":\",A5,FIND(\"_\",A5))-1)),\" \",MID(A5,(FIND(\")\",A5)+1),100))),A5)","v":"PG O-38:2 "},{"$f":"MID(B5,6,FIND(\":\",B5)-FIND(\"-\",B5)-1)","v":"38"},{"$f":"IF(ISNUMBER(VALUE(MID(B5,FIND(\":\",B5)+1,2))),MID(B5,FIND(\":\",B5)+1,2),MID(B5,FIND(\":\",B5)+1,1))","v":"2 "},{"$f":"IF(ISERROR(FIND(\"O-\",A5)),IF(ISERROR(FIND(\"P-\",A5)),\"\",\"P-\"),\"O-\")","v":"O-"},null,{"$f":"C5+6","v":44},{"$f":"2*G5-(2*D5)-1+2*COUNTIF(B5,\"*O-*\")-((LEN(A5)-LEN(SUBSTITUTE(A5,\"_O_\",\"\")))/LEN(\"_O_\"))*2-((LEN(A5)-LEN(SUBSTITUTE(A5,\"_CHO_\",\"\")))/LEN(\"_CHO_\"))*2-((LEN(A5)-LEN(SUBSTITUTE(A5,\"_COOH_\",\"\")))/LEN(\"_COOH_\"))*2","v":85},{"$f":"9+((LEN(A5)-LEN(SUBSTITUTE(A5,\"_OH_\",\"\")))/LEN(\"_OH_\"))*1+((LEN(A5)-LEN(SUBSTITUTE(A5,\"_OOH_\",\"\")))/LEN(\"_OOH_\"))*2+((LEN(A5)-LEN(SUBSTITUTE(A5,\"_O_\",\"\")))/LEN(\"_O_\"))*1+((LEN(A5)-LEN(SUBSTITUTE(A5,\"_CHO_\",\"\")))/LEN(\"_CHO_\"))*1+((LEN(A5)-LEN(SUBSTITUTE(A5,\"_COOH_\",\"\")))/LEN(\"_COOH_\"))*2","v":9},1,null,{"$f":"IF(ISERROR(FIND(\"O-\",A5)),IF(ISERROR(FIND(\"P-\",A5)),\"\",CONCATENATE(\"C\",G5,\"H\",H5,\"O\",I5,\"P\",J5)),CONCATENATE(\"C\",G5,\"H\",H5,\"O\",I5,\"P\",J5))","v":"C44H85O9P1"},{"$f":"IF(ISERROR(FIND(\"O-\",A5)),IF(ISERROR(FIND(\"P-\",A5)),\"\",(G5*12.0107)+(H5*1.00794)+(I5*15.9994)+(J5*30.973762)),(G5*12.0107)+(H5*1.00794)+(I5*15.9994)+(J5*30.973762))","v":789.11406199999999},{"$f":"IF(ISERROR(FIND(\"O-\",A5)),IF(ISERROR(FIND(\"P-\",A5)),\"\",(G5*12)+(H5*1.0078246)+(I5*15.994915)+(J5*30.973763)),(G5*12)+(H5*1.0078246)+(I5*15.994915)+(J5*30.973763))","v":788.59308899999996},{"$f":"N5+1.0078246-0.00055","v":789.60036360000004},{"$f":"O5-18.01057-0.00055","v":771.58924360000003},{"$f":"N5+18.03437-0.00055","v":806.62690899999996},{"$f":"N5+22.98977-0.00055","v":811.58230900000001},{"$f":"N5+38.96371-0.00055","v":827.55624899999998},{"$f":"N5+7.01601-0.00055","v":795.60854900000004},{"$f":"N5-1.0078246+0.00055","v":787.58581439999989},{"$f":"N5+44.99767+0.00055","v":833.59130899999991},{"$f":"N5+59.01332+0.00055","v":847.60695899999996}]

{"sheet":"LPI_ether","index":58,"n_rows":5,"n_cols":23,"rows_kept":5,"cut":false,"hidden":false,"merged":[]}
["Lipid","Sum Composition",null,null,null,"#C","#H","#O","#P",null,null,"Formula","Molecular Weight","Neutral Mass","[M+H]+","[M+H-H2O]+","[M+NH4]+","[M+Na]+","[M+K]+","[M+Li]+","[M-H]-","[M+HCOO]-","[M+CH3COO]-"]
["LPI O-16:0",{"$f":"IF(ISNUMBER(SEARCH(\"(\",A2)),IF(ISNUMBER(SEARCH(\"/\",A2)),CONCATENATE(MID(A2,1,2),\" \",MID(A2,4,2),SUM(MID(A2,FIND(\"(\",A2)+3,(FIND(\":\",A2)-(FIND(\"-\",A2)+1))),MID(A2,FIND(\"/\",A2)+1,(FIND(\":\",A2,FIND(\"/\",A2))-FIND(\"/\",A2)-1))),\":\",SUM(MID(A2,FIND(\":\",A2)+1,FIND(\"/\",A2)-(FIND(\":\",A2)+1)),MID(A2,FIND(\":\",A2,FIND(\"/\",A2))+1,FIND(\")\",A2)-FIND(\":\",A2,FIND(\"/\",A2))-1)),\" \",MID(A2,(FIND(\")\",A2)+1),100)),CONCATENATE(MID(A2,1,2),\" \",MID(A2,4,2),SUM(MID(A2,FIND(\"(\",A2)+3,(FIND(\":\",A2)-(FIND(\"-\",A2)+1))),MID(A2,FIND(\"_\",A2)+1,(FIND(\":\",A2,FIND(\"_\",A2))-FIND(\"_\",A2)-1))),\":\",SUM(MID(A2,FIND(\":\",A2)+1,FIND(\"_\",A2)-(FIND(\":\",A2)+1)),MID(A2,FIND(\":\",A2,FIND(\"_\",A2))+1,FIND(\")\",A2)-FIND(\":\",A2,FIND(\"_\",A2))-1)),\" \",MID(A2,(FIND(\")\",A2)+1),100))),A2)","v":"LPI O-16:0"},{"$f":"MID(B2,7,FIND(\":\",B2)-FIND(\"-\",B2)-1)","v":"16"},{"$f":"IF(ISNUMBER(VALUE(MID(B2,FIND(\":\",B2)+1,2))),MID(B2,FIND(\":\",B2)+1,2),MID(B2,FIND(\":\",B2)+1,1))","v":"0"},{"$f":"IF(ISERROR(FIND(\"O-\",A2)),IF(ISERROR(FIND(\"P-\",A2)),\"\",\"P-\"),\"O-\")","v":"O-"},{"$f":"C2+9","v":25},{"$f":"2*F2-(2*D2)-1+2*COUNTIF(B2,\"*O-*\")-((LEN(A2)-LEN(SUBSTITUTE(A2,\"_O_\",\"\")))/LEN(\"_O_\"))*2-((LEN(A2)-LEN(SUBSTITUTE(A2,\"_CHO_\",\"\")))/LEN(\"_CHO_\"))*2-((LEN(A2)-LEN(SUBSTITUTE(A2,\"_COOH_\",\"\")))/LEN(\"_COOH_\"))*2","v":51},{"$f":"11+((LEN(A2)-LEN(SUBSTITUTE(A2,\"_OH_\",\"\")))/LEN(\"_OH_\"))*1+((LEN(A2)-LEN(SUBSTITUTE(A2,\"_OOH_\",\"\")))/LEN(\"_OOH_\"))*2+((LEN(A2)-LEN(SUBSTITUTE(A2,\"_O_\",\"\")))/LEN(\"_O_\"))*1+((LEN(A2)-LEN(SUBSTITUTE(A2,\"_CHO_\",\"\")))/LEN(\"_CHO_\"))*1+((LEN(A2)-LEN(SUBSTITUTE(A2,\"_COOH_\",\"\")))/LEN(\"_COOH_\"))*2","v":11},1,null,null,{"$f":"IF(ISERROR(FIND(\"O-\",A2)),IF(ISERROR(FIND(\"P-\",A2)),\"\",CONCATENATE(\"C\",F2,\"H\",G2,\"O\",H2,\"P\",I2)),CONCATENATE(\"C\",F2,\"H\",G2,\"O\",H2,\"P\",I2))","v":"C25H51O11P1"},{"$f":"IF(ISERROR(FIND(\"O-\",A2)),IF(ISERROR(FIND(\"P-\",A2)),\"\",(F2*12.0107)+(G2*1.00794)+(H2*15.9994)+(I2*30.973762)),(F2*12.0107)+(G2*1.00794)+(H2*15.9994)+(I2*30.973762))","v":558.63960199999997},{"$f":"IF(ISERROR(FIND(\"O-\",A2)),IF(ISERROR(FIND(\"P-\",A2)),\"\",(F2*12)+(G2*1.0078246)+(H2*15.994915)+(I2*30.973763)),(F2*12)+(G2*1.0078246)+(H2*15.994915)+(I2*30.973763))","v":558.31688259999999},{"$f":"N2+1.0078246-0.00055","v":559.32415720000006},{"$f":"O2-18.01057-0.00055","v":541.31303720000005},{"$f":"N2+18.03437-0.00055","v":576.35070259999998},{"$f":"N2+22.98977-0.00055","v":581.30610260000003},{"$f":"N2+38.96371-0.00055","v":597.2800426},{"$f":"N2+7.01601-0.00055","v":565.33234260000006},{"$f":"N2-1.0078246+0.00055","v":557.30960799999991},{"$f":"N2+44.99767+0.00055","v":603.31510259999993},{"$f":"N2+59.01332+0.00055","v":617.33075259999998}]
["LPI P-16:1",{"$f":"IF(ISNUMBER(SEARCH(\"(\",A3)),IF(ISNUMBER(SEARCH(\"/\",A3)),CONCATENATE(MID(A3,1,2),\" \",MID(A3,4,2),SUM(MID(A3,FIND(\"(\",A3)+3,(FIND(\":\",A3)-(FIND(\"-\",A3)+1))),MID(A3,FIND(\"/\",A3)+1,(FIND(\":\",A3,FIND(\"/\",A3))-FIND(\"/\",A3)-1))),\":\",SUM(MID(A3,FIND(\":\",A3)+1,FIND(\"/\",A3)-(FIND(\":\",A3)+1)),MID(A3,FIND(\":\",A3,FIND(\"/\",A3))+1,FIND(\")\",A3)-FIND(\":\",A3,FIND(\"/\",A3))-1)),\" \",MID(A3,(FIND(\")\",A3)+1),100)),CONCATENATE(MID(A3,1,2),\" \",MID(A3,4,2),SUM(MID(A3,FIND(\"(\",A3)+3,(FIND(\":\",A3)-(FIND(\"-\",A3)+1))),MID(A3,FIND(\"_\",A3)+1,(FIND(\":\",A3,FIND(\"_\",A3))-FIND(\"_\",A3)-1))),\":\",SUM(MID(A3,FIND(\":\",A3)+1,FIND(\"_\",A3)-(FIND(\":\",A3)+1)),MID(A3,FIND(\":\",A3,FIND(\"_\",A3))+1,FIND(\")\",A3)-FIND(\":\",A3,FIND(\"_\",A3))-1)),\" \",MID(A3,(FIND(\")\",A3)+1),100))),A3)","v":"LPI P-16:1"},{"$f":"MID(B3,7,FIND(\":\",B3)-FIND(\"-\",B3)-1)","v":"16"},{"$f":"IF(ISNUMBER(VALUE(MID(B3,FIND(\":\",B3)+1,2))),MID(B3,FIND(\":\",B3)+1,2),MID(B3,FIND(\":\",B3)+1,1))","v":"1"},{"$f":"IF(ISERROR(FIND(\"O-\",A3)),IF(ISERROR(FIND(\"P-\",A3)),\"\",\"P-\"),\"O-\")","v":"P-"},{"$f":"C3+9","v":25},{"$f":"2*F3-(2*D3)-1+2*COUNTIF(B3,\"*O-*\")-((LEN(A3)-LEN(SUBSTITUTE(A3,\"_O_\",\"\")))/LEN(\"_O_\"))*2-((LEN(A3)-LEN(SUBSTITUTE(A3,\"_CHO_\",\"\")))/LEN(\"_CHO_\"))*2-((LEN(A3)-LEN(SUBSTITUTE(A3,\"_COOH_\",\"\")))/LEN(\"_COOH_\"))*2","v":47},{"$f":"11+((LEN(A3)-LEN(SUBSTITUTE(A3,\"_OH_\",\"\")))/LEN(\"_OH_\"))*1+((LEN(A3)-LEN(SUBSTITUTE(A3,\"_OOH_\",\"\")))/LEN(\"_OOH_\"))*2+((LEN(A3)-LEN(SUBSTITUTE(A3,\"_O_\",\"\")))/LEN(\"_O_\"))*1+((LEN(A3)-LEN(SUBSTITUTE(A3,\"_CHO_\",\"\")))/LEN(\"_CHO_\"))*1+((LEN(A3)-LEN(SUBSTITUTE(A3,\"_COOH_\",\"\")))/LEN(\"_COOH_\"))*2","v":11},1,null,null,{"$f":"IF(ISERROR(FIND(\"O-\",A3)),IF(ISERROR(FIND(\"P-\",A3)),\"\",CONCATENATE(\"C\",F3,\"H\",G3,\"O\",H3,\"P\",I3)),CONCATENATE(\"C\",F3,\"H\",G3,\"O\",H3,\"P\",I3))","v":"C25H47O11P1"},{"$f":"IF(ISERROR(FIND(\"O-\",A3)),IF(ISERROR(FIND(\"P-\",A3)),\"\",(F3*12.0107)+(G3*1.00794)+(H3*15.9994)+(I3*30.973762)),(F3*12.0107)+(G3*1.00794)+(H3*15.9994)+(I3*30.973762))","v":554.60784200000001},{"$f":"IF(ISERROR(FIND(\"O-\",A3)),IF(ISERROR(FIND(\"P-\",A3)),\"\",(F3*12)+(G3*1.0078246)+(H3*15.994915)+(I3*30.973763)),(F3*12)+(G3*1.0078246)+(H3*15.994915)+(I3*30.973763))","v":554.2855841999999},{"$f":"N3+1.0078246-0.00055","v":555.29285879999998},{"$f":"O3-18.01057-0.00055","v":537.28173879999997},{"$f":"N3+18.03437-0.00055","v":572.31940419999989},{"$f":"N3+22.98977-0.00055","v":577.27480419999995},{"$f":"N3+38.96371-0.00055","v":593.24874419999992},{"$f":"N3+7.01601-0.00055","v":561.30104419999998},{"$f":"N3-1.0078246+0.00055","v":553.27830959999983},{"$f":"N3+44.99767+0.00055","v":599.28380419999985},{"$f":"N3+59.01332+0.00055","v":613.2994541999999}]
["LPI O-18:0","LPI O-18:0","18","0","O-",27,55,11,1,null,null,"C27H55O11P1",{"$f":"IF(ISERROR(FIND(\"O-\",A4)),IF(ISERROR(FIND(\"P-\",A4)),\"\",(F4*12.0107)+(G4*1.00794)+(H4*15.9994)+(I4*30.973762)),(F4*12.0107)+(G4*1.00794)+(H4*15.9994)+(I4*30.973762))","v":586.69276200000002},586.34818099999995,587.35545560000003,569.34433560000002,604.38200099999995,609.337401,625.31134099999997,593.36364100000003,585.34090639999988,631.3464009999999,645.36205099999995]
["LPI P-18:0","LPI P-18:0","18","0","P-",27,53,11,1,null,null,"C27H53O11P1",{"$f":"IF(ISERROR(FIND(\"O-\",A5)),IF(ISERROR(FIND(\"P-\",A5)),\"\",(F5*12.0107)+(G5*1.00794)+(H5*15.9994)+(I5*30.973762)),(F5*12.0107)+(G5*1.00794)+(H5*15.9994)+(I5*30.973762))","v":584.67688199999998},584.33253179999997,585.33980640000004,567.32868640000004,602.36635179999996,607.32175180000002,623.29569179999999,591.34799180000005,583.3252571999999,629.33075179999992,643.34640179999997]

{"sheet":"PI_ether","index":59,"n_rows":4,"n_cols":23,"rows_kept":4,"cut":false,"hidden":false,"merged":[]}
["Lipid","Sum Composition",null,null,null,"#C","#H","#O","#P",null,null,"Formula","Molecular Weight","Neutral Mass","[M+H]+","[M+H-H2O]+","[M+NH4]+","[M+Na]+","[M+K]+","[M+Li]+","[M-H]-","[M+HCOO]-","[M+CH3COO]-"]
["PI O-32:0",{"$f":"IF(ISNUMBER(SEARCH(\"(\",A2)),IF(ISNUMBER(SEARCH(\"/\",A2)),CONCATENATE(MID(A2,1,2),\" \",MID(A2,4,2),SUM(MID(A2,FIND(\"(\",A2)+3,(FIND(\":\",A2)-(FIND(\"-\",A2)+1))),MID(A2,FIND(\"/\",A2)+1,(FIND(\":\",A2,FIND(\"/\",A2))-FIND(\"/\",A2)-1))),\":\",SUM(MID(A2,FIND(\":\",A2)+1,FIND(\"/\",A2)-(FIND(\":\",A2)+1)),MID(A2,FIND(\":\",A2,FIND(\"/\",A2))+1,FIND(\")\",A2)-FIND(\":\",A2,FIND(\"/\",A2))-1)),\" \",MID(A2,(FIND(\")\",A2)+1),100)),CONCATENATE(MID(A2,1,2),\" \",MID(A2,4,2),SUM(MID(A2,FIND(\"(\",A2)+3,(FIND(\":\",A2)-(FIND(\"-\",A2)+1))),MID(A2,FIND(\"_\",A2)+1,(FIND(\":\",A2,FIND(\"_\",A2))-FIND(\"_\",A2)-1))),\":\",SUM(MID(A2,FIND(\":\",A2)+1,FIND(\"_\",A2)-(FIND(\":\",A2)+1)),MID(A2,FIND(\":\",A2,FIND(\"_\",A2))+1,FIND(\")\",A2)-FIND(\":\",A2,FIND(\"_\",A2))-1)),\" \",MID(A2,(FIND(\")\",A2)+1),100))),A2)","v":"PI O-32:0"},{"$f":"MID(B2,6,FIND(\":\",B2)-FIND(\"-\",B2)-1)","v":"32"},{"$f":"IF(ISNUMBER(VALUE(MID(B2,FIND(\":\",B2)+1,2))),MID(B2,FIND(\":\",B2)+1,2),MID(B2,FIND(\":\",B2)+1,1))","v":"0"},{"$f":"IF(ISERROR(FIND(\"O-\",A2)),IF(ISERROR(FIND(\"P-\",A2)),\"\",\"P-\"),\"O-\")","v":"O-"},{"$f":"C2+9","v":41},{"$f":"2*F2-(2*D2)-3+2*COUNTIF(B2,\"*O-*\")-((LEN(A2)-LEN(SUBSTITUTE(A2,\"_O_\",\"\")))/LEN(\"_O_\"))*2-((LEN(A2)-LEN(SUBSTITUTE(A2,\"_CHO_\",\"\")))/LEN(\"_CHO_\"))*2-((LEN(A2)-LEN(SUBSTITUTE(A2,\"_COOH_\",\"\")))/LEN(\"_COOH_\"))*2","v":81},{"$f":"12+((LEN(A2)-LEN(SUBSTITUTE(A2,\"_OH_\",\"\")))/LEN(\"_OH_\"))*1+((LEN(A2)-LEN(SUBSTITUTE(A2,\"_OOH_\",\"\")))/LEN(\"_OOH_\"))*2+((LEN(A2)-LEN(SUBSTITUTE(A2,\"_O_\",\"\")))/LEN(\"_O_\"))*1+((LEN(A2)-LEN(SUBSTITUTE(A2,\"_CHO_\",\"\")))/LEN(\"_CHO_\"))*1+((LEN(A2)-LEN(SUBSTITUTE(A2,\"_COOH_\",\"\")))/LEN(\"_COOH_\"))*2","v":12},1,null,null,{"$f":"IF(ISERROR(FIND(\"O-\",A2)),IF(ISERROR(FIND(\"P-\",A2)),\"\",CONCATENATE(\"C\",F2,\"H\",G2,\"O\",H2,\"P\",I2)),CONCATENATE(\"C\",F2,\"H\",G2,\"O\",H2,\"P\",I2))","v":"C41H81O12P1"},{"$f":"IF(ISERROR(FIND(\"O-\",A2)),IF(ISERROR(FIND(\"P-\",A2)),\"\",(F2*12.0107)+(G2*1.00794)+(H2*15.9994)+(I2*30.973762)),(F2*12.0107)+(G2*1.00794)+(H2*15.9994)+(I2*30.973762))","v":797.0484019999999},{"$f":"IF(ISERROR(FIND(\"O-\",A2)),IF(ISERROR(FIND(\"P-\",A2)),\"\",(F2*12)+(G2*1.0078246)+(H2*15.994915)+(I2*30.973763)),(F2*12)+(G2*1.0078246)+(H2*15.994915)+(I2*30.973763))","v":796.54653559999997},{"$f":"N2+1.0078246-0.00055","v":797.55381020000004},{"$f":"O2-18.01057-0.00055","v":779.54269020000004},{"$f":"N2+18.03437-0.00055","v":814.58035559999996},{"$f":"N2+22.98977-0.00055","v":819.53575560000002},{"$f":"N2+38.96371-0.00055","v":835.50969559999999},{"$f":"N2+7.01601-0.00055","v":803.56199560000005},{"$f":"N2-1.0078246+0.00055","v":795.5392609999999},{"$f":"N2+44.99767+0.00055","v":841.54475559999992},{"$f":"N2+59.01332+0.00055","v":855.56040559999997}]
["PI P-32:1__CHO__",{"$f":"IF(ISNUMBER(SEARCH(\"(\",A3)),IF(ISNUMBER(SEARCH(\"/\",A3)),CONCATENATE(MID(A3,1,2),\" \",MID(A3,4,2),SUM(MID(A3,FIND(\"(\",A3)+3,(FIND(\":\",A3)-(FIND(\"-\",A3)+1))),MID(A3,FIND(\"/\",A3)+1,(FIND(\":\",A3,FIND(\"/\",A3))-FIND(\"/\",A3)-1))),\":\",SUM(MID(A3,FIND(\":\",A3)+1,FIND(\"/\",A3)-(FIND(\":\",A3)+1)),MID(A3,FIND(\":\",A3,FIND(\"/\",A3))+1,FIND(\")\",A3)-FIND(\":\",A3,FIND(\"/\",A3))-1)),\" \",MID(A3,(FIND(\")\",A3)+1),100)),CONCATENATE(MID(A3,1,2),\" \",MID(A3,4,2),SUM(MID(A3,FIND(\"(\",A3)+3,(FIND(\":\",A3)-(FIND(\"-\",A3)+1))),MID(A3,FIND(\"_\",A3)+1,(FIND(\":\",A3,FIND(\"_\",A3))-FIND(\"_\",A3)-1))),\":\",SUM(MID(A3,FIND(\":\",A3)+1,FIND(\"_\",A3)-(FIND(\":\",A3)+1)),MID(A3,FIND(\":\",A3,FIND(\"_\",A3))+1,FIND(\")\",A3)-FIND(\":\",A3,FIND(\"_\",A3))-1)),\" \",MID(A3,(FIND(\")\",A3)+1),100))),A3)","v":"PI P-32:1__CHO__"},{"$f":"MID(B3,6,FIND(\":\",B3)-FIND(\"-\",B3)-1)","v":"32"},{"$f":"IF(ISNUMBER(VALUE(MID(B3,FIND(\":\",B3)+1,2))),MID(B3,FIND(\":\",B3)+1,2),MID(B3,FIND(\":\",B3)+1,1))","v":"1"},{"$f":"IF(ISERROR(FIND(\"O-\",A3)),IF(ISERROR(FIND(\"P-\",A3)),\"\",\"P-\"),\"O-\")","v":"P-"},{"$f":"C3+9","v":41},{"$f":"2*F3-(2*D3)-3+2*COUNTIF(B3,\"*O-*\")-((LEN(A3)-LEN(SUBSTITUTE(A3,\"_O_\",\"\")))/LEN(\"_O_\"))*2-((LEN(A3)-LEN(SUBSTITUTE(A3,\"_CHO_\",\"\")))/LEN(\"_CHO_\"))*2-((LEN(A3)-LEN(SUBSTITUTE(A3,\"_COOH_\",\"\")))/LEN(\"_COOH_\"))*2","v":75},{"$f":"12+((LEN(A3)-LEN(SUBSTITUTE(A3,\"_OH_\",\"\")))/LEN(\"_OH_\"))*1+((LEN(A3)-LEN(SUBSTITUTE(A3,\"_OOH_\",\"\")))/LEN(\"_OOH_\"))*2+((LEN(A3)-LEN(SUBSTITUTE(A3,\"_O_\",\"\")))/LEN(\"_O_\"))*1+((LEN(A3)-LEN(SUBSTITUTE(A3,\"_CHO_\",\"\")))/LEN(\"_CHO_\"))*1+((LEN(A3)-LEN(SUBSTITUTE(A3,\"_COOH_\",\"\")))/LEN(\"_COOH_\"))*2","v":13},1,null,null,{"$f":"IF(ISERROR(FIND(\"O-\",A3)),IF(ISERROR(FIND(\"P-\",A3)),\"\",CONCATENATE(\"C\",F3,\"H\",G3,\"O\",H3,\"P\",I3)),CONCATENATE(\"C\",F3,\"H\",G3,\"O\",H3,\"P\",I3))","v":"C41H75O13P1"},{"$f":"IF(ISERROR(FIND(\"O-\",A3)),IF(ISERROR(FIND(\"P-\",A3)),\"\",(F3*12.0107)+(G3*1.00794)+(H3*15.9994)+(I3*30.973762)),(F3*12.0107)+(G3*1.00794)+(H3*15.9994)+(I3*30.973762))","v":807.00016199999993},{"$f":"IF(ISERROR(FIND(\"O-\",A3)),IF(ISERROR(FIND(\"P-\",A3)),\"\",(F3*12)+(G3*1.0078246)+(H3*15.994915)+(I3*30.973763)),(F3*12)+(G3*1.0078246)+(H3*15.994915)+(I3*30.973763))","v":806.49450300000001},{"$f":"N3+1.0078246-0.00055","v":807.50177760000008},{"$f":"O3-18.01057-0.00055","v":789.49065760000008},{"$f":"N3+18.03437-0.00055","v":824.528323},{"$f":"N3+22.98977-0.00055","v":829.48372300000005},{"$f":"N3+38.96371-0.00055","v":845.45766300000003},{"$f":"N3+7.01601-0.00055","v":813.50996300000008},{"$f":"N3-1.0078246+0.00055","v":805.48722839999994},{"$f":"N3+44.99767+0.00055","v":851.49272299999996},{"$f":"N3+59.01332+0.00055","v":865.50837300000001}]
["PI(O-18:1_18:2)",{"$f":"IF(ISNUMBER(SEARCH(\"(\",A4)),IF(ISNUMBER(SEARCH(\"/\",A4)),CONCATENATE(MID(A4,1,2),\" \",MID(A4,4,2),SUM(MID(A4,FIND(\"(\",A4)+3,(FIND(\":\",A4)-(FIND(\"-\",A4)+1))),MID(A4,FIND(\"/\",A4)+1,(FIND(\":\",A4,FIND(\"/\",A4))-FIND(\"/\",A4)-1))),\":\",SUM(MID(A4,FIND(\":\",A4)+1,FIND(\"/\",A4)-(FIND(\":\",A4)+1)),MID(A4,FIND(\":\",A4,FIND(\"/\",A4))+1,FIND(\")\",A4)-FIND(\":\",A4,FIND(\"/\",A4))-1)),\" \",MID(A4,(FIND(\")\",A4)+1),100)),CONCATENATE(MID(A4,1,2),\" \",MID(A4,4,2),SUM(MID(A4,FIND(\"(\",A4)+3,(FIND(\":\",A4)-(FIND(\"-\",A4)+1))),MID(A4,FIND(\"_\",A4)+1,(FIND(\":\",A4,FIND(\"_\",A4))-FIND(\"_\",A4)-1))),\":\",SUM(MID(A4,FIND(\":\",A4)+1,FIND(\"_\",A4)-(FIND(\":\",A4)+1)),MID(A4,FIND(\":\",A4,FIND(\"_\",A4))+1,FIND(\")\",A4)-FIND(\":\",A4,FIND(\"_\",A4))-1)),\" \",MID(A4,(FIND(\")\",A4)+1),100))),A4)","v":"PI O-36:3 "},{"$f":"MID(B4,6,FIND(\":\",B4)-FIND(\"-\",B4)-1)","v":"36"},{"$f":"IF(ISNUMBER(VALUE(MID(B4,FIND(\":\",B4)+1,2))),MID(B4,FIND(\":\",B4)+1,2),MID(B4,FIND(\":\",B4)+1,1))","v":"3 "},{"$f":"IF(ISERROR(FIND(\"O-\",A4)),IF(ISERROR(FIND(\"P-\",A4)),\"\",\"P-\"),\"O-\")","v":"O-"},{"$f":"C4+9","v":45},{"$f":"2*F4-(2*D4)-3+2*COUNTIF(B4,\"*O-*\")-((LEN(A4)-LEN(SUBSTITUTE(A4,\"_O_\",\"\")))/LEN(\"_O_\"))*2-((LEN(A4)-LEN(SUBSTITUTE(A4,\"_CHO_\",\"\")))/LEN(\"_CHO_\"))*2-((LEN(A4)-LEN(SUBSTITUTE(A4,\"_COOH_\",\"\")))/LEN(\"_COOH_\"))*2","v":83},{"$f":"12+((LEN(A4)-LEN(SUBSTITUTE(A4,\"_OH_\",\"\")))/LEN(\"_OH_\"))*1+((LEN(A4)-LEN(SUBSTITUTE(A4,\"_OOH_\",\"\")))/LEN(\"_OOH_\"))*2+((LEN(A4)-LEN(SUBSTITUTE(A4,\"_O_\",\"\")))/LEN(\"_O_\"))*1+((LEN(A4)-LEN(SUBSTITUTE(A4,\"_CHO_\",\"\")))/LEN(\"_CHO_\"))*1+((LEN(A4)-LEN(SUBSTITUTE(A4,\"_COOH_\",\"\")))/LEN(\"_COOH_\"))*2","v":12},1,null,null,{"$f":"IF(ISERROR(FIND(\"O-\",A4)),IF(ISERROR(FIND(\"P-\",A4)),\"\",CONCATENATE(\"C\",F4,\"H\",G4,\"O\",H4,\"P\",I4)),CONCATENATE(\"C\",F4,\"H\",G4,\"O\",H4,\"P\",I4))","v":"C45H83O12P1"},{"$f":"IF(ISERROR(FIND(\"O-\",A4)),IF(ISERROR(FIND(\"P-\",A4)),\"\",(F4*12.0107)+(G4*1.00794)+(H4*15.9994)+(I4*30.973762)),(F4*12.0107)+(G4*1.00794)+(H4*15.9994)+(I4*30.973762))","v":847.10708199999988},{"$f":"IF(ISERROR(FIND(\"O-\",A4)),IF(ISERROR(FIND(\"P-\",A4)),\"\",(F4*12)+(G4*1.0078246)+(H4*15.994915)+(I4*30.973763)),(F4*12)+(G4*1.0078246)+(H4*15.994915)+(I4*30.973763))","v":846.56218479999995},{"$f":"N4+1.0078246-0.00055","v":847.56945940000003},{"$f":"O4-18.01057-0.00055","v":829.55833940000002},{"$f":"N4+18.03437-0.00055","v":864.59600479999995},{"$f":"N4+22.98977-0.00055","v":869.5514048},{"$f":"N4+38.96371-0.00055","v":885.52534479999997},{"$f":"N4+7.01601-0.00055","v":853.57764480000003},{"$f":"N4-1.0078246+0.00055","v":845.55491019999988},{"$f":"N4+44.99767+0.00055","v":891.5604047999999},{"$f":"N4+59.01332+0.00055","v":905.57605479999995}]

{"sheet":"PIP_ether","index":60,"n_rows":5,"n_cols":23,"rows_kept":5,"cut":false,"hidden":false,"merged":[]}
["Lipid","Sum Composition",null,null,null,"#C","#H","#N","#O","#P",null,"Formula","Molecular Weight","Neutral Mass","[M+H]+","[M+H-H2O]+","[M+NH4]+","[M+Na]+","[M+K]+","[M+Li]+","[M-H]-","[M+HCOO]-","[M+CH3COO]-"]
["PIP O-14:5",{"$f":"IF(ISNUMBER(SEARCH(\"(\",A2)),IF(ISNUMBER(SEARCH(\"/\",A2)),CONCATENATE(MID(A2,1,3),\" \",MID(A2,5,2),SUM(MID(A2,FIND(\"(\",A2)+3,(FIND(\":\",A2)-(FIND(\"-\",A2)+1))),MID(A2,FIND(\"/\",A2)+1,(FIND(\":\",A2,FIND(\"/\",A2))-FIND(\"/\",A2)-1))),\":\",SUM(MID(A2,FIND(\":\",A2)+1,FIND(\"/\",A2)-(FIND(\":\",A2)+1)),MID(A2,FIND(\":\",A2,FIND(\"/\",A2))+1,FIND(\")\",A2)-FIND(\":\",A2,FIND(\"/\",A2))-1)),\" \",MID(A2,(FIND(\")\",A2)+1),100)),CONCATENATE(MID(A2,1,3),\" \",MID(A2,5,2),SUM(MID(A2,FIND(\"(\",A2)+3,(FIND(\":\",A2)-(FIND(\"-\",A2)+1))),MID(A2,FIND(\"_\",A2)+1,(FIND(\":\",A2,FIND(\"_\",A2))-FIND(\"_\",A2)-1))),\":\",SUM(MID(A2,FIND(\":\",A2)+1,FIND(\"_\",A2)-(FIND(\":\",A2)+1)),MID(A2,FIND(\":\",A2,FIND(\"_\",A2))+1,FIND(\")\",A2)-FIND(\":\",A2,FIND(\"_\",A2))-1)),\" \",MID(A2,(FIND(\")\",A2)+1),100))),A2)","v":"PIP O-14:5"},{"$f":"MID(B2,7,FIND(\":\",B2)-FIND(\"-\",B2)-1)","v":"14"},{"$f":"IF(ISNUMBER(VALUE(MID(B2,FIND(\":\",B2)+1,2))),MID(B2,FIND(\":\",B2)+1,2),MID(B2,FIND(\":\",B2)+1,1))","v":"5"},{"$f":"IF(ISERROR(FIND(\"O-\",A2)),IF(ISERROR(FIND(\"P-\",A2)),\"\",\"P-\"),\"O-\")","v":"O-"},{"$f":"C2+9","v":23},{"$f":"2*F2-(2*D2)-2+2*COUNTIF(B2,\"*O-*\")-((LEN(A2)-LEN(SUBSTITUTE(A2,\"_O_\",\"\")))/LEN(\"_O_\"))*2-((LEN(A2)-LEN(SUBSTITUTE(A2,\"_CHO_\",\"\")))/LEN(\"_CHO_\"))*2-((LEN(A2)-LEN(SUBSTITUTE(A2,\"_COOH_\",\"\")))/LEN(\"_COOH_\"))*2","v":36},0,{"$f":"15+((LEN(A2)-LEN(SUBSTITUTE(A2,\"_OH_\",\"\")))/LEN(\"_OH_\"))*1+((LEN(A2)-LEN(SUBSTITUTE(A2,\"_OOH_\",\"\")))/LEN(\"_OOH_\"))*2+((LEN(A2)-LEN(SUBSTITUTE(A2,\"_O_\",\"\")))/LEN(\"_O_\"))*1+((LEN(A2)-LEN(SUBSTITUTE(A2,\"_CHO_\",\"\")))/LEN(\"_CHO_\"))*1+((LEN(A2)-LEN(SUBSTITUTE(A2,\"_COOH_\",\"\")))/LEN(\"_COOH_\"))*2","v":15},2,null,{"$f":"IF(ISERROR(FIND(\"O-\",A2)),IF(ISERROR(FIND(\"P-\",A2)),\"\",CONCATENATE(\"C\",F2,\"H\",G2,\"O\",I2,\"P\",J2)),CONCATENATE(\"C\",F2,\"H\",G2,\"O\",I2,\"P\",J2))","v":"C23H36O15P2"},{"$f":"IF(ISERROR(FIND(\"O-\",A2)),IF(ISERROR(FIND(\"P-\",A2)),\"\",(F2*12.0107)+(G2*1.00794)+(H2*14.0067)+(I2*15.9994)+(J2*30.973762)),(F2*12.0107)+(G2*1.00794)+(H2*14.0067)+(I2*15.9994)+(J2*30.973762))","v":614.47046400000011},{"$f":"IF(ISERROR(FIND(\"O-\",A2)),IF(ISERROR(FIND(\"P-\",A2)),\"\",(F2*12)+(G2*1.0078246)+(H2*14.003074)+(I2*15.994915)+(J2*30.973763)),(F2*12)+(G2*1.0078246)+(H2*14.003074)+(I2*15.994915)+(J2*30.973763))","v":614.15293660000009},{"$f":"N2+1.0078246-0.00055","v":615.16021120000016},{"$f":"O2-18.01057-0.00055","v":597.14909120000016},{"$f":"N2+18.03437-0.00055","v":632.18675660000008},{"$f":"N2+22.98977-0.00055","v":637.14215660000013},{"$f":"N2+38.96371-0.00055","v":653.11609660000011},{"$f":"N2+7.01601-0.00055","v":621.16839660000016},{"$f":"N2-1.0078246+0.00055","v":613.14566200000002},{"$f":"N2+44.99767+0.00055","v":659.15115660000004},{"$f":"N2+59.01332+0.00055","v":673.16680660000009}]
["PIP(P-16:1/18:1)",{"$f":"IF(ISNUMBER(SEARCH(\"(\",A3)),IF(ISNUMBER(SEARCH(\"/\",A3)),CONCATENATE(MID(A3,1,3),\" \",MID(A3,5,2),SUM(MID(A3,FIND(\"(\",A3)+3,(FIND(\":\",A3)-(FIND(\"-\",A3)+1))),MID(A3,FIND(\"/\",A3)+1,(FIND(\":\",A3,FIND(\"/\",A3))-FIND(\"/\",A3)-1))),\":\",SUM(MID(A3,FIND(\":\",A3)+1,FIND(\"/\",A3)-(FIND(\":\",A3)+1)),MID(A3,FIND(\":\",A3,FIND(\"/\",A3))+1,FIND(\")\",A3)-FIND(\":\",A3,FIND(\"/\",A3))-1)),\" \",MID(A3,(FIND(\")\",A3)+1),100)),CONCATENATE(MID(A3,1,3),\" \",MID(A3,5,2),SUM(MID(A3,FIND(\"(\",A3)+3,(FIND(\":\",A3)-(FIND(\"-\",A3)+1))),MID(A3,FIND(\"_\",A3)+1,(FIND(\":\",A3,FIND(\"_\",A3))-FIND(\"_\",A3)-1))),\":\",SUM(MID(A3,FIND(\":\",A3)+1,FIND(\"_\",A3)-(FIND(\":\",A3)+1)),MID(A3,FIND(\":\",A3,FIND(\"_\",A3))+1,FIND(\")\",A3)-FIND(\":\",A3,FIND(\"_\",A3))-1)),\" \",MID(A3,(FIND(\")\",A3)+1),100))),A3)","v":"PIP P-34:2 "},{"$f":"MID(B3,7,FIND(\":\",B3)-FIND(\"-\",B3)-1)","v":"34"},{"$f":"IF(ISNUMBER(VALUE(MID(B3,FIND(\":\",B3)+1,2))),MID(B3,FIND(\":\",B3)+1,2),MID(B3,FIND(\":\",B3)+1,1))","v":"2 "},{"$f":"IF(ISERROR(FIND(\"O-\",A3)),IF(ISERROR(FIND(\"P-\",A3)),\"\",\"P-\"),\"O-\")","v":"P-"},{"$f":"C3+9","v":43},{"$f":"2*F3-(2*D3)-2+2*COUNTIF(B3,\"*O-*\")-((LEN(A3)-LEN(SUBSTITUTE(A3,\"_O_\",\"\")))/LEN(\"_O_\"))*2-((LEN(A3)-LEN(SUBSTITUTE(A3,\"_CHO_\",\"\")))/LEN(\"_CHO_\"))*2-((LEN(A3)-LEN(SUBSTITUTE(A3,\"_COOH_\",\"\")))/LEN(\"_COOH_\"))*2","v":80},0,{"$f":"15+((LEN(A3)-LEN(SUBSTITUTE(A3,\"_OH_\",\"\")))/LEN(\"_OH_\"))*1+((LEN(A3)-LEN(SUBSTITUTE(A3,\"_OOH_\",\"\")))/LEN(\"_OOH_\"))*2+((LEN(A3)-LEN(SUBSTITUTE(A3,\"_O_\",\"\")))/LEN(\"_O_\"))*1+((LEN(A3)-LEN(SUBSTITUTE(A3,\"_CHO_\",\"\")))/LEN(\"_CHO_\"))*1+((LEN(A3)-LEN(SUBSTITUTE(A3,\"_COOH_\",\"\")))/LEN(\"_COOH_\"))*2","v":15},2,null,{"$f":"IF(ISERROR(FIND(\"O-\",A3)),IF(ISERROR(FIND(\"P-\",A3)),\"\",CONCATENATE(\"C\",F3,\"H\",G3,\"O\",I3,\"P\",J3)),CONCATENATE(\"C\",F3,\"H\",G3,\"O\",I3,\"P\",J3))","v":"C43H80O15P2"},{"$f":"IF(ISERROR(FIND(\"O-\",A3)),IF(ISERROR(FIND(\"P-\",A3)),\"\",(F3*12.0107)+(G3*1.00794)+(H3*14.0067)+(I3*15.9994)+(J3*30.973762)),(F3*12.0107)+(G3*1.00794)+(H3*14.0067)+(I3*15.9994)+(J3*30.973762))","v":899.03382399999998},{"$f":"IF(ISERROR(FIND(\"O-\",A3)),IF(ISERROR(FIND(\"P-\",A3)),\"\",(F3*12)+(G3*1.0078246)+(H3*14.003074)+(I3*15.994915)+(J3*30.973763)),(F3*12)+(G3*1.0078246)+(H3*14.003074)+(I3*15.994915)+(J3*30.973763))","v":898.49721900000009},{"$f":"N3+1.0078246-0.00055","v":899.50449360000016},{"$f":"O3-18.01057-0.00055","v":881.49337360000015},{"$f":"N3+18.03437-0.00055","v":916.53103900000008},{"$f":"N3+22.98977-0.00055","v":921.48643900000013},{"$f":"N3+38.96371-0.00055","v":937.4603790000001},{"$f":"N3+7.01601-0.00055","v":905.51267900000016},{"$f":"N3-1.0078246+0.00055","v":897.48994440000001},{"$f":"N3+44.99767+0.00055","v":943.49543900000003},{"$f":"N3+59.01332+0.00055","v":957.51108900000008}]
["PIP O-40:1",{"$f":"IF(ISNUMBER(SEARCH(\"(\",A4)),IF(ISNUMBER(SEARCH(\"/\",A4)),CONCATENATE(MID(A4,1,3),\" \",MID(A4,5,2),SUM(MID(A4,FIND(\"(\",A4)+3,(FIND(\":\",A4)-(FIND(\"-\",A4)+1))),MID(A4,FIND(\"/\",A4)+1,(FIND(\":\",A4,FIND(\"/\",A4))-FIND(\"/\",A4)-1))),\":\",SUM(MID(A4,FIND(\":\",A4)+1,FIND(\"/\",A4)-(FIND(\":\",A4)+1)),MID(A4,FIND(\":\",A4,FIND(\"/\",A4))+1,FIND(\")\",A4)-FIND(\":\",A4,FIND(\"/\",A4))-1)),\" \",MID(A4,(FIND(\")\",A4)+1),100)),CONCATENATE(MID(A4,1,3),\" \",MID(A4,5,2),SUM(MID(A4,FIND(\"(\",A4)+3,(FIND(\":\",A4)-(FIND(\"-\",A4)+1))),MID(A4,FIND(\"_\",A4)+1,(FIND(\":\",A4,FIND(\"_\",A4))-FIND(\"_\",A4)-1))),\":\",SUM(MID(A4,FIND(\":\",A4)+1,FIND(\"_\",A4)-(FIND(\":\",A4)+1)),MID(A4,FIND(\":\",A4,FIND(\"_\",A4))+1,FIND(\")\",A4)-FIND(\":\",A4,FIND(\"_\",A4))-1)),\" \",MID(A4,(FIND(\")\",A4)+1),100))),A4)","v":"PIP O-40:1"},{"$f":"MID(B4,7,FIND(\":\",B4)-FIND(\"-\",B4)-1)","v":"40"},{"$f":"IF(ISNUMBER(VALUE(MID(B4,FIND(\":\",B4)+1,2))),MID(B4,FIND(\":\",B4)+1,2),MID(B4,FIND(\":\",B4)+1,1))","v":"1"},{"$f":"IF(ISERROR(FIND(\"O-\",A4)),IF(ISERROR(FIND(\"P-\",A4)),\"\",\"P-\"),\"O-\")","v":"O-"},{"$f":"C4+9","v":49},{"$f":"2*F4-(2*D4)-2+2*COUNTIF(B4,\"*O-*\")-((LEN(A4)-LEN(SUBSTITUTE(A4,\"_O_\",\"\")))/LEN(\"_O_\"))*2-((LEN(A4)-LEN(SUBSTITUTE(A4,\"_CHO_\",\"\")))/LEN(\"_CHO_\"))*2-((LEN(A4)-LEN(SUBSTITUTE(A4,\"_COOH_\",\"\")))/LEN(\"_COOH_\"))*2","v":96},0,{"$f":"15+((LEN(A4)-LEN(SUBSTITUTE(A4,\"_OH_\",\"\")))/LEN(\"_OH_\"))*1+((LEN(A4)-LEN(SUBSTITUTE(A4,\"_OOH_\",\"\")))/LEN(\"_OOH_\"))*2+((LEN(A4)-LEN(SUBSTITUTE(A4,\"_O_\",\"\")))/LEN(\"_O_\"))*1+((LEN(A4)-LEN(SUBSTITUTE(A4,\"_CHO_\",\"\")))/LEN(\"_CHO_\"))*1+((LEN(A4)-LEN(SUBSTITUTE(A4,\"_COOH_\",\"\")))/LEN(\"_COOH_\"))*2","v":15},2,null,{"$f":"IF(ISERROR(FIND(\"O-\",A4)),IF(ISERROR(FIND(\"P-\",A4)),\"\",CONCATENATE(\"C\",F4,\"H\",G4,\"O\",I4,\"P\",J4)),CONCATENATE(\"C\",F4,\"H\",G4,\"O\",I4,\"P\",J4))","v":"C49H96O15P2"},{"$f":"IF(ISERROR(FIND(\"O-\",A4)),IF(ISERROR(FIND(\"P-\",A4)),\"\",(F4*12.0107)+(G4*1.00794)+(H4*14.0067)+(I4*15.9994)+(J4*30.973762)),(F4*12.0107)+(G4*1.00794)+(H4*14.0067)+(I4*15.9994)+(J4*30.973762))","v":987.22506400000009},{"$f":"IF(ISERROR(FIND(\"O-\",A4)),IF(ISERROR(FIND(\"P-\",A4)),\"\",(F4*12)+(G4*1.0078246)+(H4*14.003074)+(I4*15.994915)+(J4*30.973763)),(F4*12)+(G4*1.0078246)+(H4*14.003074)+(I4*15.994915)+(J4*30.973763))","v":986.62241259999996},{"$f":"N4+1.0078246-0.00055","v":987.62968720000003},{"$f":"O4-18.01057-0.00055","v":969.61856720000003},{"$f":"N4+18.03437-0.00055","v":1004.6562326},{"$f":"N4+22.98977-0.00055","v":1009.6116326},{"$f":"N4+38.96371-0.00055","v":1025.5855726},{"$f":"N4+7.01601-0.00055","v":993.63787260000004},{"$f":"N4-1.0078246+0.00055","v":985.61513799999989},{"$f":"N4+44.99767+0.00055","v":1031.6206325999999},{"$f":"N4+59.01332+0.00055","v":1045.6362826}]
["PIP(P-18:1_18:1)",{"$f":"IF(ISNUMBER(SEARCH(\"(\",A5)),IF(ISNUMBER(SEARCH(\"/\",A5)),CONCATENATE(MID(A5,1,3),\" \",MID(A5,5,2),SUM(MID(A5,FIND(\"(\",A5)+3,(FIND(\":\",A5)-(FIND(\"-\",A5)+1))),MID(A5,FIND(\"/\",A5)+1,(FIND(\":\",A5,FIND(\"/\",A5))-FIND(\"/\",A5)-1))),\":\",SUM(MID(A5,FIND(\":\",A5)+1,FIND(\"/\",A5)-(FIND(\":\",A5)+1)),MID(A5,FIND(\":\",A5,FIND(\"/\",A5))+1,FIND(\")\",A5)-FIND(\":\",A5,FIND(\"/\",A5))-1)),\" \",MID(A5,(FIND(\")\",A5)+1),100)),CONCATENATE(MID(A5,1,3),\" \",MID(A5,5,2),SUM(MID(A5,FIND(\"(\",A5)+3,(FIND(\":\",A5)-(FIND(\"-\",A5)+1))),MID(A5,FIND(\"_\",A5)+1,(FIND(\":\",A5,FIND(\"_\",A5))-FIND(\"_\",A5)-1))),\":\",SUM(MID(A5,FIND(\":\",A5)+1,FIND(\"_\",A5)-(FIND(\":\",A5)+1)),MID(A5,FIND(\":\",A5,FIND(\"_\",A5))+1,FIND(\")\",A5)-FIND(\":\",A5,FIND(\"_\",A5))-1)),\" \",MID(A5,(FIND(\")\",A5)+1),100))),A5)","v":"PIP P-36:2 "},{"$f":"MID(B5,7,FIND(\":\",B5)-FIND(\"-\",B5)-1)","v":"36"},{"$f":"IF(ISNUMBER(VALUE(MID(B5,FIND(\":\",B5)+1,2))),MID(B5,FIND(\":\",B5)+1,2),MID(B5,FIND(\":\",B5)+1,1))","v":"2 "},{"$f":"IF(ISERROR(FIND(\"O-\",A5)),IF(ISERROR(FIND(\"P-\",A5)),\"\",\"P-\"),\"O-\")","v":"P-"},{"$f":"C5+9","v":45},{"$f":"2*F5-(2*D5)-2+2*COUNTIF(B5,\"*O-*\")-((LEN(A5)-LEN(SUBSTITUTE(A5,\"_O_\",\"\")))/LEN(\"_O_\"))*2-((LEN(A5)-LEN(SUBSTITUTE(A5,\"_CHO_\",\"\")))/LEN(\"_CHO_\"))*2-((LEN(A5)-LEN(SUBSTITUTE(A5,\"_COOH_\",\"\")))/LEN(\"_COOH_\"))*2","v":84},0,{"$f":"15+((LEN(A5)-LEN(SUBSTITUTE(A5,\"_OH_\",\"\")))/LEN(\"_OH_\"))*1+((LEN(A5)-LEN(SUBSTITUTE(A5,\"_OOH_\",\"\")))/LEN(\"_OOH_\"))*2+((LEN(A5)-LEN(SUBSTITUTE(A5,\"_O_\",\"\")))/LEN(\"_O_\"))*1+((LEN(A5)-LEN(SUBSTITUTE(A5,\"_CHO_\",\"\")))/LEN(\"_CHO_\"))*1+((LEN(A5)-LEN(SUBSTITUTE(A5,\"_COOH_\",\"\")))/LEN(\"_COOH_\"))*2","v":15},2,null,{"$f":"IF(ISERROR(FIND(\"O-\",A5)),IF(ISERROR(FIND(\"P-\",A5)),\"\",CONCATENATE(\"C\",F5,\"H\",G5,\"O\",I5,\"P\",J5)),CONCATENATE(\"C\",F5,\"H\",G5,\"O\",I5,\"P\",J5))","v":"C45H84O15P2"},{"$f":"IF(ISERROR(FIND(\"O-\",A5)),IF(ISERROR(FIND(\"P-\",A5)),\"\",(F5*12.0107)+(G5*1.00794)+(H5*14.0067)+(I5*15.9994)+(J5*30.973762)),(F5*12.0107)+(G5*1.00794)+(H5*14.0067)+(I5*15.9994)+(J5*30.973762))","v":927.08698400000003},{"$f":"IF(ISERROR(FIND(\"O-\",A5)),IF(ISERROR(FIND(\"P-\",A5)),\"\",(F5*12)+(G5*1.0078246)+(H5*14.003074)+(I5*15.994915)+(J5*30.973763)),(F5*12)+(G5*1.0078246)+(H5*14.003074)+(I5*15.994915)+(J5*30.973763))","v":926.52851740000006},{"$f":"N5+1.0078246-0.00055","v":927.53579200000013},{"$f":"O5-18.01057-0.00055","v":909.52467200000012},{"$f":"N5+18.03437-0.00055","v":944.56233740000005},{"$f":"N5+22.98977-0.00055","v":949.5177374000001},{"$f":"N5+38.96371-0.00055","v":965.49167740000007},{"$f":"N5+7.01601-0.00055","v":933.54397740000013},{"$f":"N5-1.0078246+0.00055","v":925.52124279999998},{"$f":"N5+44.99767+0.00055","v":971.5267374},{"$f":"N5+59.01332+0.00055","v":985.54238740000005}]

{"sheet":"LPS_ether","index":61,"n_rows":4,"n_cols":23,"rows_kept":4,"cut":false,"hidden":false,"merged":[]}
["Lipid","Sum Composition",null,null,null,"#C","#H","#N","#O","#P",null,"Formula","Molecular Weight","Neutral Mass","[M+H]+","[M+H-H2O]+","[M+NH4]+","[M+Na]+","[M+K]+","[M+Li]+","[M-H]-","[M+HCOO]-","[M+CH3COO]-"]
["LPS O-18:0",{"$f":"IF(ISNUMBER(SEARCH(\"(\",A2)),IF(ISNUMBER(SEARCH(\"/\",A2)),CONCATENATE(MID(A2,1,2),\" \",MID(A2,4,2),SUM(MID(A2,FIND(\"(\",A2)+3,(FIND(\":\",A2)-(FIND(\"-\",A2)+1))),MID(A2,FIND(\"/\",A2)+1,(FIND(\":\",A2,FIND(\"/\",A2))-FIND(\"/\",A2)-1))),\":\",SUM(MID(A2,FIND(\":\",A2)+1,FIND(\"/\",A2)-(FIND(\":\",A2)+1)),MID(A2,FIND(\":\",A2,FIND(\"/\",A2))+1,FIND(\")\",A2)-FIND(\":\",A2,FIND(\"/\",A2))-1)),\" \",MID(A2,(FIND(\")\",A2)+1),100)),CONCATENATE(MID(A2,1,2),\" \",MID(A2,4,2),SUM(MID(A2,FIND(\"(\",A2)+3,(FIND(\":\",A2)-(FIND(\"-\",A2)+1))),MID(A2,FIND(\"_\",A2)+1,(FIND(\":\",A2,FIND(\"_\",A2))-FIND(\"_\",A2)-1))),\":\",SUM(MID(A2,FIND(\":\",A2)+1,FIND(\"_\",A2)-(FIND(\":\",A2)+1)),MID(A2,FIND(\":\",A2,FIND(\"_\",A2))+1,FIND(\")\",A2)-FIND(\":\",A2,FIND(\"_\",A2))-1)),\" \",MID(A2,(FIND(\")\",A2)+1),100))),A2)","v":"LPS O-18:0"},{"$f":"MID(B2,7,FIND(\":\",B2)-FIND(\"-\",B2)-1)","v":"18"},{"$f":"IF(ISNUMBER(VALUE(MID(B2,FIND(\":\",B2)+1,2))),MID(B2,FIND(\":\",B2)+1,2),MID(B2,FIND(\":\",B2)+1,1))","v":"0"},{"$f":"IF(ISERROR(FIND(\"O-\",A2)),IF(ISERROR(FIND(\"P-\",A2)),\"\",\"P-\"),\"O-\")","v":"O-"},{"$f":"C2+6","v":24},{"$f":"2*F2-(2*D2)+2*COUNTIF(B2,\"*O-*\")-((LEN(A2)-LEN(SUBSTITUTE(A2,\"_O_\",\"\")))/LEN(\"_O_\"))*2-((LEN(A2)-LEN(SUBSTITUTE(A2,\"_CHO_\",\"\")))/LEN(\"_CHO_\"))*2-((LEN(A2)-LEN(SUBSTITUTE(A2,\"_COOH_\",\"\")))/LEN(\"_COOH_\"))*2","v":50},1,{"$f":"8+((LEN(A2)-LEN(SUBSTITUTE(A2,\"_OH_\",\"\")))/LEN(\"_OH_\"))*1+((LEN(A2)-LEN(SUBSTITUTE(A2,\"_OOH_\",\"\")))/LEN(\"_OOH_\"))*2+((LEN(A2)-LEN(SUBSTITUTE(A2,\"_O_\",\"\")))/LEN(\"_O_\"))*1+((LEN(A2)-LEN(SUBSTITUTE(A2,\"_CHO_\",\"\")))/LEN(\"_CHO_\"))*1+((LEN(A2)-LEN(SUBSTITUTE(A2,\"_COOH_\",\"\")))/LEN(\"_COOH_\"))*2","v":8},1,null,{"$f":"IF(ISERROR(FIND(\"O-\",A2)),IF(ISERROR(FIND(\"P-\",A2)),\"\",CONCATENATE(\"C\",F2,\"H\",G2,\"N\",H2,\"O\",I2,\"P\",J2)),CONCATENATE(\"C\",F2,\"H\",G2,\"N\",H2,\"O\",I2,\"P\",J2))","v":"C24H50N1O8P1"},{"$f":"IF(ISERROR(FIND(\"O-\",A2)),IF(ISERROR(FIND(\"P-\",A2)),\"\",(F2*12.0107)+(G2*1.00794)+(H2*14.0067)+(I2*15.9994)+(J2*30.973762)),(F2*12.0107)+(G2*1.00794)+(H2*14.0067)+(I2*15.9994)+(J2*30.973762))","v":511.62946200000005},{"$f":"IF(ISERROR(FIND(\"O-\",A2)),IF(ISERROR(FIND(\"P-\",A2)),\"\",(F2*12)+(G2*1.0078246)+(H2*14.003074)+(I2*15.994915)+(J2*30.973763)),(F2*12)+(G2*1.0078246)+(H2*14.003074)+(I2*15.994915)+(J2*30.973763))","v":511.32738700000004},{"$f":"N2+1.0078246-0.00055","v":512.33466160000012},{"$f":"O2-18.01057-0.00055","v":494.32354160000011},{"$f":"N2+18.03437-0.00055","v":529.36120700000004},{"$f":"N2+22.98977-0.00055","v":534.31660700000009},{"$f":"N2+38.96371-0.00055","v":550.29054700000006},{"$f":"N2+7.01601-0.00055","v":518.34284700000012},{"$f":"N2-1.0078246+0.00055","v":510.32011240000003},{"$f":"N2+44.99767+0.00055","v":556.32560699999999},{"$f":"N2+59.01332+0.00055","v":570.34125700000004}]
["LPS P-18:1",{"$f":"IF(ISNUMBER(SEARCH(\"(\",A3)),IF(ISNUMBER(SEARCH(\"/\",A3)),CONCATENATE(MID(A3,1,2),\" \",MID(A3,4,2),SUM(MID(A3,FIND(\"(\",A3)+3,(FIND(\":\",A3)-(FIND(\"-\",A3)+1))),MID(A3,FIND(\"/\",A3)+1,(FIND(\":\",A3,FIND(\"/\",A3))-FIND(\"/\",A3)-1))),\":\",SUM(MID(A3,FIND(\":\",A3)+1,FIND(\"/\",A3)-(FIND(\":\",A3)+1)),MID(A3,FIND(\":\",A3,FIND(\"/\",A3))+1,FIND(\")\",A3)-FIND(\":\",A3,FIND(\"/\",A3))-1)),\" \",MID(A3,(FIND(\")\",A3)+1),100)),CONCATENATE(MID(A3,1,2),\" \",MID(A3,4,2),SUM(MID(A3,FIND(\"(\",A3)+3,(FIND(\":\",A3)-(FIND(\"-\",A3)+1))),MID(A3,FIND(\"_\",A3)+1,(FIND(\":\",A3,FIND(\"_\",A3))-FIND(\"_\",A3)-1))),\":\",SUM(MID(A3,FIND(\":\",A3)+1,FIND(\"_\",A3)-(FIND(\":\",A3)+1)),MID(A3,FIND(\":\",A3,FIND(\"_\",A3))+1,FIND(\")\",A3)-FIND(\":\",A3,FIND(\"_\",A3))-1)),\" \",MID(A3,(FIND(\")\",A3)+1),100))),A3)","v":"LPS P-18:1"},{"$f":"MID(B3,7,FIND(\":\",B3)-FIND(\"-\",B3)-1)","v":"18"},{"$f":"IF(ISNUMBER(VALUE(MID(B3,FIND(\":\",B3)+1,2))),MID(B3,FIND(\":\",B3)+1,2),MID(B3,FIND(\":\",B3)+1,1))","v":"1"},{"$f":"IF(ISERROR(FIND(\"O-\",A3)),IF(ISERROR(FIND(\"P-\",A3)),\"\",\"P-\"),\"O-\")","v":"P-"},{"$f":"C3+6","v":24},{"$f":"2*F3-(2*D3)+2*COUNTIF(B3,\"*O-*\")-((LEN(A3)-LEN(SUBSTITUTE(A3,\"_O_\",\"\")))/LEN(\"_O_\"))*2-((LEN(A3)-LEN(SUBSTITUTE(A3,\"_CHO_\",\"\")))/LEN(\"_CHO_\"))*2-((LEN(A3)-LEN(SUBSTITUTE(A3,\"_COOH_\",\"\")))/LEN(\"_COOH_\"))*2","v":46},1,{"$f":"8+((LEN(A3)-LEN(SUBSTITUTE(A3,\"_OH_\",\"\")))/LEN(\"_OH_\"))*1+((LEN(A3)-LEN(SUBSTITUTE(A3,\"_OOH_\",\"\")))/LEN(\"_OOH_\"))*2+((LEN(A3)-LEN(SUBSTITUTE(A3,\"_O_\",\"\")))/LEN(\"_O_\"))*1+((LEN(A3)-LEN(SUBSTITUTE(A3,\"_CHO_\",\"\")))/LEN(\"_CHO_\"))*1+((LEN(A3)-LEN(SUBSTITUTE(A3,\"_COOH_\",\"\")))/LEN(\"_COOH_\"))*2","v":8},1,null,{"$f":"IF(ISERROR(FIND(\"O-\",A3)),IF(ISERROR(FIND(\"P-\",A3)),\"\",CONCATENATE(\"C\",F3,\"H\",G3,\"N\",H3,\"O\",I3,\"P\",J3)),CONCATENATE(\"C\",F3,\"H\",G3,\"N\",H3,\"O\",I3,\"P\",J3))","v":"C24H46N1O8P1"},{"$f":"IF(ISERROR(FIND(\"O-\",A3)),IF(ISERROR(FIND(\"P-\",A3)),\"\",(F3*12.0107)+(G3*1.00794)+(H3*14.0067)+(I3*15.9994)+(J3*30.973762)),(F3*12.0107)+(G3*1.00794)+(H3*14.0067)+(I3*15.9994)+(J3*30.973762))","v":507.59770200000003},{"$f":"IF(ISERROR(FIND(\"O-\",A3)),IF(ISERROR(FIND(\"P-\",A3)),\"\",(F3*12)+(G3*1.0078246)+(H3*14.003074)+(I3*15.994915)+(J3*30.973763)),(F3*12)+(G3*1.0078246)+(H3*14.003074)+(I3*15.994915)+(J3*30.973763))","v":507.29608860000002},{"$f":"N3+1.0078246-0.00055","v":508.30336320000004},{"$f":"O3-18.01057-0.00055","v":490.29224320000003},{"$f":"N3+18.03437-0.00055","v":525.32990860000007},{"$f":"N3+22.98977-0.00055","v":530.28530860000001},{"$f":"N3+38.96371-0.00055","v":546.25924860000009},{"$f":"N3+7.01601-0.00055","v":514.31154860000004},{"$f":"N3-1.0078246+0.00055","v":506.288814},{"$f":"N3+44.99767+0.00055","v":552.29430860000002},{"$f":"N3+59.01332+0.00055","v":566.30995859999996}]
["LPS O-18:1","LPS O-18:1","18","1","O-",24,48,1,8,1,null,"C24H48N1O8P1",{"$f":"IF(ISERROR(FIND(\"O-\",A4)),IF(ISERROR(FIND(\"P-\",A4)),\"\",(F4*12.0107)+(G4*1.00794)+(H4*14.0067)+(I4*15.9994)+(J4*30.973762)),(F4*12.0107)+(G4*1.00794)+(H4*14.0067)+(I4*15.9994)+(J4*30.973762))","v":509.61358200000006},509.3117378,510.31901240000002,492.30789240000001,527.34555780000005,532.30095779999999,548.27489780000008,516.32719780000002,508.30446319999999,554.30995780000001,568.32560779999994]

{"sheet":"PS_ether","index":62,"n_rows":5,"n_cols":23,"rows_kept":5,"cut":false,"hidden":false,"merged":[]}
["Lipid","Sum Composition",null,null,null,"#C","#H","#N","#O","#P",null,"Formula","Molecular Weight","Neutral Mass","[M+H]+","[M+H-H2O]+","[M+NH4]+","[M+Na]+","[M+K]+","[M+Li]+","[M-H]-","[M+HCOO]-","[M+CH3COO]-"]
["PS O-32:1",{"$f":"IF(ISNUMBER(SEARCH(\"(\",A2)),IF(ISNUMBER(SEARCH(\"/\",A2)),CONCATENATE(MID(A2,1,2),\" \",MID(A2,4,2),SUM(MID(A2,FIND(\"(\",A2)+3,(FIND(\":\",A2)-(FIND(\"-\",A2)+1))),MID(A2,FIND(\"/\",A2)+1,(FIND(\":\",A2,FIND(\"/\",A2))-FIND(\"/\",A2)-1))),\":\",SUM(MID(A2,FIND(\":\",A2)+1,FIND(\"/\",A2)-(FIND(\":\",A2)+1)),MID(A2,FIND(\":\",A2,FIND(\"/\",A2))+1,FIND(\")\",A2)-FIND(\":\",A2,FIND(\"/\",A2))-1)),\" \",MID(A2,(FIND(\")\",A2)+1),100)),CONCATENATE(MID(A2,1,2),\" \",MID(A2,4,2),SUM(MID(A2,FIND(\"(\",A2)+3,(FIND(\":\",A2)-(FIND(\"-\",A2)+1))),MID(A2,FIND(\"_\",A2)+1,(FIND(\":\",A2,FIND(\"_\",A2))-FIND(\"_\",A2)-1))),\":\",SUM(MID(A2,FIND(\":\",A2)+1,FIND(\"_\",A2)-(FIND(\":\",A2)+1)),MID(A2,FIND(\":\",A2,FIND(\"_\",A2))+1,FIND(\")\",A2)-FIND(\":\",A2,FIND(\"_\",A2))-1)),\" \",MID(A2,(FIND(\")\",A2)+1),100))),A2)","v":"PS O-32:1"},{"$f":"MID(B2,6,FIND(\":\",B2)-FIND(\"-\",B2)-1)","v":"32"},{"$f":"IF(ISNUMBER(VALUE(MID(B2,FIND(\":\",B2)+1,2))),MID(B2,FIND(\":\",B2)+1,2),MID(B2,FIND(\":\",B2)+1,1))","v":"1"},{"$f":"IF(ISERROR(FIND(\"O-\",A2)),IF(ISERROR(FIND(\"P-\",A2)),\"\",\"P-\"),\"O-\")","v":"O-"},{"$f":"C2+6","v":38},{"$f":"2*F2-(2*D2)-2+2*COUNTIF(B2,\"*O-*\")-((LEN(A2)-LEN(SUBSTITUTE(A2,\"_O_\",\"\")))/LEN(\"_O_\"))*2-((LEN(A2)-LEN(SUBSTITUTE(A2,\"_CHO_\",\"\")))/LEN(\"_CHO_\"))*2-((LEN(A2)-LEN(SUBSTITUTE(A2,\"_COOH_\",\"\")))/LEN(\"_COOH_\"))*2","v":74},1,{"$f":"9+((LEN(A2)-LEN(SUBSTITUTE(A2,\"_OH_\",\"\")))/LEN(\"_OH_\"))*1+((LEN(A2)-LEN(SUBSTITUTE(A2,\"_OOH_\",\"\")))/LEN(\"_OOH_\"))*2+((LEN(A2)-LEN(SUBSTITUTE(A2,\"_O_\",\"\")))/LEN(\"_O_\"))*1+((LEN(A2)-LEN(SUBSTITUTE(A2,\"_CHO_\",\"\")))/LEN(\"_CHO_\"))*1+((LEN(A2)-LEN(SUBSTITUTE(A2,\"_COOH_\",\"\")))/LEN(\"_COOH_\"))*2","v":9},1,null,{"$f":"IF(ISERROR(FIND(\"O-\",A2)),IF(ISERROR(FIND(\"P-\",A2)),\"\",CONCATENATE(\"C\",F2,\"H\",G2,\"N\",H2,\"O\",I2,\"P\",J2)),CONCATENATE(\"C\",F2,\"H\",G2,\"N\",H2,\"O\",I2,\"P\",J2))","v":"C38H74N1O9P1"},{"$f":"IF(ISERROR(FIND(\"O-\",A2)),IF(ISERROR(FIND(\"P-\",A2)),\"\",(F2*12.0107)+(G2*1.00794)+(H2*14.0067)+(I2*15.9994)+(J2*30.973762)),(F2*12.0107)+(G2*1.00794)+(H2*14.0067)+(I2*15.9994)+(J2*30.973762))","v":719.96922200000006},{"$f":"IF(ISERROR(FIND(\"O-\",A2)),IF(ISERROR(FIND(\"P-\",A2)),\"\",(F2*12)+(G2*1.0078246)+(H2*14.003074)+(I2*15.994915)+(J2*30.973763)),(F2*12)+(G2*1.0078246)+(H2*14.003074)+(I2*15.994915)+(J2*30.973763))","v":719.51009239999996},{"$f":"N2+1.0078246-0.00055","v":720.51736700000004},{"$f":"O2-18.01057-0.00055","v":702.50624700000003},{"$f":"N2+18.03437-0.00055","v":737.54391239999995},{"$f":"N2+22.98977-0.00055","v":742.49931240000001},{"$f":"N2+38.96371-0.00055","v":758.47325239999998},{"$f":"N2+7.01601-0.00055","v":726.52555240000004},{"$f":"N2-1.0078246+0.00055","v":718.50281779999989},{"$f":"N2+44.99767+0.00055","v":764.50831239999991},{"$f":"N2+59.01332+0.00055","v":778.52396239999996}]
["PS P-34:0",{"$f":"IF(ISNUMBER(SEARCH(\"(\",A3)),IF(ISNUMBER(SEARCH(\"/\",A3)),CONCATENATE(MID(A3,1,2),\" \",MID(A3,4,2),SUM(MID(A3,FIND(\"(\",A3)+3,(FIND(\":\",A3)-(FIND(\"-\",A3)+1))),MID(A3,FIND(\"/\",A3)+1,(FIND(\":\",A3,FIND(\"/\",A3))-FIND(\"/\",A3)-1))),\":\",SUM(MID(A3,FIND(\":\",A3)+1,FIND(\"/\",A3)-(FIND(\":\",A3)+1)),MID(A3,FIND(\":\",A3,FIND(\"/\",A3))+1,FIND(\")\",A3)-FIND(\":\",A3,FIND(\"/\",A3))-1)),\" \",MID(A3,(FIND(\")\",A3)+1),100)),CONCATENATE(MID(A3,1,2),\" \",MID(A3,4,2),SUM(MID(A3,FIND(\"(\",A3)+3,(FIND(\":\",A3)-(FIND(\"-\",A3)+1))),MID(A3,FIND(\"_\",A3)+1,(FIND(\":\",A3,FIND(\"_\",A3))-FIND(\"_\",A3)-1))),\":\",SUM(MID(A3,FIND(\":\",A3)+1,FIND(\"_\",A3)-(FIND(\":\",A3)+1)),MID(A3,FIND(\":\",A3,FIND(\"_\",A3))+1,FIND(\")\",A3)-FIND(\":\",A3,FIND(\"_\",A3))-1)),\" \",MID(A3,(FIND(\")\",A3)+1),100))),A3)","v":"PS P-34:0"},{"$f":"MID(B3,6,FIND(\":\",B3)-FIND(\"-\",B3)-1)","v":"34"},{"$f":"IF(ISNUMBER(VALUE(MID(B3,FIND(\":\",B3)+1,2))),MID(B3,FIND(\":\",B3)+1,2),MID(B3,FIND(\":\",B3)+1,1))","v":"0"},{"$f":"IF(ISERROR(FIND(\"O-\",A3)),IF(ISERROR(FIND(\"P-\",A3)),\"\",\"P-\"),\"O-\")","v":"P-"},{"$f":"C3+6","v":40},{"$f":"2*F3-(2*D3)-2+2*COUNTIF(B3,\"*O-*\")-((LEN(A3)-LEN(SUBSTITUTE(A3,\"_O_\",\"\")))/LEN(\"_O_\"))*2-((LEN(A3)-LEN(SUBSTITUTE(A3,\"_CHO_\",\"\")))/LEN(\"_CHO_\"))*2-((LEN(A3)-LEN(SUBSTITUTE(A3,\"_COOH_\",\"\")))/LEN(\"_COOH_\"))*2","v":78},1,{"$f":"9+((LEN(A3)-LEN(SUBSTITUTE(A3,\"_OH_\",\"\")))/LEN(\"_OH_\"))*1+((LEN(A3)-LEN(SUBSTITUTE(A3,\"_OOH_\",\"\")))/LEN(\"_OOH_\"))*2+((LEN(A3)-LEN(SUBSTITUTE(A3,\"_O_\",\"\")))/LEN(\"_O_\"))*1+((LEN(A3)-LEN(SUBSTITUTE(A3,\"_CHO_\",\"\")))/LEN(\"_CHO_\"))*1+((LEN(A3)-LEN(SUBSTITUTE(A3,\"_COOH_\",\"\")))/LEN(\"_COOH_\"))*2","v":9},1,null,{"$f":"IF(ISERROR(FIND(\"O-\",A3)),IF(ISERROR(FIND(\"P-\",A3)),\"\",CONCATENATE(\"C\",F3,\"H\",G3,\"N\",H3,\"O\",I3,\"P\",J3)),CONCATENATE(\"C\",F3,\"H\",G3,\"N\",H3,\"O\",I3,\"P\",J3))","v":"C40H78N1O9P1"},{"$f":"IF(ISERROR(FIND(\"O-\",A3)),IF(ISERROR(FIND(\"P-\",A3)),\"\",(F3*12.0107)+(G3*1.00794)+(H3*14.0067)+(I3*15.9994)+(J3*30.973762)),(F3*12.0107)+(G3*1.00794)+(H3*14.0067)+(I3*15.9994)+(J3*30.973762))","v":748.02238199999999},{"$f":"IF(ISERROR(FIND(\"O-\",A3)),IF(ISERROR(FIND(\"P-\",A3)),\"\",(F3*12)+(G3*1.0078246)+(H3*14.003074)+(I3*15.994915)+(J3*30.973763)),(F3*12)+(G3*1.0078246)+(H3*14.003074)+(I3*15.994915)+(J3*30.973763))","v":747.54139079999993},{"$f":"N3+1.0078246-0.00055","v":748.5486654},{"$f":"O3-18.01057-0.00055","v":730.5375454},{"$f":"N3+18.03437-0.00055","v":765.57521079999992},{"$f":"N3+22.98977-0.00055","v":770.53061079999998},{"$f":"N3+38.96371-0.00055","v":786.50455079999995},{"$f":"N3+7.01601-0.00055","v":754.55685080000001},{"$f":"N3-1.0078246+0.00055","v":746.53411619999986},{"$f":"N3+44.99767+0.00055","v":792.53961079999988},{"$f":"N3+59.01332+0.00055","v":806.55526079999993}]
["PS(O-16:1/18:2)",{"$f":"IF(ISNUMBER(SEARCH(\"(\",A4)),IF(ISNUMBER(SEARCH(\"/\",A4)),CONCATENATE(MID(A4,1,2),\" \",MID(A4,4,2),SUM(MID(A4,FIND(\"(\",A4)+3,(FIND(\":\",A4)-(FIND(\"-\",A4)+1))),MID(A4,FIND(\"/\",A4)+1,(FIND(\":\",A4,FIND(\"/\",A4))-FIND(\"/\",A4)-1))),\":\",SUM(MID(A4,FIND(\":\",A4)+1,FIND(\"/\",A4)-(FIND(\":\",A4)+1)),MID(A4,FIND(\":\",A4,FIND(\"/\",A4))+1,FIND(\")\",A4)-FIND(\":\",A4,FIND(\"/\",A4))-1)),\" \",MID(A4,(FIND(\")\",A4)+1),100)),CONCATENATE(MID(A4,1,2),\" \",MID(A4,4,2),SUM(MID(A4,FIND(\"(\",A4)+3,(FIND(\":\",A4)-(FIND(\"-\",A4)+1))),MID(A4,FIND(\"_\",A4)+1,(FIND(\":\",A4,FIND(\"_\",A4))-FIND(\"_\",A4)-1))),\":\",SUM(MID(A4,FIND(\":\",A4)+1,FIND(\"_\",A4)-(FIND(\":\",A4)+1)),MID(A4,FIND(\":\",A4,FIND(\"_\",A4))+1,FIND(\")\",A4)-FIND(\":\",A4,FIND(\"_\",A4))-1)),\" \",MID(A4,(FIND(\")\",A4)+1),100))),A4)","v":"PS O-34:3 "},{"$f":"MID(B4,6,FIND(\":\",B4)-FIND(\"-\",B4)-1)","v":"34"},{"$f":"IF(ISNUMBER(VALUE(MID(B4,FIND(\":\",B4)+1,2))),MID(B4,FIND(\":\",B4)+1,2),MID(B4,FIND(\":\",B4)+1,1))","v":"3 "},{"$f":"IF(ISERROR(FIND(\"O-\",A4)),IF(ISERROR(FIND(\"P-\",A4)),\"\",\"P-\"),\"O-\")","v":"O-"},{"$f":"C4+6","v":40},{"$f":"2*F4-(2*D4)-2+2*COUNTIF(B4,\"*O-*\")-((LEN(A4)-LEN(SUBSTITUTE(A4,\"_O_\",\"\")))/LEN(\"_O_\"))*2-((LEN(A4)-LEN(SUBSTITUTE(A4,\"_CHO_\",\"\")))/LEN(\"_CHO_\"))*2-((LEN(A4)-LEN(SUBSTITUTE(A4,\"_COOH_\",\"\")))/LEN(\"_COOH_\"))*2","v":74},1,{"$f":"9+((LEN(A4)-LEN(SUBSTITUTE(A4,\"_OH_\",\"\")))/LEN(\"_OH_\"))*1+((LEN(A4)-LEN(SUBSTITUTE(A4,\"_OOH_\",\"\")))/LEN(\"_OOH_\"))*2+((LEN(A4)-LEN(SUBSTITUTE(A4,\"_O_\",\"\")))/LEN(\"_O_\"))*1+((LEN(A4)-LEN(SUBSTITUTE(A4,\"_CHO_\",\"\")))/LEN(\"_CHO_\"))*1+((LEN(A4)-LEN(SUBSTITUTE(A4,\"_COOH_\",\"\")))/LEN(\"_COOH_\"))*2","v":9},1,null,{"$f":"IF(ISERROR(FIND(\"O-\",A4)),IF(ISERROR(FIND(\"P-\",A4)),\"\",CONCATENATE(\"C\",F4,\"H\",G4,\"N\",H4,\"O\",I4,\"P\",J4)),CONCATENATE(\"C\",F4,\"H\",G4,\"N\",H4,\"O\",I4,\"P\",J4))","v":"C40H74N1O9P1"},{"$f":"IF(ISERROR(FIND(\"O-\",A4)),IF(ISERROR(FIND(\"P-\",A4)),\"\",(F4*12.0107)+(G4*1.00794)+(H4*14.0067)+(I4*15.9994)+(J4*30.973762)),(F4*12.0107)+(G4*1.00794)+(H4*14.0067)+(I4*15.9994)+(J4*30.973762))","v":743.99062200000003},{"$f":"IF(ISERROR(FIND(\"O-\",A4)),IF(ISERROR(FIND(\"P-\",A4)),\"\",(F4*12)+(G4*1.0078246)+(H4*14.003074)+(I4*15.994915)+(J4*30.973763)),(F4*12)+(G4*1.0078246)+(H4*14.003074)+(I4*15.994915)+(J4*30.973763))","v":743.51009239999996},{"$f":"N4+1.0078246-0.00055","v":744.51736700000004},{"$f":"O4-18.01057-0.00055","v":726.50624700000003},{"$f":"N4+18.03437-0.00055","v":761.54391239999995},{"$f":"N4+22.98977-0.00055","v":766.49931240000001},{"$f":"N4+38.96371-0.00055","v":782.47325239999998},{"$f":"N4+7.01601-0.00055","v":750.52555240000004},{"$f":"N4-1.0078246+0.00055","v":742.50281779999989},{"$f":"N4+44.99767+0.00055","v":788.50831239999991},{"$f":"N4+59.01332+0.00055","v":802.52396239999996}]
["PS(O-16:0_22:6)",{"$f":"IF(ISNUMBER(SEARCH(\"(\",A5)),IF(ISNUMBER(SEARCH(\"/\",A5)),CONCATENATE(MID(A5,1,2),\" \",MID(A5,4,2),SUM(MID(A5,FIND(\"(\",A5)+3,(FIND(\":\",A5)-(FIND(\"-\",A5)+1))),MID(A5,FIND(\"/\",A5)+1,(FIND(\":\",A5,FIND(\"/\",A5))-FIND(\"/\",A5)-1))),\":\",SUM(MID(A5,FIND(\":\",A5)+1,FIND(\"/\",A5)-(FIND(\":\",A5)+1)),MID(A5,FIND(\":\",A5,FIND(\"/\",A5))+1,FIND(\")\",A5)-FIND(\":\",A5,FIND(\"/\",A5))-1)),\" \",MID(A5,(FIND(\")\",A5)+1),100)),CONCATENATE(MID(A5,1,2),\" \",MID(A5,4,2),SUM(MID(A5,FIND(\"(\",A5)+3,(FIND(\":\",A5)-(FIND(\"-\",A5)+1))),MID(A5,FIND(\"_\",A5)+1,(FIND(\":\",A5,FIND(\"_\",A5))-FIND(\"_\",A5)-1))),\":\",SUM(MID(A5,FIND(\":\",A5)+1,FIND(\"_\",A5)-(FIND(\":\",A5)+1)),MID(A5,FIND(\":\",A5,FIND(\"_\",A5))+1,FIND(\")\",A5)-FIND(\":\",A5,FIND(\"_\",A5))-1)),\" \",MID(A5,(FIND(\")\",A5)+1),100))),A5)","v":"PS O-38:6 "},{"$f":"MID(B5,6,FIND(\":\",B5)-FIND(\"-\",B5)-1)","v":"38"},{"$f":"IF(ISNUMBER(VALUE(MID(B5,FIND(\":\",B5)+1,2))),MID(B5,FIND(\":\",B5)+1,2),MID(B5,FIND(\":\",B5)+1,1))","v":"6 "},{"$f":"IF(ISERROR(FIND(\"O-\",A5)),IF(ISERROR(FIND(\"P-\",A5)),\"\",\"P-\"),\"O-\")","v":"O-"},{"$f":"C5+6","v":44},{"$f":"2*F5-(2*D5)-2+2*COUNTIF(B5,\"*O-*\")-((LEN(A5)-LEN(SUBSTITUTE(A5,\"_O_\",\"\")))/LEN(\"_O_\"))*2-((LEN(A5)-LEN(SUBSTITUTE(A5,\"_CHO_\",\"\")))/LEN(\"_CHO_\"))*2-((LEN(A5)-LEN(SUBSTITUTE(A5,\"_COOH_\",\"\")))/LEN(\"_COOH_\"))*2","v":76},1,{"$f":"9+((LEN(A5)-LEN(SUBSTITUTE(A5,\"_OH_\",\"\")))/LEN(\"_OH_\"))*1+((LEN(A5)-LEN(SUBSTITUTE(A5,\"_OOH_\",\"\")))/LEN(\"_OOH_\"))*2+((LEN(A5)-LEN(SUBSTITUTE(A5,\"_O_\",\"\")))/LEN(\"_O_\"))*1+((LEN(A5)-LEN(SUBSTITUTE(A5,\"_CHO_\",\"\")))/LEN(\"_CHO_\"))*1+((LEN(A5)-LEN(SUBSTITUTE(A5,\"_COOH_\",\"\")))/LEN(\"_COOH_\"))*2","v":9},1,null,{"$f":"IF(ISERROR(FIND(\"O-\",A5)),IF(ISERROR(FIND(\"P-\",A5)),\"\",CONCATENATE(\"C\",F5,\"H\",G5,\"N\",H5,\"O\",I5,\"P\",J5)),CONCATENATE(\"C\",F5,\"H\",G5,\"N\",H5,\"O\",I5,\"P\",J5))","v":"C44H76N1O9P1"},{"$f":"IF(ISERROR(FIND(\"O-\",A5)),IF(ISERROR(FIND(\"P-\",A5)),\"\",(F5*12.0107)+(G5*1.00794)+(H5*14.0067)+(I5*15.9994)+(J5*30.973762)),(F5*12.0107)+(G5*1.00794)+(H5*14.0067)+(I5*15.9994)+(J5*30.973762))","v":794.04930200000001},{"$f":"IF(ISERROR(FIND(\"O-\",A5)),IF(ISERROR(FIND(\"P-\",A5)),\"\",(F5*12)+(G5*1.0078246)+(H5*14.003074)+(I5*15.994915)+(J5*30.973763)),(F5*12)+(G5*1.0078246)+(H5*14.003074)+(I5*15.994915)+(J5*30.973763))","v":793.52574159999995},{"$f":"N5+1.0078246-0.00055","v":794.53301620000002},{"$f":"O5-18.01057-0.00055","v":776.52189620000001},{"$f":"N5+18.03437-0.00055","v":811.55956159999994},{"$f":"N5+22.98977-0.00055","v":816.51496159999999},{"$f":"N5+38.96371-0.00055","v":832.48890159999996},{"$f":"N5+7.01601-0.00055","v":800.54120160000002},{"$f":"N5-1.0078246+0.00055","v":792.51846699999987},{"$f":"N5+44.99767+0.00055","v":838.52396159999989},{"$f":"N5+59.01332+0.00055","v":852.53961159999994}]

{"sheet":"dMePE_ether","index":63,"n_rows":5,"n_cols":23,"rows_kept":5,"cut":false,"hidden":false,"merged":[]}
["Lipid","Sum Composition",null,null,null,null,"#C","#H","#N","#O","#P","Formula","Molecular Weight","Neutral Mass","[M+H]+","[M+H-H2O]+","[M+NH4]+","[M+Na]+","[M+K]+","[M+Li]+","[M-H]-","[M+HCOO]-","[M+CH3COO]-"]
["dMePE(P-16:0/16:0)",{"$f":"IF(ISNUMBER(SEARCH(\"(\",A2)),IF(ISNUMBER(SEARCH(\"/\",A2)),CONCATENATE(MID(A2,1,5),\" \",MID(A2,7,2),SUM(MID(A2,FIND(\"(\",A2)+3,(FIND(\":\",A2)-(FIND(\"-\",A2)+1))),MID(A2,FIND(\"/\",A2)+1,(FIND(\":\",A2,FIND(\"/\",A2))-FIND(\"/\",A2)-1))),\":\",SUM(MID(A2,FIND(\":\",A2)+1,FIND(\"/\",A2)-(FIND(\":\",A2)+1)),MID(A2,FIND(\":\",A2,FIND(\"/\",A2))+1,FIND(\")\",A2)-FIND(\":\",A2,FIND(\"/\",A2))-1)),\" \",MID(A2,(FIND(\")\",A2)+1),100)),CONCATENATE(MID(A2,1,5),\" \",MID(A2,7,2),SUM(MID(A2,FIND(\"(\",A2)+3,(FIND(\":\",A2)-(FIND(\"-\",A2)+1))),MID(A2,FIND(\"_\",A2)+1,(FIND(\":\",A2,FIND(\"_\",A2))-FIND(\"_\",A2)-1))),\":\",SUM(MID(A2,FIND(\":\",A2)+1,FIND(\"_\",A2)-(FIND(\":\",A2)+1)),MID(A2,FIND(\":\",A2,FIND(\"_\",A2))+1,FIND(\")\",A2)-FIND(\":\",A2,FIND(\"_\",A2))-1)),\" \",MID(A2,(FIND(\")\",A2)+1),100))),A2)","v":"dMePE P-32:0 "},{"$f":"MID(B2,9,FIND(\":\",B2)-FIND(\"-\",B2)-1)","v":"32"},{"$f":"IF(ISNUMBER(VALUE(MID(B2,FIND(\":\",B2)+1,2))),MID(B2,FIND(\":\",B2)+1,2),MID(B2,FIND(\":\",B2)+1,1))","v":"0 "},{"$f":"IF(ISERROR(FIND(\"O-\",A2)),IF(ISERROR(FIND(\"P-\",A2)),\"\",\"P-\"),\"O-\")","v":"P-"},null,{"$f":"C2+7","v":39},{"$f":"2*COUNTIF(B2,\"*O-*\")+2*G2-(2*D2)-((LEN(A2)-LEN(SUBSTITUTE(A2,\"_O_\",\"\")))/LEN(\"_O_\"))*2-((LEN(A2)-LEN(SUBSTITUTE(A2,\"_CHO_\",\"\")))/LEN(\"_CHO_\"))*2-((LEN(A2)-LEN(SUBSTITUTE(A2,\"_COOH_\",\"\")))/LEN(\"_COOH_\"))*2","v":78},1,{"$f":"7+((LEN(A2)-LEN(SUBSTITUTE(A2,\"_OH_\",\"\")))/LEN(\"_OH_\"))*1+((LEN(A2)-LEN(SUBSTITUTE(A2,\"_OOH_\",\"\")))/LEN(\"_OOH_\"))*2+((LEN(A2)-LEN(SUBSTITUTE(A2,\"_O_\",\"\")))/LEN(\"_O_\"))*1+((LEN(A2)-LEN(SUBSTITUTE(A2,\"_CHO_\",\"\")))/LEN(\"_CHO_\"))*1+((LEN(A2)-LEN(SUBSTITUTE(A2,\"_COOH_\",\"\")))/LEN(\"_COOH_\"))*2","v":7},1,{"$f":"IF(ISERROR(FIND(\"O-\",A2)),IF(ISERROR(FIND(\"P-\",A2)),\"\",CONCATENATE(\"C\",G2,\"H\",H2,\"N\",I2,\"O\",J2,\"P\",K2)),CONCATENATE(\"C\",G2,\"H\",H2,\"N\",I2,\"O\",J2,\"P\",K2))","v":"C39H78N1O7P1"},{"$f":"IF(ISERROR(FIND(\"O-\",A2)),IF(ISERROR(FIND(\"P-\",A2)),\"\",(G2*12.0107)+(H2*1.00794)+(I2*14.0067)+(J2*15.9994)+(K2*30.973762)),(G2*12.0107)+(H2*1.00794)+(I2*14.0067)+(J2*15.9994)+(K2*30.973762))","v":704.01288199999999},{"$f":"IF(ISERROR(FIND(\"O-\",A2)),IF(ISERROR(FIND(\"P-\",A2)),\"\",(G2*12)+(H2*1.0078246)+(I2*14.003074)+(J2*15.994915)+(K2*30.973763)),(G2*12)+(H2*1.0078246)+(I2*14.003074)+(J2*15.994915)+(K2*30.973763))","v":703.55156079999983},{"$f":"N2+1.0078246-0.00055","v":704.55883539999991},{"$f":"O2-18.01057-0.00055","v":686.5477153999999},{"$f":"N2+18.03437-0.00055","v":721.58538079999983},{"$f":"N2+22.98977-0.00055","v":726.54078079999988},{"$f":"N2+38.96371-0.00055","v":742.51472079999985},{"$f":"N2+7.01601-0.00055","v":710.56702079999991},{"$f":"N2-1.0078246+0.00055","v":702.54428619999976},{"$f":"N2+44.99767+0.00055","v":748.54978079999978},{"$f":"N2+59.01332+0.00055","v":762.56543079999983}]
["dMePE(P-16:0_16:0)",{"$f":"IF(ISNUMBER(SEARCH(\"(\",A3)),IF(ISNUMBER(SEARCH(\"/\",A3)),CONCATENATE(MID(A3,1,5),\" \",MID(A3,7,2),SUM(MID(A3,FIND(\"(\",A3)+3,(FIND(\":\",A3)-(FIND(\"-\",A3)+1))),MID(A3,FIND(\"/\",A3)+1,(FIND(\":\",A3,FIND(\"/\",A3))-FIND(\"/\",A3)-1))),\":\",SUM(MID(A3,FIND(\":\",A3)+1,FIND(\"/\",A3)-(FIND(\":\",A3)+1)),MID(A3,FIND(\":\",A3,FIND(\"/\",A3))+1,FIND(\")\",A3)-FIND(\":\",A3,FIND(\"/\",A3))-1)),\" \",MID(A3,(FIND(\")\",A3)+1),100)),CONCATENATE(MID(A3,1,5),\" \",MID(A3,7,2),SUM(MID(A3,FIND(\"(\",A3)+3,(FIND(\":\",A3)-(FIND(\"-\",A3)+1))),MID(A3,FIND(\"_\",A3)+1,(FIND(\":\",A3,FIND(\"_\",A3))-FIND(\"_\",A3)-1))),\":\",SUM(MID(A3,FIND(\":\",A3)+1,FIND(\"_\",A3)-(FIND(\":\",A3)+1)),MID(A3,FIND(\":\",A3,FIND(\"_\",A3))+1,FIND(\")\",A3)-FIND(\":\",A3,FIND(\"_\",A3))-1)),\" \",MID(A3,(FIND(\")\",A3)+1),100))),A3)","v":"dMePE P-32:0 "},{"$f":"MID(B3,9,FIND(\":\",B3)-FIND(\"-\",B3)-1)","v":"32"},{"$f":"IF(ISNUMBER(VALUE(MID(B3,FIND(\":\",B3)+1,2))),MID(B3,FIND(\":\",B3)+1,2),MID(B3,FIND(\":\",B3)+1,1))","v":"0 "},{"$f":"IF(ISERROR(FIND(\"O-\",A3)),IF(ISERROR(FIND(\"P-\",A3)),\"\",\"P-\"),\"O-\")","v":"P-"},null,{"$f":"C3+7","v":39},{"$f":"2*COUNTIF(B3,\"*O-*\")+2*G3-(2*D3)-((LEN(A3)-LEN(SUBSTITUTE(A3,\"_O_\",\"\")))/LEN(\"_O_\"))*2-((LEN(A3)-LEN(SUBSTITUTE(A3,\"_CHO_\",\"\")))/LEN(\"_CHO_\"))*2-((LEN(A3)-LEN(SUBSTITUTE(A3,\"_COOH_\",\"\")))/LEN(\"_COOH_\"))*2","v":78},1,{"$f":"7+((LEN(A3)-LEN(SUBSTITUTE(A3,\"_OH_\",\"\")))/LEN(\"_OH_\"))*1+((LEN(A3)-LEN(SUBSTITUTE(A3,\"_OOH_\",\"\")))/LEN(\"_OOH_\"))*2+((LEN(A3)-LEN(SUBSTITUTE(A3,\"_O_\",\"\")))/LEN(\"_O_\"))*1+((LEN(A3)-LEN(SUBSTITUTE(A3,\"_CHO_\",\"\")))/LEN(\"_CHO_\"))*1+((LEN(A3)-LEN(SUBSTITUTE(A3,\"_COOH_\",\"\")))/LEN(\"_COOH_\"))*2","v":7},1,{"$f":"IF(ISERROR(FIND(\"O-\",A3)),IF(ISERROR(FIND(\"P-\",A3)),\"\",CONCATENATE(\"C\",G3,\"H\",H3,\"N\",I3,\"O\",J3,\"P\",K3)),CONCATENATE(\"C\",G3,\"H\",H3,\"N\",I3,\"O\",J3,\"P\",K3))","v":"C39H78N1O7P1"},{"$f":"IF(ISERROR(FIND(\"O-\",A3)),IF(ISERROR(FIND(\"P-\",A3)),\"\",(G3*12.0107)+(H3*1.00794)+(I3*14.0067)+(J3*15.9994)+(K3*30.973762)),(G3*12.0107)+(H3*1.00794)+(I3*14.0067)+(J3*15.9994)+(K3*30.973762))","v":704.01288199999999},{"$f":"IF(ISERROR(FIND(\"O-\",A3)),IF(ISERROR(FIND(\"P-\",A3)),\"\",(G3*12)+(H3*1.0078246)+(I3*14.003074)+(J3*15.994915)+(K3*30.973763)),(G3*12)+(H3*1.0078246)+(I3*14.003074)+(J3*15.994915)+(K3*30.973763))","v":703.55156079999983},{"$f":"N3+1.0078246-0.00055","v":704.55883539999991},{"$f":"O3-18.01057-0.00055","v":686.5477153999999},{"$f":"N3+18.03437-0.00055","v":721.58538079999983},{"$f":"N3+22.98977-0.00055","v":726.54078079999988},{"$f":"N3+38.96371-0.00055","v":742.51472079999985},{"$f":"N3+7.01601-0.00055","v":710.56702079999991},{"$f":"N3-1.0078246+0.00055","v":702.54428619999976},{"$f":"N3+44.99767+0.00055","v":748.54978079999978},{"$f":"N3+59.01332+0.00055","v":762.56543079999983}]
["dMePE O-32:2__O__","dMePE O-32:2__O__","32","2","O-",null,39,74,1,8,1,"C39H74N1O8P1",{"$f":"IF(ISERROR(FIND(\"O-\",A4)),IF(ISERROR(FIND(\"P-\",A4)),\"\",(G4*12.0107)+(H4*1.00794)+(I4*14.0067)+(J4*15.9994)+(K4*30.973762)),(G4*12.0107)+(H4*1.00794)+(I4*14.0067)+(J4*15.9994)+(K4*30.973762))","v":715.98052199999995},715.51517739999997,716.52245200000004,698.51133200000004,733.54899739999996,738.50439740000002,754.47833739999999,722.53063740000005,714.5079027999999,760.51339739999992,774.52904739999997]
["dMePE(O-16:0/18:2)__OOH__",{"$f":"IF(ISNUMBER(SEARCH(\"(\",A5)),IF(ISNUMBER(SEARCH(\"/\",A5)),CONCATENATE(MID(A5,1,5),\" \",MID(A5,7,2),SUM(MID(A5,FIND(\"(\",A5)+3,(FIND(\":\",A5)-(FIND(\"-\",A5)+1))),MID(A5,FIND(\"/\",A5)+1,(FIND(\":\",A5,FIND(\"/\",A5))-FIND(\"/\",A5)-1))),\":\",SUM(MID(A5,FIND(\":\",A5)+1,FIND(\"/\",A5)-(FIND(\":\",A5)+1)),MID(A5,FIND(\":\",A5,FIND(\"/\",A5))+1,FIND(\")\",A5)-FIND(\":\",A5,FIND(\"/\",A5))-1)),\" \",MID(A5,(FIND(\")\",A5)+1),100)),CONCATENATE(MID(A5,1,5),\" \",MID(A5,7,2),SUM(MID(A5,FIND(\"(\",A5)+3,(FIND(\":\",A5)-(FIND(\"-\",A5)+1))),MID(A5,FIND(\"_\",A5)+1,(FIND(\":\",A5,FIND(\"_\",A5))-FIND(\"_\",A5)-1))),\":\",SUM(MID(A5,FIND(\":\",A5)+1,FIND(\"_\",A5)-(FIND(\":\",A5)+1)),MID(A5,FIND(\":\",A5,FIND(\"_\",A5))+1,FIND(\")\",A5)-FIND(\":\",A5,FIND(\"_\",A5))-1)),\" \",MID(A5,(FIND(\")\",A5)+1),100))),A5)","v":"dMePE O-34:2 __OOH__"},{"$f":"MID(B5,9,FIND(\":\",B5)-FIND(\"-\",B5)-1)","v":"34"},{"$f":"IF(ISNUMBER(VALUE(MID(B5,FIND(\":\",B5)+1,2))),MID(B5,FIND(\":\",B5)+1,2),MID(B5,FIND(\":\",B5)+1,1))","v":"2 "},{"$f":"IF(ISERROR(FIND(\"O-\",A5)),IF(ISERROR(FIND(\"P-\",A5)),\"\",\"P-\"),\"O-\")","v":"O-"},null,{"$f":"C5+7","v":41},{"$f":"2*COUNTIF(B5,\"*O-*\")+2*G5-(2*D5)-((LEN(A5)-LEN(SUBSTITUTE(A5,\"_O_\",\"\")))/LEN(\"_O_\"))*2-((LEN(A5)-LEN(SUBSTITUTE(A5,\"_CHO_\",\"\")))/LEN(\"_CHO_\"))*2-((LEN(A5)-LEN(SUBSTITUTE(A5,\"_COOH_\",\"\")))/LEN(\"_COOH_\"))*2","v":80},1,{"$f":"7+((LEN(A5)-LEN(SUBSTITUTE(A5,\"_OH_\",\"\")))/LEN(\"_OH_\"))*1+((LEN(A5)-LEN(SUBSTITUTE(A5,\"_OOH_\",\"\")))/LEN(\"_OOH_\"))*2+((LEN(A5)-LEN(SUBSTITUTE(A5,\"_O_\",\"\")))/LEN(\"_O_\"))*1+((LEN(A5)-LEN(SUBSTITUTE(A5,\"_CHO_\",\"\")))/LEN(\"_CHO_\"))*1+((LEN(A5)-LEN(SUBSTITUTE(A5,\"_COOH_\",\"\")))/LEN(\"_COOH_\"))*2","v":9},1,{"$f":"IF(ISERROR(FIND(\"O-\",A5)),IF(ISERROR(FIND(\"P-\",A5)),\"\",CONCATENATE(\"C\",G5,\"H\",H5,\"N\",I5,\"O\",J5,\"P\",K5)),CONCATENATE(\"C\",G5,\"H\",H5,\"N\",I5,\"O\",J5,\"P\",K5))","v":"C41H80N1O9P1"},{"$f":"IF(ISERROR(FIND(\"O-\",A5)),IF(ISERROR(FIND(\"P-\",A5)),\"\",(G5*12.0107)+(H5*1.00794)+(I5*14.0067)+(J5*15.9994)+(K5*30.973762)),(G5*12.0107)+(H5*1.00794)+(I5*14.0067)+(J5*15.9994)+(K5*30.973762))","v":762.04896199999996},{"$f":"IF(ISERROR(FIND(\"O-\",A5)),IF(ISERROR(FIND(\"P-\",A5)),\"\",(G5*12)+(H5*1.0078246)+(I5*14.003074)+(J5*15.994915)+(K5*30.973763)),(G5*12)+(H5*1.0078246)+(I5*14.003074)+(J5*15.994915)+(K5*30.973763))","v":761.55704000000003},{"$f":"N5+1.0078246-0.00055","v":762.5643146000001},{"$f":"O5-18.01057-0.00055","v":744.5531946000001},{"$f":"N5+18.03437-0.00055","v":779.59086000000002},{"$f":"N5+22.98977-0.00055","v":784.54626000000007},{"$f":"N5+38.96371-0.00055","v":800.52020000000005},{"$f":"N5+7.01601-0.00055","v":768.5725000000001},{"$f":"N5-1.0078246+0.00055","v":760.54976539999996},{"$f":"N5+44.99767+0.00055","v":806.55525999999998},{"$f":"N5+59.01332+0.00055","v":820.57091000000003}]

{"sheet":"LdMePE_ether","index":64,"n_rows":4,"n_cols":23,"rows_kept":4,"cut":false,"hidden":false,"merged":[]}
["Lipid","Sum Composition",null,null,null,"#C","#H","#N","#O","#P",null,"Formula","Molecular Weight","Neutral Mass","[M+H]+","[M+H-H2O]+","[M+NH4]+","[M+Na]+","[M+K]+","[M+Li]+","[M-H]-","[M+HCOO]-","[M+CH3COO]-"]
["LdMePE O-15:0",{"$f":"IF(ISNUMBER(SEARCH(\"(\",A2)),IF(ISNUMBER(SEARCH(\"/\",A2)),CONCATENATE(MID(A2,1,5),\" \",MID(A2,7,2),SUM(MID(A2,FIND(\"(\",A2)+3,(FIND(\":\",A2)-(FIND(\"-\",A2)+1))),MID(A2,FIND(\"/\",A2)+1,(FIND(\":\",A2,FIND(\"/\",A2))-FIND(\"/\",A2)-1))),\":\",SUM(MID(A2,FIND(\":\",A2)+1,FIND(\"/\",A2)-(FIND(\":\",A2)+1)),MID(A2,FIND(\":\",A2,FIND(\"/\",A2))+1,FIND(\")\",A2)-FIND(\":\",A2,FIND(\"/\",A2))-1)),\" \",MID(A2,(FIND(\")\",A2)+1),100)),CONCATENATE(MID(A2,1,5),\" \",MID(A2,7,2),SUM(MID(A2,FIND(\"(\",A2)+3,(FIND(\":\",A2)-(FIND(\"-\",A2)+1))),MID(A2,FIND(\"_\",A2)+1,(FIND(\":\",A2,FIND(\"_\",A2))-FIND(\"_\",A2)-1))),\":\",SUM(MID(A2,FIND(\":\",A2)+1,FIND(\"_\",A2)-(FIND(\":\",A2)+1)),MID(A2,FIND(\":\",A2,FIND(\"_\",A2))+1,FIND(\")\",A2)-FIND(\":\",A2,FIND(\"_\",A2))-1)),\" \",MID(A2,(FIND(\")\",A2)+1),100))),A2)","v":"LdMePE O-15:0"},{"$f":"MID(B2,10,FIND(\":\",B2)-FIND(\"-\",B2)-1)","v":"15"},{"$f":"IF(ISNUMBER(VALUE(MID(B2,FIND(\":\",B2)+1,2))),MID(B2,FIND(\":\",B2)+1,2),MID(B2,FIND(\":\",B2)+1,1))","v":"0"},{"$f":"IF(ISERROR(FIND(\"O-\",A2)),IF(ISERROR(FIND(\"P-\",A2)),\"\",\"P-\"),\"O-\")","v":"O-"},{"$f":"C2+7","v":22},{"$f":"2*COUNTIF(B2,\"*O-*\")+2*F2-(2*D2)+2-((LEN(A2)-LEN(SUBSTITUTE(A2,\"_O_\",\"\")))/LEN(\"_O_\"))*2-((LEN(A2)-LEN(SUBSTITUTE(A2,\"_CHO_\",\"\")))/LEN(\"_CHO_\"))*2-((LEN(A2)-LEN(SUBSTITUTE(A2,\"_COOH_\",\"\")))/LEN(\"_COOH_\"))*2","v":48},1,{"$f":"6+((LEN(A2)-LEN(SUBSTITUTE(A2,\"_OH_\",\"\")))/LEN(\"_OH_\"))*1+((LEN(A2)-LEN(SUBSTITUTE(A2,\"_OOH_\",\"\")))/LEN(\"_OOH_\"))*2+((LEN(A2)-LEN(SUBSTITUTE(A2,\"_O_\",\"\")))/LEN(\"_O_\"))*1+((LEN(A2)-LEN(SUBSTITUTE(A2,\"_CHO_\",\"\")))/LEN(\"_CHO_\"))*1+((LEN(A2)-LEN(SUBSTITUTE(A2,\"_COOH_\",\"\")))/LEN(\"_COOH_\"))*2","v":6},1,null,{"$f":"IF(ISERROR(FIND(\"O-\",A2)),IF(ISERROR(FIND(\"P-\",A2)),\"\",CONCATENATE(\"C\",F2,\"H\",G2,\"N\",H2,\"O\",I2,\"P\",J2)),CONCATENATE(\"C\",F2,\"H\",G2,\"N\",H2,\"O\",I2,\"P\",J2))","v":"C22H48N1O6P1"},{"$f":"IF(ISERROR(FIND(\"O-\",A2)),IF(ISERROR(FIND(\"P-\",A2)),\"\",(F2*12.0107)+(G2*1.00794)+(H2*14.0067)+(I2*15.9994)+(J2*30.973762)),(F2*12.0107)+(G2*1.00794)+(H2*14.0067)+(I2*15.9994)+(J2*30.973762))","v":453.59338200000008},{"$f":"IF(ISERROR(FIND(\"O-\",A2)),IF(ISERROR(FIND(\"P-\",A2)),\"\",(F2*12)+(G2*1.0078246)+(H2*14.003074)+(I2*15.994915)+(J2*30.973763)),(F2*12)+(G2*1.0078246)+(H2*14.003074)+(I2*15.994915)+(J2*30.973763))","v":453.32190780000002},{"$f":"N2+1.0078246-0.00055","v":454.32918240000004},{"$f":"O2-18.01057-0.00055","v":436.31806240000003},{"$f":"N2+18.03437-0.00055","v":471.35572780000007},{"$f":"N2+22.98977-0.00055","v":476.31112780000007},{"$f":"N2+38.96371-0.00055","v":492.28506780000004},{"$f":"N2+7.01601-0.00055","v":460.33736780000004},{"$f":"N2-1.0078246+0.00055","v":452.3146332},{"$f":"N2+44.99767+0.00055","v":498.32012780000002},{"$f":"N2+59.01332+0.00055","v":512.33577779999996}]
["LdMePE O-18:3",{"$f":"IF(ISNUMBER(SEARCH(\"(\",A3)),IF(ISNUMBER(SEARCH(\"/\",A3)),CONCATENATE(MID(A3,1,5),\" \",MID(A3,7,2),SUM(MID(A3,FIND(\"(\",A3)+3,(FIND(\":\",A3)-(FIND(\"-\",A3)+1))),MID(A3,FIND(\"/\",A3)+1,(FIND(\":\",A3,FIND(\"/\",A3))-FIND(\"/\",A3)-1))),\":\",SUM(MID(A3,FIND(\":\",A3)+1,FIND(\"/\",A3)-(FIND(\":\",A3)+1)),MID(A3,FIND(\":\",A3,FIND(\"/\",A3))+1,FIND(\")\",A3)-FIND(\":\",A3,FIND(\"/\",A3))-1)),\" \",MID(A3,(FIND(\")\",A3)+1),100)),CONCATENATE(MID(A3,1,5),\" \",MID(A3,7,2),SUM(MID(A3,FIND(\"(\",A3)+3,(FIND(\":\",A3)-(FIND(\"-\",A3)+1))),MID(A3,FIND(\"_\",A3)+1,(FIND(\":\",A3,FIND(\"_\",A3))-FIND(\"_\",A3)-1))),\":\",SUM(MID(A3,FIND(\":\",A3)+1,FIND(\"_\",A3)-(FIND(\":\",A3)+1)),MID(A3,FIND(\":\",A3,FIND(\"_\",A3))+1,FIND(\")\",A3)-FIND(\":\",A3,FIND(\"_\",A3))-1)),\" \",MID(A3,(FIND(\")\",A3)+1),100))),A3)","v":"LdMePE O-18:3"},{"$f":"MID(B3,10,FIND(\":\",B3)-FIND(\"-\",B3)-1)","v":"18"},{"$f":"IF(ISNUMBER(VALUE(MID(B3,FIND(\":\",B3)+1,2))),MID(B3,FIND(\":\",B3)+1,2),MID(B3,FIND(\":\",B3)+1,1))","v":"3"},{"$f":"IF(ISERROR(FIND(\"O-\",A3)),IF(ISERROR(FIND(\"P-\",A3)),\"\",\"P-\"),\"O-\")","v":"O-"},{"$f":"C3+7","v":25},{"$f":"2*COUNTIF(B3,\"*O-*\")+2*F3-(2*D3)+2-((LEN(A3)-LEN(SUBSTITUTE(A3,\"_O_\",\"\")))/LEN(\"_O_\"))*2-((LEN(A3)-LEN(SUBSTITUTE(A3,\"_CHO_\",\"\")))/LEN(\"_CHO_\"))*2-((LEN(A3)-LEN(SUBSTITUTE(A3,\"_COOH_\",\"\")))/LEN(\"_COOH_\"))*2","v":48},1,{"$f":"6+((LEN(A3)-LEN(SUBSTITUTE(A3,\"_OH_\",\"\")))/LEN(\"_OH_\"))*1+((LEN(A3)-LEN(SUBSTITUTE(A3,\"_OOH_\",\"\")))/LEN(\"_OOH_\"))*2+((LEN(A3)-LEN(SUBSTITUTE(A3,\"_O_\",\"\")))/LEN(\"_O_\"))*1+((LEN(A3)-LEN(SUBSTITUTE(A3,\"_CHO_\",\"\")))/LEN(\"_CHO_\"))*1+((LEN(A3)-LEN(SUBSTITUTE(A3,\"_COOH_\",\"\")))/LEN(\"_COOH_\"))*2","v":6},1,null,{"$f":"IF(ISERROR(FIND(\"O-\",A3)),IF(ISERROR(FIND(\"P-\",A3)),\"\",CONCATENATE(\"C\",F3,\"H\",G3,\"N\",H3,\"O\",I3,\"P\",J3)),CONCATENATE(\"C\",F3,\"H\",G3,\"N\",H3,\"O\",I3,\"P\",J3))","v":"C25H48N1O6P1"},{"$f":"IF(ISERROR(FIND(\"O-\",A3)),IF(ISERROR(FIND(\"P-\",A3)),\"\",(F3*12.0107)+(G3*1.00794)+(H3*14.0067)+(I3*15.9994)+(J3*30.973762)),(F3*12.0107)+(G3*1.00794)+(H3*14.0067)+(I3*15.9994)+(J3*30.973762))","v":489.62548200000003},{"$f":"IF(ISERROR(FIND(\"O-\",A3)),IF(ISERROR(FIND(\"P-\",A3)),\"\",(F3*12)+(G3*1.0078246)+(H3*14.003074)+(I3*15.994915)+(J3*30.973763)),(F3*12)+(G3*1.0078246)+(H3*14.003074)+(I3*15.994915)+(J3*30.973763))","v":489.32190780000002},{"$f":"N3+1.0078246-0.00055","v":490.32918240000004},{"$f":"O3-18.01057-0.00055","v":472.31806240000003},{"$f":"N3+18.03437-0.00055","v":507.35572780000007},{"$f":"N3+22.98977-0.00055","v":512.31112780000001},{"$f":"N3+38.96371-0.00055","v":528.28506780000009},{"$f":"N3+7.01601-0.00055","v":496.33736780000004},{"$f":"N3-1.0078246+0.00055","v":488.3146332},{"$f":"N3+44.99767+0.00055","v":534.32012780000002},{"$f":"N3+59.01332+0.00055","v":548.33577779999996}]
["LdMePE P-16:0",{"$f":"IF(ISNUMBER(SEARCH(\"(\",A4)),IF(ISNUMBER(SEARCH(\"/\",A4)),CONCATENATE(MID(A4,1,5),\" \",MID(A4,7,2),SUM(MID(A4,FIND(\"(\",A4)+3,(FIND(\":\",A4)-(FIND(\"-\",A4)+1))),MID(A4,FIND(\"/\",A4)+1,(FIND(\":\",A4,FIND(\"/\",A4))-FIND(\"/\",A4)-1))),\":\",SUM(MID(A4,FIND(\":\",A4)+1,FIND(\"/\",A4)-(FIND(\":\",A4)+1)),MID(A4,FIND(\":\",A4,FIND(\"/\",A4))+1,FIND(\")\",A4)-FIND(\":\",A4,FIND(\"/\",A4))-1)),\" \",MID(A4,(FIND(\")\",A4)+1),100)),CONCATENATE(MID(A4,1,5),\" \",MID(A4,7,2),SUM(MID(A4,FIND(\"(\",A4)+3,(FIND(\":\",A4)-(FIND(\"-\",A4)+1))),MID(A4,FIND(\"_\",A4)+1,(FIND(\":\",A4,FIND(\"_\",A4))-FIND(\"_\",A4)-1))),\":\",SUM(MID(A4,FIND(\":\",A4)+1,FIND(\"_\",A4)-(FIND(\":\",A4)+1)),MID(A4,FIND(\":\",A4,FIND(\"_\",A4))+1,FIND(\")\",A4)-FIND(\":\",A4,FIND(\"_\",A4))-1)),\" \",MID(A4,(FIND(\")\",A4)+1),100))),A4)","v":"LdMePE P-16:0"},{"$f":"MID(B4,10,FIND(\":\",B4)-FIND(\"-\",B4)-1)","v":"16"},{"$f":"IF(ISNUMBER(VALUE(MID(B4,FIND(\":\",B4)+1,2))),MID(B4,FIND(\":\",B4)+1,2),MID(B4,FIND(\":\",B4)+1,1))","v":"0"},{"$f":"IF(ISERROR(FIND(\"O-\",A4)),IF(ISERROR(FIND(\"P-\",A4)),\"\",\"P-\"),\"O-\")","v":"P-"},{"$f":"C4+7","v":23},{"$f":"2*COUNTIF(B4,\"*O-*\")+2*F4-(2*D4)+2-((LEN(A4)-LEN(SUBSTITUTE(A4,\"_O_\",\"\")))/LEN(\"_O_\"))*2-((LEN(A4)-LEN(SUBSTITUTE(A4,\"_CHO_\",\"\")))/LEN(\"_CHO_\"))*2-((LEN(A4)-LEN(SUBSTITUTE(A4,\"_COOH_\",\"\")))/LEN(\"_COOH_\"))*2","v":48},1,{"$f":"6+((LEN(A4)-LEN(SUBSTITUTE(A4,\"_OH_\",\"\")))/LEN(\"_OH_\"))*1+((LEN(A4)-LEN(SUBSTITUTE(A4,\"_OOH_\",\"\")))/LEN(\"_OOH_\"))*2+((LEN(A4)-LEN(SUBSTITUTE(A4,\"_O_\",\"\")))/LEN(\"_O_\"))*1+((LEN(A4)-LEN(SUBSTITUTE(A4,\"_CHO_\",\"\")))/LEN(\"_CHO_\"))*1+((LEN(A4)-LEN(SUBSTITUTE(A4,\"_COOH_\",\"\")))/LEN(\"_COOH_\"))*2","v":6},1,null,{"$f":"IF(ISERROR(FIND(\"O-\",A4)),IF(ISERROR(FIND(\"P-\",A4)),\"\",CONCATENATE(\"C\",F4,\"H\",G4,\"N\",H4,\"O\",I4,\"P\",J4)),CONCATENATE(\"C\",F4,\"H\",G4,\"N\",H4,\"O\",I4,\"P\",J4))","v":"C23H48N1O6P1"},{"$f":"IF(ISERROR(FIND(\"O-\",A4)),IF(ISERROR(FIND(\"P-\",A4)),\"\",(F4*12.0107)+(G4*1.00794)+(H4*14.0067)+(I4*15.9994)+(J4*30.973762)),(F4*12.0107)+(G4*1.00794)+(H4*14.0067)+(I4*15.9994)+(J4*30.973762))","v":465.60408200000006},{"$f":"IF(ISERROR(FIND(\"O-\",A4)),IF(ISERROR(FIND(\"P-\",A4)),\"\",(F4*12)+(G4*1.0078246)+(H4*14.003074)+(I4*15.994915)+(J4*30.973763)),(F4*12)+(G4*1.0078246)+(H4*14.003074)+(I4*15.994915)+(J4*30.973763))","v":465.32190780000002},{"$f":"N4+1.0078246-0.00055","v":466.32918240000004},{"$f":"O4-18.01057-0.00055","v":448.31806240000003},{"$f":"N4+18.03437-0.00055","v":483.35572780000007},{"$f":"N4+22.98977-0.00055","v":488.31112780000007},{"$f":"N4+38.96371-0.00055","v":504.28506780000004},{"$f":"N4+7.01601-0.00055","v":472.33736780000004},{"$f":"N4-1.0078246+0.00055","v":464.3146332},{"$f":"N4+44.99767+0.00055","v":510.32012780000002},{"$f":"N4+59.01332+0.00055","v":524.33577779999996}]

{"sheet":"PEt_ether","index":65,"n_rows":5,"n_cols":23,"rows_kept":5,"cut":false,"hidden":false,"merged":[]}
["Lipid","Sum Composition",null,null,null,"#C","#H","#N","#O","#P",null,"Formula","Molecular Weight","Neutral Mass","[M+H]+","[M+H-H2O]+","[M+NH4]+","[M+Na]+","[M+K]+","[M+Li]+","[M-H]-","[M+HCOO]-","[M+CH3COO]-"]
["PEt P-33:0",{"$f":"IF(ISNUMBER(SEARCH(\"(\",A2)),IF(ISNUMBER(SEARCH(\"/\",A2)),CONCATENATE(MID(A2,1,3),\" \",MID(A2,5,2),SUM(MID(A2,FIND(\"(\",A2)+3,(FIND(\":\",A2)-(FIND(\"-\",A2)+1))),MID(A2,FIND(\"/\",A2)+1,(FIND(\":\",A2,FIND(\"/\",A2))-FIND(\"/\",A2)-1))),\":\",SUM(MID(A2,FIND(\":\",A2)+1,FIND(\"/\",A2)-(FIND(\":\",A2)+1)),MID(A2,FIND(\":\",A2,FIND(\"/\",A2))+1,FIND(\")\",A2)-FIND(\":\",A2,FIND(\"/\",A2))-1)),\" \",MID(A2,(FIND(\")\",A2)+1),100)),CONCATENATE(MID(A2,1,3),\" \",MID(A2,5,2),SUM(MID(A2,FIND(\"(\",A2)+3,(FIND(\":\",A2)-(FIND(\"-\",A2)+1))),MID(A2,FIND(\"_\",A2)+1,(FIND(\":\",A2,FIND(\"_\",A2))-FIND(\"_\",A2)-1))),\":\",SUM(MID(A2,FIND(\":\",A2)+1,FIND(\"_\",A2)-(FIND(\":\",A2)+1)),MID(A2,FIND(\":\",A2,FIND(\"_\",A2))+1,FIND(\")\",A2)-FIND(\":\",A2,FIND(\"_\",A2))-1)),\" \",MID(A2,(FIND(\")\",A2)+1),100))),A2)","v":"PEt P-33:0"},{"$f":"MID(B2,7,FIND(\":\",B2)-FIND(\"-\",B2)-1)","v":"33"},{"$f":"IF(ISNUMBER(VALUE(MID(B2,FIND(\":\",B2)+1,2))),MID(B2,FIND(\":\",B2)+1,2),MID(B2,FIND(\":\",B2)+1,1))","v":"0"},{"$f":"IF(ISERROR(FIND(\"O-\",A2)),IF(ISERROR(FIND(\"P-\",A2)),\"\",\"P-\"),\"O-\")","v":"P-"},{"$f":"C2+5","v":38},{"$f":"2*F2-(2*D2)-1+2*COUNTIF(B2,\"*O-*\")-((LEN(A2)-LEN(SUBSTITUTE(A2,\"_O_\",\"\")))/LEN(\"_O_\"))*2-((LEN(A2)-LEN(SUBSTITUTE(A2,\"_CHO_\",\"\")))/LEN(\"_CHO_\"))*2-((LEN(A2)-LEN(SUBSTITUTE(A2,\"_COOH_\",\"\")))/LEN(\"_COOH_\"))*2","v":75},0,{"$f":"7+((LEN(A2)-LEN(SUBSTITUTE(A2,\"_OH_\",\"\")))/LEN(\"_OH_\"))*1+((LEN(A2)-LEN(SUBSTITUTE(A2,\"_OOH_\",\"\")))/LEN(\"_OOH_\"))*2+((LEN(A2)-LEN(SUBSTITUTE(A2,\"_O_\",\"\")))/LEN(\"_O_\"))*1+((LEN(A2)-LEN(SUBSTITUTE(A2,\"_CHO_\",\"\")))/LEN(\"_CHO_\"))*1+((LEN(A2)-LEN(SUBSTITUTE(A2,\"_COOH_\",\"\")))/LEN(\"_COOH_\"))*2","v":7},1,null,{"$f":"IF(ISERROR(FIND(\"O-\",A2)),IF(ISERROR(FIND(\"P-\",A2)),\"\",CONCATENATE(\"C\",F2,\"H\",G2,\"O\",I2,\"P\",J2)),CONCATENATE(\"C\",F2,\"H\",G2,\"O\",I2,\"P\",J2))","v":"C38H75O7P1"},{"$f":"IF(ISERROR(FIND(\"O-\",A2)),IF(ISERROR(FIND(\"P-\",A2)),\"\",(F2*12.0107)+(G2*1.00794)+(H2*14.0067)+(I2*15.9994)+(J2*30.973762)),(F2*12.0107)+(G2*1.00794)+(H2*14.0067)+(I2*15.9994)+(J2*30.973762))","v":674.97166200000004},{"$f":"IF(ISERROR(FIND(\"O-\",A2)),IF(ISERROR(FIND(\"P-\",A2)),\"\",(F2*12)+(G2*1.0078246)+(H2*14.003074)+(I2*15.994915)+(J2*30.973763)),(F2*12)+(G2*1.0078246)+(H2*14.003074)+(I2*15.994915)+(J2*30.973763))","v":674.52501299999994},{"$f":"N2+1.0078246-0.00055","v":675.53228760000002},{"$f":"O2-18.01057-0.00055","v":657.52116760000001},{"$f":"N2+18.03437-0.00055","v":692.55883299999994},{"$f":"N2+22.98977-0.00055","v":697.51423299999999},{"$f":"N2+38.96371-0.00055","v":713.48817299999996},{"$f":"N2+7.01601-0.00055","v":681.54047300000002},{"$f":"N2-1.0078246+0.00055","v":673.51773839999987},{"$f":"N2+44.99767+0.00055","v":719.52323299999989},{"$f":"N2+59.01332+0.00055","v":733.53888299999994}]
["PEt(O-16:0/18:3)",{"$f":"IF(ISNUMBER(SEARCH(\"(\",A3)),IF(ISNUMBER(SEARCH(\"/\",A3)),CONCATENATE(MID(A3,1,3),\" \",MID(A3,5,2),SUM(MID(A3,FIND(\"(\",A3)+3,(FIND(\":\",A3)-(FIND(\"-\",A3)+1))),MID(A3,FIND(\"/\",A3)+1,(FIND(\":\",A3,FIND(\"/\",A3))-FIND(\"/\",A3)-1))),\":\",SUM(MID(A3,FIND(\":\",A3)+1,FIND(\"/\",A3)-(FIND(\":\",A3)+1)),MID(A3,FIND(\":\",A3,FIND(\"/\",A3))+1,FIND(\")\",A3)-FIND(\":\",A3,FIND(\"/\",A3))-1)),\" \",MID(A3,(FIND(\")\",A3)+1),100)),CONCATENATE(MID(A3,1,3),\" \",MID(A3,5,2),SUM(MID(A3,FIND(\"(\",A3)+3,(FIND(\":\",A3)-(FIND(\"-\",A3)+1))),MID(A3,FIND(\"_\",A3)+1,(FIND(\":\",A3,FIND(\"_\",A3))-FIND(\"_\",A3)-1))),\":\",SUM(MID(A3,FIND(\":\",A3)+1,FIND(\"_\",A3)-(FIND(\":\",A3)+1)),MID(A3,FIND(\":\",A3,FIND(\"_\",A3))+1,FIND(\")\",A3)-FIND(\":\",A3,FIND(\"_\",A3))-1)),\" \",MID(A3,(FIND(\")\",A3)+1),100))),A3)","v":"PEt O-34:3 "},{"$f":"MID(B3,7,FIND(\":\",B3)-FIND(\"-\",B3)-1)","v":"34"},{"$f":"IF(ISNUMBER(VALUE(MID(B3,FIND(\":\",B3)+1,2))),MID(B3,FIND(\":\",B3)+1,2),MID(B3,FIND(\":\",B3)+1,1))","v":"3 "},{"$f":"IF(ISERROR(FIND(\"O-\",A3)),IF(ISERROR(FIND(\"P-\",A3)),\"\",\"P-\"),\"O-\")","v":"O-"},{"$f":"C3+5","v":39},{"$f":"2*F3-(2*D3)-1+2*COUNTIF(B3,\"*O-*\")-((LEN(A3)-LEN(SUBSTITUTE(A3,\"_O_\",\"\")))/LEN(\"_O_\"))*2-((LEN(A3)-LEN(SUBSTITUTE(A3,\"_CHO_\",\"\")))/LEN(\"_CHO_\"))*2-((LEN(A3)-LEN(SUBSTITUTE(A3,\"_COOH_\",\"\")))/LEN(\"_COOH_\"))*2","v":73},0,{"$f":"7+((LEN(A3)-LEN(SUBSTITUTE(A3,\"_OH_\",\"\")))/LEN(\"_OH_\"))*1+((LEN(A3)-LEN(SUBSTITUTE(A3,\"_OOH_\",\"\")))/LEN(\"_OOH_\"))*2+((LEN(A3)-LEN(SUBSTITUTE(A3,\"_O_\",\"\")))/LEN(\"_O_\"))*1+((LEN(A3)-LEN(SUBSTITUTE(A3,\"_CHO_\",\"\")))/LEN(\"_CHO_\"))*1+((LEN(A3)-LEN(SUBSTITUTE(A3,\"_COOH_\",\"\")))/LEN(\"_COOH_\"))*2","v":7},1,null,{"$f":"IF(ISERROR(FIND(\"O-\",A3)),IF(ISERROR(FIND(\"P-\",A3)),\"\",CONCATENATE(\"C\",F3,\"H\",G3,\"O\",I3,\"P\",J3)),CONCATENATE(\"C\",F3,\"H\",G3,\"O\",I3,\"P\",J3))","v":"C39H73O7P1"},{"$f":"IF(ISERROR(FIND(\"O-\",A3)),IF(ISERROR(FIND(\"P-\",A3)),\"\",(F3*12.0107)+(G3*1.00794)+(H3*14.0067)+(I3*15.9994)+(J3*30.973762)),(F3*12.0107)+(G3*1.00794)+(H3*14.0067)+(I3*15.9994)+(J3*30.973762))","v":684.96648200000004},{"$f":"IF(ISERROR(FIND(\"O-\",A3)),IF(ISERROR(FIND(\"P-\",A3)),\"\",(F3*12)+(G3*1.0078246)+(H3*14.003074)+(I3*15.994915)+(J3*30.973763)),(F3*12)+(G3*1.0078246)+(H3*14.003074)+(I3*15.994915)+(J3*30.973763))","v":684.50936379999985},{"$f":"N3+1.0078246-0.00055","v":685.51663839999992},{"$f":"O3-18.01057-0.00055","v":667.50551839999991},{"$f":"N3+18.03437-0.00055","v":702.54318379999984},{"$f":"N3+22.98977-0.00055","v":707.49858379999989},{"$f":"N3+38.96371-0.00055","v":723.47252379999986},{"$f":"N3+7.01601-0.00055","v":691.52482379999992},{"$f":"N3-1.0078246+0.00055","v":683.50208919999977},{"$f":"N3+44.99767+0.00055","v":729.50758379999979},{"$f":"N3+59.01332+0.00055","v":743.52323379999984}]
["PEt P-36:1",{"$f":"IF(ISNUMBER(SEARCH(\"(\",A4)),IF(ISNUMBER(SEARCH(\"/\",A4)),CONCATENATE(MID(A4,1,3),\" \",MID(A4,5,2),SUM(MID(A4,FIND(\"(\",A4)+3,(FIND(\":\",A4)-(FIND(\"-\",A4)+1))),MID(A4,FIND(\"/\",A4)+1,(FIND(\":\",A4,FIND(\"/\",A4))-FIND(\"/\",A4)-1))),\":\",SUM(MID(A4,FIND(\":\",A4)+1,FIND(\"/\",A4)-(FIND(\":\",A4)+1)),MID(A4,FIND(\":\",A4,FIND(\"/\",A4))+1,FIND(\")\",A4)-FIND(\":\",A4,FIND(\"/\",A4))-1)),\" \",MID(A4,(FIND(\")\",A4)+1),100)),CONCATENATE(MID(A4,1,3),\" \",MID(A4,5,2),SUM(MID(A4,FIND(\"(\",A4)+3,(FIND(\":\",A4)-(FIND(\"-\",A4)+1))),MID(A4,FIND(\"_\",A4)+1,(FIND(\":\",A4,FIND(\"_\",A4))-FIND(\"_\",A4)-1))),\":\",SUM(MID(A4,FIND(\":\",A4)+1,FIND(\"_\",A4)-(FIND(\":\",A4)+1)),MID(A4,FIND(\":\",A4,FIND(\"_\",A4))+1,FIND(\")\",A4)-FIND(\":\",A4,FIND(\"_\",A4))-1)),\" \",MID(A4,(FIND(\")\",A4)+1),100))),A4)","v":"PEt P-36:1"},{"$f":"MID(B4,7,FIND(\":\",B4)-FIND(\"-\",B4)-1)","v":"36"},{"$f":"IF(ISNUMBER(VALUE(MID(B4,FIND(\":\",B4)+1,2))),MID(B4,FIND(\":\",B4)+1,2),MID(B4,FIND(\":\",B4)+1,1))","v":"1"},{"$f":"IF(ISERROR(FIND(\"O-\",A4)),IF(ISERROR(FIND(\"P-\",A4)),\"\",\"P-\"),\"O-\")","v":"P-"},{"$f":"C4+5","v":41},{"$f":"2*F4-(2*D4)-1+2*COUNTIF(B4,\"*O-*\")-((LEN(A4)-LEN(SUBSTITUTE(A4,\"_O_\",\"\")))/LEN(\"_O_\"))*2-((LEN(A4)-LEN(SUBSTITUTE(A4,\"_CHO_\",\"\")))/LEN(\"_CHO_\"))*2-((LEN(A4)-LEN(SUBSTITUTE(A4,\"_COOH_\",\"\")))/LEN(\"_COOH_\"))*2","v":79},0,{"$f":"7+((LEN(A4)-LEN(SUBSTITUTE(A4,\"_OH_\",\"\")))/LEN(\"_OH_\"))*1+((LEN(A4)-LEN(SUBSTITUTE(A4,\"_OOH_\",\"\")))/LEN(\"_OOH_\"))*2+((LEN(A4)-LEN(SUBSTITUTE(A4,\"_O_\",\"\")))/LEN(\"_O_\"))*1+((LEN(A4)-LEN(SUBSTITUTE(A4,\"_CHO_\",\"\")))/LEN(\"_CHO_\"))*1+((LEN(A4)-LEN(SUBSTITUTE(A4,\"_COOH_\",\"\")))/LEN(\"_COOH_\"))*2","v":7},1,null,{"$f":"IF(ISERROR(FIND(\"O-\",A4)),IF(ISERROR(FIND(\"P-\",A4)),\"\",CONCATENATE(\"C\",F4,\"H\",G4,\"O\",I4,\"P\",J4)),CONCATENATE(\"C\",F4,\"H\",G4,\"O\",I4,\"P\",J4))","v":"C41H79O7P1"},{"$f":"IF(ISERROR(FIND(\"O-\",A4)),IF(ISERROR(FIND(\"P-\",A4)),\"\",(F4*12.0107)+(G4*1.00794)+(H4*14.0067)+(I4*15.9994)+(J4*30.973762)),(F4*12.0107)+(G4*1.00794)+(H4*14.0067)+(I4*15.9994)+(J4*30.973762))","v":715.03552200000001},{"$f":"IF(ISERROR(FIND(\"O-\",A4)),IF(ISERROR(FIND(\"P-\",A4)),\"\",(F4*12)+(G4*1.0078246)+(H4*14.003074)+(I4*15.994915)+(J4*30.973763)),(F4*12)+(G4*1.0078246)+(H4*14.003074)+(I4*15.994915)+(J4*30.973763))","v":714.55631139999991},{"$f":"N4+1.0078246-0.00055","v":715.56358599999999},{"$f":"O4-18.01057-0.00055","v":697.55246599999998},{"$f":"N4+18.03437-0.00055","v":732.5901313999999},{"$f":"N4+22.98977-0.00055","v":737.54553139999996},{"$f":"N4+38.96371-0.00055","v":753.51947139999993},{"$f":"N4+7.01601-0.00055","v":721.57177139999999},{"$f":"N4-1.0078246+0.00055","v":713.54903679999984},{"$f":"N4+44.99767+0.00055","v":759.55453139999986},{"$f":"N4+59.01332+0.00055","v":773.57018139999991}]
["Pet(P-16:1_18:2)",{"$f":"IF(ISNUMBER(SEARCH(\"(\",A5)),IF(ISNUMBER(SEARCH(\"/\",A5)),CONCATENATE(MID(A5,1,3),\" \",MID(A5,5,2),SUM(MID(A5,FIND(\"(\",A5)+3,(FIND(\":\",A5)-(FIND(\"-\",A5)+1))),MID(A5,FIND(\"/\",A5)+1,(FIND(\":\",A5,FIND(\"/\",A5))-FIND(\"/\",A5)-1))),\":\",SUM(MID(A5,FIND(\":\",A5)+1,FIND(\"/\",A5)-(FIND(\":\",A5)+1)),MID(A5,FIND(\":\",A5,FIND(\"/\",A5))+1,FIND(\")\",A5)-FIND(\":\",A5,FIND(\"/\",A5))-1)),\" \",MID(A5,(FIND(\")\",A5)+1),100)),CONCATENATE(MID(A5,1,3),\" \",MID(A5,5,2),SUM(MID(A5,FIND(\"(\",A5)+3,(FIND(\":\",A5)-(FIND(\"-\",A5)+1))),MID(A5,FIND(\"_\",A5)+1,(FIND(\":\",A5,FIND(\"_\",A5))-FIND(\"_\",A5)-1))),\":\",SUM(MID(A5,FIND(\":\",A5)+1,FIND(\"_\",A5)-(FIND(\":\",A5)+1)),MID(A5,FIND(\":\",A5,FIND(\"_\",A5))+1,FIND(\")\",A5)-FIND(\":\",A5,FIND(\"_\",A5))-1)),\" \",MID(A5,(FIND(\")\",A5)+1),100))),A5)","v":"Pet P-34:3 "},{"$f":"MID(B5,7,FIND(\":\",B5)-FIND(\"-\",B5)-1)","v":"34"},{"$f":"IF(ISNUMBER(VALUE(MID(B5,FIND(\":\",B5)+1,2))),MID(B5,FIND(\":\",B5)+1,2),MID(B5,FIND(\":\",B5)+1,1))","v":"3 "},{"$f":"IF(ISERROR(FIND(\"O-\",A5)),IF(ISERROR(FIND(\"P-\",A5)),\"\",\"P-\"),\"O-\")","v":"P-"},{"$f":"C5+5","v":39},{"$f":"2*F5-(2*D5)-1+2*COUNTIF(B5,\"*O-*\")-((LEN(A5)-LEN(SUBSTITUTE(A5,\"_O_\",\"\")))/LEN(\"_O_\"))*2-((LEN(A5)-LEN(SUBSTITUTE(A5,\"_CHO_\",\"\")))/LEN(\"_CHO_\"))*2-((LEN(A5)-LEN(SUBSTITUTE(A5,\"_COOH_\",\"\")))/LEN(\"_COOH_\"))*2","v":71},0,{"$f":"7+((LEN(A5)-LEN(SUBSTITUTE(A5,\"_OH_\",\"\")))/LEN(\"_OH_\"))*1+((LEN(A5)-LEN(SUBSTITUTE(A5,\"_OOH_\",\"\")))/LEN(\"_OOH_\"))*2+((LEN(A5)-LEN(SUBSTITUTE(A5,\"_O_\",\"\")))/LEN(\"_O_\"))*1+((LEN(A5)-LEN(SUBSTITUTE(A5,\"_CHO_\",\"\")))/LEN(\"_CHO_\"))*1+((LEN(A5)-LEN(SUBSTITUTE(A5,\"_COOH_\",\"\")))/LEN(\"_COOH_\"))*2","v":7},1,null,{"$f":"IF(ISERROR(FIND(\"O-\",A5)),IF(ISERROR(FIND(\"P-\",A5)),\"\",CONCATENATE(\"C\",F5,\"H\",G5,\"O\",I5,\"P\",J5)),CONCATENATE(\"C\",F5,\"H\",G5,\"O\",I5,\"P\",J5))","v":"C39H71O7P1"},{"$f":"IF(ISERROR(FIND(\"O-\",A5)),IF(ISERROR(FIND(\"P-\",A5)),\"\",(F5*12.0107)+(G5*1.00794)+(H5*14.0067)+(I5*15.9994)+(J5*30.973762)),(F5*12.0107)+(G5*1.00794)+(H5*14.0067)+(I5*15.9994)+(J5*30.973762))","v":682.950602},{"$f":"IF(ISERROR(FIND(\"O-\",A5)),IF(ISERROR(FIND(\"P-\",A5)),\"\",(F5*12)+(G5*1.0078246)+(H5*14.003074)+(I5*15.994915)+(J5*30.973763)),(F5*12)+(G5*1.0078246)+(H5*14.003074)+(I5*15.994915)+(J5*30.973763))","v":682.49371459999998},{"$f":"N5+1.0078246-0.00055","v":683.50098920000005},{"$f":"O5-18.01057-0.00055","v":665.48986920000004},{"$f":"N5+18.03437-0.00055","v":700.52753459999997},{"$f":"N5+22.98977-0.00055","v":705.48293460000002},{"$f":"N5+38.96371-0.00055","v":721.45687459999999},{"$f":"N5+7.01601-0.00055","v":689.50917460000005},{"$f":"N5-1.0078246+0.00055","v":681.4864399999999},{"$f":"N5+44.99767+0.00055","v":727.49193459999992},{"$f":"N5+59.01332+0.00055","v":741.50758459999997}]

{"sheet":"PMe_ether","index":66,"n_rows":5,"n_cols":23,"rows_kept":5,"cut":false,"hidden":false,"merged":[]}
["Lipid","Sum Composition",null,null,null,"#C","#H","#N","#O","#P",null,"Formula","Molecular Weight","Neutral Mass","[M+H]+","[M+H-H2O]+","[M+NH4]+","[M+Na]+","[M+K]+","[M+Li]+","[M-H]-","[M+HCOO]-","[M+CH3COO]-"]
["PMe O-38:0",{"$f":"IF(ISNUMBER(SEARCH(\"(\",A2)),IF(ISNUMBER(SEARCH(\"/\",A2)),CONCATENATE(MID(A2,1,3),\" \",MID(A2,5,2),SUM(MID(A2,FIND(\"(\",A2)+3,(FIND(\":\",A2)-(FIND(\"-\",A2)+1))),MID(A2,FIND(\"/\",A2)+1,(FIND(\":\",A2,FIND(\"/\",A2))-FIND(\"/\",A2)-1))),\":\",SUM(MID(A2,FIND(\":\",A2)+1,FIND(\"/\",A2)-(FIND(\":\",A2)+1)),MID(A2,FIND(\":\",A2,FIND(\"/\",A2))+1,FIND(\")\",A2)-FIND(\":\",A2,FIND(\"/\",A2))-1)),\" \",MID(A2,(FIND(\")\",A2)+1),100)),CONCATENATE(MID(A2,1,3),\" \",MID(A2,5,2),SUM(MID(A2,FIND(\"(\",A2)+3,(FIND(\":\",A2)-(FIND(\"-\",A2)+1))),MID(A2,FIND(\"_\",A2)+1,(FIND(\":\",A2,FIND(\"_\",A2))-FIND(\"_\",A2)-1))),\":\",SUM(MID(A2,FIND(\":\",A2)+1,FIND(\"_\",A2)-(FIND(\":\",A2)+1)),MID(A2,FIND(\":\",A2,FIND(\"_\",A2))+1,FIND(\")\",A2)-FIND(\":\",A2,FIND(\"_\",A2))-1)),\" \",MID(A2,(FIND(\")\",A2)+1),100))),A2)","v":"PMe O-38:0"},{"$f":"MID(B2,7,FIND(\":\",B2)-FIND(\"-\",B2)-1)","v":"38"},{"$f":"IF(ISNUMBER(VALUE(MID(B2,FIND(\":\",B2)+1,2))),MID(B2,FIND(\":\",B2)+1,2),MID(B2,FIND(\":\",B2)+1,1))","v":"0"},{"$f":"IF(ISERROR(FIND(\"O-\",A2)),IF(ISERROR(FIND(\"P-\",A2)),\"\",\"P-\"),\"O-\")","v":"O-"},{"$f":"C2+4","v":42},{"$f":"2*F2-(2*D2)-1+2*COUNTIF(B2,\"*O-*\")-((LEN(A2)-LEN(SUBSTITUTE(A2,\"_O_\",\"\")))/LEN(\"_O_\"))*2-((LEN(A2)-LEN(SUBSTITUTE(A2,\"_CHO_\",\"\")))/LEN(\"_CHO_\"))*2-((LEN(A2)-LEN(SUBSTITUTE(A2,\"_COOH_\",\"\")))/LEN(\"_COOH_\"))*2","v":85},0,{"$f":"7+((LEN(A2)-LEN(SUBSTITUTE(A2,\"_OH_\",\"\")))/LEN(\"_OH_\"))*1+((LEN(A2)-LEN(SUBSTITUTE(A2,\"_OOH_\",\"\")))/LEN(\"_OOH_\"))*2+((LEN(A2)-LEN(SUBSTITUTE(A2,\"_O_\",\"\")))/LEN(\"_O_\"))*1+((LEN(A2)-LEN(SUBSTITUTE(A2,\"_CHO_\",\"\")))/LEN(\"_CHO_\"))*1+((LEN(A2)-LEN(SUBSTITUTE(A2,\"_COOH_\",\"\")))/LEN(\"_COOH_\"))*2","v":7},1,null,{"$f":"IF(ISERROR(FIND(\"O-\",A2)),IF(ISERROR(FIND(\"P-\",A2)),\"\",CONCATENATE(\"C\",F2,\"H\",G2,\"O\",I2,\"P\",J2)),CONCATENATE(\"C\",F2,\"H\",G2,\"O\",I2,\"P\",J2))","v":"C42H85O7P1"},{"$f":"IF(ISERROR(FIND(\"O-\",A2)),IF(ISERROR(FIND(\"P-\",A2)),\"\",(F2*12.0107)+(G2*1.00794)+(H2*14.0067)+(I2*15.9994)+(J2*30.973762)),(F2*12.0107)+(G2*1.00794)+(H2*14.0067)+(I2*15.9994)+(J2*30.973762))","v":733.09386199999994},{"$f":"IF(ISERROR(FIND(\"O-\",A2)),IF(ISERROR(FIND(\"P-\",A2)),\"\",(F2*12)+(G2*1.0078246)+(H2*14.003074)+(I2*15.994915)+(J2*30.973763)),(F2*12)+(G2*1.0078246)+(H2*14.003074)+(I2*15.994915)+(J2*30.973763))","v":732.60325899999998},{"$f":"N2+1.0078246-0.00055","v":733.61053360000005},{"$f":"O2-18.01057-0.00055","v":715.59941360000005},{"$f":"N2+18.03437-0.00055","v":750.63707899999997},{"$f":"N2+22.98977-0.00055","v":755.59247900000003},{"$f":"N2+38.96371-0.00055","v":771.566419},{"$f":"N2+7.01601-0.00055","v":739.61871900000006},{"$f":"N2-1.0078246+0.00055","v":731.59598439999991},{"$f":"N2+44.99767+0.00055","v":777.60147899999993},{"$f":"N2+59.01332+0.00055","v":791.61712899999998}]
["PMe(O-16:0/18:1)",{"$f":"IF(ISNUMBER(SEARCH(\"(\",A3)),IF(ISNUMBER(SEARCH(\"/\",A3)),CONCATENATE(MID(A3,1,3),\" \",MID(A3,5,2),SUM(MID(A3,FIND(\"(\",A3)+3,(FIND(\":\",A3)-(FIND(\"-\",A3)+1))),MID(A3,FIND(\"/\",A3)+1,(FIND(\":\",A3,FIND(\"/\",A3))-FIND(\"/\",A3)-1))),\":\",SUM(MID(A3,FIND(\":\",A3)+1,FIND(\"/\",A3)-(FIND(\":\",A3)+1)),MID(A3,FIND(\":\",A3,FIND(\"/\",A3))+1,FIND(\")\",A3)-FIND(\":\",A3,FIND(\"/\",A3))-1)),\" \",MID(A3,(FIND(\")\",A3)+1),100)),CONCATENATE(MID(A3,1,3),\" \",MID(A3,5,2),SUM(MID(A3,FIND(\"(\",A3)+3,(FIND(\":\",A3)-(FIND(\"-\",A3)+1))),MID(A3,FIND(\"_\",A3)+1,(FIND(\":\",A3,FIND(\"_\",A3))-FIND(\"_\",A3)-1))),\":\",SUM(MID(A3,FIND(\":\",A3)+1,FIND(\"_\",A3)-(FIND(\":\",A3)+1)),MID(A3,FIND(\":\",A3,FIND(\"_\",A3))+1,FIND(\")\",A3)-FIND(\":\",A3,FIND(\"_\",A3))-1)),\" \",MID(A3,(FIND(\")\",A3)+1),100))),A3)","v":"PMe O-34:1 "},{"$f":"MID(B3,7,FIND(\":\",B3)-FIND(\"-\",B3)-1)","v":"34"},{"$f":"IF(ISNUMBER(VALUE(MID(B3,FIND(\":\",B3)+1,2))),MID(B3,FIND(\":\",B3)+1,2),MID(B3,FIND(\":\",B3)+1,1))","v":"1 "},{"$f":"IF(ISERROR(FIND(\"O-\",A3)),IF(ISERROR(FIND(\"P-\",A3)),\"\",\"P-\"),\"O-\")","v":"O-"},{"$f":"C3+4","v":38},{"$f":"2*F3-(2*D3)-1+2*COUNTIF(B3,\"*O-*\")-((LEN(A3)-LEN(SUBSTITUTE(A3,\"_O_\",\"\")))/LEN(\"_O_\"))*2-((LEN(A3)-LEN(SUBSTITUTE(A3,\"_CHO_\",\"\")))/LEN(\"_CHO_\"))*2-((LEN(A3)-LEN(SUBSTITUTE(A3,\"_COOH_\",\"\")))/LEN(\"_COOH_\"))*2","v":75},0,{"$f":"7+((LEN(A3)-LEN(SUBSTITUTE(A3,\"_OH_\",\"\")))/LEN(\"_OH_\"))*1+((LEN(A3)-LEN(SUBSTITUTE(A3,\"_OOH_\",\"\")))/LEN(\"_OOH_\"))*2+((LEN(A3)-LEN(SUBSTITUTE(A3,\"_O_\",\"\")))/LEN(\"_O_\"))*1+((LEN(A3)-LEN(SUBSTITUTE(A3,\"_CHO_\",\"\")))/LEN(\"_CHO_\"))*1+((LEN(A3)-LEN(SUBSTITUTE(A3,\"_COOH_\",\"\")))/LEN(\"_COOH_\"))*2","v":7},1,null,{"$f":"IF(ISERROR(FIND(\"O-\",A3)),IF(ISERROR(FIND(\"P-\",A3)),\"\",CONCATENATE(\"C\",F3,\"H\",G3,\"O\",I3,\"P\",J3)),CONCATENATE(\"C\",F3,\"H\",G3,\"O\",I3,\"P\",J3))","v":"C38H75O7P1"},{"$f":"IF(ISERROR(FIND(\"O-\",A3)),IF(ISERROR(FIND(\"P-\",A3)),\"\",(F3*12.0107)+(G3*1.00794)+(H3*14.0067)+(I3*15.9994)+(J3*30.973762)),(F3*12.0107)+(G3*1.00794)+(H3*14.0067)+(I3*15.9994)+(J3*30.973762))","v":674.97166200000004},{"$f":"IF(ISERROR(FIND(\"O-\",A3)),IF(ISERROR(FIND(\"P-\",A3)),\"\",(F3*12)+(G3*1.0078246)+(H3*14.003074)+(I3*15.994915)+(J3*30.973763)),(F3*12)+(G3*1.0078246)+(H3*14.003074)+(I3*15.994915)+(J3*30.973763))","v":674.52501299999994},{"$f":"N3+1.0078246-0.00055","v":675.53228760000002},{"$f":"O3-18.01057-0.00055","v":657.52116760000001},{"$f":"N3+18.03437-0.00055","v":692.55883299999994},{"$f":"N3+22.98977-0.00055","v":697.51423299999999},{"$f":"N3+38.96371-0.00055","v":713.48817299999996},{"$f":"N3+7.01601-0.00055","v":681.54047300000002},{"$f":"N3-1.0078246+0.00055","v":673.51773839999987},{"$f":"N3+44.99767+0.00055","v":719.52323299999989},{"$f":"N3+59.01332+0.00055","v":733.53888299999994}]
["PMe(O-16:0_18:1)",{"$f":"IF(ISNUMBER(SEARCH(\"(\",A4)),IF(ISNUMBER(SEARCH(\"/\",A4)),CONCATENATE(MID(A4,1,3),\" \",MID(A4,5,2),SUM(MID(A4,FIND(\"(\",A4)+3,(FIND(\":\",A4)-(FIND(\"-\",A4)+1))),MID(A4,FIND(\"/\",A4)+1,(FIND(\":\",A4,FIND(\"/\",A4))-FIND(\"/\",A4)-1))),\":\",SUM(MID(A4,FIND(\":\",A4)+1,FIND(\"/\",A4)-(FIND(\":\",A4)+1)),MID(A4,FIND(\":\",A4,FIND(\"/\",A4))+1,FIND(\")\",A4)-FIND(\":\",A4,FIND(\"/\",A4))-1)),\" \",MID(A4,(FIND(\")\",A4)+1),100)),CONCATENATE(MID(A4,1,3),\" \",MID(A4,5,2),SUM(MID(A4,FIND(\"(\",A4)+3,(FIND(\":\",A4)-(FIND(\"-\",A4)+1))),MID(A4,FIND(\"_\",A4)+1,(FIND(\":\",A4,FIND(\"_\",A4))-FIND(\"_\",A4)-1))),\":\",SUM(MID(A4,FIND(\":\",A4)+1,FIND(\"_\",A4)-(FIND(\":\",A4)+1)),MID(A4,FIND(\":\",A4,FIND(\"_\",A4))+1,FIND(\")\",A4)-FIND(\":\",A4,FIND(\"_\",A4))-1)),\" \",MID(A4,(FIND(\")\",A4)+1),100))),A4)","v":"PMe O-34:1 "},{"$f":"MID(B4,7,FIND(\":\",B4)-FIND(\"-\",B4)-1)","v":"34"},{"$f":"IF(ISNUMBER(VALUE(MID(B4,FIND(\":\",B4)+1,2))),MID(B4,FIND(\":\",B4)+1,2),MID(B4,FIND(\":\",B4)+1,1))","v":"1 "},{"$f":"IF(ISERROR(FIND(\"O-\",A4)),IF(ISERROR(FIND(\"P-\",A4)),\"\",\"P-\"),\"O-\")","v":"O-"},{"$f":"C4+4","v":38},{"$f":"2*F4-(2*D4)-1+2*COUNTIF(B4,\"*O-*\")-((LEN(A4)-LEN(SUBSTITUTE(A4,\"_O_\",\"\")))/LEN(\"_O_\"))*2-((LEN(A4)-LEN(SUBSTITUTE(A4,\"_CHO_\",\"\")))/LEN(\"_CHO_\"))*2-((LEN(A4)-LEN(SUBSTITUTE(A4,\"_COOH_\",\"\")))/LEN(\"_COOH_\"))*2","v":75},0,{"$f":"7+((LEN(A4)-LEN(SUBSTITUTE(A4,\"_OH_\",\"\")))/LEN(\"_OH_\"))*1+((LEN(A4)-LEN(SUBSTITUTE(A4,\"_OOH_\",\"\")))/LEN(\"_OOH_\"))*2+((LEN(A4)-LEN(SUBSTITUTE(A4,\"_O_\",\"\")))/LEN(\"_O_\"))*1+((LEN(A4)-LEN(SUBSTITUTE(A4,\"_CHO_\",\"\")))/LEN(\"_CHO_\"))*1+((LEN(A4)-LEN(SUBSTITUTE(A4,\"_COOH_\",\"\")))/LEN(\"_COOH_\"))*2","v":7},1,null,{"$f":"IF(ISERROR(FIND(\"O-\",A4)),IF(ISERROR(FIND(\"P-\",A4)),\"\",CONCATENATE(\"C\",F4,\"H\",G4,\"O\",I4,\"P\",J4)),CONCATENATE(\"C\",F4,\"H\",G4,\"O\",I4,\"P\",J4))","v":"C38H75O7P1"},{"$f":"IF(ISERROR(FIND(\"O-\",A4)),IF(ISERROR(FIND(\"P-\",A4)),\"\",(F4*12.0107)+(G4*1.00794)+(H4*14.0067)+(I4*15.9994)+(J4*30.973762)),(F4*12.0107)+(G4*1.00794)+(H4*14.0067)+(I4*15.9994)+(J4*30.973762))","v":674.97166200000004},{"$f":"IF(ISERROR(FIND(\"O-\",A4)),IF(ISERROR(FIND(\"P-\",A4)),\"\",(F4*12)+(G4*1.0078246)+(H4*14.003074)+(I4*15.994915)+(J4*30.973763)),(F4*12)+(G4*1.0078246)+(H4*14.003074)+(I4*15.994915)+(J4*30.973763))","v":674.52501299999994},{"$f":"N4+1.0078246-0.00055","v":675.53228760000002},{"$f":"O4-18.01057-0.00055","v":657.52116760000001},{"$f":"N4+18.03437-0.00055","v":692.55883299999994},{"$f":"N4+22.98977-0.00055","v":697.51423299999999},{"$f":"N4+38.96371-0.00055","v":713.48817299999996},{"$f":"N4+7.01601-0.00055","v":681.54047300000002},{"$f":"N4-1.0078246+0.00055","v":673.51773839999987},{"$f":"N4+44.99767+0.00055","v":719.52323299999989},{"$f":"N4+59.01332+0.00055","v":733.53888299999994}]
["PMe P-38:0",{"$f":"IF(ISNUMBER(SEARCH(\"(\",A5)),IF(ISNUMBER(SEARCH(\"/\",A5)),CONCATENATE(MID(A5,1,3),\" \",MID(A5,5,2),SUM(MID(A5,FIND(\"(\",A5)+3,(FIND(\":\",A5)-(FIND(\"-\",A5)+1))),MID(A5,FIND(\"/\",A5)+1,(FIND(\":\",A5,FIND(\"/\",A5))-FIND(\"/\",A5)-1))),\":\",SUM(MID(A5,FIND(\":\",A5)+1,FIND(\"/\",A5)-(FIND(\":\",A5)+1)),MID(A5,FIND(\":\",A5,FIND(\"/\",A5))+1,FIND(\")\",A5)-FIND(\":\",A5,FIND(\"/\",A5))-1)),\" \",MID(A5,(FIND(\")\",A5)+1),100)),CONCATENATE(MID(A5,1,3),\" \",MID(A5,5,2),SUM(MID(A5,FIND(\"(\",A5)+3,(FIND(\":\",A5)-(FIND(\"-\",A5)+1))),MID(A5,FIND(\"_\",A5)+1,(FIND(\":\",A5,FIND(\"_\",A5))-FIND(\"_\",A5)-1))),\":\",SUM(MID(A5,FIND(\":\",A5)+1,FIND(\"_\",A5)-(FIND(\":\",A5)+1)),MID(A5,FIND(\":\",A5,FIND(\"_\",A5))+1,FIND(\")\",A5)-FIND(\":\",A5,FIND(\"_\",A5))-1)),\" \",MID(A5,(FIND(\")\",A5)+1),100))),A5)","v":"PMe P-38:0"},{"$f":"MID(B5,7,FIND(\":\",B5)-FIND(\"-\",B5)-1)","v":"38"},{"$f":"IF(ISNUMBER(VALUE(MID(B5,FIND(\":\",B5)+1,2))),MID(B5,FIND(\":\",B5)+1,2),MID(B5,FIND(\":\",B5)+1,1))","v":"0"},{"$f":"IF(ISERROR(FIND(\"O-\",A5)),IF(ISERROR(FIND(\"P-\",A5)),\"\",\"P-\"),\"O-\")","v":"P-"},{"$f":"C5+4","v":42},{"$f":"2*F5-(2*D5)-1+2*COUNTIF(B5,\"*O-*\")-((LEN(A5)-LEN(SUBSTITUTE(A5,\"_O_\",\"\")))/LEN(\"_O_\"))*2-((LEN(A5)-LEN(SUBSTITUTE(A5,\"_CHO_\",\"\")))/LEN(\"_CHO_\"))*2-((LEN(A5)-LEN(SUBSTITUTE(A5,\"_COOH_\",\"\")))/LEN(\"_COOH_\"))*2","v":83},0,{"$f":"7+((LEN(A5)-LEN(SUBSTITUTE(A5,\"_OH_\",\"\")))/LEN(\"_OH_\"))*1+((LEN(A5)-LEN(SUBSTITUTE(A5,\"_OOH_\",\"\")))/LEN(\"_OOH_\"))*2+((LEN(A5)-LEN(SUBSTITUTE(A5,\"_O_\",\"\")))/LEN(\"_O_\"))*1+((LEN(A5)-LEN(SUBSTITUTE(A5,\"_CHO_\",\"\")))/LEN(\"_CHO_\"))*1+((LEN(A5)-LEN(SUBSTITUTE(A5,\"_COOH_\",\"\")))/LEN(\"_COOH_\"))*2","v":7},1,null,{"$f":"IF(ISERROR(FIND(\"O-\",A5)),IF(ISERROR(FIND(\"P-\",A5)),\"\",CONCATENATE(\"C\",F5,\"H\",G5,\"O\",I5,\"P\",J5)),CONCATENATE(\"C\",F5,\"H\",G5,\"O\",I5,\"P\",J5))","v":"C42H83O7P1"},{"$f":"IF(ISERROR(FIND(\"O-\",A5)),IF(ISERROR(FIND(\"P-\",A5)),\"\",(F5*12.0107)+(G5*1.00794)+(H5*14.0067)+(I5*15.9994)+(J5*30.973762)),(F5*12.0107)+(G5*1.00794)+(H5*14.0067)+(I5*15.9994)+(J5*30.973762))","v":731.07798200000002},{"$f":"IF(ISERROR(FIND(\"O-\",A5)),IF(ISERROR(FIND(\"P-\",A5)),\"\",(F5*12)+(G5*1.0078246)+(H5*14.003074)+(I5*15.994915)+(J5*30.973763)),(F5*12)+(G5*1.0078246)+(H5*14.003074)+(I5*15.994915)+(J5*30.973763))","v":730.58760979999988},{"$f":"N5+1.0078246-0.00055","v":731.59488439999996},{"$f":"O5-18.01057-0.00055","v":713.58376439999995},{"$f":"N5+18.03437-0.00055","v":748.62142979999987},{"$f":"N5+22.98977-0.00055","v":753.57682979999993},{"$f":"N5+38.96371-0.00055","v":769.5507697999999},{"$f":"N5+7.01601-0.00055","v":737.60306979999996},{"$f":"N5-1.0078246+0.00055","v":729.58033519999981},{"$f":"N5+44.99767+0.00055","v":775.58582979999983},{"$f":"N5+59.01332+0.00055","v":789.60147979999988}]

{"sheet":"MGDG_ether","index":67,"n_rows":5,"n_cols":23,"rows_kept":5,"cut":false,"hidden":false,"merged":[]}
["Lipid","Sum Composition",null,null,null,"#C","#H","#N","#O","#P",null,"Formula","Molecular Weight","Neutral Mass","[M+H]+","[M+H-H2O]+","[M+NH4]+","[M+Na]+","[M+K]+","[M+Li]+","[M-H]-","[M+HCOO]-","[M+CH3COO]-"]
["MGDG O-36:4",{"$f":"IF(ISNUMBER(SEARCH(\"(\",A2)),IF(ISNUMBER(SEARCH(\"/\",A2)),CONCATENATE(MID(A2,1,4),\" \",MID(A2,6,2),SUM(MID(A2,FIND(\"(\",A2)+3,(FIND(\":\",A2)-(FIND(\"-\",A2)+1))),MID(A2,FIND(\"/\",A2)+1,(FIND(\":\",A2,FIND(\"/\",A2))-FIND(\"/\",A2)-1))),\":\",SUM(MID(A2,FIND(\":\",A2)+1,FIND(\"/\",A2)-(FIND(\":\",A2)+1)),MID(A2,FIND(\":\",A2,FIND(\"/\",A2))+1,FIND(\")\",A2)-FIND(\":\",A2,FIND(\"/\",A2))-1)),\" \",MID(A2,(FIND(\")\",A2)+1),100)),CONCATENATE(MID(A2,1,4),\" \",MID(A2,6,2),SUM(MID(A2,FIND(\"(\",A2)+3,(FIND(\":\",A2)-(FIND(\"-\",A2)+1))),MID(A2,FIND(\"_\",A2)+1,(FIND(\":\",A2,FIND(\"_\",A2))-FIND(\"_\",A2)-1))),\":\",SUM(MID(A2,FIND(\":\",A2)+1,FIND(\"_\",A2)-(FIND(\":\",A2)+1)),MID(A2,FIND(\":\",A2,FIND(\"_\",A2))+1,FIND(\")\",A2)-FIND(\":\",A2,FIND(\"_\",A2))-1)),\" \",MID(A2,(FIND(\")\",A2)+1),100))),A2)","v":"MGDG O-36:4"},{"$f":"MID(B2,8,FIND(\":\",B2)-FIND(\"-\",B2)-1)","v":"36"},{"$f":"IF(ISNUMBER(VALUE(MID(B2,FIND(\":\",B2)+1,2))),MID(B2,FIND(\":\",B2)+1,2),MID(B2,FIND(\":\",B2)+1,1))","v":"4"},{"$f":"IF(ISERROR(FIND(\"O-\",A2)),IF(ISERROR(FIND(\"P-\",A2)),\"\",\"P-\"),\"O-\")","v":"O-"},{"$f":"C2+9","v":45},{"$f":"2*F2-(2*D2)-4+2*COUNTIF(B2,\"*O-*\")-((LEN(A2)-LEN(SUBSTITUTE(A2,\"_O_\",\"\")))/LEN(\"_O_\"))*2-((LEN(A2)-LEN(SUBSTITUTE(A2,\"_CHO_\",\"\")))/LEN(\"_CHO_\"))*2-((LEN(A2)-LEN(SUBSTITUTE(A2,\"_COOH_\",\"\")))/LEN(\"_COOH_\"))*2","v":80},0,{"$f":"9+((LEN(A2)-LEN(SUBSTITUTE(A2,\"_OH_\",\"\")))/LEN(\"_OH_\"))*1+((LEN(A2)-LEN(SUBSTITUTE(A2,\"_OOH_\",\"\")))/LEN(\"_OOH_\"))*2+((LEN(A2)-LEN(SUBSTITUTE(A2,\"_O_\",\"\")))/LEN(\"_O_\"))*1+((LEN(A2)-LEN(SUBSTITUTE(A2,\"_CHO_\",\"\")))/LEN(\"_CHO_\"))*1+((LEN(A2)-LEN(SUBSTITUTE(A2,\"_COOH_\",\"\")))/LEN(\"_COOH_\"))*2","v":9},0,null,{"$f":"IF(ISERROR(FIND(\"O-\",A2)),IF(ISERROR(FIND(\"P-\",A2)),\"\",CONCATENATE(\"C\",F2,\"H\",G2,\"O\",I2,)),CONCATENATE(\"C\",F2,\"H\",G2,\"O\",I2,))","v":"C45H80O9"},{"$f":"IF(ISERROR(FIND(\"O-\",A2)),IF(ISERROR(FIND(\"P-\",A2)),\"\",(F2*12.0107)+(G2*1.00794)+(H2*14.0067)+(I2*15.9994)+(J2*30.973762)),(F2*12.0107)+(G2*1.00794)+(H2*14.0067)+(I2*15.9994)+(J2*30.973762))","v":765.11130000000003},{"$f":"IF(ISERROR(FIND(\"O-\",A2)),IF(ISERROR(FIND(\"P-\",A2)),\"\",(F2*12)+(G2*1.0078246)+(H2*14.003074)+(I2*15.994915)+(J2*30.973763)),(F2*12)+(G2*1.0078246)+(H2*14.003074)+(I2*15.994915)+(J2*30.973763))","v":764.5802030000001},{"$f":"N2+1.0078246-0.00055","v":765.58747760000017},{"$f":"O2-18.01057-0.00055","v":747.57635760000016},{"$f":"N2+18.03437-0.00055","v":782.61402300000009},{"$f":"N2+22.98977-0.00055","v":787.56942300000014},{"$f":"N2+38.96371-0.00055","v":803.54336300000011},{"$f":"N2+7.01601-0.00055","v":771.59566300000017},{"$f":"N2-1.0078246+0.00055","v":763.57292840000002},{"$f":"N2+44.99767+0.00055","v":809.57842300000004},{"$f":"N2+59.01332+0.00055","v":823.59407300000009}]
["MGDG P-34:1",{"$f":"IF(ISNUMBER(SEARCH(\"(\",A3)),IF(ISNUMBER(SEARCH(\"/\",A3)),CONCATENATE(MID(A3,1,4),\" \",MID(A3,6,2),SUM(MID(A3,FIND(\"(\",A3)+3,(FIND(\":\",A3)-(FIND(\"-\",A3)+1))),MID(A3,FIND(\"/\",A3)+1,(FIND(\":\",A3,FIND(\"/\",A3))-FIND(\"/\",A3)-1))),\":\",SUM(MID(A3,FIND(\":\",A3)+1,FIND(\"/\",A3)-(FIND(\":\",A3)+1)),MID(A3,FIND(\":\",A3,FIND(\"/\",A3))+1,FIND(\")\",A3)-FIND(\":\",A3,FIND(\"/\",A3))-1)),\" \",MID(A3,(FIND(\")\",A3)+1),100)),CONCATENATE(MID(A3,1,4),\" \",MID(A3,6,2),SUM(MID(A3,FIND(\"(\",A3)+3,(FIND(\":\",A3)-(FIND(\"-\",A3)+1))),MID(A3,FIND(\"_\",A3)+1,(FIND(\":\",A3,FIND(\"_\",A3))-FIND(\"_\",A3)-1))),\":\",SUM(MID(A3,FIND(\":\",A3)+1,FIND(\"_\",A3)-(FIND(\":\",A3)+1)),MID(A3,FIND(\":\",A3,FIND(\"_\",A3))+1,FIND(\")\",A3)-FIND(\":\",A3,FIND(\"_\",A3))-1)),\" \",MID(A3,(FIND(\")\",A3)+1),100))),A3)","v":"MGDG P-34:1"},{"$f":"MID(B3,8,FIND(\":\",B3)-FIND(\"-\",B3)-1)","v":"34"},{"$f":"IF(ISNUMBER(VALUE(MID(B3,FIND(\":\",B3)+1,2))),MID(B3,FIND(\":\",B3)+1,2),MID(B3,FIND(\":\",B3)+1,1))","v":"1"},{"$f":"IF(ISERROR(FIND(\"O-\",A3)),IF(ISERROR(FIND(\"P-\",A3)),\"\",\"P-\"),\"O-\")","v":"P-"},{"$f":"C3+9","v":43},{"$f":"2*F3-(2*D3)-4+2*COUNTIF(B3,\"*O-*\")-((LEN(A3)-LEN(SUBSTITUTE(A3,\"_O_\",\"\")))/LEN(\"_O_\"))*2-((LEN(A3)-LEN(SUBSTITUTE(A3,\"_CHO_\",\"\")))/LEN(\"_CHO_\"))*2-((LEN(A3)-LEN(SUBSTITUTE(A3,\"_COOH_\",\"\")))/LEN(\"_COOH_\"))*2","v":80},0,{"$f":"9+((LEN(A3)-LEN(SUBSTITUTE(A3,\"_OH_\",\"\")))/LEN(\"_OH_\"))*1+((LEN(A3)-LEN(SUBSTITUTE(A3,\"_OOH_\",\"\")))/LEN(\"_OOH_\"))*2+((LEN(A3)-LEN(SUBSTITUTE(A3,\"_O_\",\"\")))/LEN(\"_O_\"))*1+((LEN(A3)-LEN(SUBSTITUTE(A3,\"_CHO_\",\"\")))/LEN(\"_CHO_\"))*1+((LEN(A3)-LEN(SUBSTITUTE(A3,\"_COOH_\",\"\")))/LEN(\"_COOH_\"))*2","v":9},0,null,{"$f":"IF(ISERROR(FIND(\"O-\",A3)),IF(ISERROR(FIND(\"P-\",A3)),\"\",CONCATENATE(\"C\",F3,\"H\",G3,\"O\",I3,)),CONCATENATE(\"C\",F3,\"H\",G3,\"O\",I3,))","v":"C43H80O9"},{"$f":"IF(ISERROR(FIND(\"O-\",A3)),IF(ISERROR(FIND(\"P-\",A3)),\"\",(F3*12.0107)+(G3*1.00794)+(H3*14.0067)+(I3*15.9994)+(J3*30.973762)),(F3*12.0107)+(G3*1.00794)+(H3*14.0067)+(I3*15.9994)+(J3*30.973762))","v":741.08989999999994},{"$f":"IF(ISERROR(FIND(\"O-\",A3)),IF(ISERROR(FIND(\"P-\",A3)),\"\",(F3*12)+(G3*1.0078246)+(H3*14.003074)+(I3*15.994915)+(J3*30.973763)),(F3*12)+(G3*1.0078246)+(H3*14.003074)+(I3*15.994915)+(J3*30.973763))","v":740.5802030000001},{"$f":"N3+1.0078246-0.00055","v":741.58747760000017},{"$f":"O3-18.01057-0.00055","v":723.57635760000016},{"$f":"N3+18.03437-0.00055","v":758.61402300000009},{"$f":"N3+22.98977-0.00055","v":763.56942300000014},{"$f":"N3+38.96371-0.00055","v":779.54336300000011},{"$f":"N3+7.01601-0.00055","v":747.59566300000017},{"$f":"N3-1.0078246+0.00055","v":739.57292840000002},{"$f":"N3+44.99767+0.00055","v":785.57842300000004},{"$f":"N3+59.01332+0.00055","v":799.59407300000009}]
["MGDG(P-16:1/18:1)",{"$f":"IF(ISNUMBER(SEARCH(\"(\",A4)),IF(ISNUMBER(SEARCH(\"/\",A4)),CONCATENATE(MID(A4,1,4),\" \",MID(A4,6,2),SUM(MID(A4,FIND(\"(\",A4)+3,(FIND(\":\",A4)-(FIND(\"-\",A4)+1))),MID(A4,FIND(\"/\",A4)+1,(FIND(\":\",A4,FIND(\"/\",A4))-FIND(\"/\",A4)-1))),\":\",SUM(MID(A4,FIND(\":\",A4)+1,FIND(\"/\",A4)-(FIND(\":\",A4)+1)),MID(A4,FIND(\":\",A4,FIND(\"/\",A4))+1,FIND(\")\",A4)-FIND(\":\",A4,FIND(\"/\",A4))-1)),\" \",MID(A4,(FIND(\")\",A4)+1),100)),CONCATENATE(MID(A4,1,4),\" \",MID(A4,6,2),SUM(MID(A4,FIND(\"(\",A4)+3,(FIND(\":\",A4)-(FIND(\"-\",A4)+1))),MID(A4,FIND(\"_\",A4)+1,(FIND(\":\",A4,FIND(\"_\",A4))-FIND(\"_\",A4)-1))),\":\",SUM(MID(A4,FIND(\":\",A4)+1,FIND(\"_\",A4)-(FIND(\":\",A4)+1)),MID(A4,FIND(\":\",A4,FIND(\"_\",A4))+1,FIND(\")\",A4)-FIND(\":\",A4,FIND(\"_\",A4))-1)),\" \",MID(A4,(FIND(\")\",A4)+1),100))),A4)","v":"MGDG P-34:2 "},{"$f":"MID(B4,8,FIND(\":\",B4)-FIND(\"-\",B4)-1)","v":"34"},{"$f":"IF(ISNUMBER(VALUE(MID(B4,FIND(\":\",B4)+1,2))),MID(B4,FIND(\":\",B4)+1,2),MID(B4,FIND(\":\",B4)+1,1))","v":"2 "},{"$f":"IF(ISERROR(FIND(\"O-\",A4)),IF(ISERROR(FIND(\"P-\",A4)),\"\",\"P-\"),\"O-\")","v":"P-"},{"$f":"C4+9","v":43},{"$f":"2*F4-(2*D4)-4+2*COUNTIF(B4,\"*O-*\")-((LEN(A4)-LEN(SUBSTITUTE(A4,\"_O_\",\"\")))/LEN(\"_O_\"))*2-((LEN(A4)-LEN(SUBSTITUTE(A4,\"_CHO_\",\"\")))/LEN(\"_CHO_\"))*2-((LEN(A4)-LEN(SUBSTITUTE(A4,\"_COOH_\",\"\")))/LEN(\"_COOH_\"))*2","v":78},0,{"$f":"9+((LEN(A4)-LEN(SUBSTITUTE(A4,\"_OH_\",\"\")))/LEN(\"_OH_\"))*1+((LEN(A4)-LEN(SUBSTITUTE(A4,\"_OOH_\",\"\")))/LEN(\"_OOH_\"))*2+((LEN(A4)-LEN(SUBSTITUTE(A4,\"_O_\",\"\")))/LEN(\"_O_\"))*1+((LEN(A4)-LEN(SUBSTITUTE(A4,\"_CHO_\",\"\")))/LEN(\"_CHO_\"))*1+((LEN(A4)-LEN(SUBSTITUTE(A4,\"_COOH_\",\"\")))/LEN(\"_COOH_\"))*2","v":9},0,null,{"$f":"IF(ISERROR(FIND(\"O-\",A4)),IF(ISERROR(FIND(\"P-\",A4)),\"\",CONCATENATE(\"C\",F4,\"H\",G4,\"O\",I4,)),CONCATENATE(\"C\",F4,\"H\",G4,\"O\",I4,))","v":"C43H78O9"},{"$f":"IF(ISERROR(FIND(\"O-\",A4)),IF(ISERROR(FIND(\"P-\",A4)),\"\",(F4*12.0107)+(G4*1.00794)+(H4*14.0067)+(I4*15.9994)+(J4*30.973762)),(F4*12.0107)+(G4*1.00794)+(H4*14.0067)+(I4*15.9994)+(J4*30.973762))","v":739.07402000000002},{"$f":"IF(ISERROR(FIND(\"O-\",A4)),IF(ISERROR(FIND(\"P-\",A4)),\"\",(F4*12)+(G4*1.0078246)+(H4*14.003074)+(I4*15.994915)+(J4*30.973763)),(F4*12)+(G4*1.0078246)+(H4*14.003074)+(I4*15.994915)+(J4*30.973763))","v":738.5645538},{"$f":"N4+1.0078246-0.00055","v":739.57182840000007},{"$f":"O4-18.01057-0.00055","v":721.56070840000007},{"$f":"N4+18.03437-0.00055","v":756.59837379999999},{"$f":"N4+22.98977-0.00055","v":761.55377380000004},{"$f":"N4+38.96371-0.00055","v":777.52771380000001},{"$f":"N4+7.01601-0.00055","v":745.58001380000007},{"$f":"N4-1.0078246+0.00055","v":737.55727919999993},{"$f":"N4+44.99767+0.00055","v":783.56277379999995},{"$f":"N4+59.01332+0.00055","v":797.5784238}]
["MGDG(O-18:0_20:1)",{"$f":"IF(ISNUMBER(SEARCH(\"(\",A5)),IF(ISNUMBER(SEARCH(\"/\",A5)),CONCATENATE(MID(A5,1,4),\" \",MID(A5,6,2),SUM(MID(A5,FIND(\"(\",A5)+3,(FIND(\":\",A5)-(FIND(\"-\",A5)+1))),MID(A5,FIND(\"/\",A5)+1,(FIND(\":\",A5,FIND(\"/\",A5))-FIND(\"/\",A5)-1))),\":\",SUM(MID(A5,FIND(\":\",A5)+1,FIND(\"/\",A5)-(FIND(\":\",A5)+1)),MID(A5,FIND(\":\",A5,FIND(\"/\",A5))+1,FIND(\")\",A5)-FIND(\":\",A5,FIND(\"/\",A5))-1)),\" \",MID(A5,(FIND(\")\",A5)+1),100)),CONCATENATE(MID(A5,1,4),\" \",MID(A5,6,2),SUM(MID(A5,FIND(\"(\",A5)+3,(FIND(\":\",A5)-(FIND(\"-\",A5)+1))),MID(A5,FIND(\"_\",A5)+1,(FIND(\":\",A5,FIND(\"_\",A5))-FIND(\"_\",A5)-1))),\":\",SUM(MID(A5,FIND(\":\",A5)+1,FIND(\"_\",A5)-(FIND(\":\",A5)+1)),MID(A5,FIND(\":\",A5,FIND(\"_\",A5))+1,FIND(\")\",A5)-FIND(\":\",A5,FIND(\"_\",A5))-1)),\" \",MID(A5,(FIND(\")\",A5)+1),100))),A5)","v":"MGDG O-38:1 "},{"$f":"MID(B5,8,FIND(\":\",B5)-FIND(\"-\",B5)-1)","v":"38"},{"$f":"IF(ISNUMBER(VALUE(MID(B5,FIND(\":\",B5)+1,2))),MID(B5,FIND(\":\",B5)+1,2),MID(B5,FIND(\":\",B5)+1,1))","v":"1 "},{"$f":"IF(ISERROR(FIND(\"O-\",A5)),IF(ISERROR(FIND(\"P-\",A5)),\"\",\"P-\"),\"O-\")","v":"O-"},{"$f":"C5+9","v":47},{"$f":"2*F5-(2*D5)-4+2*COUNTIF(B5,\"*O-*\")-((LEN(A5)-LEN(SUBSTITUTE(A5,\"_O_\",\"\")))/LEN(\"_O_\"))*2-((LEN(A5)-LEN(SUBSTITUTE(A5,\"_CHO_\",\"\")))/LEN(\"_CHO_\"))*2-((LEN(A5)-LEN(SUBSTITUTE(A5,\"_COOH_\",\"\")))/LEN(\"_COOH_\"))*2","v":90},0,{"$f":"9+((LEN(A5)-LEN(SUBSTITUTE(A5,\"_OH_\",\"\")))/LEN(\"_OH_\"))*1+((LEN(A5)-LEN(SUBSTITUTE(A5,\"_OOH_\",\"\")))/LEN(\"_OOH_\"))*2+((LEN(A5)-LEN(SUBSTITUTE(A5,\"_O_\",\"\")))/LEN(\"_O_\"))*1+((LEN(A5)-LEN(SUBSTITUTE(A5,\"_CHO_\",\"\")))/LEN(\"_CHO_\"))*1+((LEN(A5)-LEN(SUBSTITUTE(A5,\"_COOH_\",\"\")))/LEN(\"_COOH_\"))*2","v":9},0,null,{"$f":"IF(ISERROR(FIND(\"O-\",A5)),IF(ISERROR(FIND(\"P-\",A5)),\"\",CONCATENATE(\"C\",F5,\"H\",G5,\"O\",I5,)),CONCATENATE(\"C\",F5,\"H\",G5,\"O\",I5,))","v":"C47H90O9"},{"$f":"IF(ISERROR(FIND(\"O-\",A5)),IF(ISERROR(FIND(\"P-\",A5)),\"\",(F5*12.0107)+(G5*1.00794)+(H5*14.0067)+(I5*15.9994)+(J5*30.973762)),(F5*12.0107)+(G5*1.00794)+(H5*14.0067)+(I5*15.9994)+(J5*30.973762))","v":799.21209999999996},{"$f":"IF(ISERROR(FIND(\"O-\",A5)),IF(ISERROR(FIND(\"P-\",A5)),\"\",(F5*12)+(G5*1.0078246)+(H5*14.003074)+(I5*15.994915)+(J5*30.973763)),(F5*12)+(G5*1.0078246)+(H5*14.003074)+(I5*15.994915)+(J5*30.973763))","v":798.65844900000002},{"$f":"N5+1.0078246-0.00055","v":799.66572360000009},{"$f":"O5-18.01057-0.00055","v":781.65460360000009},{"$f":"N5+18.03437-0.00055","v":816.69226900000001},{"$f":"N5+22.98977-0.00055","v":821.64766900000006},{"$f":"N5+38.96371-0.00055","v":837.62160900000003},{"$f":"N5+7.01601-0.00055","v":805.67390900000009},{"$f":"N5-1.0078246+0.00055","v":797.65117439999995},{"$f":"N5+44.99767+0.00055","v":843.65666899999997},{"$f":"N5+59.01332+0.00055","v":857.67231900000002}]

{"sheet":"Summary","index":68,"n_rows":163,"n_cols":13,"rows_kept":163,"cut":false,"hidden":false,"merged":[]}
["Class","Lipid Species","Formula","Neutral Mass","[M+H]+","[M+H-H2O]+","[M+NH4]+","[M+Na]+","[M+K]+","[M+Li]+","[M-H]-","[M+HCOO]-","[M+CH3COO]-"]
["BMP",{"$f":"BMP!$A$5","v":"BMP 32:2"},{"$f":"BMP!$L$5","v":"C38H74N1O10P1"},{"$f":"BMP!$N$5","v":735.50500739999995},{"$f":"BMP!$O$5","v":736.51228200000003},{"$f":"BMP!$P$5","v":718.50116200000002},{"$f":"BMP!$Q$5","v":753.53882739999995},{"$f":"BMP!$R$5","v":758.4942274},{"$f":"BMP!$S$5","v":774.46816739999997},{"$f":"BMP!$T$5","v":742.52046740000003},{"$f":"BMP!$U$5","v":734.49773279999988},{"$f":"BMP!$V$5","v":780.5032273999999},{"$f":"BMP!$W$5","v":794.51887739999995}]
["BMP",{"$f":"BMP!$A$4","v":"BMP 36:2 __O__"},{"$f":"BMP!$L$4","v":"C42H80N1O11P1"},{"$f":"BMP!$N$4","v":805.54687000000001},{"$f":"BMP!$O$4","v":806.55414460000009},{"$f":"BMP!$P$4","v":788.54302460000008},{"$f":"BMP!$Q$4","v":823.58069},{"$f":"BMP!$R$4","v":828.53609000000006},{"$f":"BMP!$S$4","v":844.51003000000003},{"$f":"BMP!$T$4","v":812.56233000000009},{"$f":"BMP!$U$4","v":804.53959539999994},{"$f":"BMP!$V$4","v":850.54508999999996},{"$f":"BMP!$W$4","v":864.56074000000001}]
["BMP",{"$f":"BMP!$A$6","v":"BMP(18:1/18:2)"},{"$f":"BMP!$L$6","v":"C42H80N1O10P1"},{"$f":"BMP!$N$6","v":789.55195500000002},{"$f":"BMP!$O$6","v":790.55922960000009},{"$f":"BMP!$P$6","v":772.54810960000009},{"$f":"BMP!$Q$6","v":807.58577500000001},{"$f":"BMP!$R$6","v":812.54117500000007},{"$f":"BMP!$S$6","v":828.51511500000004},{"$f":"BMP!$T$6","v":796.5674150000001},{"$f":"BMP!$U$6","v":788.54468039999995},{"$f":"BMP!$V$6","v":834.55017499999997},{"$f":"BMP!$W$6","v":848.56582500000002}]
["BMP",{"$f":"BMP!$A$3","v":"BMP(18:1_18:3)__O__"},{"$f":"BMP!$L$3","v":"C42H76N1O11P1"},{"$f":"BMP!$N$3","v":801.51557159999993},{"$f":"BMP!$O$3","v":802.5228462},{"$f":"BMP!$P$3","v":784.5117262},{"$f":"BMP!$Q$3","v":819.54939159999992},{"$f":"BMP!$R$3","v":824.50479159999998},{"$f":"BMP!$S$3","v":840.47873159999995},{"$f":"BMP!$T$3","v":808.53103160000001},{"$f":"BMP!$U$3","v":800.50829699999986},{"$f":"BMP!$V$3","v":846.51379159999988},{"$f":"BMP!$W$3","v":860.52944159999993}]
["CE",{"$f":"CE!$A$3","v":"CE 14:1__O__"},{"$f":"CE!$L$3","v":"C41H68O3"},{"$f":"CE!$N$3","v":608.51683280000009},{"$f":"CE!$O$3","v":609.52410740000016},{"$f":"CE!$P$3","v":591.51298740000016},{"$f":"CE!$Q$3","v":626.55065280000008},{"$f":"CE!$R$3","v":631.50605280000013},{"$f":"CE!$S$3","v":647.4799928000001},{"$f":"CE!$T$3","v":615.53229280000016},{"$f":"CE!$U$3","v":607.50955820000001},{"$f":"CE!$V$3","v":653.51505280000003},{"$f":"CE!$W$3","v":667.53070280000009}]
["Cer",{"$f":"Cer!$A$6","v":"Cer d40:1__O__"},{"$f":"Cer!$L$6","v":"C40H77N1O4"},{"$f":"Cer!$N$6","v":635.58522819999996},{"$f":"Cer!$O$6","v":636.59250280000003},{"$f":"Cer!$P$6","v":618.58138280000003},{"$f":"Cer!$Q$6","v":653.61904819999995},{"$f":"Cer!$R$6","v":658.57444820000001},{"$f":"Cer!$S$6","v":674.54838819999998},{"$f":"Cer!$T$6","v":642.60068820000004},{"$f":"Cer!$U$6","v":634.57795359999989},{"$f":"Cer!$V$6","v":680.58344819999991},{"$f":"Cer!$W$6","v":694.59909819999996}]
["Cer",{"$f":"Cer!$A$4","v":"Cer(d18:1/18:0)__O__"},{"$f":"Cer!$L$4","v":"C36H69N1O4"},{"$f":"Cer!$N$4","v":579.52263139999991},{"$f":"Cer!$O$4","v":580.52990599999998},{"$f":"Cer!$P$4","v":562.51878599999998},{"$f":"Cer!$Q$4","v":597.5564513999999},{"$f":"Cer!$R$4","v":602.51185139999995},{"$f":"Cer!$S$4","v":618.48579139999993},{"$f":"Cer!$T$4","v":586.53809139999998},{"$f":"Cer!$U$4","v":578.51535679999984},{"$f":"Cer!$V$4","v":624.52085139999986},{"$f":"Cer!$W$4","v":638.53650139999991}]
["Cer",{"$f":"Cer!$A$5","v":"Cer(d18:1/20:0)"},{"$f":"Cer!$L$5","v":"C38H75N1O3"},{"$f":"Cer!$N$5","v":593.57466399999998},{"$f":"Cer!$O$5","v":594.58193860000006},{"$f":"Cer!$P$5","v":576.57081860000005},{"$f":"Cer!$Q$5","v":611.60848399999998},{"$f":"Cer!$R$5","v":616.56388400000003},{"$f":"Cer!$S$5","v":632.537824},{"$f":"Cer!$T$5","v":600.59012400000006},{"$f":"Cer!$U$5","v":592.56738939999991},{"$f":"Cer!$V$5","v":638.57288399999993},{"$f":"Cer!$W$5","v":652.58853399999998}]
["Cer",{"$f":"Cer!$A$3","v":"Cer(d18:1_18:1)"},{"$f":"Cer!$L$3","v":"C36H69N1O3"},{"$f":"Cer!$N$3","v":563.52771639999992},{"$f":"Cer!$O$3","v":564.53499099999999},{"$f":"Cer!$P$3","v":546.52387099999999},{"$f":"Cer!$Q$3","v":581.56153639999991},{"$f":"Cer!$R$3","v":586.51693639999996},{"$f":"Cer!$S$3","v":602.49087639999993},{"$f":"Cer!$T$3","v":570.54317639999999},{"$f":"Cer!$U$3","v":562.52044179999984},{"$f":"Cer!$V$3","v":608.52593639999986},{"$f":"Cer!$W$3","v":622.54158639999991}]
["Cer",{"$f":"Cer!$A$7","v":"Cer(d18:1_24:1)"},{"$f":"Cer!$L$7","v":"C42H81N1O3"},{"$f":"Cer!$N$7","v":647.62161159999994},{"$f":"Cer!$O$7","v":648.62888620000001},{"$f":"Cer!$P$7","v":630.61776620000001},{"$f":"Cer!$Q$7","v":665.65543159999993},{"$f":"Cer!$R$7","v":670.61083159999998},{"$f":"Cer!$S$7","v":686.58477159999995},{"$f":"Cer!$T$7","v":654.63707160000001},{"$f":"Cer!$U$7","v":646.61433699999986},{"$f":"Cer!$V$7","v":692.61983159999988},{"$f":"Cer!$W$7","v":706.63548159999993}]
["CerOH",{"$f":"CerOH!$A$4","v":"Cer d36:1-OH"},{"$f":"CerOH!$L$4","v":"C36H71N1O4"},{"$f":"CerOH!$N$4","v":581.53828060000001},{"$f":"CerOH!$O$4","v":582.54555520000008},{"$f":"CerOH!$P$4","v":564.53443520000008},{"$f":"CerOH!$Q$4","v":599.5721006},{"$f":"CerOH!$R$4","v":604.52750060000005},{"$f":"CerOH!$S$4","v":620.50144060000002},{"$f":"CerOH!$T$4","v":588.55374060000008},{"$f":"CerOH!$U$4","v":580.53100599999993},{"$f":"CerOH!$V$4","v":626.53650059999995},{"$f":"CerOH!$W$4","v":640.5521506}]
["CerOH",{"$f":"CerOH!$A$3","v":"Cer(d18:0/24:1)-OH__O__"},{"$f":"CerOH!$L$3","v":"C42H81N1O5"},{"$f":"CerOH!$N$3","v":679.61144159999992},{"$f":"CerOH!$O$3","v":680.61871619999999},{"$f":"CerOH!$P$3","v":662.60759619999999},{"$f":"CerOH!$Q$3","v":697.64526159999991},{"$f":"CerOH!$R$3","v":702.60066159999997},{"$f":"CerOH!$S$3","v":718.57460159999994},{"$f":"CerOH!$T$3","v":686.6269016},{"$f":"CerOH!$U$3","v":678.60416699999985},{"$f":"CerOH!$V$3","v":724.60966159999987},{"$f":"CerOH!$W$3","v":738.62531159999992}]
["CerP",{"$f":"CerP!$A$3","v":"CerP d34:2__O__"},{"$f":"CerP!$L$3","v":"C34H64N1O7P1"},{"$f":"CerP!$N$3","v":629.44201640000006},{"$f":"CerP!$O$3","v":630.44929100000013},{"$f":"CerP!$P$3","v":612.43817100000012},{"$f":"CerP!$Q$3","v":647.47583640000005},{"$f":"CerP!$R$3","v":652.4312364000001},{"$f":"CerP!$S$3","v":668.40517640000007},{"$f":"CerP!$T$3","v":636.45747640000013},{"$f":"CerP!$U$3","v":628.43474179999998},{"$f":"CerP!$V$3","v":674.4402364},{"$f":"CerP!$W$3","v":688.45588640000005}]
["CerP",{"$f":"CerP!$A$4","v":"CerP d36:1__COOH__"},{"$f":"CerP!$L$4","v":"C36H70N1O8P1"},{"$f":"CerP!$N$4","v":675.483879},{"$f":"CerP!$O$4","v":676.49115360000008},{"$f":"CerP!$P$4","v":658.48003360000007},{"$f":"CerP!$Q$4","v":693.51769899999999},{"$f":"CerP!$R$4","v":698.47309900000005},{"$f":"CerP!$S$4","v":714.44703900000002},{"$f":"CerP!$T$4","v":682.49933900000008},{"$f":"CerP!$U$4","v":674.47660439999993},{"$f":"CerP!$V$4","v":720.48209899999995},{"$f":"CerP!$W$4","v":734.497749}]
["CerP",{"$f":"CerP!$A$5","v":"CerP(d18:1/16:0)"},{"$f":"CerP!$L$5","v":"C34H68N1O6P1"},{"$f":"CerP!$N$5","v":617.47839980000003},{"$f":"CerP!$O$5","v":618.48567440000011},{"$f":"CerP!$P$5","v":600.4745544000001},{"$f":"CerP!$Q$5","v":635.51221980000003},{"$f":"CerP!$R$5","v":640.46761980000008},{"$f":"CerP!$S$5","v":656.44155980000005},{"$f":"CerP!$T$5","v":624.49385980000011},{"$f":"CerP!$U$5","v":616.47112519999996},{"$f":"CerP!$V$5","v":662.47661979999998},{"$f":"CerP!$W$5","v":676.49226980000003}]
["CerP",{"$f":"CerP!$A$6","v":"CerP(d18:1/18:1)__CHO__"},{"$f":"CerP!$L$6","v":"C36H68N1O7P1"},{"$f":"CerP!$N$6","v":657.47331480000003},{"$f":"CerP!$O$6","v":658.4805894000001},{"$f":"CerP!$P$6","v":640.46946940000009},{"$f":"CerP!$Q$6","v":675.50713480000002},{"$f":"CerP!$R$6","v":680.46253480000007},{"$f":"CerP!$S$6","v":696.43647480000004},{"$f":"CerP!$T$6","v":664.4887748000001},{"$f":"CerP!$U$6","v":656.46604019999995},{"$f":"CerP!$V$6","v":702.47153479999997},{"$f":"CerP!$W$6","v":716.48718480000002}]
["CL",{"$f":"CL!$A$4","v":"CL 66:2__O__"},{"$f":"CL!$L$4","v":"C75H140O18P2"},{"$f":"CL!$N$4","v":1390.95144},{"$f":"CL!$O$4","v":1391.9587146000001},{"$f":"CL!$P$4","v":1373.9475946000002},{"$f":"CL!$Q$4","v":1408.9852600000002},{"$f":"CL!$R$4","v":1413.94066},{"$f":"CL!$S$4","v":1429.9146000000001},{"$f":"CL!$T$4","v":1397.9669000000001},{"$f":"CL!$U$4","v":1389.9441654},{"$f":"CL!$V$4","v":1435.94966},{"$f":"CL!$W$4","v":1449.96531}]
["CL",{"$f":"CL!$A$3","v":"CL 68:2"},{"$f":"CL!$L$3","v":"C77H146O17P2"},{"$f":"CL!$N$3","v":1405.0034725999999},{"$f":"CL!$O$3","v":1406.0107472},{"$f":"CL!$P$3","v":1387.9996272000001},{"$f":"CL!$Q$3","v":1423.0372926},{"$f":"CL!$R$3","v":1427.9926925999998},{"$f":"CL!$S$3","v":1443.9666325999999},{"$f":"CL!$T$3","v":1412.0189326},{"$f":"CL!$U$3","v":1403.9961979999998},{"$f":"CL!$V$3","v":1450.0016925999998},{"$f":"CL!$W$3","v":1464.0173425999999}]
["CL",{"$f":"CL!$A$5","v":"CL(1'-[16:1/18:1],3'-[18:1/18:1])__O__"},{"$f":"CL!$L$5","v":"C79H144O18P2"},{"$f":"CL!$N$5","v":1442.9827384},{"$f":"CL!$O$5","v":1443.9900130000001},{"$f":"CL!$P$5","v":1425.9788930000002},{"$f":"CL!$Q$5","v":1461.0165584000001},{"$f":"CL!$R$5","v":1465.9719583999999},{"$f":"CL!$S$5","v":1481.9458984},{"$f":"CL!$T$5","v":1449.9981984000001},{"$f":"CL!$U$5","v":1441.9754637999999},{"$f":"CL!$V$5","v":1487.9809584},{"$f":"CL!$W$5","v":1501.9966084}]
["CL",{"$f":"CL!$A$6","v":"CL(1'-[18:2_20:1],3'-[18:2_22:4])__O__"},{"$f":"CL!$L$6","v":"C87H150O18P2"},{"$f":"CL!$N$6","v":1545.0296860000001},{"$f":"CL!$O$6","v":1546.0369606000002},{"$f":"CL!$P$6","v":1528.0258406000003},{"$f":"CL!$Q$6","v":1563.0635060000002},{"$f":"CL!$R$6","v":1568.018906},{"$f":"CL!$S$6","v":1583.9928460000001},{"$f":"CL!$T$6","v":1552.0451460000002},{"$f":"CL!$U$6","v":1544.0224114},{"$f":"CL!$V$6","v":1590.027906},{"$f":"CL!$W$6","v":1604.0435560000001}]
["CL_ether",{"$f":"CL_ether!$A$5","v":"CL O-68:1"},{"$f":"CL_ether!$L$5","v":"C77H150O16P2"},{"$f":"CL_ether!$N$5","v":1393.0398560000001},{"$f":"CL_ether!$O$5","v":1394.0471306000002},{"$f":"CL_ether!$P$5","v":1376.0360106000003},{"$f":"CL_ether!$Q$5","v":1411.0736760000002},{"$f":"CL_ether!$R$5","v":1416.029076},{"$f":"CL_ether!$S$5","v":1432.0030160000001},{"$f":"CL_ether!$T$5","v":1400.0553160000002},{"$f":"CL_ether!$U$5","v":1392.0325814},{"$f":"CL_ether!$V$5","v":1438.038076},{"$f":"CL_ether!$W$5","v":1452.0537260000001}]
["CL_ether",{"$f":"CL_ether!$A$4","v":"CL O-68:2"},{"$f":"CL_ether!$L$4","v":"C77H148O16P2"},{"$f":"CL_ether!$N$4","v":1391.0242068},{"$f":"CL_ether!$O$4","v":1392.0314814000001},{"$f":"CL_ether!$P$4","v":1374.0203614000002},{"$f":"CL_ether!$Q$4","v":1409.0580268000001},{"$f":"CL_ether!$R$4","v":1414.0134267999999},{"$f":"CL_ether!$S$4","v":1429.9873668},{"$f":"CL_ether!$T$4","v":1398.0396668000001},{"$f":"CL_ether!$U$4","v":1390.0169321999999},{"$f":"CL_ether!$V$4","v":1436.0224267999999},{"$f":"CL_ether!$W$4","v":1450.0380768}]
["CL_ether",{"$f":"CL_ether!$A$3","v":"CL P-68:2__OOH__"},{"$f":"CL_ether!$L$3","v":"C77H146O18P2"},{"$f":"CL_ether!$N$3","v":1420.9983875999999},{"$f":"CL_ether!$O$3","v":1422.0056622},{"$f":"CL_ether!$P$3","v":1403.9945422000001},{"$f":"CL_ether!$Q$3","v":1439.0322076},{"$f":"CL_ether!$R$3","v":1443.9876075999998},{"$f":"CL_ether!$S$3","v":1459.9615475999999},{"$f":"CL_ether!$T$3","v":1428.0138476},{"$f":"CL_ether!$U$3","v":1419.9911129999998},{"$f":"CL_ether!$V$3","v":1465.9966075999998},{"$f":"CL_ether!$W$3","v":1480.0122575999999}]
["CL_ether",{"$f":"CL_ether!$A$6","v":"CL(1'-[P-16:1/18:1],3'-[18:2/22:4])"},{"$f":"CL_ether!$L$6","v":"C68H116O16P2"},{"$f":"CL_ether!$N$6","v":1250.7738196},{"$f":"CL_ether!$O$6","v":1251.7810942000001},{"$f":"CL_ether!$P$6","v":1233.7699742000002},{"$f":"CL_ether!$Q$6","v":1268.8076396000001},{"$f":"CL_ether!$R$6","v":1273.7630396},{"$f":"CL_ether!$S$6","v":1289.7369796},{"$f":"CL_ether!$T$6","v":1257.7892796000001},{"$f":"CL_ether!$U$6","v":1249.766545},{"$f":"CL_ether!$V$6","v":1295.7720396},{"$f":"CL_ether!$W$6","v":1309.7876896}]
["CL_ether",{"$f":"CL_ether!$A$7","v":"CL(1'-[O-16:1_18:2],3'-[18:1_18:1])__O__"},{"$f":"CL_ether!$L$7","v":"C64H114O17P2"},{"$f":"CL_ether!$N$7","v":1216.7530853999999},{"$f":"CL_ether!$O$7","v":1217.76036},{"$f":"CL_ether!$P$7","v":1199.7492400000001},{"$f":"CL_ether!$Q$7","v":1234.7869054},{"$f":"CL_ether!$R$7","v":1239.7423053999999},{"$f":"CL_ether!$S$7","v":1255.7162453999999},{"$f":"CL_ether!$T$7","v":1223.7685454},{"$f":"CL_ether!$U$7","v":1215.7458107999998},{"$f":"CL_ether!$V$7","v":1261.7513053999999},{"$f":"CL_ether!$W$7","v":1275.7669553999999}]
["cPA",{"$f":"cPA!$A$3","v":"cPA 18:1"},{"$f":"cPA!$L$3","v":"C21H39O6P1"},{"$f":"cPA!$N$3","v":418.24841240000001},{"$f":"cPA!$O$3","v":419.25568700000002},{"$f":"cPA!$P$3","v":401.24456700000007},{"$f":"cPA!$Q$3","v":436.28223240000005},{"$f":"cPA!$R$3","v":441.23763240000005},{"$f":"cPA!$S$3","v":457.21157240000002},{"$f":"cPA!$T$3","v":425.26387240000003},{"$f":"cPA!$U$3","v":417.24113779999999},{"$f":"cPA!$V$3","v":463.24663239999995},{"$f":"cPA!$W$3","v":477.2622824}]
["DG",{"$f":"DG!$A$4","v":"DG 34:0"},{"$f":"DG!$L$4","v":"C37H72O5"},{"$f":"DG!$N$4","v":596.53794619999996},{"$f":"DG!$O$4","v":597.54522080000004},{"$f":"DG!$P$4","v":579.53410080000003},{"$f":"DG!$Q$4","v":614.57176619999996},{"$f":"DG!$R$4","v":619.52716620000001},{"$f":"DG!$S$4","v":635.50110619999998},{"$f":"DG!$T$4","v":603.55340620000004},{"$f":"DG!$U$4","v":595.53067159999989},{"$f":"DG!$V$4","v":641.53616619999991},{"$f":"DG!$W$4","v":655.55181619999996}]
["DG",{"$f":"DG!$A$3","v":"DG(16:0_18:1)__O__"},{"$f":"DG!$L$3","v":"C37H68O6"},{"$f":"DG!$N$3","v":608.5015628000001},{"$f":"DG!$O$3","v":609.50883740000017},{"$f":"DG!$P$3","v":591.49771740000017},{"$f":"DG!$Q$3","v":626.53538280000009},{"$f":"DG!$R$3","v":631.49078280000015},{"$f":"DG!$S$3","v":647.46472280000012},{"$f":"DG!$T$3","v":615.51702280000018},{"$f":"DG!$U$3","v":607.49428820000003},{"$f":"DG!$V$3","v":653.49978280000005},{"$f":"DG!$W$3","v":667.5154328000001}]
["DG",{"$f":"DG!$A$5","v":"DG(16:0_20:1)__O__"},{"$f":"DG!$L$5","v":"C39H72O6"},{"$f":"DG!$N$5","v":636.53286120000007},{"$f":"DG!$O$5","v":637.54013580000014},{"$f":"DG!$P$5","v":619.52901580000014},{"$f":"DG!$Q$5","v":654.56668120000006},{"$f":"DG!$R$5","v":659.52208120000012},{"$f":"DG!$S$5","v":675.49602120000009},{"$f":"DG!$T$5","v":643.54832120000015},{"$f":"DG!$U$5","v":635.5255866},{"$f":"DG!$V$5","v":681.53108120000002},{"$f":"DG!$W$5","v":695.54673120000007}]
["DG",{"$f":"DG!$A$6","v":"DG(16:1/18:2)__CHO__"},{"$f":"DG!$L$6","v":"C37H64O6"},{"$f":"DG!$N$6","v":604.47026440000002},{"$f":"DG!$O$6","v":605.47753900000009},{"$f":"DG!$P$6","v":587.46641900000009},{"$f":"DG!$Q$6","v":622.50408440000001},{"$f":"DG!$R$6","v":627.45948440000006},{"$f":"DG!$S$6","v":643.43342440000004},{"$f":"DG!$T$6","v":611.48572440000009},{"$f":"DG!$U$6","v":603.46298979999995},{"$f":"DG!$V$6","v":649.46848439999997},{"$f":"DG!$W$6","v":663.48413440000002}]
["DG_ether",{"$f":"DG_ether!$A$5","v":"DG O-43:1"},{"$f":"DG_ether!$L$5","v":"C46H90O4"},{"$f":"DG_ether!$N$5","v":706.68387399999995},{"$f":"DG_ether!$O$5","v":707.69114860000002},{"$f":"DG_ether!$P$5","v":689.68002860000001},{"$f":"DG_ether!$Q$5","v":724.71769399999994},{"$f":"DG_ether!$R$5","v":729.67309399999999},{"$f":"DG_ether!$S$5","v":745.64703399999996},{"$f":"DG_ether!$T$5","v":713.69933400000002},{"$f":"DG_ether!$U$5","v":705.67659939999987},{"$f":"DG_ether!$V$5","v":751.68209399999989},{"$f":"DG_ether!$W$5","v":765.69774399999994}]
["DG_ether",{"$f":"DG_ether!$A$3","v":"DG(O-22:1_22:6)"},{"$f":"DG_ether!$L$3","v":"C47H80O4"},{"$f":"DG_ether!$N$3","v":708.60562800000002},{"$f":"DG_ether!$O$3","v":709.6129026000001},{"$f":"DG_ether!$P$3","v":691.60178260000009},{"$f":"DG_ether!$Q$3","v":726.63944800000002},{"$f":"DG_ether!$R$3","v":731.59484800000007},{"$f":"DG_ether!$S$3","v":747.56878800000004},{"$f":"DG_ether!$T$3","v":715.6210880000001},{"$f":"DG_ether!$U$3","v":707.59835339999995},{"$f":"DG_ether!$V$3","v":753.60384799999997},{"$f":"DG_ether!$W$3","v":767.61949800000002}]
["DG_ether",{"$f":"DG_ether!$A$4","v":"DG(P-22:1/22:6)"},{"$f":"DG_ether!$L$4","v":"C47H78O4"},{"$f":"DG_ether!$N$4","v":706.58997879999993},{"$f":"DG_ether!$O$4","v":707.5972534},{"$f":"DG_ether!$P$4","v":689.58613339999999},{"$f":"DG_ether!$Q$4","v":724.62379879999992},{"$f":"DG_ether!$R$4","v":729.57919879999997},{"$f":"DG_ether!$S$4","v":745.55313879999994},{"$f":"DG_ether!$T$4","v":713.6054388},{"$f":"DG_ether!$U$4","v":705.58270419999985},{"$f":"DG_ether!$V$4","v":751.58819879999987},{"$f":"DG_ether!$W$4","v":765.60384879999992}]
["dMePE",{"$f":"dMePE!$A$4","v":"dMePE 32:2__O__"},{"$f":"dMePE!$L$4","v":"C39H72N1O9P1"},{"$f":"dMePE!$N$4","v":729.49444319999998},{"$f":"dMePE!$O$4","v":730.50171780000005},{"$f":"dMePE!$P$4","v":712.49059780000005},{"$f":"dMePE!$Q$4","v":747.52826319999997},{"$f":"dMePE!$R$4","v":752.48366320000002},{"$f":"dMePE!$S$4","v":768.45760319999999},{"$f":"dMePE!$T$4","v":736.50990320000005},{"$f":"dMePE!$U$4","v":728.4871685999999},{"$f":"dMePE!$V$4","v":774.49266319999992},{"$f":"dMePE!$W$4","v":788.50831319999998}]
["dMePE",{"$f":"dMePE!$A$5","v":"dMePE 33:2"},{"$f":"dMePE!$L$5","v":"C40H76N1O8P1"},{"$f":"dMePE!$N$5","v":729.53082659999995},{"$f":"dMePE!$O$5","v":730.53810120000003},{"$f":"dMePE!$P$5","v":712.52698120000002},{"$f":"dMePE!$Q$5","v":747.56464659999995},{"$f":"dMePE!$R$5","v":752.5200466},{"$f":"dMePE!$S$5","v":768.49398659999997},{"$f":"dMePE!$T$5","v":736.54628660000003},{"$f":"dMePE!$U$5","v":728.52355199999988},{"$f":"dMePE!$V$5","v":774.5290465999999},{"$f":"dMePE!$W$5","v":788.54469659999995}]
["dMePE",{"$f":"dMePE!$A$3","v":"dMePE(16:0/16:0)"},{"$f":"dMePE!$L$3","v":"C39H78N1O8P1"},{"$f":"dMePE!$N$3","v":719.54647579999994},{"$f":"dMePE!$O$3","v":720.55375040000001},{"$f":"dMePE!$P$3","v":702.54263040000001},{"$f":"dMePE!$Q$3","v":737.58029579999993},{"$f":"dMePE!$R$3","v":742.53569579999998},{"$f":"dMePE!$S$3","v":758.50963579999996},{"$f":"dMePE!$T$3","v":726.56193580000001},{"$f":"dMePE!$U$3","v":718.53920119999987},{"$f":"dMePE!$V$3","v":764.54469579999989},{"$f":"dMePE!$W$3","v":778.56034579999994}]
["dMePE",{"$f":"dMePE!$A$6","v":"dMePE(18:1_18:2)"},{"$f":"dMePE!$L$6","v":"C43H80N1O8P1"},{"$f":"dMePE!$N$6","v":769.56212500000004},{"$f":"dMePE!$O$6","v":770.56939960000011},{"$f":"dMePE!$P$6","v":752.55827960000011},{"$f":"dMePE!$Q$6","v":787.59594500000003},{"$f":"dMePE!$R$6","v":792.55134500000008},{"$f":"dMePE!$S$6","v":808.52528500000005},{"$f":"dMePE!$T$6","v":776.57758500000011},{"$f":"dMePE!$U$6","v":768.55485039999996},{"$f":"dMePE!$V$6","v":814.56034499999998},{"$f":"dMePE!$W$6","v":828.57599500000003}]
["dMePE_ether",{"$f":"dMePE_ether!$A$4","v":"dMePE O-32:2__O__"},{"$f":"dMePE_ether!$L$4","v":"C39H74N1O8P1"},{"$f":"dMePE_ether!$N$4","v":715.51517739999997},{"$f":"dMePE_ether!$O$4","v":716.52245200000004},{"$f":"dMePE_ether!$P$4","v":698.51133200000004},{"$f":"dMePE_ether!$Q$4","v":733.54899739999996},{"$f":"dMePE_ether!$R$4","v":738.50439740000002},{"$f":"dMePE_ether!$S$4","v":754.47833739999999},{"$f":"dMePE_ether!$T$4","v":722.53063740000005},{"$f":"dMePE_ether!$U$4","v":714.5079027999999},{"$f":"dMePE_ether!$V$4","v":760.51339739999992},{"$f":"dMePE_ether!$W$4","v":774.52904739999997}]
["dMePE_ether",{"$f":"dMePE_ether!$A$5","v":"dMePE(O-16:0/18:2)__OOH__"},{"$f":"dMePE_ether!$L$5","v":"C41H80N1O9P1"},{"$f":"dMePE_ether!$N$5","v":761.55704000000003},{"$f":"dMePE_ether!$O$5","v":762.5643146000001},{"$f":"dMePE_ether!$P$5","v":744.5531946000001},{"$f":"dMePE_ether!$Q$5","v":779.59086000000002},{"$f":"dMePE_ether!$R$5","v":784.54626000000007},{"$f":"dMePE_ether!$S$5","v":800.52020000000005},{"$f":"dMePE_ether!$T$5","v":768.5725000000001},{"$f":"dMePE_ether!$U$5","v":760.54976539999996},{"$f":"dMePE_ether!$V$5","v":806.55525999999998},{"$f":"dMePE_ether!$W$5","v":820.57091000000003}]
["dMePE_ether",{"$f":"dMePE_ether!$A$3","v":"dMePE(P-16:0_16:0)"},{"$f":"dMePE_ether!$L$3","v":"C39H78N1O7P1"},{"$f":"dMePE_ether!$N$3","v":703.55156079999983},{"$f":"dMePE_ether!$O$3","v":704.55883539999991},{"$f":"dMePE_ether!$P$3","v":686.5477153999999},{"$f":"dMePE_ether!$Q$3","v":721.58538079999983},{"$f":"dMePE_ether!$R$3","v":726.54078079999988},{"$f":"dMePE_ether!$S$3","v":742.51472079999985},{"$f":"dMePE_ether!$T$3","v":710.56702079999991},{"$f":"dMePE_ether!$U$3","v":702.54428619999976},{"$f":"dMePE_ether!$V$3","v":748.54978079999978},{"$f":"dMePE_ether!$W$3","v":762.56543079999983}]
["Free Fatty Acids",{"$f":"'Free Fatty Acids'!$A$3","v":"FA 12:0__O__"},{"$f":"'Free Fatty Acids'!$L$3","v":"C12H22O3"},{"$f":"'Free Fatty Acids'!$N$3","v":214.1568862},{"$f":"'Free Fatty Acids'!$O$3","v":215.16416079999999},{"$f":"'Free Fatty Acids'!$P$3","v":197.15304079999999},{"$f":"'Free Fatty Acids'!$Q$3","v":232.19070619999999},{"$f":"'Free Fatty Acids'!$R$3","v":237.14610619999999},{"$f":"'Free Fatty Acids'!$S$3","v":253.12004619999999},{"$f":"'Free Fatty Acids'!$T$3","v":221.17234619999999},{"$f":"'Free Fatty Acids'!$U$3","v":213.14961160000001},{"$f":"'Free Fatty Acids'!$V$3","v":259.15510619999998},{"$f":"'Free Fatty Acids'!$W$3","v":273.17075619999997}]
["Free Fatty Acids",{"$f":"'Free Fatty Acids'!$A$6","v":"FA 16:0"},{"$f":"'Free Fatty Acids'!$L$6","v":"C16H32O2"},{"$f":"'Free Fatty Acids'!$N$6","v":256.24021720000002},{"$f":"'Free Fatty Acids'!$O$6","v":257.24749180000003},{"$f":"'Free Fatty Acids'!$P$6","v":239.23637180000003},{"$f":"'Free Fatty Acids'!$Q$6","v":274.27403720000007},{"$f":"'Free Fatty Acids'!$R$6","v":279.22943720000006},{"$f":"'Free Fatty Acids'!$S$6","v":295.20337720000003},{"$f":"'Free Fatty Acids'!$T$6","v":263.25567720000004},{"$f":"'Free Fatty Acids'!$U$6","v":255.23294260000003},{"$f":"'Free Fatty Acids'!$V$6","v":301.23843720000002},{"$f":"'Free Fatty Acids'!$W$6","v":315.25408720000001}]
["Free Fatty Acids",{"$f":"'Free Fatty Acids'!$A$5","v":"FA 18:3"},{"$f":"'Free Fatty Acids'!$L$5","v":"C18H30O2"},{"$f":"'Free Fatty Acids'!$N$5","v":278.22456799999998},{"$f":"'Free Fatty Acids'!$O$5","v":279.23184259999999},{"$f":"'Free Fatty Acids'!$P$5","v":261.22072260000004},{"$f":"'Free Fatty Acids'!$Q$5","v":296.25838800000002},{"$f":"'Free Fatty Acids'!$R$5","v":301.21378800000002},{"$f":"'Free Fatty Acids'!$S$5","v":317.18772799999999},{"$f":"'Free Fatty Acids'!$T$5","v":285.240028},{"$f":"'Free Fatty Acids'!$U$5","v":277.21729339999996},{"$f":"'Free Fatty Acids'!$V$5","v":323.22278799999992},{"$f":"'Free Fatty Acids'!$W$5","v":337.23843799999997}]
["Free Fatty Acids",{"$f":"'Free Fatty Acids'!$A$4","v":"FA 20:0"},{"$f":"'Free Fatty Acids'!$L$4","v":"C20H40O2"},{"$f":"'Free Fatty Acids'!$N$4","v":312.30281400000001},{"$f":"'Free Fatty Acids'!$O$4","v":313.31008860000003},{"$f":"'Free Fatty Acids'!$P$4","v":295.29896860000008},{"$f":"'Free Fatty Acids'!$Q$4","v":330.33663400000006},{"$f":"'Free Fatty Acids'!$R$4","v":335.29203400000006},{"$f":"'Free Fatty Acids'!$S$4","v":351.26597400000003},{"$f":"'Free Fatty Acids'!$T$4","v":319.31827400000003},{"$f":"'Free Fatty Acids'!$U$4","v":311.2955394},{"$f":"'Free Fatty Acids'!$V$4","v":357.30103399999996},{"$f":"'Free Fatty Acids'!$W$4","v":371.31668400000001}]
["GM1Cer",{"$f":"GM1Cer!$A$4","v":"GM1-Cer d42:2"},{"$f":"GM1Cer!$L$4","v":"C79H141N3O31"},{"$f":"GM1Cer!$N$4","v":1627.9548556},{"$f":"GM1Cer!$O$4","v":1628.9621302},{"$f":"GM1Cer!$P$4","v":1610.9510102000002},{"$f":"GM1Cer!$Q$4","v":1645.9886756000001},{"$f":"GM1Cer!$R$4","v":1650.9440755999999},{"$f":"GM1Cer!$S$4","v":1666.9180156},{"$f":"GM1Cer!$T$4","v":1634.9703156},{"$f":"GM1Cer!$U$4","v":1626.9475809999999},{"$f":"GM1Cer!$V$4","v":1672.9530755999999},{"$f":"GM1Cer!$W$4","v":1686.9687256}]
["GM1Cer",{"$f":"GM1Cer!$A$3","v":"GM1-Cer(d18:1/18:1)__O__"},{"$f":"GM1Cer!$L$3","v":"C73H127N3O32"},{"$f":"GM1Cer!$N$3","v":1557.8402262},{"$f":"GM1Cer!$O$3","v":1558.8475008},{"$f":"GM1Cer!$P$3","v":1540.8363808000001},{"$f":"GM1Cer!$Q$3","v":1575.8740462000001},{"$f":"GM1Cer!$R$3","v":1580.8294461999999},{"$f":"GM1Cer!$S$3","v":1596.8033862},{"$f":"GM1Cer!$T$3","v":1564.8556862},{"$f":"GM1Cer!$U$3","v":1556.8329515999999},{"$f":"GM1Cer!$V$3","v":1602.8384461999999},{"$f":"GM1Cer!$W$3","v":1616.8540962}]
["GM1Cer",{"$f":"GM1Cer!$A$5","v":"GM1-Cer(d18:1/20:1)"},{"$f":"GM1Cer!$L$5","v":"C75H133N3O31"},{"$f":"GM1Cer!$N$5","v":1571.8922587999998},{"$f":"GM1Cer!$O$5","v":1572.8995333999999},{"$f":"GM1Cer!$P$5","v":1554.8884134},{"$f":"GM1Cer!$Q$5","v":1589.9260787999999},{"$f":"GM1Cer!$R$5","v":1594.8814787999997},{"$f":"GM1Cer!$S$5","v":1610.8554187999998},{"$f":"GM1Cer!$T$5","v":1578.9077187999999},{"$f":"GM1Cer!$U$5","v":1570.8849841999997},{"$f":"GM1Cer!$V$5","v":1616.8904787999998},{"$f":"GM1Cer!$W$5","v":1630.9061287999998}]
["GM2Cer",{"$f":"GM2Cer!$A$4","v":"GM2-Cer d34:2"},{"$f":"GM2Cer!$L$4","v":"C65H115N3O26"},{"$f":"GM2Cer!$N$4","v":1353.7768409999999},{"$f":"GM2Cer!$O$4","v":1354.7841156},{"$f":"GM2Cer!$P$4","v":1336.7729956000001},{"$f":"GM2Cer!$Q$4","v":1371.810661},{"$f":"GM2Cer!$R$4","v":1376.7660609999998},{"$f":"GM2Cer!$S$4","v":1392.7400009999999},{"$f":"GM2Cer!$T$4","v":1360.792301},{"$f":"GM2Cer!$U$4","v":1352.7695663999998},{"$f":"GM2Cer!$V$4","v":1398.7750609999998},{"$f":"GM2Cer!$W$4","v":1412.7907109999999}]
["GM2Cer",{"$f":"GM2Cer!$A$5","v":"GM2-Cer(d18:0/20:0)"},{"$f":"GM2Cer!$L$5","v":"C69H127N3O26"},{"$f":"GM2Cer!$N$5","v":1413.8707362},{"$f":"GM2Cer!$O$5","v":1414.8780108000001},{"$f":"GM2Cer!$P$5","v":1396.8668908000002},{"$f":"GM2Cer!$Q$5","v":1431.9045562000001},{"$f":"GM2Cer!$R$5","v":1436.8599561999999},{"$f":"GM2Cer!$S$5","v":1452.8338962},{"$f":"GM2Cer!$T$5","v":1420.8861962000001},{"$f":"GM2Cer!$U$5","v":1412.8634615999999},{"$f":"GM2Cer!$V$5","v":1458.8689562},{"$f":"GM2Cer!$W$5","v":1472.8846062}]
["GM2Cer",{"$f":"GM2Cer!$A$3","v":"GM2-Cer(d18:1/24:0)__O__"},{"$f":"GM2Cer!$L$3","v":"C73H131N3O27"},{"$f":"GM2Cer!$N$3","v":1481.8969496},{"$f":"GM2Cer!$O$3","v":1482.9042242},{"$f":"GM2Cer!$P$3","v":1464.8931042000002},{"$f":"GM2Cer!$Q$3","v":1499.9307696000001},{"$f":"GM2Cer!$R$3","v":1504.8861695999999},{"$f":"GM2Cer!$S$3","v":1520.8601096},{"$f":"GM2Cer!$T$3","v":1488.9124096},{"$f":"GM2Cer!$U$3","v":1480.8896749999999},{"$f":"GM2Cer!$V$3","v":1526.8951695999999},{"$f":"GM2Cer!$W$3","v":1540.9108196}]
["GM3Cer",{"$f":"GM3Cer!$A$4","v":"GM3-Cer d42:2"},{"$f":"GM3Cer!$L$4","v":"C65H118N2O21"},{"$f":"GM3Cer!$N$4","v":1262.8226658000001},{"$f":"GM3Cer!$O$4","v":1263.8299404000002},{"$f":"GM3Cer!$P$4","v":1245.8188204000003},{"$f":"GM3Cer!$Q$4","v":1280.8564858000002},{"$f":"GM3Cer!$R$4","v":1285.8118858},{"$f":"GM3Cer!$S$4","v":1301.7858258000001},{"$f":"GM3Cer!$T$4","v":1269.8381258000002},{"$f":"GM3Cer!$U$4","v":1261.8153912},{"$f":"GM3Cer!$V$4","v":1307.8208858},{"$f":"GM3Cer!$W$4","v":1321.8365358000001}]
["GM3Cer",{"$f":"GM3Cer!$A$3","v":"GM3-Cer(d18:1/20:0)__O__"},{"$f":"GM3Cer!$L$3","v":"C61H110N2O22"},{"$f":"GM3Cer!$N$3","v":1222.7549839999999},{"$f":"GM3Cer!$O$3","v":1223.7622586},{"$f":"GM3Cer!$P$3","v":1205.7511386000001},{"$f":"GM3Cer!$Q$3","v":1240.788804},{"$f":"GM3Cer!$R$3","v":1245.7442039999999},{"$f":"GM3Cer!$S$3","v":1261.7181439999999},{"$f":"GM3Cer!$T$3","v":1229.770444},{"$f":"GM3Cer!$U$3","v":1221.7477093999998},{"$f":"GM3Cer!$V$3","v":1267.7532039999999},{"$f":"GM3Cer!$W$3","v":1281.7688539999999}]
["Hex2Cer",{"$f":"Hex2Cer!$A$4","v":"Hex2Cer d42:2"},{"$f":"Hex2Cer!$L$4","v":"C54H101N1O13"},{"$f":"Hex2Cer!$N$4","v":971.72725359999993},{"$f":"Hex2Cer!$O$4","v":972.7345282},{"$f":"Hex2Cer!$P$4","v":954.72340819999999},{"$f":"Hex2Cer!$Q$4","v":989.76107359999992},{"$f":"Hex2Cer!$R$4","v":994.71647359999997},{"$f":"Hex2Cer!$S$4","v":1010.6904135999999},{"$f":"Hex2Cer!$T$4","v":978.7427136},{"$f":"Hex2Cer!$U$4","v":970.71997899999985},{"$f":"Hex2Cer!$V$4","v":1016.7254735999999},{"$f":"Hex2Cer!$W$4","v":1030.7411235999998}]
["Hex2Cer",{"$f":"Hex2Cer!$A$3","v":"Hex2Cer(d18:1/18:1)__O__"},{"$f":"Hex2Cer!$L$3","v":"C48H87N1O14"},{"$f":"Hex2Cer!$N$3","v":901.61262419999991},{"$f":"Hex2Cer!$O$3","v":902.61989879999999},{"$f":"Hex2Cer!$P$3","v":884.60877879999998},{"$f":"Hex2Cer!$Q$3","v":919.64644419999991},{"$f":"Hex2Cer!$R$3","v":924.60184419999996},{"$f":"Hex2Cer!$S$3","v":940.57578419999993},{"$f":"Hex2Cer!$T$3","v":908.62808419999999},{"$f":"Hex2Cer!$U$3","v":900.60534959999984},{"$f":"Hex2Cer!$V$3","v":946.61084419999986},{"$f":"Hex2Cer!$W$3","v":960.62649419999991}]
["Hex3Cer",{"$f":"Hex3Cer!$A$4","v":"Hex3Cer d42:2"},{"$f":"Hex3Cer!$L$4","v":"C60H111N1O18"},{"$f":"Hex3Cer!$N$4","v":1133.7800746},{"$f":"Hex3Cer!$O$4","v":1134.7873492000001},{"$f":"Hex3Cer!$P$4","v":1116.7762292000002},{"$f":"Hex3Cer!$Q$4","v":1151.8138946000001},{"$f":"Hex3Cer!$R$4","v":1156.7692946},{"$f":"Hex3Cer!$S$4","v":1172.7432346000001},{"$f":"Hex3Cer!$T$4","v":1140.7955346000001},{"$f":"Hex3Cer!$U$4","v":1132.7728},{"$f":"Hex3Cer!$V$4","v":1178.7782946},{"$f":"Hex3Cer!$W$4","v":1192.7939446}]
["Hex3Cer",{"$f":"Hex3Cer!$A$5","v":"Hex3Cer(d16:0/18:0)"},{"$f":"Hex3Cer!$L$5","v":"C52H99N1O18"},{"$f":"Hex3Cer!$N$5","v":1025.6861793999999},{"$f":"Hex3Cer!$O$5","v":1026.693454},{"$f":"Hex3Cer!$P$5","v":1008.682334},{"$f":"Hex3Cer!$Q$5","v":1043.7199994},{"$f":"Hex3Cer!$R$5","v":1048.6753993999998},{"$f":"Hex3Cer!$S$5","v":1064.6493393999999},{"$f":"Hex3Cer!$T$5","v":1032.7016394},{"$f":"Hex3Cer!$U$5","v":1024.6789047999998},{"$f":"Hex3Cer!$V$5","v":1070.6843993999998},{"$f":"Hex3Cer!$W$5","v":1084.7000493999999}]
["Hex3Cer",{"$f":"Hex3Cer!$A$3","v":"Hex3Cer(d18:1/22:0)__O__"},{"$f":"Hex3Cer!$L$3","v":"C58H107N1O19"},{"$f":"Hex3Cer!$N$3","v":1121.7436912000001},{"$f":"Hex3Cer!$O$3","v":1122.7509658000001},{"$f":"Hex3Cer!$P$3","v":1104.7398458000002},{"$f":"Hex3Cer!$Q$3","v":1139.7775112000002},{"$f":"Hex3Cer!$R$3","v":1144.7329112},{"$f":"Hex3Cer!$S$3","v":1160.7068512000001},{"$f":"Hex3Cer!$T$3","v":1128.7591512000001},{"$f":"Hex3Cer!$U$3","v":1120.7364166},{"$f":"Hex3Cer!$V$3","v":1166.7419112},{"$f":"Hex3Cer!$W$3","v":1180.7575612000001}]
["HexCer",{"$f":"HexCer!$A$3","v":"GlcCer(d18:0/20:1)"},{"$f":"HexCer!$L$3","v":"C44H85N1O8"},{"$f":"HexCer!$N$3","v":755.62748499999998},{"$f":"HexCer!$O$3","v":756.63475960000005},{"$f":"HexCer!$P$3","v":738.62363960000005},{"$f":"HexCer!$Q$3","v":773.66130499999997},{"$f":"HexCer!$R$3","v":778.61670500000002},{"$f":"HexCer!$S$3","v":794.59064499999999},{"$f":"HexCer!$T$3","v":762.64294500000005},{"$f":"HexCer!$U$3","v":754.62021039999991},{"$f":"HexCer!$V$3","v":800.62570499999993},{"$f":"HexCer!$W$3","v":814.64135499999998}]
["HexCer",{"$f":"HexCer!$A$5","v":"HexCer d42:1"},{"$f":"HexCer!$L$5","v":"C48H93N1O8"},{"$f":"HexCer!$N$5","v":811.69008180000003},{"$f":"HexCer!$O$5","v":812.6973564000001},{"$f":"HexCer!$P$5","v":794.6862364000001},{"$f":"HexCer!$Q$5","v":829.72390180000002},{"$f":"HexCer!$R$5","v":834.67930180000008},{"$f":"HexCer!$S$5","v":850.65324180000005},{"$f":"HexCer!$T$5","v":818.70554180000011},{"$f":"HexCer!$U$5","v":810.68280719999996},{"$f":"HexCer!$V$5","v":856.68830179999998},{"$f":"HexCer!$W$5","v":870.70395180000003}]
["HexCer",{"$f":"HexCer!$A$4","v":"HexCer(d18:1/16:0)__OH__"},{"$f":"HexCer!$L$4","v":"C40H77N1O9"},{"$f":"HexCer!$N$4","v":715.55980320000003},{"$f":"HexCer!$O$4","v":716.56707780000011},{"$f":"HexCer!$P$4","v":698.5559578000001},{"$f":"HexCer!$Q$4","v":733.59362320000002},{"$f":"HexCer!$R$4","v":738.54902320000008},{"$f":"HexCer!$S$4","v":754.52296320000005},{"$f":"HexCer!$T$4","v":722.57526320000011},{"$f":"HexCer!$U$4","v":714.55252859999996},{"$f":"HexCer!$V$4","v":760.55802319999998},{"$f":"HexCer!$W$4","v":774.57367320000003}]
["LacCer",{"$f":"LacCer!$A$4","v":"LacCer d44:2"},{"$f":"LacCer!$L$4","v":"C56H105N1O13"},{"$f":"LacCer!$N$4","v":999.75855200000001},{"$f":"LacCer!$O$4","v":1000.7658266000001},{"$f":"LacCer!$P$4","v":982.75470660000008},{"$f":"LacCer!$Q$4","v":1017.792372},{"$f":"LacCer!$R$4","v":1022.7477720000001},{"$f":"LacCer!$S$4","v":1038.721712},{"$f":"LacCer!$T$4","v":1006.7740120000001},{"$f":"LacCer!$U$4","v":998.75127739999994},{"$f":"LacCer!$V$4","v":1044.756772},{"$f":"LacCer!$W$4","v":1058.772422}]
["LacCer",{"$f":"LacCer!$A$3","v":"LacCer(d18:1/18:0)__O__"},{"$f":"LacCer!$L$3","v":"C48H89N1O14"},{"$f":"LacCer!$N$3","v":903.62827340000001},{"$f":"LacCer!$O$3","v":904.63554800000009},{"$f":"LacCer!$P$3","v":886.62442800000008},{"$f":"LacCer!$Q$3","v":921.6620934},{"$f":"LacCer!$R$3","v":926.61749340000006},{"$f":"LacCer!$S$3","v":942.59143340000003},{"$f":"LacCer!$T$3","v":910.64373340000009},{"$f":"LacCer!$U$3","v":902.62099879999994},{"$f":"LacCer!$V$3","v":948.62649339999996},{"$f":"LacCer!$W$3","v":962.64214340000001}]
["LdMePE",{"$f":"LdMePE!$A$3","v":"LdMePE 16:0"},{"$f":"LdMePE!$L$3","v":"C23H48N1O7P1"},{"$f":"LdMePE!$N$3","v":481.31682280000001},{"$f":"LdMePE!$O$3","v":482.32409740000003},{"$f":"LdMePE!$P$3","v":464.31297740000002},{"$f":"LdMePE!$Q$3","v":499.35064280000006},{"$f":"LdMePE!$R$3","v":504.30604280000006},{"$f":"LdMePE!$S$3","v":520.27998280000008},{"$f":"LdMePE!$T$3","v":488.33228280000003},{"$f":"LdMePE!$U$3","v":480.30954819999999},{"$f":"LdMePE!$V$3","v":526.31504280000001},{"$f":"LdMePE!$W$3","v":540.33069279999995}]
["LdMePE_ether",{"$f":"LdMePE_ether!$A$3","v":"LdMePE O-18:3"},{"$f":"LdMePE_ether!$L$3","v":"C25H48N1O6P1"},{"$f":"LdMePE_ether!$N$3","v":489.32190780000002},{"$f":"LdMePE_ether!$O$3","v":490.32918240000004},{"$f":"LdMePE_ether!$P$3","v":472.31806240000003},{"$f":"LdMePE_ether!$Q$3","v":507.35572780000007},{"$f":"LdMePE_ether!$R$3","v":512.31112780000001},{"$f":"LdMePE_ether!$S$3","v":528.28506780000009},{"$f":"LdMePE_ether!$T$3","v":496.33736780000004},{"$f":"LdMePE_ether!$U$3","v":488.3146332},{"$f":"LdMePE_ether!$V$3","v":534.32012780000002},{"$f":"LdMePE_ether!$W$3","v":548.33577779999996}]
["LdMePE_ether",{"$f":"LdMePE_ether!$A$4","v":"LdMePE P-16:0"},{"$f":"LdMePE_ether!$L$4","v":"C23H48N1O6P1"},{"$f":"LdMePE_ether!$N$4","v":465.32190780000002},{"$f":"LdMePE_ether!$O$4","v":466.32918240000004},{"$f":"LdMePE_ether!$P$4","v":448.31806240000003},{"$f":"LdMePE_ether!$Q$4","v":483.35572780000007},{"$f":"LdMePE_ether!$R$4","v":488.31112780000007},{"$f":"LdMePE_ether!$S$4","v":504.28506780000004},{"$f":"LdMePE_ether!$T$4","v":472.33736780000004},{"$f":"LdMePE_ether!$U$4","v":464.3146332},{"$f":"LdMePE_ether!$V$4","v":510.32012780000002},{"$f":"LdMePE_ether!$W$4","v":524.33577779999996}]
["LPA",{"$f":"LPA!$A$3","v":"LPA 18:0 "},{"$f":"LPA!$L$3","v":"C21H43O7P1"},{"$f":"LPA!$N$3","v":438.27462580000002},{"$f":"LPA!$O$3","v":439.28190040000004},{"$f":"LPA!$P$3","v":421.27078040000004},{"$f":"LPA!$Q$3","v":456.30844580000007},{"$f":"LPA!$R$3","v":461.26384580000007},{"$f":"LPA!$S$3","v":477.23778580000004},{"$f":"LPA!$T$3","v":445.29008580000004},{"$f":"LPA!$U$3","v":437.26735120000001},{"$f":"LPA!$V$3","v":483.27284580000003},{"$f":"LPA!$W$3","v":497.28849580000002}]
["LPA_ether",{"$f":"LPA_ether!$A$3","v":"LPA O-18:0__O__O__"},{"$f":"LPA_ether!$L$3","v":"C21H41O8P1"},{"$f":"LPA_ether!$N$3","v":452.25389160000003},{"$f":"LPA_ether!$O$3","v":453.26116620000005},{"$f":"LPA_ether!$P$3","v":435.25004620000004},{"$f":"LPA_ether!$Q$3","v":470.28771160000008},{"$f":"LPA_ether!$R$3","v":475.24311160000008},{"$f":"LPA_ether!$S$3","v":491.21705160000005},{"$f":"LPA_ether!$T$3","v":459.26935160000005},{"$f":"LPA_ether!$U$3","v":451.24661700000001},{"$f":"LPA_ether!$V$3","v":497.25211160000003},{"$f":"LPA_ether!$W$3","v":511.26776160000003}]
["LPA_ether",{"$f":"LPA_ether!$A$5","v":"LPA O-18:1"},{"$f":"LPA_ether!$L$5","v":"C21H43O6P1"},{"$f":"LPA_ether!$N$5","v":422.27971080000003},{"$f":"LPA_ether!$O$5","v":423.28698540000005},{"$f":"LPA_ether!$P$5","v":405.27586540000004},{"$f":"LPA_ether!$Q$5","v":440.31353080000008},{"$f":"LPA_ether!$R$5","v":445.26893080000008},{"$f":"LPA_ether!$S$5","v":461.24287080000005},{"$f":"LPA_ether!$T$5","v":429.29517080000005},{"$f":"LPA_ether!$U$5","v":421.27243620000002},{"$f":"LPA_ether!$V$5","v":467.27793080000004},{"$f":"LPA_ether!$W$5","v":481.29358080000003}]
["LPA_ether",{"$f":"LPA_ether!$A$4","v":"LPA P-18:1"},{"$f":"LPA_ether!$L$4","v":"C21H41O6P1"},{"$f":"LPA_ether!$N$4","v":420.26406160000005},{"$f":"LPA_ether!$O$4","v":421.27133620000006},{"$f":"LPA_ether!$P$4","v":403.26021620000006},{"$f":"LPA_ether!$Q$4","v":438.2978816000001},{"$f":"LPA_ether!$R$4","v":443.25328160000009},{"$f":"LPA_ether!$S$4","v":459.22722160000006},{"$f":"LPA_ether!$T$4","v":427.27952160000007},{"$f":"LPA_ether!$U$4","v":419.25678700000003},{"$f":"LPA_ether!$V$4","v":465.26228160000005},{"$f":"LPA_ether!$W$4","v":479.27793160000004}]
["LPC",{"$f":"LPC!$A$3","v":"LPC 16:0"},{"$f":"LPC!$L$3","v":"C24H50N1O7P1"},{"$f":"LPC!$N$3","v":495.33247200000005},{"$f":"LPC!$O$3","v":496.33974660000007},{"$f":"LPC!$P$3","v":478.32862660000012},{"$f":"LPC!$Q$3","v":513.36629200000004},{"$f":"LPC!$R$3","v":518.3216920000001},{"$f":"LPC!$S$3","v":534.29563200000007},{"$f":"LPC!$T$3","v":502.34793200000007},{"$f":"LPC!$U$3","v":494.32519740000004},{"$f":"LPC!$V$3","v":540.330692},{"$f":"LPC!$W$3","v":554.34634200000005}]
["LPC",{"$f":"LPC!$A$4","v":"LPC 18:1"},{"$f":"LPC!$L$4","v":"C26H52N1O7P1"},{"$f":"LPC!$N$4","v":521.34812120000004},{"$f":"LPC!$O$4","v":522.35539580000011},{"$f":"LPC!$P$4","v":504.3442758000001},{"$f":"LPC!$Q$4","v":539.38194120000003},{"$f":"LPC!$R$4","v":544.33734120000008},{"$f":"LPC!$S$4","v":560.31128120000005},{"$f":"LPC!$T$4","v":528.36358120000011},{"$f":"LPC!$U$4","v":520.34084659999996},{"$f":"LPC!$V$4","v":566.34634119999998},{"$f":"LPC!$W$4","v":580.36199120000003}]
["LPC_ether",{"$f":"LPC_ether!$A$3","v":"LPC O-14:0"},{"$f":"LPC_ether!$L$3","v":"C22H48N1O6P1"},{"$f":"LPC_ether!$N$3","v":453.32190780000002},{"$f":"LPC_ether!$O$3","v":454.32918240000004},{"$f":"LPC_ether!$P$3","v":436.31806240000003},{"$f":"LPC_ether!$Q$3","v":471.35572780000007},{"$f":"LPC_ether!$R$3","v":476.31112780000007},{"$f":"LPC_ether!$S$3","v":492.28506780000004},{"$f":"LPC_ether!$T$3","v":460.33736780000004},{"$f":"LPC_ether!$U$3","v":452.3146332},{"$f":"LPC_ether!$V$3","v":498.32012780000002},{"$f":"LPC_ether!$W$3","v":512.33577779999996}]
["LPC_ether",{"$f":"LPC_ether!$A$4","v":"LPC O-16:0"},{"$f":"LPC_ether!$L$4","v":"C24H52N1O6P1"},{"$f":"LPC_ether!$N$4","v":481.35320620000005},{"$f":"LPC_ether!$O$4","v":482.36048080000006},{"$f":"LPC_ether!$P$4","v":464.34936080000011},{"$f":"LPC_ether!$Q$4","v":499.38702620000009},{"$f":"LPC_ether!$R$4","v":504.34242620000009},{"$f":"LPC_ether!$S$4","v":520.31636620000006},{"$f":"LPC_ether!$T$4","v":488.36866620000006},{"$f":"LPC_ether!$U$4","v":480.34593160000003},{"$f":"LPC_ether!$V$4","v":526.35142619999999},{"$f":"LPC_ether!$W$4","v":540.36707620000004}]
["LPC_ether",{"$f":"LPC_ether!$A$5","v":"LPC P-16:0"},{"$f":"LPC_ether!$L$5","v":"C24H50N1O6P1"},{"$f":"LPC_ether!$N$5","v":479.33755700000006},{"$f":"LPC_ether!$O$5","v":480.34483160000008},{"$f":"LPC_ether!$P$5","v":462.33371160000013},{"$f":"LPC_ether!$Q$5","v":497.37137700000011},{"$f":"LPC_ether!$R$5","v":502.32677700000011},{"$f":"LPC_ether!$S$5","v":518.30071700000008},{"$f":"LPC_ether!$T$5","v":486.35301700000008},{"$f":"LPC_ether!$U$5","v":478.33028240000004},{"$f":"LPC_ether!$V$5","v":524.33577700000001},{"$f":"LPC_ether!$W$5","v":538.35142700000006}]
["LPE",{"$f":"LPE!$A$3","v":"LPE 12:0"},{"$f":"LPE!$L$3","v":"C17H36N1O7P1"},{"$f":"LPE!$N$3","v":397.22292759999999},{"$f":"LPE!$O$3","v":398.23020220000001},{"$f":"LPE!$P$3","v":380.2190822},{"$f":"LPE!$Q$3","v":415.25674760000004},{"$f":"LPE!$R$3","v":420.21214760000004},{"$f":"LPE!$S$3","v":436.18608760000001},{"$f":"LPE!$T$3","v":404.23838760000001},{"$f":"LPE!$U$3","v":396.21565299999997},{"$f":"LPE!$V$3","v":442.22114759999999},{"$f":"LPE!$W$3","v":456.23679759999999}]
["LPE",{"$f":"LPE!$A$4","v":"LPE 14:0"},{"$f":"LPE!$L$4","v":"C19H40N1O7P1"},{"$f":"LPE!$N$4","v":425.25422600000007},{"$f":"LPE!$O$4","v":426.26150060000009},{"$f":"LPE!$P$4","v":408.25038060000008},{"$f":"LPE!$Q$4","v":443.28804600000012},{"$f":"LPE!$R$4","v":448.24344600000012},{"$f":"LPE!$S$4","v":464.21738600000009},{"$f":"LPE!$T$4","v":432.26968600000009},{"$f":"LPE!$U$4","v":424.24695140000006},{"$f":"LPE!$V$4","v":470.25244600000008},{"$f":"LPE!$W$4","v":484.26809600000007}]
["LPE_ether",{"$f":"LPE_ether!$A$3","v":"LPE O-16:0"},{"$f":"LPE_ether!$L$3","v":"C21H46N1O6P1"},{"$f":"LPE_ether!$N$3","v":439.30625860000004},{"$f":"LPE_ether!$O$3","v":440.31353320000005},{"$f":"LPE_ether!$P$3","v":422.30241320000005},{"$f":"LPE_ether!$Q$3","v":457.34007860000008},{"$f":"LPE_ether!$R$3","v":462.29547860000008},{"$f":"LPE_ether!$S$3","v":478.26941860000005},{"$f":"LPE_ether!$T$3","v":446.32171860000005},{"$f":"LPE_ether!$U$3","v":438.29898400000002},{"$f":"LPE_ether!$V$3","v":484.30447860000004},{"$f":"LPE_ether!$W$3","v":498.32012860000003}]
["LPE_ether",{"$f":"LPE_ether!$A$4","v":"LPE P-16:0"},{"$f":"LPE_ether!$L$4","v":"C21H44N1O6P1"},{"$f":"LPE_ether!$N$4","v":437.29060940000005},{"$f":"LPE_ether!$O$4","v":438.29788400000007},{"$f":"LPE_ether!$P$4","v":420.28676400000006},{"$f":"LPE_ether!$Q$4","v":455.3244294000001},{"$f":"LPE_ether!$R$4","v":460.2798294000001},{"$f":"LPE_ether!$S$4","v":476.25376940000007},{"$f":"LPE_ether!$T$4","v":444.30606940000007},{"$f":"LPE_ether!$U$4","v":436.28333480000003},{"$f":"LPE_ether!$V$4","v":482.28882940000005},{"$f":"LPE_ether!$W$4","v":496.30447940000005}]
["LPG",{"$f":"LPG!$A$3","v":"LPG 18:0"},{"$f":"LPG!$L$3","v":"C24H49O9P1"},{"$f":"LPG!$N$3","v":512.31140340000002},{"$f":"LPG!$O$3","v":513.31867800000009},{"$f":"LPG!$P$3","v":495.30755800000009},{"$f":"LPG!$Q$3","v":530.34522340000001},{"$f":"LPG!$R$3","v":535.30062340000006},{"$f":"LPG!$S$3","v":551.27456340000003},{"$f":"LPG!$T$3","v":519.32686340000009},{"$f":"LPG!$U$3","v":511.3041288},{"$f":"LPG!$V$3","v":557.30962339999996},{"$f":"LPG!$W$3","v":571.32527340000001}]
["LPG_ether",{"$f":"LPG_ether!$A$4","v":"LPG O-18:0"},{"$f":"LPG_ether!$L$4","v":"C24H51O8P1"},{"$f":"LPG_ether!$N$4","v":498.33213760000001},{"$f":"LPG_ether!$O$4","v":499.33941220000003},{"$f":"LPG_ether!$P$4","v":481.32829220000008},{"$f":"LPG_ether!$Q$4","v":516.3659576},{"$f":"LPG_ether!$R$4","v":521.32135760000006},{"$f":"LPG_ether!$S$4","v":537.29529760000003},{"$f":"LPG_ether!$T$4","v":505.34759760000003},{"$f":"LPG_ether!$U$4","v":497.32486299999999},{"$f":"LPG_ether!$V$4","v":543.33035759999996},{"$f":"LPG_ether!$W$4","v":557.34600760000001}]
["LPG_ether",{"$f":"LPG_ether!$A$5","v":"LPG O-18:2"},{"$f":"LPG_ether!$L$5","v":"C24H47O8P1"},{"$f":"LPG_ether!$N$5","v":494.30083919999998},{"$f":"LPG_ether!$O$5","v":495.3081138},{"$f":"LPG_ether!$P$5","v":477.2969938},{"$f":"LPG_ether!$Q$5","v":512.33465920000003},{"$f":"LPG_ether!$R$5","v":517.29005919999997},{"$f":"LPG_ether!$S$5","v":533.26399920000006},{"$f":"LPG_ether!$T$5","v":501.3162992},{"$f":"LPG_ether!$U$5","v":493.29356459999997},{"$f":"LPG_ether!$V$5","v":539.29905919999999},{"$f":"LPG_ether!$W$5","v":553.31470919999992}]
["LPG_ether",{"$f":"LPG_ether!$A$6","v":"LPG O-20:0"},{"$f":"LPG_ether!$L$6","v":"C26H55O8P1"},{"$f":"LPG_ether!$N$6","v":526.36343599999998},{"$f":"LPG_ether!$O$6","v":527.37071060000005},{"$f":"LPG_ether!$P$6","v":509.35959060000005},{"$f":"LPG_ether!$Q$6","v":544.39725599999997},{"$f":"LPG_ether!$R$6","v":549.35265600000002},{"$f":"LPG_ether!$S$6","v":565.326596},{"$f":"LPG_ether!$T$6","v":533.37889600000005},{"$f":"LPG_ether!$U$6","v":525.35616139999991},{"$f":"LPG_ether!$V$6","v":571.36165599999993},{"$f":"LPG_ether!$W$6","v":585.37730599999998}]
["LPG_ether",{"$f":"LPG_ether!$A$3","v":"LPG P-18:0"},{"$f":"LPG_ether!$L$3","v":"C24H49O8P1"},{"$f":"LPG_ether!$N$3","v":496.31648840000003},{"$f":"LPG_ether!$O$3","v":497.32376300000004},{"$f":"LPG_ether!$P$3","v":479.31264300000009},{"$f":"LPG_ether!$Q$3","v":514.35030840000002},{"$f":"LPG_ether!$R$3","v":519.30570840000007},{"$f":"LPG_ether!$S$3","v":535.27964840000004},{"$f":"LPG_ether!$T$3","v":503.33194840000004},{"$f":"LPG_ether!$U$3","v":495.30921380000001},{"$f":"LPG_ether!$V$3","v":541.31470839999997},{"$f":"LPG_ether!$W$3","v":555.33035840000002}]
["LPI",{"$f":"LPI!$A$3","v":"LPI 16:1"},{"$f":"LPI!$L$3","v":"C25H47O12P1"},{"$f":"LPI!$N$3","v":570.28049919999989},{"$f":"LPI!$O$3","v":571.28777379999997},{"$f":"LPI!$P$3","v":553.27665379999996},{"$f":"LPI!$Q$3","v":588.31431919999989},{"$f":"LPI!$R$3","v":593.26971919999994},{"$f":"LPI!$S$3","v":609.24365919999991},{"$f":"LPI!$T$3","v":577.29595919999997},{"$f":"LPI!$U$3","v":569.27322459999982},{"$f":"LPI!$V$3","v":615.27871919999984},{"$f":"LPI!$W$3","v":629.29436919999989}]
["LPI_ether",{"$f":"LPI_ether!$A$4","v":"LPI O-18:0"},{"$f":"LPI_ether!$L$4","v":"C27H55O11P1"},{"$f":"LPI_ether!$N$4","v":586.34818099999995},{"$f":"LPI_ether!$O$4","v":587.35545560000003},{"$f":"LPI_ether!$P$4","v":569.34433560000002},{"$f":"LPI_ether!$Q$4","v":604.38200099999995},{"$f":"LPI_ether!$R$4","v":609.337401},{"$f":"LPI_ether!$S$4","v":625.31134099999997},{"$f":"LPI_ether!$T$4","v":593.36364100000003},{"$f":"LPI_ether!$U$4","v":585.34090639999988},{"$f":"LPI_ether!$V$4","v":631.3464009999999},{"$f":"LPI_ether!$W$4","v":645.36205099999995}]
["LPI_ether",{"$f":"LPI_ether!$A$3","v":"LPI P-16:1"},{"$f":"LPI_ether!$L$3","v":"C25H47O11P1"},{"$f":"LPI_ether!$N$3","v":554.2855841999999},{"$f":"LPI_ether!$O$3","v":555.29285879999998},{"$f":"LPI_ether!$P$3","v":537.28173879999997},{"$f":"LPI_ether!$Q$3","v":572.31940419999989},{"$f":"LPI_ether!$R$3","v":577.27480419999995},{"$f":"LPI_ether!$S$3","v":593.24874419999992},{"$f":"LPI_ether!$T$3","v":561.30104419999998},{"$f":"LPI_ether!$U$3","v":553.27830959999983},{"$f":"LPI_ether!$V$3","v":599.28380419999985},{"$f":"LPI_ether!$W$3","v":613.2994541999999}]
["LPI_ether",{"$f":"LPI_ether!$A$5","v":"LPI P-18:0"},{"$f":"LPI_ether!$L$5","v":"C27H53O11P1"},{"$f":"LPI_ether!$N$5","v":584.33253179999997},{"$f":"LPI_ether!$O$5","v":585.33980640000004},{"$f":"LPI_ether!$P$5","v":567.32868640000004},{"$f":"LPI_ether!$Q$5","v":602.36635179999996},{"$f":"LPI_ether!$R$5","v":607.32175180000002},{"$f":"LPI_ether!$S$5","v":623.29569179999999},{"$f":"LPI_ether!$T$5","v":591.34799180000005},{"$f":"LPI_ether!$U$5","v":583.3252571999999},{"$f":"LPI_ether!$V$5","v":629.33075179999992},{"$f":"LPI_ether!$W$5","v":643.34640179999997}]
["LPS",{"$f":"LPS!$A$3","v":"LPS 18:1"},{"$f":"LPS!$L$3","v":"C24H46N1O9P1"},{"$f":"LPS!$N$3","v":523.29100359999995},{"$f":"LPS!$O$3","v":524.29827820000003},{"$f":"LPS!$P$3","v":506.28715820000002},{"$f":"LPS!$Q$3","v":541.32482359999995},{"$f":"LPS!$R$3","v":546.2802236},{"$f":"LPS!$S$3","v":562.25416359999997},{"$f":"LPS!$T$3","v":530.30646360000003},{"$f":"LPS!$U$3","v":522.28372899999988},{"$f":"LPS!$V$3","v":568.2892235999999},{"$f":"LPS!$W$3","v":582.30487359999995}]
["LPS_ether",{"$f":"LPS_ether!$A$4","v":"LPS O-18:1"},{"$f":"LPS_ether!$L$4","v":"C24H48N1O8P1"},{"$f":"LPS_ether!$N$4","v":509.3117378},{"$f":"LPS_ether!$O$4","v":510.31901240000002},{"$f":"LPS_ether!$P$4","v":492.30789240000001},{"$f":"LPS_ether!$Q$4","v":527.34555780000005},{"$f":"LPS_ether!$R$4","v":532.30095779999999},{"$f":"LPS_ether!$S$4","v":548.27489780000008},{"$f":"LPS_ether!$T$4","v":516.32719780000002},{"$f":"LPS_ether!$U$4","v":508.30446319999999},{"$f":"LPS_ether!$V$4","v":554.30995780000001},{"$f":"LPS_ether!$W$4","v":568.32560779999994}]
["LPS_ether",{"$f":"LPS_ether!$A$3","v":"LPS P-18:1"},{"$f":"LPS_ether!$L$3","v":"C24H46N1O8P1"},{"$f":"LPS_ether!$N$3","v":507.29608860000002},{"$f":"LPS_ether!$O$3","v":508.30336320000004},{"$f":"LPS_ether!$P$3","v":490.29224320000003},{"$f":"LPS_ether!$Q$3","v":525.32990860000007},{"$f":"LPS_ether!$R$3","v":530.28530860000001},{"$f":"LPS_ether!$S$3","v":546.25924860000009},{"$f":"LPS_ether!$T$3","v":514.31154860000004},{"$f":"LPS_ether!$U$3","v":506.288814},{"$f":"LPS_ether!$V$3","v":552.29430860000002},{"$f":"LPS_ether!$W$3","v":566.30995859999996}]
["LSM",{"$f":"LSM!$A$3","v":"LSM d18:1"},{"$f":"LSM!$L$3","v":"C23H49N2O5P1"},{"$f":"LSM!$N$3","v":464.33789140000005},{"$f":"LSM!$O$3","v":465.34516600000006},{"$f":"LSM!$P$3","v":447.33404600000006},{"$f":"LSM!$Q$3","v":482.37171140000009},{"$f":"LSM!$R$3","v":487.32711140000009},{"$f":"LSM!$S$3","v":503.30105140000006},{"$f":"LSM!$T$3","v":471.35335140000007},{"$f":"LSM!$U$3","v":463.33061680000003},{"$f":"LSM!$V$3","v":509.33611140000005},{"$f":"LSM!$W$3","v":523.35176139999999}]
["MG",{"$f":"MG!$A$4","v":"MG 12:0__O__"},{"$f":"MG!$L$4","v":"C15H28O5"},{"$f":"MG!$N$4","v":288.19366380000002},{"$f":"MG!$O$4","v":289.20093840000004},{"$f":"MG!$P$4","v":271.18981840000004},{"$f":"MG!$Q$4","v":306.22748380000007},{"$f":"MG!$R$4","v":311.18288380000007},{"$f":"MG!$S$4","v":327.15682380000004},{"$f":"MG!$T$4","v":295.20912380000004},{"$f":"MG!$U$4","v":287.18638920000001},{"$f":"MG!$V$4","v":333.19188380000003},{"$f":"MG!$W$4","v":347.20753380000002}]
["MG",{"$f":"MG!$A$3","v":"MG 16:0__CHO__"},{"$f":"MG!$L$3","v":"C19H36O5"},{"$f":"MG!$N$3","v":344.25626060000002},{"$f":"MG!$O$3","v":345.26353520000004},{"$f":"MG!$P$3","v":327.25241520000009},{"$f":"MG!$Q$3","v":362.29008060000007},{"$f":"MG!$R$3","v":367.24548060000006},{"$f":"MG!$S$3","v":383.21942060000003},{"$f":"MG!$T$3","v":351.27172060000004},{"$f":"MG!$U$3","v":343.248986},{"$f":"MG!$V$3","v":389.25448059999997},{"$f":"MG!$W$3","v":403.27013060000002}]
["MG",{"$f":"MG!$A$5","v":"MG 18:1"},{"$f":"MG!$L$5","v":"C21H40O4"},{"$f":"MG!$N$5","v":356.29264400000005},{"$f":"MG!$O$5","v":357.29991860000007},{"$f":"MG!$P$5","v":339.28879860000006},{"$f":"MG!$Q$5","v":374.3264640000001},{"$f":"MG!$R$5","v":379.2818640000001},{"$f":"MG!$S$5","v":395.25580400000007},{"$f":"MG!$T$5","v":363.30810400000007},{"$f":"MG!$U$5","v":355.28536940000004},{"$f":"MG!$V$5","v":401.29086400000006},{"$f":"MG!$W$5","v":415.30651400000005}]
["MG_ether",{"$f":"MG_ether!$A$5","v":"MG O-16:0"},{"$f":"MG_ether!$L$5","v":"C19H40O3"},{"$f":"MG_ether!$N$5","v":316.297729},{"$f":"MG_ether!$O$5","v":317.30500360000002},{"$f":"MG_ether!$P$5","v":299.29388360000007},{"$f":"MG_ether!$Q$5","v":334.33154900000005},{"$f":"MG_ether!$R$5","v":339.28694900000005},{"$f":"MG_ether!$S$5","v":355.26088900000002},{"$f":"MG_ether!$T$5","v":323.31318900000002},{"$f":"MG_ether!$U$5","v":315.29045439999999},{"$f":"MG_ether!$V$5","v":361.29594899999995},{"$f":"MG_ether!$W$5","v":375.311599}]
["MG_ether",{"$f":"MG_ether!$A$3","v":"MG O-18:2__O__CHO__"},{"$f":"MG_ether!$L$3","v":"C21H36O5"},{"$f":"MG_ether!$N$3","v":368.25626060000002},{"$f":"MG_ether!$O$3","v":369.26353520000004},{"$f":"MG_ether!$P$3","v":351.25241520000009},{"$f":"MG_ether!$Q$3","v":386.29008060000007},{"$f":"MG_ether!$R$3","v":391.24548060000006},{"$f":"MG_ether!$S$3","v":407.21942060000003},{"$f":"MG_ether!$T$3","v":375.27172060000004},{"$f":"MG_ether!$U$3","v":367.248986},{"$f":"MG_ether!$V$3","v":413.25448059999997},{"$f":"MG_ether!$W$3","v":427.27013060000002}]
["MG_ether",{"$f":"MG_ether!$A$6","v":"MG P-16:1"},{"$f":"MG_ether!$L$6","v":"C19H36O3"},{"$f":"MG_ether!$N$6","v":312.26643060000004},{"$f":"MG_ether!$O$6","v":313.27370520000005},{"$f":"MG_ether!$P$6","v":295.2625852000001},{"$f":"MG_ether!$Q$6","v":330.30025060000008},{"$f":"MG_ether!$R$6","v":335.25565060000008},{"$f":"MG_ether!$S$6","v":351.22959060000005},{"$f":"MG_ether!$T$6","v":319.28189060000005},{"$f":"MG_ether!$U$6","v":311.25915600000002},{"$f":"MG_ether!$V$6","v":357.26465059999998},{"$f":"MG_ether!$W$6","v":371.28030060000003}]
["MG_ether",{"$f":"MG_ether!$A$4","v":"MG P-18:0__COOH__"},{"$f":"MG_ether!$L$4","v":"C21H40O5"},{"$f":"MG_ether!$N$4","v":372.28755900000004},{"$f":"MG_ether!$O$4","v":373.29483360000006},{"$f":"MG_ether!$P$4","v":355.28371360000006},{"$f":"MG_ether!$Q$4","v":390.32137900000009},{"$f":"MG_ether!$R$4","v":395.27677900000009},{"$f":"MG_ether!$S$4","v":411.25071900000006},{"$f":"MG_ether!$T$4","v":379.30301900000006},{"$f":"MG_ether!$U$4","v":371.28028440000003},{"$f":"MG_ether!$V$4","v":417.28577900000005},{"$f":"MG_ether!$W$4","v":431.30142900000004}]
["MGDG",{"$f":"MGDG!$A$3","v":"MGDG(16:0/22:6)__O__"},{"$f":"MGDG!$L$3","v":"C47H76O11"},{"$f":"MGDG!$N$3","v":816.5387346},{"$f":"MGDG!$O$3","v":817.54600920000007},{"$f":"MGDG!$P$3","v":799.53488920000007},{"$f":"MGDG!$Q$3","v":834.57255459999999},{"$f":"MGDG!$R$3","v":839.52795460000004},{"$f":"MGDG!$S$3","v":855.50189460000001},{"$f":"MGDG!$T$3","v":823.55419460000007},{"$f":"MGDG!$U$3","v":815.53145999999992},{"$f":"MGDG!$V$3","v":861.53695459999994},{"$f":"MGDG!$W$3","v":875.5526046}]
["MGDG",{"$f":"MGDG!$A$4","v":"MGDG(16:0_22:6)"},{"$f":"MGDG!$L$4","v":"C47H78O10"},{"$f":"MGDG!$N$4","v":802.55946879999999},{"$f":"MGDG!$O$4","v":803.56674340000006},{"$f":"MGDG!$P$4","v":785.55562340000006},{"$f":"MGDG!$Q$4","v":820.59328879999998},{"$f":"MGDG!$R$4","v":825.54868880000004},{"$f":"MGDG!$S$4","v":841.52262880000001},{"$f":"MGDG!$T$4","v":809.57492880000007},{"$f":"MGDG!$U$4","v":801.55219419999992},{"$f":"MGDG!$V$4","v":847.55768879999994},{"$f":"MGDG!$W$4","v":861.57333879999999}]
["OAHFA",{"$f":"OAHFA!$A$3","v":"OAHFA 36:0"},{"$f":"OAHFA!$L$3","v":"C36H70O4"},{"$f":"OAHFA!$N$3","v":566.52738199999999},{"$f":"OAHFA!$O$3","v":567.53465660000006},{"$f":"OAHFA!$P$3","v":549.52353660000006},{"$f":"OAHFA!$Q$3","v":584.56120199999998},{"$f":"OAHFA!$R$3","v":589.51660200000003},{"$f":"OAHFA!$S$3","v":605.490542},{"$f":"OAHFA!$T$3","v":573.54284200000006},{"$f":"OAHFA!$U$3","v":565.52010739999992},{"$f":"OAHFA!$V$3","v":611.52560199999994},{"$f":"OAHFA!$W$3","v":625.54125199999999}]
["PA",{"$f":"PA!$A$3","v":"PA 32:0"},{"$f":"PA!$L$3","v":"C35H69O8P1"},{"$f":"PA!$N$3","v":648.47298039999998},{"$f":"PA!$O$3","v":649.48025500000006},{"$f":"PA!$P$3","v":631.46913500000005},{"$f":"PA!$Q$3","v":666.50680039999997},{"$f":"PA!$R$3","v":671.46220040000003},{"$f":"PA!$S$3","v":687.4361404},{"$f":"PA!$T$3","v":655.48844040000006},{"$f":"PA!$U$3","v":647.46570579999991},{"$f":"PA!$V$3","v":693.47120039999993},{"$f":"PA!$W$3","v":707.48685039999998}]
["PA",{"$f":"PA!$A$4","v":"PA(16:0/18:1)__O__CHO__"},{"$f":"PA!$L$4","v":"C37H67O10P1"},{"$f":"PA!$N$4","v":702.44716119999998},{"$f":"PA!$O$4","v":703.45443580000006},{"$f":"PA!$P$4","v":685.44331580000005},{"$f":"PA!$Q$4","v":720.48098119999997},{"$f":"PA!$R$4","v":725.43638120000003},{"$f":"PA!$S$4","v":741.4103212},{"$f":"PA!$T$4","v":709.46262120000006},{"$f":"PA!$U$4","v":701.43988659999991},{"$f":"PA!$V$4","v":747.44538119999993},{"$f":"PA!$W$4","v":761.46103119999998}]
["PA",{"$f":"PA!$A$5","v":"PA(18:1_18:1)"},{"$f":"PA!$L$5","v":"C39H73O8P1"},{"$f":"PA!$N$5","v":700.50427879999995},{"$f":"PA!$O$5","v":701.51155340000003},{"$f":"PA!$P$5","v":683.50043340000002},{"$f":"PA!$Q$5","v":718.53809879999994},{"$f":"PA!$R$5","v":723.4934988},{"$f":"PA!$S$5","v":739.46743879999997},{"$f":"PA!$T$5","v":707.51973880000003},{"$f":"PA!$U$5","v":699.49700419999988},{"$f":"PA!$V$5","v":745.5024987999999},{"$f":"PA!$W$5","v":759.51814879999995}]
["PA_ether",{"$f":"PA_ether!$A$3","v":"PA O-34:0"},{"$f":"PA_ether!$L$3","v":"C37H75O7P1"},{"$f":"PA_ether!$N$3","v":661.5171883999999},{"$f":"PA_ether!$O$3","v":662.52446299999997},{"$f":"PA_ether!$P$3","v":644.51334299999996},{"$f":"PA_ether!$Q$3","v":679.55100839999989},{"$f":"PA_ether!$R$3","v":684.50640839999994},{"$f":"PA_ether!$S$3","v":700.48034839999991},{"$f":"PA_ether!$T$3","v":668.53264839999997},{"$f":"PA_ether!$U$3","v":660.50991379999982},{"$f":"PA_ether!$V$3","v":706.51540839999984},{"$f":"PA_ether!$W$3","v":720.53105839999989}]
["PA_ether",{"$f":"PA_ether!$A$4","v":"PA(O-18:0/18:2)"},{"$f":"PA_ether!$L$4","v":"C39H75O7P1"},{"$f":"PA_ether!$N$4","v":685.5171883999999},{"$f":"PA_ether!$O$4","v":686.52446299999997},{"$f":"PA_ether!$P$4","v":668.51334299999996},{"$f":"PA_ether!$Q$4","v":703.55100839999989},{"$f":"PA_ether!$R$4","v":708.50640839999994},{"$f":"PA_ether!$S$4","v":724.48034839999991},{"$f":"PA_ether!$T$4","v":692.53264839999997},{"$f":"PA_ether!$U$4","v":684.50991379999982},{"$f":"PA_ether!$V$4","v":730.51540839999984},{"$f":"PA_ether!$W$4","v":744.53105839999989}]
["PA_ether",{"$f":"PA_ether!$A$5","v":"PA(P-18:1_18:1)"},{"$f":"PA_ether!$L$5","v":"C39H73O7P1"},{"$f":"PA_ether!$N$5","v":683.50153920000002},{"$f":"PA_ether!$O$5","v":684.5088138000001},{"$f":"PA_ether!$P$5","v":666.49769380000009},{"$f":"PA_ether!$Q$5","v":701.53535920000002},{"$f":"PA_ether!$R$5","v":706.49075920000007},{"$f":"PA_ether!$S$5","v":722.46469920000004},{"$f":"PA_ether!$T$5","v":690.5169992000001},{"$f":"PA_ether!$U$5","v":682.49426459999995},{"$f":"PA_ether!$V$5","v":728.49975919999997},{"$f":"PA_ether!$W$5","v":742.51540920000002}]
["PC",{"$f":"PC!$A$6","v":"PC 34:1"},{"$f":"PC!$L$6","v":"C42H82N1O8P1"},{"$f":"PC!$N$6","v":759.57777420000002},{"$f":"PC!$O$6","v":760.5850488000001},{"$f":"PC!$P$6","v":742.57392880000009},{"$f":"PC!$Q$6","v":777.61159420000001},{"$f":"PC!$R$6","v":782.56699420000007},{"$f":"PC!$S$6","v":798.54093420000004},{"$f":"PC!$T$6","v":766.5932342000001},{"$f":"PC!$U$6","v":758.57049959999995},{"$f":"PC!$V$6","v":804.57599419999997},{"$f":"PC!$W$6","v":818.59164420000002}]
["PC",{"$f":"PC!$A$4","v":"PC(14:0/14:0)__O__"},{"$f":"PC!$L$4","v":"C36H70N1O9P1"},{"$f":"PC!$N$4","v":691.47879399999999},{"$f":"PC!$O$4","v":692.48606860000007},{"$f":"PC!$P$4","v":674.47494860000006},{"$f":"PC!$Q$4","v":709.51261399999999},{"$f":"PC!$R$4","v":714.46801400000004},{"$f":"PC!$S$4","v":730.44195400000001},{"$f":"PC!$T$4","v":698.49425400000007},{"$f":"PC!$U$4","v":690.47151939999992},{"$f":"PC!$V$4","v":736.47701399999994},{"$f":"PC!$W$4","v":750.49266399999999}]
["PC",{"$f":"PC!$A$3","v":"PC(16:0_18:1)"},{"$f":"PC!$L$3","v":"C42H82N1O8P1"},{"$f":"PC!$N$3","v":759.57777420000002},{"$f":"PC!$O$3","v":760.5850488000001},{"$f":"PC!$P$3","v":742.57392880000009},{"$f":"PC!$Q$3","v":777.61159420000001},{"$f":"PC!$R$3","v":782.56699420000007},{"$f":"PC!$S$3","v":798.54093420000004},{"$f":"PC!$T$3","v":766.5932342000001},{"$f":"PC!$U$3","v":758.57049959999995},{"$f":"PC!$V$3","v":804.57599419999997},{"$f":"PC!$W$3","v":818.59164420000002}]
["PC",{"$f":"PC!$A$5","v":"PC(18:1/18:1)__O__"},{"$f":"PC!$L$5","v":"C44H82N1O9P1"},{"$f":"PC!$N$5","v":799.57268920000001},{"$f":"PC!$O$5","v":800.57996380000009},{"$f":"PC!$P$5","v":782.56884380000008},{"$f":"PC!$Q$5","v":817.6065092},{"$f":"PC!$R$5","v":822.56190920000006},{"$f":"PC!$S$5","v":838.53584920000003},{"$f":"PC!$T$5","v":806.58814920000009},{"$f":"PC!$U$5","v":798.56541459999994},{"$f":"PC!$V$5","v":844.57090919999996},{"$f":"PC!$W$5","v":858.58655920000001}]
["PC_ether",{"$f":"PC_ether!$A$4","v":"PC O-30:2"},{"$f":"PC_ether!$L$4","v":"C38H74N1O7P1"},{"$f":"PC_ether!$N$4","v":687.52026239999987},{"$f":"PC_ether!$O$4","v":688.52753699999994},{"$f":"PC_ether!$P$4","v":670.51641699999993},{"$f":"PC_ether!$Q$4","v":705.55408239999986},{"$f":"PC_ether!$R$4","v":710.50948239999991},{"$f":"PC_ether!$S$4","v":726.48342239999988},{"$f":"PC_ether!$T$4","v":694.53572239999994},{"$f":"PC_ether!$U$4","v":686.51298779999979},{"$f":"PC_ether!$V$4","v":732.51848239999981},{"$f":"PC_ether!$W$4","v":746.53413239999986}]
["PC_ether",{"$f":"PC_ether!$A$3","v":"PC(O-16:1/18:2)"},{"$f":"PC_ether!$L$3","v":"C42H80N1O7P1"},{"$f":"PC_ether!$N$3","v":741.56720999999993},{"$f":"PC_ether!$O$3","v":742.57448460000001},{"$f":"PC_ether!$P$3","v":724.5633646},{"$f":"PC_ether!$Q$3","v":759.60102999999992},{"$f":"PC_ether!$R$3","v":764.55642999999998},{"$f":"PC_ether!$S$3","v":780.53036999999995},{"$f":"PC_ether!$T$3","v":748.58267000000001},{"$f":"PC_ether!$U$3","v":740.55993539999986},{"$f":"PC_ether!$V$3","v":786.56542999999988},{"$f":"PC_ether!$W$3","v":800.58107999999993}]
["PC_ether",{"$f":"PC_ether!$A$5","v":"PC(P-16:0_18:0)"},{"$f":"PC_ether!$L$5","v":"C42H84N1O7P1"},{"$f":"PC_ether!$N$5","v":745.5985083999999},{"$f":"PC_ether!$O$5","v":746.60578299999997},{"$f":"PC_ether!$P$5","v":728.59466299999997},{"$f":"PC_ether!$Q$5","v":763.63232839999989},{"$f":"PC_ether!$R$5","v":768.58772839999995},{"$f":"PC_ether!$S$5","v":784.56166839999992},{"$f":"PC_ether!$T$5","v":752.61396839999998},{"$f":"PC_ether!$U$5","v":744.59123379999983},{"$f":"PC_ether!$V$5","v":790.59672839999985},{"$f":"PC_ether!$W$5","v":804.6123783999999}]
["PE",{"$f":"PE!$A$4","v":"PE(16:0_18:1)"},{"$f":"PE!$L$4","v":"C39H76N1O8P1"},{"$f":"PE!$N$4","v":717.53082659999995},{"$f":"PE!$O$4","v":718.53810120000003},{"$f":"PE!$P$4","v":700.52698120000002},{"$f":"PE!$Q$4","v":735.56464659999995},{"$f":"PE!$R$4","v":740.5200466},{"$f":"PE!$S$4","v":756.49398659999997},{"$f":"PE!$T$4","v":724.54628660000003},{"$f":"PE!$U$4","v":716.52355199999988},{"$f":"PE!$V$4","v":762.5290465999999},{"$f":"PE!$W$4","v":776.54469659999995}]
["PE",{"$f":"PE!$A$3","v":"PE(18:0/18:2)__CHO__"},{"$f":"PE!$L$3","v":"C41H76N1O9P1"},{"$f":"PE!$N$3","v":757.52574159999995},{"$f":"PE!$O$3","v":758.53301620000002},{"$f":"PE!$P$3","v":740.52189620000001},{"$f":"PE!$Q$3","v":775.55956159999994},{"$f":"PE!$R$3","v":780.51496159999999},{"$f":"PE!$S$3","v":796.48890159999996},{"$f":"PE!$T$3","v":764.54120160000002},{"$f":"PE!$U$3","v":756.51846699999987},{"$f":"PE!$V$3","v":802.52396159999989},{"$f":"PE!$W$3","v":816.53961159999994}]
["PE_ether",{"$f":"PE_ether!$A$4","v":"PE P-32:1"},{"$f":"PE_ether!$L$4","v":"C37H72N1O7P1"},{"$f":"PE_ether!$N$4","v":673.50461319999999},{"$f":"PE_ether!$O$4","v":674.51188780000007},{"$f":"PE_ether!$P$4","v":656.50076780000006},{"$f":"PE_ether!$Q$4","v":691.53843319999999},{"$f":"PE_ether!$R$4","v":696.49383320000004},{"$f":"PE_ether!$S$4","v":712.46777320000001},{"$f":"PE_ether!$T$4","v":680.52007320000007},{"$f":"PE_ether!$U$4","v":672.49733859999992},{"$f":"PE_ether!$V$4","v":718.50283319999994},{"$f":"PE_ether!$W$4","v":732.51848319999999}]
["PE_ether",{"$f":"PE_ether!$A$3","v":"PE(P-16:0/18:1)"},{"$f":"PE_ether!$L$3","v":"C39H76N1O7P1"},{"$f":"PE_ether!$N$3","v":701.53591159999996},{"$f":"PE_ether!$O$3","v":702.54318620000004},{"$f":"PE_ether!$P$3","v":684.53206620000003},{"$f":"PE_ether!$Q$3","v":719.56973159999995},{"$f":"PE_ether!$R$3","v":724.52513160000001},{"$f":"PE_ether!$S$3","v":740.49907159999998},{"$f":"PE_ether!$T$3","v":708.55137160000004},{"$f":"PE_ether!$U$3","v":700.52863699999989},{"$f":"PE_ether!$V$3","v":746.53413159999991},{"$f":"PE_ether!$W$3","v":760.54978159999996}]
["PE_ether",{"$f":"PE_ether!$A$5","v":"PE(P-16:1_18:2)"},{"$f":"PE_ether!$L$5","v":"C39H72N1O7P1"},{"$f":"PE_ether!$N$5","v":697.50461319999999},{"$f":"PE_ether!$O$5","v":698.51188780000007},{"$f":"PE_ether!$P$5","v":680.50076780000006},{"$f":"PE_ether!$Q$5","v":715.53843319999999},{"$f":"PE_ether!$R$5","v":720.49383320000004},{"$f":"PE_ether!$S$5","v":736.46777320000001},{"$f":"PE_ether!$T$5","v":704.52007320000007},{"$f":"PE_ether!$U$5","v":696.49733859999992},{"$f":"PE_ether!$V$5","v":742.50283319999994},{"$f":"PE_ether!$W$5","v":756.51848319999999}]
["PEt",{"$f":"PEt!$A$3","v":"PEt(16:0/18:2)"},{"$f":"PEt!$L$3","v":"C39H73O8P1"},{"$f":"PEt!$N$3","v":700.50427879999995},{"$f":"PEt!$O$3","v":701.51155340000003},{"$f":"PEt!$P$3","v":683.50043340000002},{"$f":"PEt!$Q$3","v":718.53809879999994},{"$f":"PEt!$R$3","v":723.4934988},{"$f":"PEt!$S$3","v":739.46743879999997},{"$f":"PEt!$T$3","v":707.51973880000003},{"$f":"PEt!$U$3","v":699.49700419999988},{"$f":"PEt!$V$3","v":745.5024987999999},{"$f":"PEt!$W$3","v":759.51814879999995}]
["PEt",{"$f":"PEt!$A$4","v":"PEt(18:1_18:2)__CHO__"},{"$f":"PEt!$L$4","v":"C41H73O9P1"},{"$f":"PEt!$N$4","v":740.49919379999994},{"$f":"PEt!$O$4","v":741.50646840000002},{"$f":"PEt!$P$4","v":723.49534840000001},{"$f":"PEt!$Q$4","v":758.53301379999994},{"$f":"PEt!$R$4","v":763.48841379999999},{"$f":"PEt!$S$4","v":779.46235379999996},{"$f":"PEt!$T$4","v":747.51465380000002},{"$f":"PEt!$U$4","v":739.49191919999987},{"$f":"PEt!$V$4","v":785.49741379999989},{"$f":"PEt!$W$4","v":799.51306379999994}]
["PEt_ether",{"$f":"PEt_ether!$A$4","v":"PEt P-36:1"},{"$f":"PEt_ether!$L$4","v":"C41H79O7P1"},{"$f":"PEt_ether!$N$4","v":714.55631139999991},{"$f":"PEt_ether!$O$4","v":715.56358599999999},{"$f":"PEt_ether!$P$4","v":697.55246599999998},{"$f":"PEt_ether!$Q$4","v":732.5901313999999},{"$f":"PEt_ether!$R$4","v":737.54553139999996},{"$f":"PEt_ether!$S$4","v":753.51947139999993},{"$f":"PEt_ether!$T$4","v":721.57177139999999},{"$f":"PEt_ether!$U$4","v":713.54903679999984},{"$f":"PEt_ether!$V$4","v":759.55453139999986},{"$f":"PEt_ether!$W$4","v":773.57018139999991}]
["PEt_ether",{"$f":"PEt_ether!$A$3","v":"PEt(O-16:0/18:3)"},{"$f":"PEt_ether!$L$3","v":"C39H73O7P1"},{"$f":"PEt_ether!$N$3","v":684.50936379999985},{"$f":"PEt_ether!$O$3","v":685.51663839999992},{"$f":"PEt_ether!$P$3","v":667.50551839999991},{"$f":"PEt_ether!$Q$3","v":702.54318379999984},{"$f":"PEt_ether!$R$3","v":707.49858379999989},{"$f":"PEt_ether!$S$3","v":723.47252379999986},{"$f":"PEt_ether!$T$3","v":691.52482379999992},{"$f":"PEt_ether!$U$3","v":683.50208919999977},{"$f":"PEt_ether!$V$3","v":729.50758379999979},{"$f":"PEt_ether!$W$3","v":743.52323379999984}]
["PEt_ether",{"$f":"PEt_ether!$A$5","v":"Pet(P-16:1_18:2)"},{"$f":"PEt_ether!$L$5","v":"C39H71O7P1"},{"$f":"PEt_ether!$N$5","v":682.49371459999998},{"$f":"PEt_ether!$O$5","v":683.50098920000005},{"$f":"PEt_ether!$P$5","v":665.48986920000004},{"$f":"PEt_ether!$Q$5","v":700.52753459999997},{"$f":"PEt_ether!$R$5","v":705.48293460000002},{"$f":"PEt_ether!$S$5","v":721.45687459999999},{"$f":"PEt_ether!$T$5","v":689.50917460000005},{"$f":"PEt_ether!$U$5","v":681.4864399999999},{"$f":"PEt_ether!$V$5","v":727.49193459999992},{"$f":"PEt_ether!$W$5","v":741.50758459999997}]
["PG",{"$f":"PG!$A$4","v":"PG(16:1/18:1)"},{"$f":"PG!$L$4","v":"C40H75O10P1"},{"$f":"PG!$N$4","v":746.50975800000003},{"$f":"PG!$O$4","v":747.51703260000011},{"$f":"PG!$P$4","v":729.5059126000001},{"$f":"PG!$Q$4","v":764.54357800000002},{"$f":"PG!$R$4","v":769.49897800000008},{"$f":"PG!$S$4","v":785.47291800000005},{"$f":"PG!$T$4","v":753.52521800000011},{"$f":"PG!$U$4","v":745.50248339999996},{"$f":"PG!$V$4","v":791.50797799999998},{"$f":"PG!$W$4","v":805.52362800000003}]
["PG",{"$f":"PG!$A$3","v":"PG(18:1_18:1)__CHO__"},{"$f":"PG!$L$3","v":"C42H77O11P1"},{"$f":"PG!$N$3","v":788.52032220000001},{"$f":"PG!$O$3","v":789.52759680000008},{"$f":"PG!$P$3","v":771.51647680000008},{"$f":"PG!$Q$3","v":806.5541422},{"$f":"PG!$R$3","v":811.50954220000006},{"$f":"PG!$S$3","v":827.48348220000003},{"$f":"PG!$T$3","v":795.53578220000009},{"$f":"PG!$U$3","v":787.51304759999994},{"$f":"PG!$V$3","v":833.51854219999996},{"$f":"PG!$W$3","v":847.53419220000001}]
["PG_ether",{"$f":"PG_ether!$A$4","v":"PG P-32:1"},{"$f":"PG_ether!$L$4","v":"C38H73O9P1"},{"$f":"PG_ether!$N$4","v":704.49919379999994},{"$f":"PG_ether!$O$4","v":705.50646840000002},{"$f":"PG_ether!$P$4","v":687.49534840000001},{"$f":"PG_ether!$Q$4","v":722.53301379999994},{"$f":"PG_ether!$R$4","v":727.48841379999999},{"$f":"PG_ether!$S$4","v":743.46235379999996},{"$f":"PG_ether!$T$4","v":711.51465380000002},{"$f":"PG_ether!$U$4","v":703.49191919999987},{"$f":"PG_ether!$V$4","v":749.49741379999989},{"$f":"PG_ether!$W$4","v":763.51306379999994}]
["PG_ether",{"$f":"PG_ether!$A$3","v":"PG(O-16:0/18:2)"},{"$f":"PG_ether!$L$3","v":"C40H77O9P1"},{"$f":"PG_ether!$N$3","v":732.53049220000003},{"$f":"PG_ether!$O$3","v":733.5377668000001},{"$f":"PG_ether!$P$3","v":715.52664680000009},{"$f":"PG_ether!$Q$3","v":750.56431220000002},{"$f":"PG_ether!$R$3","v":755.51971220000007},{"$f":"PG_ether!$S$3","v":771.49365220000004},{"$f":"PG_ether!$T$3","v":739.5459522000001},{"$f":"PG_ether!$U$3","v":731.52321759999995},{"$f":"PG_ether!$V$3","v":777.52871219999997},{"$f":"PG_ether!$W$3","v":791.54436220000002}]
["PG_ether",{"$f":"PG_ether!$A$5","v":"PG(O-18:1_20:1)"},{"$f":"PG_ether!$L$5","v":"C44H85O9P1"},{"$f":"PG_ether!$N$5","v":788.59308899999996},{"$f":"PG_ether!$O$5","v":789.60036360000004},{"$f":"PG_ether!$P$5","v":771.58924360000003},{"$f":"PG_ether!$Q$5","v":806.62690899999996},{"$f":"PG_ether!$R$5","v":811.58230900000001},{"$f":"PG_ether!$S$5","v":827.55624899999998},{"$f":"PG_ether!$T$5","v":795.60854900000004},{"$f":"PG_ether!$U$5","v":787.58581439999989},{"$f":"PG_ether!$V$5","v":833.59130899999991},{"$f":"PG_ether!$W$5","v":847.60695899999996}]
["PI",{"$f":"PI!$A$4","v":"PI (16:0/18:1)__CHO__"},{"$f":"PI!$L$4","v":"C43H79O14P1"},{"$f":"PI!$N$4","v":850.52071639999997},{"$f":"PI!$O$4","v":851.52799100000004},{"$f":"PI!$P$4","v":833.51687100000004},{"$f":"PI!$Q$4","v":868.55453639999996},{"$f":"PI!$R$4","v":873.50993640000002},{"$f":"PI!$S$4","v":889.48387639999999},{"$f":"PI!$T$4","v":857.53617640000004},{"$f":"PI!$U$4","v":849.5134417999999},{"$f":"PI!$V$4","v":895.51893639999992},{"$f":"PI!$W$4","v":909.53458639999997}]
["PI",{"$f":"PI!$A$3","v":"PI 32:1"},{"$f":"PI!$L$3","v":"C41H77O13P1"},{"$f":"PI!$N$3","v":808.51015219999999},{"$f":"PI!$O$3","v":809.51742680000007},{"$f":"PI!$P$3","v":791.50630680000006},{"$f":"PI!$Q$3","v":826.54397219999998},{"$f":"PI!$R$3","v":831.49937220000004},{"$f":"PI!$S$3","v":847.47331220000001},{"$f":"PI!$T$3","v":815.52561220000007},{"$f":"PI!$U$3","v":807.50287759999992},{"$f":"PI!$V$3","v":853.50837219999994},{"$f":"PI!$W$3","v":867.52402219999999}]
["PI_ether",{"$f":"PI_ether!$A$3","v":"PI P-32:1__CHO__"},{"$f":"PI_ether!$L$3","v":"C41H75O13P1"},{"$f":"PI_ether!$N$3","v":806.49450300000001},{"$f":"PI_ether!$O$3","v":807.50177760000008},{"$f":"PI_ether!$P$3","v":789.49065760000008},{"$f":"PI_ether!$Q$3","v":824.528323},{"$f":"PI_ether!$R$3","v":829.48372300000005},{"$f":"PI_ether!$S$3","v":845.45766300000003},{"$f":"PI_ether!$T$3","v":813.50996300000008},{"$f":"PI_ether!$U$3","v":805.48722839999994},{"$f":"PI_ether!$V$3","v":851.49272299999996},{"$f":"PI_ether!$W$3","v":865.50837300000001}]
["PI_ether",{"$f":"PI_ether!$A$4","v":"PI(O-18:1_18:2)"},{"$f":"PI_ether!$L$4","v":"C45H83O12P1"},{"$f":"PI_ether!$N$4","v":846.56218479999995},{"$f":"PI_ether!$O$4","v":847.56945940000003},{"$f":"PI_ether!$P$4","v":829.55833940000002},{"$f":"PI_ether!$Q$4","v":864.59600479999995},{"$f":"PI_ether!$R$4","v":869.5514048},{"$f":"PI_ether!$S$4","v":885.52534479999997},{"$f":"PI_ether!$T$4","v":853.57764480000003},{"$f":"PI_ether!$U$4","v":845.55491019999988},{"$f":"PI_ether!$V$4","v":891.5604047999999},{"$f":"PI_ether!$W$4","v":905.57605479999995}]
["PIP",{"$f":"PIP!$A$3","v":"PIP(16:1/18:1)"},{"$f":"PIP!$L$3","v":"C43H80O16P2"},{"$f":"PIP!$N$3","v":914.49213400000008},{"$f":"PIP!$O$3","v":915.49940860000015},{"$f":"PIP!$P$3","v":897.48828860000015},{"$f":"PIP!$Q$3","v":932.52595400000007},{"$f":"PIP!$R$3","v":937.48135400000012},{"$f":"PIP!$S$3","v":953.45529400000009},{"$f":"PIP!$T$3","v":921.50759400000015},{"$f":"PIP!$U$3","v":913.4848594},{"$f":"PIP!$V$3","v":959.49035400000002},{"$f":"PIP!$W$3","v":973.50600400000008}]
["PIP",{"$f":"PIP!$A$4","v":"PIP(18:1_18:2)__CHO__"},{"$f":"PIP!$L$4","v":"C45H80O17P2"},{"$f":"PIP!$N$4","v":954.48704900000018},{"$f":"PIP!$O$4","v":955.49432360000026},{"$f":"PIP!$P$4","v":937.48320360000025},{"$f":"PIP!$Q$4","v":972.52086900000018},{"$f":"PIP!$R$4","v":977.47626900000023},{"$f":"PIP!$S$4","v":993.4502090000002},{"$f":"PIP!$T$4","v":961.50250900000026},{"$f":"PIP!$U$4","v":953.47977440000011},{"$f":"PIP!$V$4","v":999.48526900000013},{"$f":"PIP!$W$4","v":1013.5009190000002}]
["PIP_ether",{"$f":"PIP_ether!$A$4","v":"PIP O-40:1"},{"$f":"PIP_ether!$L$4","v":"C49H96O15P2"},{"$f":"PIP_ether!$N$4","v":986.62241259999996},{"$f":"PIP_ether!$O$4","v":987.62968720000003},{"$f":"PIP_ether!$P$4","v":969.61856720000003},{"$f":"PIP_ether!$Q$4","v":1004.6562326},{"$f":"PIP_ether!$R$4","v":1009.6116326},{"$f":"PIP_ether!$S$4","v":1025.5855726},{"$f":"PIP_ether!$T$4","v":993.63787260000004},{"$f":"PIP_ether!$U$4","v":985.61513799999989},{"$f":"PIP_ether!$V$4","v":1031.6206325999999},{"$f":"PIP_ether!$W$4","v":1045.6362826}]
["PIP_ether",{"$f":"PIP_ether!$A$3","v":"PIP(P-16:1/18:1)"},{"$f":"PIP_ether!$L$3","v":"C43H80O15P2"},{"$f":"PIP_ether!$N$3","v":898.49721900000009},{"$f":"PIP_ether!$O$3","v":899.50449360000016},{"$f":"PIP_ether!$P$3","v":881.49337360000015},{"$f":"PIP_ether!$Q$3","v":916.53103900000008},{"$f":"PIP_ether!$R$3","v":921.48643900000013},{"$f":"PIP_ether!$S$3","v":937.4603790000001},{"$f":"PIP_ether!$T$3","v":905.51267900000016},{"$f":"PIP_ether!$U$3","v":897.48994440000001},{"$f":"PIP_ether!$V$3","v":943.49543900000003},{"$f":"PIP_ether!$W$3","v":957.51108900000008}]
["PIP_ether",{"$f":"PIP_ether!$A$5","v":"PIP(P-18:1_18:1)"},{"$f":"PIP_ether!$L$5","v":"C45H84O15P2"},{"$f":"PIP_ether!$N$5","v":926.52851740000006},{"$f":"PIP_ether!$O$5","v":927.53579200000013},{"$f":"PIP_ether!$P$5","v":909.52467200000012},{"$f":"PIP_ether!$Q$5","v":944.56233740000005},{"$f":"PIP_ether!$R$5","v":949.5177374000001},{"$f":"PIP_ether!$S$5","v":965.49167740000007},{"$f":"PIP_ether!$T$5","v":933.54397740000013},{"$f":"PIP_ether!$U$5","v":925.52124279999998},{"$f":"PIP_ether!$V$5","v":971.5267374},{"$f":"PIP_ether!$W$5","v":985.54238740000005}]
["PMe",{"$f":"PMe!$A$3","v":"PMe(16:0/18:1)"},{"$f":"PMe!$L$3","v":"C38H73O8P1"},{"$f":"PMe!$N$3","v":688.50427879999995},{"$f":"PMe!$O$3","v":689.51155340000003},{"$f":"PMe!$P$3","v":671.50043340000002},{"$f":"PMe!$Q$3","v":706.53809879999994},{"$f":"PMe!$R$3","v":711.4934988},{"$f":"PMe!$S$3","v":727.46743879999997},{"$f":"PMe!$T$3","v":695.51973880000003},{"$f":"PMe!$U$3","v":687.49700419999988},{"$f":"PMe!$V$3","v":733.5024987999999},{"$f":"PMe!$W$3","v":747.51814879999995}]
["PMe",{"$f":"PMe!$A$4","v":"PMe(18:1/18:2)__COOH__"},{"$f":"PMe!$L$4","v":"C40H71O10P1"},{"$f":"PMe!$N$4","v":742.47845959999995},{"$f":"PMe!$O$4","v":743.48573420000002},{"$f":"PMe!$P$4","v":725.47461420000002},{"$f":"PMe!$Q$4","v":760.51227959999994},{"$f":"PMe!$R$4","v":765.4676796},{"$f":"PMe!$S$4","v":781.44161959999997},{"$f":"PMe!$T$4","v":749.49391960000003},{"$f":"PMe!$U$4","v":741.47118499999988},{"$f":"PMe!$V$4","v":787.4766795999999},{"$f":"PMe!$W$4","v":801.49232959999995}]
["PMe_ether",{"$f":"PMe_ether!$A$5","v":"PMe P-38:0"},{"$f":"PMe_ether!$L$5","v":"C42H83O7P1"},{"$f":"PMe_ether!$N$5","v":730.58760979999988},{"$f":"PMe_ether!$O$5","v":731.59488439999996},{"$f":"PMe_ether!$P$5","v":713.58376439999995},{"$f":"PMe_ether!$Q$5","v":748.62142979999987},{"$f":"PMe_ether!$R$5","v":753.57682979999993},{"$f":"PMe_ether!$S$5","v":769.5507697999999},{"$f":"PMe_ether!$T$5","v":737.60306979999996},{"$f":"PMe_ether!$U$5","v":729.58033519999981},{"$f":"PMe_ether!$V$5","v":775.58582979999983},{"$f":"PMe_ether!$W$5","v":789.60147979999988}]
["PMe_ether",{"$f":"PMe_ether!$A$3","v":"PMe(O-16:0/18:1)"},{"$f":"PMe_ether!$L$3","v":"C38H75O7P1"},{"$f":"PMe_ether!$N$3","v":674.52501299999994},{"$f":"PMe_ether!$O$3","v":675.53228760000002},{"$f":"PMe_ether!$P$3","v":657.52116760000001},{"$f":"PMe_ether!$Q$3","v":692.55883299999994},{"$f":"PMe_ether!$R$3","v":697.51423299999999},{"$f":"PMe_ether!$S$3","v":713.48817299999996},{"$f":"PMe_ether!$T$3","v":681.54047300000002},{"$f":"PMe_ether!$U$3","v":673.51773839999987},{"$f":"PMe_ether!$V$3","v":719.52323299999989},{"$f":"PMe_ether!$W$3","v":733.53888299999994}]
["PMe_ether",{"$f":"PMe_ether!$A$4","v":"PMe(O-16:0_18:1)"},{"$f":"PMe_ether!$L$4","v":"C38H75O7P1"},{"$f":"PMe_ether!$N$4","v":674.52501299999994},{"$f":"PMe_ether!$O$4","v":675.53228760000002},{"$f":"PMe_ether!$P$4","v":657.52116760000001},{"$f":"PMe_ether!$Q$4","v":692.55883299999994},{"$f":"PMe_ether!$R$4","v":697.51423299999999},{"$f":"PMe_ether!$S$4","v":713.48817299999996},{"$f":"PMe_ether!$T$4","v":681.54047300000002},{"$f":"PMe_ether!$U$4","v":673.51773839999987},{"$f":"PMe_ether!$V$4","v":719.52323299999989},{"$f":"PMe_ether!$W$4","v":733.53888299999994}]
["PS",{"$f":"PS!$A$4","v":"PS(16:1/18:2)"},{"$f":"PS!$L$4","v":"C40H72N1O10P1"},{"$f":"PS!$N$4","v":757.48935819999997},{"$f":"PS!$O$4","v":758.49663280000004},{"$f":"PS!$P$4","v":740.48551280000004},{"$f":"PS!$Q$4","v":775.52317819999996},{"$f":"PS!$R$4","v":780.47857820000002},{"$f":"PS!$S$4","v":796.45251819999999},{"$f":"PS!$T$4","v":764.50481820000005},{"$f":"PS!$U$4","v":756.4820835999999},{"$f":"PS!$V$4","v":802.48757819999992},{"$f":"PS!$W$4","v":816.50322819999997}]
["PS",{"$f":"PS!$A$3","v":"PS(18:1_18:2)"},{"$f":"PS!$L$3","v":"C42H76N1O10P1"},{"$f":"PS!$N$3","v":785.52065659999994},{"$f":"PS!$O$3","v":786.52793120000001},{"$f":"PS!$P$3","v":768.51681120000001},{"$f":"PS!$Q$3","v":803.55447659999993},{"$f":"PS!$R$3","v":808.50987659999998},{"$f":"PS!$S$3","v":824.48381659999995},{"$f":"PS!$T$3","v":792.53611660000001},{"$f":"PS!$U$3","v":784.51338199999987},{"$f":"PS!$V$3","v":830.51887659999989},{"$f":"PS!$W$3","v":844.53452659999994}]
["PS_ether",{"$f":"PS_ether!$A$3","v":"PS P-34:0"},{"$f":"PS_ether!$L$3","v":"C40H78N1O9P1"},{"$f":"PS_ether!$N$3","v":747.54139079999993},{"$f":"PS_ether!$O$3","v":748.5486654},{"$f":"PS_ether!$P$3","v":730.5375454},{"$f":"PS_ether!$Q$3","v":765.57521079999992},{"$f":"PS_ether!$R$3","v":770.53061079999998},{"$f":"PS_ether!$S$3","v":786.50455079999995},{"$f":"PS_ether!$T$3","v":754.55685080000001},{"$f":"PS_ether!$U$3","v":746.53411619999986},{"$f":"PS_ether!$V$3","v":792.53961079999988},{"$f":"PS_ether!$W$3","v":806.55526079999993}]
["PS_ether",{"$f":"PS_ether!$A$5","v":"PS(O-16:0_22:6)"},{"$f":"PS_ether!$L$5","v":"C44H76N1O9P1"},{"$f":"PS_ether!$N$5","v":793.52574159999995},{"$f":"PS_ether!$O$5","v":794.53301620000002},{"$f":"PS_ether!$P$5","v":776.52189620000001},{"$f":"PS_ether!$Q$5","v":811.55956159999994},{"$f":"PS_ether!$R$5","v":816.51496159999999},{"$f":"PS_ether!$S$5","v":832.48890159999996},{"$f":"PS_ether!$T$5","v":800.54120160000002},{"$f":"PS_ether!$U$5","v":792.51846699999987},{"$f":"PS_ether!$V$5","v":838.52396159999989},{"$f":"PS_ether!$W$5","v":852.53961159999994}]
["PS_ether",{"$f":"PS_ether!$A$4","v":"PS(O-16:1/18:2)"},{"$f":"PS_ether!$L$4","v":"C40H74N1O9P1"},{"$f":"PS_ether!$N$4","v":743.51009239999996},{"$f":"PS_ether!$O$4","v":744.51736700000004},{"$f":"PS_ether!$P$4","v":726.50624700000003},{"$f":"PS_ether!$Q$4","v":761.54391239999995},{"$f":"PS_ether!$R$4","v":766.49931240000001},{"$f":"PS_ether!$S$4","v":782.47325239999998},{"$f":"PS_ether!$T$4","v":750.52555240000004},{"$f":"PS_ether!$U$4","v":742.50281779999989},{"$f":"PS_ether!$V$4","v":788.50831239999991},{"$f":"PS_ether!$W$4","v":802.52396239999996}]
["SM",{"$f":"SM!$A$3","v":"SM(d18:1/16:0)"},{"$f":"SM!$L$3","v":"C39H79N2O6P1"},{"$f":"SM!$N$3","v":702.56754440000009},{"$f":"SM!$O$3","v":703.57481900000016},{"$f":"SM!$P$3","v":685.56369900000016},{"$f":"SM!$Q$3","v":720.60136440000008},{"$f":"SM!$R$3","v":725.55676440000013},{"$f":"SM!$S$3","v":741.5307044000001},{"$f":"SM!$T$3","v":709.58300440000016},{"$f":"SM!$U$3","v":701.56026980000001},{"$f":"SM!$V$3","v":747.56576440000003},{"$f":"SM!$W$3","v":761.58141440000009}]
["So",{"$f":"So!$A$4","v":"So d18:1"},{"$f":"So!$L$4","v":"C18H37N1O2"},{"$f":"So!$N$4","v":299.28241420000001},{"$f":"So!$O$4","v":300.28968880000002},{"$f":"So!$P$4","v":282.27856880000002},{"$f":"So!$Q$4","v":317.31623420000005},{"$f":"So!$R$4","v":322.27163420000005},{"$f":"So!$S$4","v":338.24557420000002},{"$f":"So!$T$4","v":306.29787420000002},{"$f":"So!$U$4","v":298.27513959999999},{"$f":"So!$V$4","v":344.28063420000001},{"$f":"So!$W$4","v":358.2962842}]
["So",{"$f":"So!$A$3","v":"So d18:1__O__"},{"$f":"So!$L$3","v":"C18H35N1O3"},{"$f":"So!$N$3","v":313.26168000000007},{"$f":"So!$O$3","v":314.26895460000009},{"$f":"So!$P$3","v":296.25783460000014},{"$f":"So!$Q$3","v":331.29550000000012},{"$f":"So!$R$3","v":336.25090000000012},{"$f":"So!$S$3","v":352.22484000000009},{"$f":"So!$T$3","v":320.27714000000009},{"$f":"So!$U$3","v":312.25440540000005},{"$f":"So!$V$3","v":358.25990000000002},{"$f":"So!$W$3","v":372.27555000000007}]
["TG",{"$f":"TG!$A$3","v":"TG 28:0__O__"},{"$f":"TG!$L$3","v":"C31H56O7"},{"$f":"TG!$N$3","v":540.40258259999996},{"$f":"TG!$O$3","v":541.40985720000003},{"$f":"TG!$P$3","v":523.39873720000003},{"$f":"TG!$Q$3","v":558.43640259999995},{"$f":"TG!$R$3","v":563.39180260000001},{"$f":"TG!$S$3","v":579.36574259999998},{"$f":"TG!$T$3","v":547.41804260000004},{"$f":"TG!$U$3","v":539.39530799999989},{"$f":"TG!$V$3","v":585.40080259999991},{"$f":"TG!$W$3","v":599.41645259999996}]
["TG",{"$f":"TG!$A$4","v":"TG(12:0/16:0/18:2)"},{"$f":"TG!$L$4","v":"C49H90O6"},{"$f":"TG!$N$4","v":774.67370400000004},{"$f":"TG!$O$4","v":775.68097860000012},{"$f":"TG!$P$4","v":757.66985860000011},{"$f":"TG!$Q$4","v":792.70752400000003},{"$f":"TG!$R$4","v":797.66292400000009},{"$f":"TG!$S$4","v":813.63686400000006},{"$f":"TG!$T$4","v":781.68916400000012},{"$f":"TG!$U$4","v":773.66642939999997},{"$f":"TG!$V$4","v":819.67192399999999},{"$f":"TG!$W$4","v":833.68757400000004}]
["TG",{"$f":"TG!$A$5","v":"TG(16:2_18:1_20:1)"},{"$f":"TG!$L$5","v":"C57H102O6"},{"$f":"TG!$N$5","v":882.76759919999995},{"$f":"TG!$O$5","v":883.77487380000002},{"$f":"TG!$P$5","v":865.76375380000002},{"$f":"TG!$Q$5","v":900.80141919999994},{"$f":"TG!$R$5","v":905.7568192},{"$f":"TG!$S$5","v":921.73075919999997},{"$f":"TG!$T$5","v":889.78305920000003},{"$f":"TG!$U$5","v":881.76032459999988},{"$f":"TG!$V$5","v":927.7658191999999},{"$f":"TG!$W$5","v":941.78146919999995}]
["TG_ether",{"$f":"TG_ether!$A$5","v":"TG O-50:0"},{"$f":"TG_ether!$L$5","v":"C53H104O5"},{"$f":"TG_ether!$N$5","v":820.78833339999994},{"$f":"TG_ether!$O$5","v":821.79560800000002},{"$f":"TG_ether!$P$5","v":803.78448800000001},{"$f":"TG_ether!$Q$5","v":838.82215339999993},{"$f":"TG_ether!$R$5","v":843.77755339999999},{"$f":"TG_ether!$S$5","v":859.75149339999996},{"$f":"TG_ether!$T$5","v":827.80379340000002},{"$f":"TG_ether!$U$5","v":819.78105879999987},{"$f":"TG_ether!$V$5","v":865.78655339999989},{"$f":"TG_ether!$W$5","v":879.80220339999994}]
["TG_ether",{"$f":"TG_ether!$A$3","v":"TG P-42:0"},{"$f":"TG_ether!$L$3","v":"C45H86O5"},{"$f":"TG_ether!$N$3","v":706.64749059999997},{"$f":"TG_ether!$O$3","v":707.65476520000004},{"$f":"TG_ether!$P$3","v":689.64364520000004},{"$f":"TG_ether!$Q$3","v":724.68131059999996},{"$f":"TG_ether!$R$3","v":729.63671060000001},{"$f":"TG_ether!$S$3","v":745.61065059999999},{"$f":"TG_ether!$T$3","v":713.66295060000004},{"$f":"TG_ether!$U$3","v":705.6402159999999},{"$f":"TG_ether!$V$3","v":751.64571059999992},{"$f":"TG_ether!$W$3","v":765.66136059999997}]
["TG_ether",{"$f":"TG_ether!$A$4","v":"TG(O-16:10/16:0/16:0)"},{"$f":"TG_ether!$L$4","v":"C51H80O5"},{"$f":"TG_ether!$N$4","v":772.60054300000002},{"$f":"TG_ether!$O$4","v":773.60781760000009},{"$f":"TG_ether!$P$4","v":755.59669760000008},{"$f":"TG_ether!$Q$4","v":790.63436300000001},{"$f":"TG_ether!$R$4","v":795.58976300000006},{"$f":"TG_ether!$S$4","v":811.56370300000003},{"$f":"TG_ether!$T$4","v":779.61600300000009},{"$f":"TG_ether!$U$4","v":771.59326839999994},{"$f":"TG_ether!$V$4","v":817.59876299999996},{"$f":"TG_ether!$W$4","v":831.61441300000001}]
["TG_ether",{"$f":"TG_ether!$A$6","v":"TG(O-16:10_16:0_16:0)"},{"$f":"TG_ether!$L$6","v":"C51H80O5"},{"$f":"TG_ether!$N$6","v":772.60054300000002},{"$f":"TG_ether!$O$6","v":773.60781760000009},{"$f":"TG_ether!$P$6","v":755.59669760000008},{"$f":"TG_ether!$Q$6","v":790.63436300000001},{"$f":"TG_ether!$R$6","v":795.58976300000006},{"$f":"TG_ether!$S$6","v":811.56370300000003},{"$f":"TG_ether!$T$6","v":779.61600300000009},{"$f":"TG_ether!$U$6","v":771.59326839999994},{"$f":"TG_ether!$V$6","v":817.59876299999996},{"$f":"TG_ether!$W$6","v":831.61441300000001}]
["ZyE",{"$f":"ZyE!$A$3","v":"ZyE 18:2"},{"$f":"ZyE!$L$3","v":"C45H74O2"},{"$f":"ZyE!$N$3","v":646.56885039999997},{"$f":"ZyE!$O$3","v":647.57612500000005},{"$f":"ZyE!$P$3","v":629.56500500000004},{"$f":"ZyE!$Q$3","v":664.60267039999997},{"$f":"ZyE!$R$3","v":669.55807040000002},{"$f":"ZyE!$S$3","v":685.53201039999999},{"$f":"ZyE!$T$3","v":653.58431040000005},{"$f":"ZyE!$U$3","v":645.5615757999999},{"$f":"ZyE!$V$3","v":691.56707039999992},{"$f":"ZyE!$W$3","v":705.58272039999997}]
["ZyE",{"$f":"ZyE!$A$4","v":"ZyE 18:3"},{"$f":"ZyE!$L$4","v":"C45H72O2"},{"$f":"ZyE!$N$4","v":644.55320119999999},{"$f":"ZyE!$O$4","v":645.56047580000006},{"$f":"ZyE!$P$4","v":627.54935580000006},{"$f":"ZyE!$Q$4","v":662.58702119999998},{"$f":"ZyE!$R$4","v":667.54242120000004},{"$f":"ZyE!$S$4","v":683.51636120000001},{"$f":"ZyE!$T$4","v":651.56866120000007},{"$f":"ZyE!$U$4","v":643.54592659999992},{"$f":"ZyE!$V$4","v":689.55142119999994},{"$f":"ZyE!$W$4","v":703.56707119999999}]
["ZyE",{"$f":"ZyE!$A$6","v":"ZyE 20:0"},{"$f":"ZyE!$L$6","v":"C47H82O2"},{"$f":"ZyE!$N$6","v":678.63144720000003},{"$f":"ZyE!$O$6","v":679.6387218000001},{"$f":"ZyE!$P$6","v":661.62760180000009},{"$f":"ZyE!$Q$6","v":696.66526720000002},{"$f":"ZyE!$R$6","v":701.62066720000007},{"$f":"ZyE!$S$6","v":717.59460720000004},{"$f":"ZyE!$T$6","v":685.6469072000001},{"$f":"ZyE!$U$6","v":677.62417259999995},{"$f":"ZyE!$V$6","v":723.62966719999997},{"$f":"ZyE!$W$6","v":737.64531720000002}]
["ZyE",{"$f":"ZyE!$A$5","v":"ZyE 20:4"},{"$f":"ZyE!$L$5","v":"C47H74O2"},{"$f":"ZyE!$N$5","v":670.56885039999997},{"$f":"ZyE!$O$5","v":671.57612500000005},{"$f":"ZyE!$P$5","v":653.56500500000004},{"$f":"ZyE!$Q$5","v":688.60267039999997},{"$f":"ZyE!$R$5","v":693.55807040000002},{"$f":"ZyE!$S$5","v":709.53201039999999},{"$f":"ZyE!$T$5","v":677.58431040000005},{"$f":"ZyE!$U$5","v":669.5615757999999},{"$f":"ZyE!$V$5","v":715.56707039999992},{"$f":"ZyE!$W$5","v":729.58272039999997}]